{"text_format":"1","workbook":"xlsx","n_sheets":26,"sheets":["入力例","別添マスター","選択肢","一覧","精白米","中華野菜ミックス","笹かまぼこ","きくらげ","豚肉","もやし","長ねぎ","白菜","中華だし","片栗粉","ごま油","青ネギ","卵","たけのこ","こしょう","絹揚げ","甘酢たれ","白玉","ずんだのたれ","ぶどうゼリー","鶏唐揚げ","キャノーラ油"],"not_rendered":{"charts":0,"images":2,"macros":1,"external_links":0,"defined_names":21,"comments":0,"pivot_tables":0},"unopened":[],"bounds":{"document_bytes":16777216,"sheet_cells":100000,"rows_first":2000,"rows_last":500,"rows_between":2000,"halvings":0,"cell_chars":16384,"cell_head_chars":4096},"cells_cut":0,"cells_raw":0,"read":"whole","date_system":"1900"}

{"sheet":"入力例","index":0,"n_rows":52,"n_cols":43,"rows_kept":52,"cut":false,"hidden":true,"merged":[[7,35,7,38],[7,39,7,42],[37,2,37,32],[0,5,0,32],[1,2,2,4],[1,5,2,32],[3,2,4,2],[3,3,4,3],[3,4,4,4],[3,5,3,11],[3,12,3,32],[1,35,1,42],[2,35,2,41],[3,35,3,41],[4,35,4,38],[4,39,4,42],[5,35,5,38],[5,39,5,42],[6,35,6,38],[6,39,6,42],[11,35,11,38],[11,39,11,42],[12,35,12,38],[12,39,12,42],[13,35,13,38],[13,39,13,42],[8,35,8,38],[8,39,8,42],[9,35,9,38],[9,39,9,42],[10,35,10,38],[10,39,10,42],[17,35,17,38],[17,39,17,42],[18,35,18,38],[18,39,18,42],[19,35,19,38],[19,39,19,42],[14,35,14,38],[14,39,14,42],[15,35,15,38],[15,39,15,42],[16,35,16,38],[16,39,16,42],[23,35,23,38],[23,39,23,42],[24,35,24,38],[24,39,24,42],[25,35,25,38],[25,39,25,42],[20,35,20,38],[20,39,20,42],[21,35,21,38],[21,39,21,42],[22,35,22,38],[22,39,22,42],[29,35,29,38],[29,39,29,42],[30,35,30,38],[30,39,30,42],[31,35,31,38],[31,39,31,42],[26,35,26,38],[26,39,26,42],[27,35,27,38],[27,39,27,42],[28,35,28,38],[28,39,28,42],[36,39,36,42],[37,35,37,38],[37,39,37,42],[32,35,32,38],[32,39,32,42],[33,35,33,38],[33,39,33,42],[34,35,34,38],[34,39,34,42],[49,34,50,34],[49,35,50,42],[51,34,51,42],[45,34,48,34],[45,35,45,42],[46,35,46,42],[47,35,47,42],[48,35,48,42],[41,35,41,38],[41,39,41,42],[42,34,44,34],[42,35,42,42],[43,35,43,42],[44,35,44,42],[4,34,41,34],[38,35,38,38],[38,39,38,42],[39,35,39,38],[39,39,39,42],[40,35,40,38],[40,39,40,42],[35,35,35,38],[35,39,35,42],[36,35,36,38]]}
[null,null,null,null,null,{"$f":"一覧!D1","v":"2025-02-28"},null,null,null,null,null,null,null,null,null,null,null,null,null,null,null,null,null,null,null,null,null,null,null,null,null,null,null,null,"一覧へ"]
[null,null,{"$f":"\"（見本）\"&一覧!$A$2","v":"（見本）タイプ①昼食(月・水・金）"},null,null,"記号例…●：別添資料あり、○：アレルゲンあり、△：当該品目を含む製品の製造等でコンタミネーションの可能性があるもの\n※コンタミネーション…食品を製造する際に、原材料としては使用していないにもかかわらず、特定原材料等が意図せずして最終加工食品に混入してしまう場合のこと",null,null,null,null,null,null,null,null,null,null,null,null,null,null,null,null,null,null,null,null,null,null,null,null,null,null,null,null,"シート名",{"$f":"RIGHT(CELL(\"filename\",AI1),LEN(CELL(\"filename\",AI1))-FIND(\"]\",CELL(\"filename\",AI1)))","v":"入力例"}]
[null,null,null,null,null,null,null,null,null,null,null,null,null,null,null,null,null,null,null,null,null,null,null,null,null,null,null,null,null,null,null,null,null,null,"商品名","サイコロ1ｋｇ",null,null,null,null,null,null,"作成日"]
[null,null,"献立名","別添資料","使用食材","七大アレルゲン",null,null,null,null,null,null,"特定原材料に準ずるもの21品目",null,null,null,null,null,null,null,null,null,null,null,null,null,null,null,null,null,null,null,null,null,"規格","1ｋｇ",null,null,null,null,null,null,{"$f":"A25","v":"2025-02-28"}]
[null,null,null,null,null,{"$f":"一覧!D5","v":"小麦"},{"$f":"一覧!E5","v":"卵"},{"$f":"一覧!F5","v":"乳"},{"$f":"一覧!G5","v":"そば"},{"$f":"一覧!H5","v":"落花生"},{"$f":"一覧!I5","v":"えび"},{"$f":"一覧!J5","v":"かに"},{"$f":"一覧!K5","v":"くるみ"},{"$f":"一覧!L5","v":"ごま"},{"$f":"一覧!M5","v":"カシュ"},"アーモンド",{"$f":"一覧!O5","v":"キウイ"},{"$f":"一覧!P5","v":"もも"},{"$f":"一覧!Q5","v":"リンゴ"},{"$f":"一覧!R5","v":"バナナ"},{"$f":"一覧!S5","v":"オレンジ"},{"$f":"一覧!T5","v":"いか"},{"$f":"一覧!U5","v":"いくら"},{"$f":"一覧!V5","v":"さけ"},{"$f":"一覧!W5","v":"さば"},{"$f":"一覧!X5","v":"大豆"},{"$f":"一覧!Y5","v":"鶏肉"},{"$f":"一覧!Z5","v":"豚肉"},{"$f":"一覧!AA5","v":"牛肉"},{"$f":"一覧!AB5","v":"マカダミア"},{"$f":"一覧!AC5","v":"やまいも"},{"$f":"一覧!AD5","v":"ゼラチン"},{"$f":"一覧!AE5","v":"あわび"},null,"原材料","原材料名",null,null,null,"28品目アレルゲン"]
[null,null,"笹かま入り中華飯","●","精白米",{"$f":"IFERROR(IF(COUNTIF(INDIRECT($C6&\"!F5:I42\"),\"*\"&F$5&\"*\")>0,\"○\",IF(COUNTIF(INDIRECT($C6&\"!B43:I45\"),\"*\"&F$5&\"*\")>0,\"△\",\"\")),\"\")","v":""},{"$f":"IFERROR(IF(COUNTIF(INDIRECT($C6&\"!F5:I42\"),\"*\"&G$5&\"*\")>0,\"○\",IF(COUNTIF(INDIRECT($C6&\"!B43:I45\"),\"*\"&G$5&\"*\")>0,\"△\",\"\")),\"\")","v":""},"","","","","","","","","","","","","","","",{"$f":"IFERROR(IF(COUNTIF(INDIRECT($C6&\"!F5:I42\"),\"*\"&W$5&\"*\")>0,\"○\",IF(COUNTIF(INDIRECT($C6&\"!B43:I45\"),\"*\"&W$5&\"*\")>0,\"△\",\"\")),\"\")","v":""},"","","","","","","","","","",null,null,"豆乳　　　　大豆",null,null,null,"大豆"]
[null,null,null,"●","中華野菜ミックス",{"$f":"IFERROR(IF(COUNTIF(INDIRECT($C7&\"!F5:I42\"),\"*\"&F$5&\"*\")>0,\"○\",IF(COUNTIF(INDIRECT($C7&\"!B43:I45\"),\"*\"&F$5&\"*\")>0,\"△\",\"\")),\"\")","v":""},"","","","","","","","","","","","","","","","","","","","","","","","","","","",null,null,"　　　　　　　水（水道水）"]
[null,null,null,"●","豚肉","","","","","","","","","","","","","","","","","","","","","","","","","","","","",null,null,"澱粉　　　　コーンスターチ"]
[null,null,null,"●","笹かまぼこ","","","","","","","","","","","","","","","","","","","","","","","","","","","","",null,null,"加工澱粉  アセチル化アジピン酸架橋デンプン"]
[null,null,null,"●","長ねぎ","","","","","","","","","","","","","","","","","","","","","","","","","","","","",null,null,"塩化マグネシウム"]
[null,null,null,"●","赤かまぼこ","","","","","","","","","","","","","","","","","","","","","","","","","","","","",null,null,"水"]
[null,null,null,"●","もやし","","","","","","","","","","","","","","","","","","","","","","","","","","","",""]
[null,null,null,"●","白菜","","","","","","","","","","","","","","","","","","","","","","","","","","","",""]
[null,null,null,"●","中華味","","","","","","","","","","","","","","","","","","","","","","","","","","","",""]
[null,null,null,"●","片栗粉","","","","","","","","","","","","","","","","","","","","","","","","","","","",""]
[null,null,"気仙沼産ふかひれスープ","●","気仙沼ふかひれスープ","","","","","","","","","","","","","","","","","","","","","","","","","","","",""]
[null,null,null,"●","にんじん","","","","","","","","","","","","","","","","","","","","","","","","","","","",""]
[null,null,null,"●","干し椎茸","","","","","","","","","","","","","","","","","","","","","","","","","","","",""]
[null,null,null,null,"水","","","","","","","","","","","","","","","","","","","","","","","","","","","",""]
[null,null,"絹揚げの中華味噌","●","絹揚げ","","","","","","","","","","","","","","","","","","","","","","","","","","","",""]
["施設名称",null,null,"●","麻婆豆腐の素","","","","","","","","","","","","","","","","",{"$f":"IFERROR(IF(COUNTIF(INDIRECT($C21&\"!F5:I42\"),\"*\"&V$5&\"*\")>0,\"○\",IF(COUNTIF(INDIRECT($C21&\"!B43:I45\"),\"*\"&V$5&\"*\")>0,\"△\",\"\")),\"\")","v":""},"","","","","","","","","","",""]
["オーエンス泉岳自然ふれあい館",null,"白玉のずんだかけ","●","冷凍白玉","","","","","","","","","","","","","","","","","","","","","","","","","","","",""]
[null,null,null,"●","枝豆ピューレー",{"$f":"IFERROR(IF(COUNTIF(INDIRECT($C23&\"!F5:I42\"),\"*\"&F$5&\"*\")>0,\"○\",IF(COUNTIF(INDIRECT($C23&\"!B43:I45\"),\"*\"&F$5&\"*\")>0,\"△\",\"\")),\"\")","v":""},"","","","","","","","","","","","","","","","","","","","","","","","","","",""]
["更新日",null,null,"●","上白糖","","","","","","","","","","","","","","","","","","","","","","","","","","","",""]
["2025-02-28",null,null,null,"水","","","","","","","","","","","","","","","","","","","","","","","","","","","",""]
[null,null,"アセロラゼリー","●","アセロラゼリー","","","","","","","","","","","","","","","","","","","","","","","","","","","",""]
[null,null,null,null,null,"","","","","","","","","","","","","","","","","","","","","","","","","","","",""]
[null,null,"【大盛】温泉卵","●","卵","","","","","","","","","","","","","","","","","","","","","","","","","","","",""]
[null,null,null,"●","醤油_個包装","","","","","","","","","","","","","","","","","","","","","","","","","","","",""]
[null,null,{"$f":"IF(一覧!#REF!=\"\",\"\",一覧!#REF!)","v":{"$error":"#REF!"}},{"$f":"IF(一覧!B32=\"\",\"\",一覧!B32)","v":"●"},{"$f":"IF(一覧!C32=\"\",\"\",一覧!C32)","v":"鶏唐揚げ"},{"$f":"IFERROR(IF(COUNTIF(INDIRECT($E30&\"!F5:I42\"),\"*\"&F$5&\"*\")>0,\"○\",IF(COUNTIF(INDIRECT($E30&\"!B43:I45\"),\"*\"&F$5&\"*\")>0,\"△\",\"\")),\"\")","v":"○"},"","","","","","","","","",{"$f":"IFERROR(IF(COUNTIF(INDIRECT($E30&\"!F5:I42\"),\"*\"&P$5&\"*\")>0,\"○\",IF(COUNTIF(INDIRECT($E30&\"!B43:I45\"),\"*\"&P$5&\"*\")>0,\"△\",\"\")),\"\")","v":""},"","","","","",{"$f":"IFERROR(IF(COUNTIF(INDIRECT($E30&\"!F5:I42\"),\"*\"&V$5&\"*\")>0,\"○\",IF(COUNTIF(INDIRECT($E30&\"!B43:I45\"),\"*\"&V$5&\"*\")>0,\"△\",\"\")),\"\")","v":""},"",{"$f":"IFERROR(IF(COUNTIF(INDIRECT($E30&\"!F5:I42\"),\"*\"&X$5&\"*\")>0,\"○\",IF(COUNTIF(INDIRECT($E30&\"!B43:I45\"),\"*\"&X$5&\"*\")>0,\"△\",\"\")),\"\")","v":""},"","○","○","","","","","",""]
[null,null,{"$f":"IF(一覧!A33=\"\",\"\",一覧!A33)","v":""},{"$f":"IF(一覧!B33=\"\",\"\",一覧!B33)","v":"●"},{"$f":"IF(一覧!C33=\"\",\"\",一覧!C33)","v":"キャノーラ油"},"","","","","","","","","","","","","","","","","","","","","","","","","","","",""]
[null,null,{"$f":"IF(一覧!A34=\"\",\"\",一覧!A34)","v":""},{"$f":"IF(一覧!B34=\"\",\"\",一覧!B34)","v":""},{"$f":"IF(一覧!C34=\"\",\"\",一覧!C34)","v":""},"","","","","","","","","","","","","","","","","","","","","","","","","","","",""]
[null,null,{"$f":"IF(一覧!A35=\"\",\"\",一覧!A35)","v":""},{"$f":"IF(一覧!B35=\"\",\"\",一覧!B35)","v":""},{"$f":"IF(一覧!C35=\"\",\"\",一覧!C35)","v":""},"","","","","","","","","","","","","","","","","","","","","","","","","","","",""]
[null,null,{"$f":"IF(一覧!A36=\"\",\"\",一覧!A36)","v":""},{"$f":"IF(一覧!B36=\"\",\"\",一覧!B36)","v":""},{"$f":"IF(一覧!C36=\"\",\"\",一覧!C36)","v":""},"","","","","","","","","","","","","","","","","","","","","","","","","","","",""]
[null,null,{"$f":"IF(一覧!A37=\"\",\"\",一覧!A37)","v":""},{"$f":"IF(一覧!B37=\"\",\"\",一覧!B37)","v":""},{"$f":"IF(一覧!C37=\"\",\"\",一覧!C37)","v":""},"","","","","","","","","","","","","","","","","","","","","","","","","","","",""]
[null,null,{"$f":"IF(一覧!A38=\"\",\"\",一覧!A38)","v":""},{"$f":"IF(一覧!B38=\"\",\"\",一覧!B38)","v":""},{"$f":"IF(一覧!C38=\"\",\"\",一覧!C38)","v":""},"","","","","","","","","","","","","","","","","","","","","","","","","","","",""]
[null,null,{"$f":"IF(一覧!A39=\"\",\"\",一覧!A39)","v":""},{"$f":"IF(一覧!B39=\"\",\"\",一覧!B39)","v":""},{"$f":"IF(一覧!C39=\"\",\"\",一覧!C39)","v":""},"","","","","","","","","","","","","","","","","","","","","","","","","","","",""]
[null,null,{"$f":"$A$22","v":"オーエンス泉岳自然ふれあい館"}]
[]
[]
[]
[]
[null,null,null,null,null,null,null,null,null,null,null,null,null,null,null,null,null,null,null,null,null,null,null,null,null,null,null,null,null,null,null,null,null,null,"コンタミネーション"]
[]
[]
[null,null,null,null,null,null,null,null,null,null,null,null,null,null,null,null,null,null,null,null,null,null,null,null,null,null,null,null,null,null,null,null,null,null,"特記事項"]
[]
[]
[null,null,null,null,null,null,null,null,null,null,null,null,null,null,null,null,null,null,null,null,null,null,null,null,null,null,null,null,null,null,null,null,null,null,null,"●　商品の終売・リニューアルの場合は成分等が変更になる場合があります。ご了承ください。"]
[null,null,null,null,null,null,null,null,null,null,null,null,null,null,null,null,null,null,null,null,null,null,null,null,null,null,null,null,null,null,null,null,null,null,"製造元","株式会社マメックス"]
[]
[null,null,null,null,null,null,null,null,null,null,null,null,null,null,null,null,null,null,null,null,null,null,null,null,null,null,null,null,null,null,null,null,null,null,{"$f":"一覧!AI43","v":0}]

{"sheet":"別添マスター","index":1,"n_rows":52,"n_cols":40,"rows_kept":52,"cut":false,"hidden":true,"merged":[[51,0,51,8],[45,0,48,0],[45,1,45,8],[46,1,46,8],[47,1,47,8],[48,1,48,8],[49,0,50,0],[49,1,50,8],[40,1,40,4],[40,5,40,8],[41,1,41,4],[41,5,41,8],[42,0,44,0],[42,1,42,8],[43,1,43,8],[44,1,44,8],[37,1,37,4],[37,5,37,8],[38,1,38,4],[38,5,38,8],[39,1,39,4],[39,5,39,8],[34,1,34,4],[34,5,34,8],[35,1,35,4],[35,5,35,8],[36,1,36,4],[36,5,36,8],[31,1,31,4],[31,5,31,8],[32,1,32,4],[32,5,32,8],[33,1,33,4],[33,5,33,8],[28,1,28,4],[28,5,28,8],[29,1,29,4],[29,5,29,8],[30,1,30,4],[30,5,30,8],[25,1,25,4],[25,5,25,8],[26,1,26,4],[26,5,26,8],[27,1,27,4],[27,5,27,8],[22,1,22,4],[22,5,22,8],[23,1,23,4],[23,5,23,8],[24,1,24,4],[24,5,24,8],[19,1,19,4],[19,5,19,8],[20,1,20,4],[20,5,20,8],[21,1,21,4],[21,5,21,8],[16,1,16,4],[16,5,16,8],[17,1,17,4],[17,5,17,8],[18,1,18,4],[18,5,18,8],[13,1,13,4],[13,5,13,8],[14,1,14,4],[14,5,14,8],[15,1,15,4],[15,5,15,8],[10,1,10,4],[10,5,10,8],[11,1,11,4],[11,5,11,8],[12,1,12,4],[12,5,12,8],[1,1,1,8],[2,0,3,0],[2,1,3,7],[4,0,41,0],[4,1,4,4],[4,5,4,8],[5,1,5,4],[5,5,5,8],[6,1,6,4],[6,5,6,8],[7,1,7,4],[7,5,7,8],[8,1,8,4],[8,5,8,8],[9,1,9,4],[9,5,9,8]]}
["一覧へ"]
["シート名",{"$f":"RIGHT(CELL(\"filename\",A1),LEN(CELL(\"filename\",A1))-FIND(\"]\",CELL(\"filename\",A1)))","v":"別添マスター"}]
["商品名",null,null,null,null,null,null,null,"作成日"]
[null,null,null,null,null,null,null,null,{"$f":"一覧!$D$1","v":"2025-02-28"}]
["原材料","原材料名",null,null,null,"28品目アレルゲン",null,null,null,null,"個数①","計","小麦","卵","乳","そば","落花生","えび","かに","ごま","くるみ","カシュ","アーモンド","キウイ","もも","リンゴ","バナナ","オレンジ","いか","いくら","さけ","さば","大豆","鶏肉","豚肉","牛肉","まつたけ","やまいも","ゼラチン","あわび"]
[null,null,null,null,null,null,null,null,null,null,{"$f":"IF(F6=\"\",0,LEN(F6)-LEN(SUBSTITUTE(F6, \"、\", \"\"))+1)","v":0},{"$f":"SUM(M6:AN6)","v":0},{"$f":"COUNTIF($F6,\"*\"&M$5&\"*\")","v":0},{"$f":"COUNTIF($F6,\"*\"&N$5&\"*\")","v":0},0,0,0,0,0,0,0,0,0,0,0,0,0,0,0,0,0,0,0,0,0,0,0,0,0,0]
[null,null,null,null,null,null,null,null,null,null,{"$f":"IF(F7=\"\",0,LEN(F7)-LEN(SUBSTITUTE(F7, \"、\", \"\"))+1)","v":0},{"$f":"SUM(M7:AN7)","v":0},{"$f":"COUNTIF($F7,\"*\"&M$5&\"*\")","v":0},0,0,0,0,0,0,0,0,0,0,0,0,0,0,0,0,0,0,0,0,0,0,0,0,0,0,0]
[null,null,null,null,null,null,null,null,null,null,0,0,0,0,0,0,0,0,0,0,0,0,0,0,0,0,0,0,0,0,0,0,0,0,0,0,0,0,0,0]
[null,null,null,null,null,null,null,null,null,null,0,0,0,0,0,0,0,0,0,0,0,0,0,0,0,0,0,0,0,0,0,0,0,0,0,0,0,0,0,0]
[null,null,null,null,null,null,null,null,null,null,0,0,0,0,0,0,0,0,0,0,0,0,0,0,0,0,0,0,0,0,0,0,0,0,0,0,0,0,0,0]
[null,null,null,null,null,null,null,null,null,null,0,0,0,0,0,0,0,0,0,0,0,0,0,0,0,0,0,0,0,0,0,0,0,0,0,0,0,0,0,0]
[null,null,null,null,null,null,null,null,null,null,0,0,0,0,0,0,0,0,0,0,0,0,0,0,0,0,0,0,0,0,0,0,0,0,0,0,0,0,0,0]
[null,null,null,null,null,null,null,null,null,null,0,0,0,0,0,0,0,0,0,0,0,0,0,0,0,0,0,0,0,0,0,0,0,0,0,0,0,0,0,0]
[null,null,null,null,null,null,null,null,null,null,0,0,0,0,0,0,0,0,0,0,0,0,0,0,0,0,0,0,0,0,0,0,0,0,0,0,0,0,0,0]
[null,null,null,null,null,null,null,null,null,null,0,0,0,0,0,0,0,0,0,0,0,0,0,0,0,{"$f":"COUNTIF($F15,\"*\"&Z$5&\"*\")","v":0},0,0,0,0,0,0,0,0,0,0,0,0,0,0]
[null,null,null,null,null,null,null,null,null,null,0,0,0,0,0,0,0,0,0,0,0,0,0,0,0,0,0,0,0,0,0,0,0,0,0,0,0,0,0,0]
[null,null,null,null,null,null,null,null,null,null,0,0,0,0,0,0,0,0,0,0,0,0,0,0,0,0,0,0,0,0,0,0,0,0,0,0,0,0,0,0]
[null,null,null,null,null,null,null,null,null,null,0,0,0,0,0,0,0,0,0,0,0,0,0,0,0,0,0,0,0,0,0,0,0,0,0,0,0,0,0,0]
[null,null,null,null,null,null,null,null,null,null,0,0,0,0,0,0,0,0,0,0,0,0,0,0,0,0,0,0,0,0,0,0,0,0,0,0,0,0,0,0]
[null,null,null,null,null,null,null,null,null,null,0,0,0,0,0,0,0,0,0,0,0,0,0,0,0,0,0,0,0,0,0,0,0,0,0,0,0,0,0,0]
[null,null,null,null,null,null,null,null,null,null,0,0,0,0,0,0,0,0,0,0,0,0,0,0,0,0,0,0,0,0,0,0,0,0,0,0,0,0,0,0]
[null,null,null,null,null,null,null,null,null,null,0,0,0,0,0,0,0,0,0,0,0,0,0,0,0,0,0,0,0,0,0,0,0,0,0,0,0,0,0,0]
[null,null,null,null,null,null,null,null,null,null,0,0,0,0,0,0,0,0,0,0,0,0,0,0,0,0,0,0,0,0,0,0,0,0,0,0,0,0,0,0]
[null,null,null,null,null,null,null,null,null,null,0,0,0,0,0,0,0,0,0,0,0,0,0,0,0,0,0,0,0,0,0,0,0,0,0,0,0,0,0,0]
[null,null,null,null,null,null,null,null,null,null,0,0,0,0,0,0,0,0,0,0,0,0,0,0,0,0,0,0,0,0,0,0,0,0,0,0,0,0,0,0]
[null,null,null,null,null,null,null,null,null,null,0,0,0,0,0,0,0,0,0,0,0,0,0,0,0,0,0,0,0,0,0,0,0,0,0,0,0,0,0,0]
[null,null,null,null,null,null,null,null,null,null,0,0,0,0,0,0,0,0,0,0,0,0,0,0,0,0,0,0,0,0,0,0,0,0,0,0,0,0,0,0]
[null,null,null,null,null,null,null,null,null,null,0,0,0,0,0,0,0,0,0,0,0,0,0,0,0,0,0,0,0,0,0,0,0,0,0,0,0,0,0,0]
[null,null,null,null,null,null,null,null,null,null,0,0,0,0,0,0,0,0,0,0,0,0,0,0,0,0,0,0,0,0,0,0,0,0,0,0,0,0,0,0]
[null,null,null,null,null,null,null,null,null,null,0,0,0,0,0,0,0,0,0,0,{"$f":"COUNTIF($F30,\"*\"&U$5&\"*\")","v":0},0,0,0,0,0,0,0,0,0,0,0,0,0,0,0,0,0,0,0]
[null,null,null,null,null,null,null,null,null,null,0,0,{"$f":"COUNTIF($F31,\"*\"&M$5&\"*\")","v":0},0,0,0,0,0,0,0,0,0,0,0,0,0,0,0,0,{"$f":"COUNTIF($F31,\"*\"&AD$5&\"*\")","v":0},0,0,0,0,0,0,0,0,0,0]
[null,null,null,null,null,null,null,null,null,null,0,0,0,0,0,0,0,0,0,0,0,0,0,0,0,0,0,0,0,0,0,0,0,0,0,0,0,0,0,0]
[null,null,null,null,null,null,null,null,null,null,0,0,0,0,0,0,0,0,0,0,0,0,0,0,0,0,0,0,0,0,0,0,0,0,0,0,0,0,0,0]
[null,null,null,null,null,null,null,null,null,null,0,0,0,0,0,0,0,0,0,0,0,0,0,0,0,0,0,0,0,0,0,0,0,0,0,0,0,0,0,0]
[null,null,null,null,null,null,null,null,null,null,0,0,0,0,0,0,0,0,0,0,0,0,0,0,0,0,0,0,0,0,0,0,0,0,0,0,0,0,0,0]
[null,null,null,null,null,null,null,null,null,null,0,0,0,0,0,0,0,0,0,0,0,0,0,0,0,0,0,0,0,0,0,0,0,0,0,0,0,0,0,0]
[null,null,null,null,null,null,null,null,null,null,0,0,0,0,0,0,0,0,0,0,0,0,0,0,0,0,0,0,0,0,0,0,0,0,0,0,0,0,0,0]
[null,null,null,null,null,null,null,null,null,null,0,0,0,0,0,0,0,0,0,0,0,0,0,0,0,0,0,0,0,0,0,0,0,0,0,0,0,0,0,0]
[null,null,null,null,null,null,null,null,null,null,0,0,0,0,0,0,0,0,0,0,0,0,0,0,0,0,0,0,0,0,0,0,0,0,0,0,0,0,0,0]
[null,null,null,null,null,null,null,null,null,null,0,0,0,0,0,0,0,0,0,0,0,0,0,0,0,0,0,0,0,0,0,0,0,0,0,0,0,0,0,0]
[null,null,null,null,null,null,null,null,null,null,0,0,0,0,0,0,0,0,0,0,0,0,0,0,0,0,0,0,0,0,0,0,0,0,0,0,0,0,0,0]
[null,null,null,null,null,null,null,null,null,null,0,0,0,0,0,0,0,0,0,0,0,0,0,0,0,0,0,0,0,0,0,0,0,0,0,0,0,0,0,0]
["コンタミネーション",null,null,null,null,null,null,null,null,null,{"$f":"IF(OR($B43=\"\",$B43=\"なし\"),0,LEN($B43)-LEN(SUBSTITUTE($B43, \"、\", \"\"))+1)","v":0},0,{"$f":"COUNTIF($B43,\"*\"&M$5&\"*\")","v":0},{"$f":"COUNTIF($B43,\"*\"&N$5&\"*\")","v":0},0,0,0,0,0,0,0,0,0,0,0,0,0,0,0,0,{"$f":"COUNTIF($B43,\"*\"&AE$5&\"*\")","v":0},0,0,0,0,0,0,0,0,0]
[null,null,null,null,null,null,null,null,null,null,{"$f":"IF(OR($B44=\"\",$B44=\"なし\"),0,LEN($B44)-LEN(SUBSTITUTE($B44, \"、\", \"\"))+1)","v":0},0,{"$f":"COUNTIF($B44,\"*\"&M$5&\"*\")","v":0},0,0,0,0,0,0,0,0,0,0,0,0,0,0,0,0,0,0,0,0,0,0,0,0,0,0,0]
[null,null,null,null,null,null,null,null,null,null,0,0,0,0,0,0,0,0,0,0,0,0,0,0,0,0,0,0,0,0,0,0,0,0,0,0,0,0,0,0]
["特記事項"]
[]
[]
[null,"●　商品の終売・リニューアルの場合は成分等が変更になる場合があります。ご了承ください。"]
["製造元"]
[]
["オーエンス泉岳自然ふれあい館"]

{"sheet":"選択肢","index":2,"n_rows":106,"n_cols":2,"rows_kept":106,"cut":false,"hidden":true,"merged":[]}
[null,"使用食材"]
[null,"青ネギ"]
[null,"厚焼き玉子"]
[null,"サラダ油"]
[null,"キャノーラ油"]
[null,"甘酢たれ"]
[null,"いちごジャム・マーガリン"]
[null,"糸こんにゃく"]
[null,"いりごま_白"]
[null,"ウインナー"]
[null,"薄口醤油"]
[null,"エビフライ"]
[null,"黄桃"]
[null,"オムレツ"]
[null,"オレンジジュース"]
[null,"おろし生姜"]
[null,"片栗粉"]
[null,"顆粒だし"]
[null,"カレールー"]
[null,"乾燥わかめ"]
[null,"きくらげ"]
[null,"絹揚げ"]
[null,"キャベツ"]
[null,"牛肉"]
[null,"グリーンカール"]
[null,"濃口醤油"]
[null,"コーン"]
[null,"こしょう"]
[null,"コッペパン"]
[null,"ごぼう"]
[null,"ごま油"]
[null,"こんにゃく"]
[null,"酒"]
[null,"笹かまぼこ"]
[null,"冷凍白玉"]
[null,"サツマイモサラダ"]
[null,"サニーレタス"]
[null,"サニーレタス"]
[null,"三角揚げ"]
[null,"じゃが芋_男爵"]
[null,"上白糖"]
[null,"醤油_個包装"]
[null,"食塩"]
[null,"白石温麺"]
[null,"白こしょう"]
[null,"白だし"]
[null,"スクランブルエッグ"]
[null,"スパゲティ"]
[null,"スリムネギ"]
[null,"ずんだのたれ"]
[null,"精白米"]
[null,"ソース"]
[null,"大根"]
[null,"大根"]
[null,"たけのこ"]
[null,"卵"]
[null,"たまねぎ"]
[null,"たまねぎ"]
[null,"チキンコンソメ"]
[null,"中華だし"]
[null,"てりやきソース"]
[null,"トマトケチャップ"]
[null,"トマトケチャップ_個包装"]
[null,"鶏唐揚げ"]
[null,"鶏唐揚げ"]
[null,"鶏肉"]
[null,"鶏肉"]
[null,"ドレッシング_個包装"]
[null,"長ねぎ"]
[null,"長ねぎ"]
[null,"肉だんご"]
[null,"肉だんご"]
[null,"にんじん"]
[null,"にんじん"]
[null,"にんじん"]
[null,"白菜"]
[null,"バター"]
[null,"ハンバーグ"]
[null,"豚肉"]
[null,"豚肉"]
[null,"豚肉"]
[null,"ぶどうゼリー"]
[null,"ふりかけ"]
[null,"ブロッコリー"]
[null,"ほうれん草"]
[null,"ポテトサラダ"]
[null,"麻婆豆腐の素"]
[null,"マカロニ"]
[null,"マカロニサラダ"]
[null,"マス塩焼き"]
[null,"豆麩"]
[null,"マヨネーズ"]
[null,"水"]
[null,"味噌"]
[null,"ミニメンチカツ"]
[null,"みりん"]
[null,"めんつゆ"]
[null,"木綿豆腐"]
[null,"もやし"]
[null,"やさいふりかけ"]
[null,"りんごジュース"]
[null,"油揚げ"]
[null,"白玉"]
[null,"冷凍豆腐"]
[null,"ロールパン"]
[null,"ロールパン"]

{"sheet":"一覧","index":3,"n_rows":43,"n_cols":31,"rows_kept":43,"cut":false,"hidden":false,"merged":[[42,0,42,30],[0,3,0,30],[3,0,4,0],[3,2,4,2],[3,1,4,1],[1,0,2,2],[1,3,2,30],[3,3,3,10],[3,11,3,30]]}
["　",null,null,{"$f":"入力例!$A$25","v":"2025-02-28"}]
["タイプ①昼食(月・水・金）",null,null,"記号例…●：別添資料あり、○：アレルゲンあり、△：当該品目を含む製品の製造等でコンタミネーションの可能性があるもの\n※コンタミネーション…食品を製造する際に、原材料としては使用していないにもかかわらず、特定原材料等が意図せずして最終加工食品に混入してしまう場合のこと"]
[]
["献立名","別添資料","使用食材","八大アレルゲン",null,null,null,null,null,null,null,"特定原材料に準ずるもの20品目"]
[null,null,null,"小麦","卵","乳","そば","落花生","えび","かに","くるみ","ごま","カシュ","アーモンド","キウイ","もも","リンゴ","バナナ","オレンジ","いか","いくら","さけ","さば","大豆","鶏肉","豚肉","牛肉","マカダミア","やまいも","ゼラチン","あわび"]
["笹かま入り中華飯","●","精白米",{"$f":"IFERROR(IF(COUNTIF(INDIRECT($C6&\"!F5:I42\"),\"*\"&D$5&\"*\")>0,\"○\",IF(COUNTIF(INDIRECT($C6&\"!B43:I45\"),\"*\"&D$5&\"*\")>0,\"△\",\"\")),\"\")","v":""},{"$f":"IFERROR(IF(COUNTIF(INDIRECT($C6&\"!F5:I42\"),\"*\"&E$5&\"*\")>0,\"○\",IF(COUNTIF(INDIRECT($C6&\"!B43:I45\"),\"*\"&E$5&\"*\")>0,\"△\",\"\")),\"\")","v":""},"","","","","","","","","","","","","","","",{"$f":"IFERROR(IF(COUNTIF(INDIRECT($C6&\"!F5:I42\"),\"*\"&U$5&\"*\")>0,\"○\",IF(COUNTIF(INDIRECT($C6&\"!B43:I45\"),\"*\"&U$5&\"*\")>0,\"△\",\"\")),\"\")","v":""},"","","","","","","","","",""]
[null,"●","中華野菜ミックス",{"$f":"IFERROR(IF(COUNTIF(INDIRECT($C7&\"!F5:I42\"),\"*\"&D$5&\"*\")>0,\"○\",IF(COUNTIF(INDIRECT($C7&\"!B43:I45\"),\"*\"&D$5&\"*\")>0,\"△\",\"\")),\"\")","v":""},"","","","","","","","","","","","","","","","","","","","","","","","","","",""]
[null,"●","笹かまぼこ","○","○","△","","","△","△","","","","","","","","","","","","","","○","","","","","","",""]
[null,"●","きくらげ","","","","","","","","","","","","","","","","","","","","","","","","","","","",""]
[null,"●","豚肉","","","","","","","","","","","","","","","","","","","","","","","○","","","","",""]
[null,"●","もやし","","","","","","","","","","","","","","","","","","","","","","","","","","","",""]
[null,"●","長ねぎ","","","","","","","","","","","","","","","","","","","","","","","","","","","",""]
[null,"●","白菜","","","","","","","","","","","","","","","","","","","","","","","","","","","",""]
[null,"●","中華だし","","","","","","","","","","","","","","","","","","","","","○","○","○","","","","",""]
[null,"●","片栗粉","","","","","","","","","","","","","","","","","","","","","","","","","","","",""]
[null,"●","ごま油","","","","","","","","","○","","","","","","","","","","","","○","","","","","","",""]
[null,null,"水","","","","","","","","","","","","","","","","","","","","","","","","","","","",""]
["中華卵スープ","●","青ネギ","","","","","","","","","","","","","","","","","","","","","","","","","","","",""]
[null,"●","卵","","○","","","","","","","","","","","","","","","","","","","","","","","","","",""]
[null,"●","たけのこ","","","","","","","","","","","","","","","","","","","","","","","","","","","",""]
[null,"●","中華だし","","","","","","","","","","","","","","","","",{"$f":"IFERROR(IF(COUNTIF(INDIRECT($C21&\"!F5:I42\"),\"*\"&T$5&\"*\")>0,\"○\",IF(COUNTIF(INDIRECT($C21&\"!B43:I45\"),\"*\"&T$5&\"*\")>0,\"△\",\"\")),\"\")","v":""},"","","","○","○","○","","","","",""]
[null,"●","ごま油","","","","","","","","","○","","","","","","","","","","","","○","","","","","","",""]
[null,"●","片栗粉",{"$f":"IFERROR(IF(COUNTIF(INDIRECT($C23&\"!F5:I42\"),\"*\"&D$5&\"*\")>0,\"○\",IF(COUNTIF(INDIRECT($C23&\"!B43:I45\"),\"*\"&D$5&\"*\")>0,\"△\",\"\")),\"\")","v":""},"","","","","","","","","","","","","","","","","","","","","","","","","","",""]
[null,"●","こしょう",{"$f":"IFERROR(IF(COUNTIF(INDIRECT($C24&\"!F5:I42\"),\"*\"&D$5&\"*\")>0,\"○\",IF(COUNTIF(INDIRECT($C24&\"!B43:I45\"),\"*\"&D$5&\"*\")>0,\"△\",\"\")),\"\")","v":""},"","","","","","","","","","","","","","","","","","","","","","","","","","",""]
[null,null,"水","","","","","","","","","","","","","","","","","","","","","","","","","","","",""]
["絹揚げの甘酢たれ","●","絹揚げ",{"$f":"IFERROR(IF(COUNTIF(INDIRECT($C26&\"!F5:I42\"),\"*\"&D$5&\"*\")>0,\"○\",IF(COUNTIF(INDIRECT($C26&\"!B43:I45\"),\"*\"&D$5&\"*\")>0,\"△\",\"\")),\"\")","v":""},"","","","","","","","","",{"$f":"IFERROR(IF(COUNTIF(INDIRECT($C26&\"!F5:I42\"),\"*\"&N$5&\"*\")>0,\"○\",IF(COUNTIF(INDIRECT($C26&\"!B43:I45\"),\"*\"&N$5&\"*\")>0,\"△\",\"\")),\"\")","v":""},"","","","","","","","","","○","","","","","","",""]
[null,"●","甘酢たれ","○","","","","","","","","○","","","","","","","","","","","","○","","","","","","",""]
["仙台名物ずんだの白玉","●","白玉","","","","","","","","","","","","","","","","","","","","","","","","","","","",""]
[null,"●","ずんだのたれ","","","","","","","","","","","","","","","","","","","","","○","","","","","","",""]
["ぶどうゼリー","●","ぶどうゼリー",{"$f":"IFERROR(IF(COUNTIF(INDIRECT($C30&\"!F5:I42\"),\"*\"&D$5&\"*\")>0,\"○\",IF(COUNTIF(INDIRECT($C30&\"!B43:I45\"),\"*\"&D$5&\"*\")>0,\"△\",\"\")),\"\")","v":""},"","","","","","","","","","","","","","","","","","","","","","","","","","",""]
[null,null,null,"","","","","","","","","","","","","","","","","","","","","","","","","","","",""]
["【大盛】鶏唐揚げ","●","鶏唐揚げ","○","","","","","","","","","","","","","","","","","","","","○","○","","","","","",""]
[null,"●","キャノーラ油","","","","","","","","","","","","","","","","","","","","","","","","","","","",""]
[null,null,null,"","","","","","","","","","","","","","","","","","","","","","","","","","","",""]
[null,null,null,"","","","","","","","","","","","","","","","","","","","","","","","","","","",""]
[null,null,null,"","","","","","","","","","","","","","","","","","","","","","","","","","","",""]
[null,null,null,"","","","","","","","","","","","","","","","","","","","","","","","","","","",""]
[null,null,null,"","","","","","","","","","","","","","","","","","","","","","","","","","","",""]
[null,null,null,"","","","","","","","","","","","","","","","",{"$f":"IFERROR(IF(COUNTIF(INDIRECT($C39&\"!F5:I42\"),\"*\"&T$5&\"*\")>0,\"○\",IF(COUNTIF(INDIRECT($C39&\"!B43:I45\"),\"*\"&T$5&\"*\")>0,\"△\",\"\")),\"\")","v":""},"","","","","","","","","","",""]
[null,null,null,"","","","","","","","","","","","","","","",{"$f":"IFERROR(IF(COUNTIF(INDIRECT($C40&\"!F5:I42\"),\"*\"&S$5&\"*\")>0,\"○\",IF(COUNTIF(INDIRECT($C40&\"!B43:I45\"),\"*\"&S$5&\"*\")>0,\"△\",\"\")),\"\")","v":""},"","","","","","","","","","","",""]
[null,null,null,{"$f":"IFERROR(IF(COUNTIF(INDIRECT($C41&\"!F5:I42\"),\"*\"&D$5&\"*\")>0,\"○\",IF(COUNTIF(INDIRECT($C41&\"!B43:I45\"),\"*\"&D$5&\"*\")>0,\"△\",\"\")),\"\")","v":""},"","","","","","","","","","","","","","","","","","","","","","","","","","",""]
[null,null,null,"","","","","","","","","","","","","","","","","","","","","","","","","","","",""]
[{"$f":"入力例!A22","v":"オーエンス泉岳自然ふれあい館"}]

{"sheet":"精白米","index":4,"n_rows":52,"n_cols":40,"rows_kept":52,"cut":false,"hidden":false,"merged":[[1,1,1,8],[4,0,41,0],[4,1,4,4],[4,5,4,8],[5,1,5,4],[5,5,5,8],[6,1,6,4],[6,5,6,8],[7,1,7,4],[7,5,7,8],[8,1,8,4],[8,5,8,8],[9,1,9,4],[9,5,9,8],[10,1,10,4],[10,5,10,8],[11,1,11,4],[11,5,11,8],[12,1,12,4],[12,5,12,8],[13,1,13,4],[13,5,13,8],[14,1,14,4],[14,5,14,8],[15,1,15,4],[15,5,15,8],[16,1,16,4],[16,5,16,8],[17,1,17,4],[17,5,17,8],[18,1,18,4],[18,5,18,8],[19,1,19,4],[19,5,19,8],[20,1,20,4],[20,5,20,8],[21,1,21,4],[21,5,21,8],[22,1,22,4],[22,5,22,8],[23,1,23,4],[23,5,23,8],[24,1,24,4],[24,5,24,8],[25,1,25,4],[25,5,25,8],[26,1,26,4],[26,5,26,8],[27,1,27,4],[27,5,27,8],[28,1,28,4],[28,5,28,8],[29,1,29,4],[29,5,29,8],[30,1,30,4],[30,5,30,8],[31,1,31,4],[31,5,31,8],[32,1,32,4],[32,5,32,8],[33,1,33,4],[33,5,33,8],[34,1,34,4],[34,5,34,8],[35,1,35,4],[35,5,35,8],[36,1,36,4],[36,5,36,8],[43,1,43,8],[44,1,44,8],[37,1,37,4],[37,5,37,8],[38,1,38,4],[38,5,38,8],[39,1,39,4],[39,5,39,8],[51,0,51,8],[2,0,3,0],[2,1,3,7],[45,0,48,0],[45,1,45,8],[46,1,46,8],[47,1,47,8],[48,1,48,8],[49,0,50,0],[49,1,50,8],[40,1,40,4],[40,5,40,8],[41,1,41,4],[41,5,41,8],[42,0,44,0],[42,1,42,8]]}
["一覧へ"," "]
["シート名",{"$f":"RIGHT(CELL(\"filename\",A1),LEN(CELL(\"filename\",A1))-FIND(\"]\",CELL(\"filename\",A1)))","v":"精白米"}]
["商品名","根白石環境ひとめぼれ",null,null,null,null,null,null,"作成日"]
[null,null,null,null,null,null,null,null,{"$f":"一覧!$D$1","v":"2025-02-28"}]
["原材料","原材料名",null,null,null,"28品目アレルゲン",null,null,null,null,"個数①","計",{"$f":"一覧!D5","v":"小麦"},{"$f":"一覧!E5","v":"卵"},{"$f":"一覧!F5","v":"乳"},{"$f":"一覧!G5","v":"そば"},{"$f":"一覧!H5","v":"落花生"},{"$f":"一覧!I5","v":"えび"},{"$f":"一覧!J5","v":"かに"},{"$f":"一覧!K5","v":"くるみ"},{"$f":"一覧!L5","v":"ごま"},{"$f":"一覧!M5","v":"カシュ"},{"$f":"一覧!N5","v":"アーモンド"},{"$f":"一覧!O5","v":"キウイ"},{"$f":"一覧!P5","v":"もも"},{"$f":"一覧!Q5","v":"リンゴ"},{"$f":"一覧!R5","v":"バナナ"},{"$f":"一覧!S5","v":"オレンジ"},{"$f":"一覧!T5","v":"いか"},{"$f":"一覧!U5","v":"いくら"},{"$f":"一覧!V5","v":"さけ"},{"$f":"一覧!W5","v":"さば"},{"$f":"一覧!X5","v":"大豆"},{"$f":"一覧!Y5","v":"鶏肉"},{"$f":"一覧!Z5","v":"豚肉"},{"$f":"一覧!AA5","v":"牛肉"},{"$f":"一覧!AB5","v":"マカダミア"},{"$f":"一覧!AC5","v":"やまいも"},{"$f":"一覧!AD5","v":"ゼラチン"},{"$f":"一覧!AE5","v":"あわび"}]
[null,"米（根白石産ひとめぼれブレンド）",null,null,null,null,null,null,null,null,{"$f":"IF(F6=\"\",0,LEN(F6)-LEN(SUBSTITUTE(F6, \"、\", \"\"))+1)","v":0},{"$f":"SUM(M6:AN6)","v":0},{"$f":"COUNTIF($F6,\"*\"&M$5&\"*\")","v":0},{"$f":"COUNTIF($F6,\"*\"&N$5&\"*\")","v":0},0,0,0,0,0,0,0,0,0,0,0,0,0,0,0,0,0,0,0,0,0,0,0,0,0,0]
[null,null,null,null,null,null,null,null,null,null,{"$f":"IF(F7=\"\",0,LEN(F7)-LEN(SUBSTITUTE(F7, \"、\", \"\"))+1)","v":0},{"$f":"SUM(M7:AN7)","v":0},{"$f":"COUNTIF($F7,\"*\"&M$5&\"*\")","v":0},0,0,0,0,0,0,0,0,0,0,0,0,0,0,0,0,0,0,0,0,0,0,0,0,0,0,0]
[null,null,null,null,null,null,null,null,null,null,0,0,0,0,0,0,0,0,0,0,0,0,0,0,0,0,0,0,0,0,0,0,0,0,0,0,0,0,0,0]
[null,null,null,null,null,null,null,null,null,null,0,0,0,0,0,0,0,0,0,0,0,0,0,0,0,0,0,0,0,0,0,0,0,0,0,0,0,0,0,0]
[null,null,null,null,null,null,null,null,null,null,0,0,0,0,0,0,0,0,0,0,0,0,0,0,0,0,0,0,0,0,0,0,0,0,0,0,0,0,0,0]
[null,null,null,null,null,null,null,null,null,null,0,0,0,0,0,0,0,0,0,0,0,0,0,0,0,0,0,0,0,0,0,0,0,0,0,0,0,0,0,0]
[null,null,null,null,null,null,null,null,null,null,0,0,0,0,0,0,0,0,0,0,0,0,0,0,0,0,0,0,0,0,0,0,0,0,0,0,0,0,0,0]
[null,null,null,null,null,null,null,null,null,null,0,0,0,0,0,0,0,0,0,0,0,0,0,0,0,0,0,0,0,0,0,0,0,0,0,0,0,0,0,0]
[null,null,null,null,null,null,null,null,null,null,0,0,0,0,0,0,0,0,0,0,0,0,0,0,0,0,0,0,0,0,0,0,0,0,0,0,0,0,0,0]
[null,null,null,null,null,null,null,null,null,null,0,0,0,0,0,0,0,0,0,0,0,0,0,0,0,{"$f":"COUNTIF($F15,\"*\"&Z$5&\"*\")","v":0},0,0,0,0,0,0,0,0,0,0,0,0,0,0]
[null,null,null,null,null,null,null,null,null,null,0,0,0,0,0,0,0,0,0,0,0,0,0,0,0,0,0,0,0,0,0,0,0,0,0,0,0,0,0,0]
[null,null,null,null,null,null,null,null,null,null,0,0,0,0,0,0,0,0,0,0,0,0,0,0,0,0,0,0,0,0,0,0,0,0,0,0,0,0,0,0]
[null,null,null,null,null,null,null,null,null,null,0,0,0,0,0,0,0,0,0,0,0,0,0,0,0,0,0,0,0,0,0,0,0,0,0,0,0,0,0,0]
[null,null,null,null,null,null,null,null,null,null,0,0,0,0,0,0,0,0,0,0,0,0,0,0,0,0,0,0,0,0,0,0,0,0,0,0,0,0,0,0]
[null,null,null,null,null,null,null,null,null,null,0,0,0,0,0,0,0,0,0,0,0,0,0,0,0,0,0,0,0,0,0,0,0,0,0,0,0,0,0,0]
[null,null,null,null,null,null,null,null,null,null,0,0,0,0,0,0,0,0,0,0,0,0,0,0,0,0,0,0,0,0,0,0,0,0,0,0,0,0,0,0]
[null,null,null,null,null,null,null,null,null,null,0,0,0,0,0,0,0,0,0,0,0,0,0,0,0,0,0,0,0,0,0,0,0,0,0,0,0,0,0,0]
[null,null,null,null,null,null,null,null,null,null,0,0,0,0,0,0,0,0,0,0,0,0,0,0,0,0,0,0,0,0,0,0,0,0,0,0,0,0,0,0]
[null,null,null,null,null,null,null,null,null,null,0,0,0,0,0,0,0,0,0,0,0,0,0,0,0,0,0,0,0,0,0,0,0,0,0,0,0,0,0,0]
[null,null,null,null,null,null,null,null,null,null,0,0,0,0,0,0,0,0,0,0,0,0,0,0,0,0,0,0,0,0,0,0,0,0,0,0,0,0,0,0]
[null,null,null,null,null,null,null,null,null,null,0,0,0,0,0,0,0,0,0,0,0,0,0,0,0,0,0,0,0,0,0,0,0,0,0,0,0,0,0,0]
[null,null,null,null,null,null,null,null,null,null,0,0,0,0,0,0,0,0,0,0,0,0,0,0,0,0,0,0,0,0,0,0,0,0,0,0,0,0,0,0]
[null,null,null,null,null,null,null,null,null,null,0,0,0,0,0,0,0,0,0,0,0,0,0,0,0,0,0,0,0,0,0,0,0,0,0,0,0,0,0,0]
[null,null,null,null,null,null,null,null,null,null,0,0,0,0,0,0,0,0,0,0,0,0,0,0,0,0,0,0,0,0,0,0,0,0,0,0,0,0,0,0]
[null,null,null,null,null,null,null,null,null,null,0,0,0,0,0,0,0,0,0,0,{"$f":"COUNTIF($F30,\"*\"&U$5&\"*\")","v":0},0,0,0,0,0,0,0,0,0,0,0,0,0,0,0,0,0,0,0]
[null,null,null,null,null,null,null,null,null,null,0,0,{"$f":"COUNTIF($F31,\"*\"&M$5&\"*\")","v":0},0,0,0,0,0,0,0,0,0,0,0,0,0,0,0,0,{"$f":"COUNTIF($F31,\"*\"&AD$5&\"*\")","v":0},0,0,0,0,0,0,0,0,0,0]
[null,null,null,null,null,null,null,null,null,null,0,0,0,0,0,0,0,0,0,0,0,0,0,0,0,0,0,0,0,0,0,0,0,0,0,0,0,0,0,0]
[null,null,null,null,null,null,null,null,null,null,0,0,0,0,0,0,0,0,0,0,0,0,0,0,0,0,0,0,0,0,0,0,0,0,0,0,0,0,0,0]
[null,null,null,null,null,null,null,null,null,null,0,0,0,0,0,0,0,0,0,0,0,0,0,0,0,0,0,0,0,0,0,0,0,0,0,0,0,0,0,0]
[null,null,null,null,null,null,null,null,null,null,0,0,0,0,0,0,0,0,0,0,0,0,0,0,0,0,0,0,0,0,0,0,0,0,0,0,0,0,0,0]
[null,null,null,null,null,null,null,null,null,null,0,0,0,0,0,0,0,0,0,0,0,0,0,0,0,0,0,0,0,0,0,0,0,0,0,0,0,0,0,0]
[null,null,null,null,null,null,null,null,null,null,0,0,0,0,0,0,0,0,0,0,0,0,0,0,0,0,0,0,0,0,0,0,0,0,0,0,0,0,0,0]
[null,null,null,null,null,null,null,null,null,null,0,0,0,0,0,0,0,0,0,0,0,0,0,0,0,0,0,0,0,0,0,0,0,0,0,0,0,0,0,0]
[null,null,null,null,null,null,null,null,null,null,0,0,0,0,0,0,0,0,0,0,0,0,0,0,0,0,0,0,0,0,0,0,0,0,0,0,0,0,0,0]
[null,null,null,null,null,null,null,null,null,null,0,0,0,0,0,0,0,0,0,0,0,0,0,0,0,0,0,0,0,0,0,0,0,0,0,0,0,0,0,0]
[null,null,null,null,null,null,null,null,null,null,0,0,0,0,0,0,0,0,0,0,0,0,0,0,0,0,0,0,0,0,0,0,0,0,0,0,0,0,0,0]
[null,null,null,null,null,null,null,null,null,null,0,0,0,0,0,0,0,0,0,0,0,0,0,0,0,0,0,0,0,0,0,0,0,0,0,0,0,0,0,0]
["コンタミネーション","なし",null,null,null,null,null,null,null,null,{"$f":"IF(OR($B43=\"\",$B43=\"なし\"),0,LEN($B43)-LEN(SUBSTITUTE($B43, \"、\", \"\"))+1)","v":0},0,{"$f":"COUNTIF($B43,\"*\"&M$5&\"*\")","v":0},{"$f":"COUNTIF($B43,\"*\"&N$5&\"*\")","v":0},0,0,0,0,0,0,0,0,0,0,0,0,0,0,0,0,{"$f":"COUNTIF($B43,\"*\"&AE$5&\"*\")","v":0},0,0,0,0,0,0,0,0,0]
[null,null,null,null,null,null,null,null,null,null,0,0,{"$f":"COUNTIF($B44,\"*\"&M$5&\"*\")","v":0},0,0,0,0,0,0,0,0,0,0,0,0,0,0,0,0,0,0,0,0,0,0,0,0,0,0,0]
[null,null,null,null,null,null,null,null,null,null,0,0,0,0,0,0,0,0,0,0,0,0,0,0,0,0,0,0,0,0,0,0,0,0,0,0,0,0,0,0]
["特記事項"]
[]
[]
[null,"●　商品の終売・リニューアルの場合は成分等が変更になる場合があります。ご了承ください。"]
["製造元","株式会社ジェイエイ仙台"]
[]
[{"$f":"一覧!$A$43","v":"オーエンス泉岳自然ふれあい館"}]

{"sheet":"中華野菜ミックス","index":5,"n_rows":52,"n_cols":40,"rows_kept":52,"cut":false,"hidden":false,"merged":[[51,0,51,8],[45,0,48,0],[45,1,45,8],[46,1,46,8],[47,1,47,8],[48,1,48,8],[49,0,50,0],[49,1,50,8],[40,1,40,4],[40,5,40,8],[41,1,41,4],[41,5,41,8],[42,0,44,0],[42,1,42,8],[43,1,43,8],[44,1,44,8],[37,1,37,4],[37,5,37,8],[38,1,38,4],[38,5,38,8],[39,1,39,4],[39,5,39,8],[34,1,34,4],[34,5,34,8],[35,1,35,4],[35,5,35,8],[36,1,36,4],[36,5,36,8],[31,1,31,4],[31,5,31,8],[32,1,32,4],[32,5,32,8],[33,1,33,4],[33,5,33,8],[28,1,28,4],[28,5,28,8],[29,1,29,4],[29,5,29,8],[30,1,30,4],[30,5,30,8],[25,1,25,4],[25,5,25,8],[26,1,26,4],[26,5,26,8],[27,1,27,4],[27,5,27,8],[22,1,22,4],[22,5,22,8],[23,1,23,4],[23,5,23,8],[24,1,24,4],[24,5,24,8],[19,1,19,4],[19,5,19,8],[20,1,20,4],[20,5,20,8],[21,1,21,4],[21,5,21,8],[16,1,16,4],[16,5,16,8],[17,1,17,4],[17,5,17,8],[18,1,18,4],[18,5,18,8],[13,1,13,4],[13,5,13,8],[14,1,14,4],[14,5,14,8],[15,1,15,4],[15,5,15,8],[10,1,10,4],[10,5,10,8],[11,1,11,4],[11,5,11,8],[12,1,12,4],[12,5,12,8],[1,1,1,8],[2,0,3,0],[2,1,3,7],[4,0,41,0],[4,1,4,4],[4,5,4,8],[5,1,5,4],[5,5,5,8],[6,1,6,4],[6,5,6,8],[7,1,7,4],[7,5,7,8],[8,1,8,4],[8,5,8,8],[9,1,9,4],[9,5,9,8]]}
["一覧へ"]
["シート名",{"$f":"RIGHT(CELL(\"filename\",A1),LEN(CELL(\"filename\",A1))-FIND(\"]\",CELL(\"filename\",A1)))","v":"中華野菜ミックス"}]
["商品名","中華野菜ミックス　LF　500ｇ×20",null,null,null,null,null,null,"作成日"]
[null,null,null,null,null,null,null,null,{"$f":"一覧!$D$1","v":"2025-02-28"}]
["原材料","原材料名",null,null,null,"28品目アレルゲン",null,null,null,null,"個数①","計",{"$f":"一覧!D5","v":"小麦"},{"$f":"一覧!E5","v":"卵"},{"$f":"一覧!F5","v":"乳"},{"$f":"一覧!G5","v":"そば"},{"$f":"一覧!H5","v":"落花生"},{"$f":"一覧!I5","v":"えび"},{"$f":"一覧!J5","v":"かに"},{"$f":"一覧!K5","v":"くるみ"},{"$f":"一覧!L5","v":"ごま"},{"$f":"一覧!M5","v":"カシュ"},{"$f":"一覧!N5","v":"アーモンド"},{"$f":"一覧!O5","v":"キウイ"},{"$f":"一覧!P5","v":"もも"},{"$f":"一覧!Q5","v":"リンゴ"},{"$f":"一覧!R5","v":"バナナ"},{"$f":"一覧!S5","v":"オレンジ"},{"$f":"一覧!T5","v":"いか"},{"$f":"一覧!U5","v":"いくら"},{"$f":"一覧!V5","v":"さけ"},{"$f":"一覧!W5","v":"さば"},{"$f":"一覧!X5","v":"大豆"},{"$f":"一覧!Y5","v":"鶏肉"},{"$f":"一覧!Z5","v":"豚肉"},{"$f":"一覧!AA5","v":"牛肉"},{"$f":"一覧!AB5","v":"マカダミア"},{"$f":"一覧!AC5","v":"やまいも"},{"$f":"一覧!AD5","v":"ゼラチン"},{"$f":"一覧!AE5","v":"あわび"}]
[null,"たけのこ",null,null,null,null,null,null,null,null,{"$f":"IF(F6=\"\",0,LEN(F6)-LEN(SUBSTITUTE(F6, \"、\", \"\"))+1)","v":0},{"$f":"SUM(M6:AN6)","v":0},{"$f":"COUNTIF($F6,\"*\"&M$5&\"*\")","v":0},{"$f":"COUNTIF($F6,\"*\"&N$5&\"*\")","v":0},0,0,0,0,0,0,0,0,0,0,0,0,0,0,0,0,0,0,0,0,0,0,0,0,0,0]
[null,"いんげん",null,null,null,null,null,null,null,null,{"$f":"IF(F7=\"\",0,LEN(F7)-LEN(SUBSTITUTE(F7, \"、\", \"\"))+1)","v":0},{"$f":"SUM(M7:AN7)","v":0},{"$f":"COUNTIF($F7,\"*\"&M$5&\"*\")","v":0},0,0,0,0,0,0,0,0,0,0,0,0,0,0,0,0,0,0,0,0,0,0,0,0,0,0,0]
[null,"にんじん",null,null,null,null,null,null,null,null,0,0,0,0,0,0,0,0,0,0,0,0,0,0,0,0,0,0,0,0,0,0,0,0,0,0,0,0,0,0]
[null,"ヤングコーン",null,null,null,null,null,null,null,null,0,0,0,0,0,0,0,0,0,0,0,0,0,0,0,0,0,0,0,0,0,0,0,0,0,0,0,0,0,0]
[null,"あらげきくらげ",null,null,null,null,null,null,null,null,0,0,0,0,0,0,0,0,0,0,0,0,0,0,0,0,0,0,0,0,0,0,0,0,0,0,0,0,0,0]
[null,"オオクロクワイ",null,null,null,null,null,null,null,null,0,0,0,0,0,0,0,0,0,0,0,0,0,0,0,0,0,0,0,0,0,0,0,0,0,0,0,0,0,0]
[null,null,null,null,null,null,null,null,null,null,0,0,0,0,0,0,0,0,0,0,0,0,0,0,0,0,0,0,0,0,0,0,0,0,0,0,0,0,0,0]
[null,null,null,null,null,null,null,null,null,null,0,0,0,0,0,0,0,0,0,0,0,0,0,0,0,0,0,0,0,0,0,0,0,0,0,0,0,0,0,0]
[null,null,null,null,null,null,null,null,null,null,0,0,0,0,0,0,0,0,0,0,0,0,0,0,0,0,0,0,0,0,0,0,0,0,0,0,0,0,0,0]
[null,null,null,null,null,null,null,null,null,null,0,0,0,0,0,0,0,0,0,0,0,0,0,0,0,{"$f":"COUNTIF($F15,\"*\"&Z$5&\"*\")","v":0},0,0,0,0,0,0,0,0,0,0,0,0,0,0]
[null,null,null,null,null,null,null,null,null,null,0,0,0,0,0,0,0,0,0,0,0,0,0,0,0,0,0,0,0,0,0,0,0,0,0,0,0,0,0,0]
[null,null,null,null,null,null,null,null,null,null,0,0,0,0,0,0,0,0,0,0,0,0,0,0,0,0,0,0,0,0,0,0,0,0,0,0,0,0,0,0]
[null,null,null,null,null,null,null,null,null,null,0,0,0,0,0,0,0,0,0,0,0,0,0,0,0,0,0,0,0,0,0,0,0,0,0,0,0,0,0,0]
[null,null,null,null,null,null,null,null,null,null,0,0,0,0,0,0,0,0,0,0,0,0,0,0,0,0,0,0,0,0,0,0,0,0,0,0,0,0,0,0]
[null,null,null,null,null,null,null,null,null,null,0,0,0,0,0,0,0,0,0,0,0,0,0,0,0,0,0,0,0,0,0,0,0,0,0,0,0,0,0,0]
[null,null,null,null,null,null,null,null,null,null,0,0,0,0,0,0,0,0,0,0,0,0,0,0,0,0,0,0,0,0,0,0,0,0,0,0,0,0,0,0]
[null,null,null,null,null,null,null,null,null,null,0,0,0,0,0,0,0,0,0,0,0,0,0,0,0,0,0,0,0,0,0,0,0,0,0,0,0,0,0,0]
[null,null,null,null,null,null,null,null,null,null,0,0,0,0,0,0,0,0,0,0,0,0,0,0,0,0,0,0,0,0,0,0,0,0,0,0,0,0,0,0]
[null,null,null,null,null,null,null,null,null,null,0,0,0,0,0,0,0,0,0,0,0,0,0,0,0,0,0,0,0,0,0,0,0,0,0,0,0,0,0,0]
[null,null,null,null,null,null,null,null,null,null,0,0,0,0,0,0,0,0,0,0,0,0,0,0,0,0,0,0,0,0,0,0,0,0,0,0,0,0,0,0]
[null,null,null,null,null,null,null,null,null,null,0,0,0,0,0,0,0,0,0,0,0,0,0,0,0,0,0,0,0,0,0,0,0,0,0,0,0,0,0,0]
[null,null,null,null,null,null,null,null,null,null,0,0,0,0,0,0,0,0,0,0,0,0,0,0,0,0,0,0,0,0,0,0,0,0,0,0,0,0,0,0]
[null,null,null,null,null,null,null,null,null,null,0,0,0,0,0,0,0,0,0,0,0,0,0,0,0,0,0,0,0,0,0,0,0,0,0,0,0,0,0,0]
[null,null,null,null,null,null,null,null,null,null,0,0,0,0,0,0,0,0,0,0,0,0,0,0,0,0,0,0,0,0,0,0,0,0,0,0,0,0,0,0]
[null,null,null,null,null,null,null,null,null,null,0,0,0,0,0,0,0,0,0,0,{"$f":"COUNTIF($F30,\"*\"&U$5&\"*\")","v":0},0,0,0,0,0,0,0,0,0,0,0,0,0,0,0,0,0,0,0]
[null,null,null,null,null,null,null,null,null,null,0,0,{"$f":"COUNTIF($F31,\"*\"&M$5&\"*\")","v":0},0,0,0,0,0,0,0,0,0,0,0,0,0,0,0,0,{"$f":"COUNTIF($F31,\"*\"&AD$5&\"*\")","v":0},0,0,0,0,0,0,0,0,0,0]
[null,null,null,null,null,null,null,null,null,null,0,0,0,0,0,0,0,0,0,0,0,0,0,0,0,0,0,0,0,0,0,0,0,0,0,0,0,0,0,0]
[null,null,null,null,null,null,null,null,null,null,0,0,0,0,0,0,0,0,0,0,0,0,0,0,0,0,0,0,0,0,0,0,0,0,0,0,0,0,0,0]
[null,null,null,null,null,null,null,null,null,null,0,0,0,0,0,0,0,0,0,0,0,0,0,0,0,0,0,0,0,0,0,0,0,0,0,0,0,0,0,0]
[null,null,null,null,null,null,null,null,null,null,0,0,0,0,0,0,0,0,0,0,0,0,0,0,0,0,0,0,0,0,0,0,0,0,0,0,0,0,0,0]
[null,null,null,null,null,null,null,null,null,null,0,0,0,0,0,0,0,0,0,0,0,0,0,0,0,0,0,0,0,0,0,0,0,0,0,0,0,0,0,0]
[null,null,null,null,null,null,null,null,null,null,0,0,0,0,0,0,0,0,0,0,0,0,0,0,0,0,0,0,0,0,0,0,0,0,0,0,0,0,0,0]
[null,null,null,null,null,null,null,null,null,null,0,0,0,0,0,0,0,0,0,0,0,0,0,0,0,0,0,0,0,0,0,0,0,0,0,0,0,0,0,0]
[null,null,null,null,null,null,null,null,null,null,0,0,0,0,0,0,0,0,0,0,0,0,0,0,0,0,0,0,0,0,0,0,0,0,0,0,0,0,0,0]
[null,null,null,null,null,null,null,null,null,null,0,0,0,0,0,0,0,0,0,0,0,0,0,0,0,0,0,0,0,0,0,0,0,0,0,0,0,0,0,0]
[null,null,null,null,null,null,null,null,null,null,0,0,0,0,0,0,0,0,0,0,0,0,0,0,0,0,0,0,0,0,0,0,0,0,0,0,0,0,0,0]
[null,null,null,null,null,null,null,null,null,null,0,0,0,0,0,0,0,0,0,0,0,0,0,0,0,0,0,0,0,0,0,0,0,0,0,0,0,0,0,0]
["コンタミネーション","なし",null,null,null,null,null,null,null,null,{"$f":"IF(OR($B43=\"\",$B43=\"なし\"),0,LEN($B43)-LEN(SUBSTITUTE($B43, \"、\", \"\"))+1)","v":0},0,{"$f":"COUNTIF($B43,\"*\"&M$5&\"*\")","v":0},{"$f":"COUNTIF($B43,\"*\"&N$5&\"*\")","v":0},0,0,0,0,0,0,0,0,0,0,0,0,0,0,0,0,{"$f":"COUNTIF($B43,\"*\"&AE$5&\"*\")","v":0},0,0,0,0,0,0,0,0,0]
[null,null,null,null,null,null,null,null,null,null,0,0,{"$f":"COUNTIF($B44,\"*\"&M$5&\"*\")","v":0},0,0,0,0,0,0,0,0,0,0,0,0,0,0,0,0,0,0,0,0,0,0,0,0,0,0,0]
[null,null,null,null,null,null,null,null,null,null,0,0,0,0,0,0,0,0,0,0,0,0,0,0,0,0,0,0,0,0,0,0,0,0,0,0,0,0,0,0]
["特記事項"]
[]
[]
[null,"●　商品の終売・リニューアルの場合は成分等が変更になる場合があります。ご了承ください。"]
["製造元","トーア産業株式会社"]
[]
[{"$f":"一覧!$A$43","v":"オーエンス泉岳自然ふれあい館"}]

{"sheet":"笹かまぼこ","index":6,"n_rows":52,"n_cols":40,"rows_kept":52,"cut":false,"hidden":false,"merged":[[1,1,1,8],[2,0,3,0],[2,1,3,7],[4,0,41,0],[4,1,4,4],[4,5,4,8],[5,1,5,4],[5,5,5,8],[6,1,6,4],[6,5,6,8],[7,1,7,4],[7,5,7,8],[8,1,8,4],[8,5,8,8],[9,1,9,4],[9,5,9,8],[10,1,10,4],[10,5,10,8],[11,1,11,4],[11,5,11,8],[12,1,12,4],[12,5,12,8],[13,1,13,4],[13,5,13,8],[14,1,14,4],[14,5,14,8],[15,1,15,4],[15,5,15,8],[16,1,16,4],[16,5,16,8],[17,1,17,4],[17,5,17,8],[18,1,18,4],[18,5,18,8],[19,1,19,4],[19,5,19,8],[20,1,20,4],[20,5,20,8],[21,1,21,4],[21,5,21,8],[22,1,22,4],[22,5,22,8],[23,1,23,4],[23,5,23,8],[24,1,24,4],[24,5,24,8],[25,1,25,4],[25,5,25,8],[26,1,26,4],[26,5,26,8],[27,1,27,4],[27,5,27,8],[28,1,28,4],[28,5,28,8],[29,1,29,4],[29,5,29,8],[30,1,30,4],[30,5,30,8],[31,1,31,4],[31,5,31,8],[32,1,32,4],[32,5,32,8],[33,1,33,4],[33,5,33,8],[34,1,34,4],[34,5,34,8],[35,1,35,4],[35,5,35,8],[36,1,36,4],[36,5,36,8],[37,1,37,4],[37,5,37,8],[38,1,38,4],[38,5,38,8],[39,1,39,4],[39,5,39,8],[40,1,40,4],[40,5,40,8],[41,1,41,4],[41,5,41,8],[42,0,44,0],[42,1,42,8],[43,1,43,8],[44,1,44,8],[51,0,51,8],[45,0,48,0],[45,1,45,8],[46,1,46,8],[47,1,47,8],[48,1,48,8],[49,0,50,0],[49,1,50,8]]}
["一覧へ","　"]
["シート名",{"$f":"RIGHT(CELL(\"filename\",A1),LEN(CELL(\"filename\",A1))-FIND(\"]\",CELL(\"filename\",A1)))","v":"笹かまぼこ"}]
["商品名","ミニ笹かまR",null,null,null,null,null,null,"作成日"]
[null,null,null,null,null,null,null,null,{"$f":"一覧!$D$1","v":"2025-02-28"}]
["原材料","原材料名",null,null,null,"28品目アレルゲン",null,null,null,null,"個数①","計",{"$f":"一覧!D5","v":"小麦"},{"$f":"一覧!E5","v":"卵"},{"$f":"一覧!F5","v":"乳"},{"$f":"一覧!G5","v":"そば"},{"$f":"一覧!H5","v":"落花生"},{"$f":"一覧!I5","v":"えび"},{"$f":"一覧!J5","v":"かに"},{"$f":"一覧!K5","v":"くるみ"},{"$f":"一覧!L5","v":"ごま"},{"$f":"一覧!M5","v":"カシュ"},{"$f":"一覧!N5","v":"アーモンド"},{"$f":"一覧!O5","v":"キウイ"},{"$f":"一覧!P5","v":"もも"},{"$f":"一覧!Q5","v":"リンゴ"},{"$f":"一覧!R5","v":"バナナ"},{"$f":"一覧!S5","v":"オレンジ"},{"$f":"一覧!T5","v":"いか"},{"$f":"一覧!U5","v":"いくら"},{"$f":"一覧!V5","v":"さけ"},{"$f":"一覧!W5","v":"さば"},{"$f":"一覧!X5","v":"大豆"},{"$f":"一覧!Y5","v":"鶏肉"},{"$f":"一覧!Z5","v":"豚肉"},{"$f":"一覧!AA5","v":"牛肉"},{"$f":"一覧!AB5","v":"マカダミア"},{"$f":"一覧!AC5","v":"やまいも"},{"$f":"一覧!AD5","v":"ゼラチン"},{"$f":"一覧!AE5","v":"あわび"}]
[null,"魚肉",null,null,null,null,null,null,null,null,{"$f":"IF(F6=\"\",0,LEN(F6)-LEN(SUBSTITUTE(F6, \"、\", \"\"))+1)","v":0},{"$f":"SUM(M6:AN6)","v":0},{"$f":"COUNTIF($F6,\"*\"&M$5&\"*\")","v":0},{"$f":"COUNTIF($F6,\"*\"&N$5&\"*\")","v":0},0,0,0,0,0,0,0,0,0,0,0,0,0,0,0,0,0,0,0,0,0,0,0,0,0,0]
[null,"でん粉(馬鈴薯)",null,null,null,null,null,null,null,null,{"$f":"IF(F7=\"\",0,LEN(F7)-LEN(SUBSTITUTE(F7, \"、\", \"\"))+1)","v":0},{"$f":"SUM(M7:AN7)","v":0},{"$f":"COUNTIF($F7,\"*\"&M$5&\"*\")","v":0},0,0,0,0,0,0,0,0,0,0,0,0,0,0,0,0,0,0,0,0,0,0,0,0,0,0,0]
[null,"卵白",null,null,null,"卵",null,null,null,null,1,1,0,1,0,0,0,0,0,0,0,0,0,0,0,0,0,0,0,0,0,0,0,0,0,0,0,0,0,0]
[null,"食塩",null,null,null,null,null,null,null,null,0,0,0,0,0,0,0,0,0,0,0,0,0,0,0,0,0,0,0,0,0,0,0,0,0,0,0,0,0,0]
[null,"発酵調味液",null,null,null,null,null,null,null,null,0,0,0,0,0,0,0,0,0,0,0,0,0,0,0,0,0,0,0,0,0,0,0,0,0,0,0,0,0,0]
[null,"清酒",null,null,null,null,null,null,null,null,0,0,0,0,0,0,0,0,0,0,0,0,0,0,0,0,0,0,0,0,0,0,0,0,0,0,0,0,0,0]
[null,"砂糖",null,null,null,null,null,null,null,null,0,0,0,0,0,0,0,0,0,0,0,0,0,0,0,0,0,0,0,0,0,0,0,0,0,0,0,0,0,0]
[null,"加工でん粉(タピオカ・小麦)",null,null,null,"小麦",null,null,null,null,1,1,1,0,0,0,0,0,0,0,0,0,0,0,0,0,0,0,0,0,0,0,0,0,0,0,0,0,0,0]
[null,"トレハロース",null,null,null,null,null,null,null,null,0,0,0,0,0,0,0,0,0,0,0,0,0,0,0,0,0,0,0,0,0,0,0,0,0,0,0,0,0,0]
[null,"調整剤製剤",null,null,null,"卵、大豆",null,null,null,null,2,2,0,1,0,0,0,0,0,0,0,0,0,0,0,{"$f":"COUNTIF($F15,\"*\"&Z$5&\"*\")","v":0},0,0,0,0,0,0,1,0,0,0,0,0,0,0]
[null,"水",null,null,null,null,null,null,null,null,0,0,0,0,0,0,0,0,0,0,0,0,0,0,0,0,0,0,0,0,0,0,0,0,0,0,0,0,0,0]
[null,"酵素製剤",null,null,null,null,null,null,null,null,0,0,0,0,0,0,0,0,0,0,0,0,0,0,0,0,0,0,0,0,0,0,0,0,0,0,0,0,0,0]
[null,null,null,null,null,null,null,null,null,null,0,0,0,0,0,0,0,0,0,0,0,0,0,0,0,0,0,0,0,0,0,0,0,0,0,0,0,0,0,0]
[null,null,null,null,null,null,null,null,null,null,0,0,0,0,0,0,0,0,0,0,0,0,0,0,0,0,0,0,0,0,0,0,0,0,0,0,0,0,0,0]
[null,null,null,null,null,null,null,null,null,null,0,0,0,0,0,0,0,0,0,0,0,0,0,0,0,0,0,0,0,0,0,0,0,0,0,0,0,0,0,0]
[null,null,null,null,null,null,null,null,null,null,0,0,0,0,0,0,0,0,0,0,0,0,0,0,0,0,0,0,0,0,0,0,0,0,0,0,0,0,0,0]
[null,null,null,null,null,null,null,null,null,null,0,0,0,0,0,0,0,0,0,0,0,0,0,0,0,0,0,0,0,0,0,0,0,0,0,0,0,0,0,0]
[null,null,null,null,null,null,null,null,null,null,0,0,0,0,0,0,0,0,0,0,0,0,0,0,0,0,0,0,0,0,0,0,0,0,0,0,0,0,0,0]
[null,null,null,null,null,null,null,null,null,null,0,0,0,0,0,0,0,0,0,0,0,0,0,0,0,0,0,0,0,0,0,0,0,0,0,0,0,0,0,0]
[null,null,null,null,null,null,null,null,null,null,0,0,0,0,0,0,0,0,0,0,0,0,0,0,0,0,0,0,0,0,0,0,0,0,0,0,0,0,0,0]
[null,null,null,null,null,null,null,null,null,null,0,0,0,0,0,0,0,0,0,0,0,0,0,0,0,0,0,0,0,0,0,0,0,0,0,0,0,0,0,0]
[null,null,null,null,null,null,null,null,null,null,0,0,0,0,0,0,0,0,0,0,0,0,0,0,0,0,0,0,0,0,0,0,0,0,0,0,0,0,0,0]
[null,null,null,null,null,null,null,null,null,null,0,0,0,0,0,0,0,0,0,0,0,0,0,0,0,0,0,0,0,0,0,0,0,0,0,0,0,0,0,0]
[null,null,null,null,null,null,null,null,null,null,0,0,0,0,0,0,0,0,0,0,0,0,0,0,0,0,0,0,0,0,0,0,0,0,0,0,0,0,0,0]
[null,null,null,null,null,null,null,null,null,null,0,0,0,0,0,0,0,0,0,0,{"$f":"COUNTIF($F30,\"*\"&U$5&\"*\")","v":0},0,0,0,0,0,0,0,0,0,0,0,0,0,0,0,0,0,0,0]
[null,null,null,null,null,null,null,null,null,null,0,0,{"$f":"COUNTIF($F31,\"*\"&M$5&\"*\")","v":0},0,0,0,0,0,0,0,0,0,0,0,0,0,0,0,0,{"$f":"COUNTIF($F31,\"*\"&AD$5&\"*\")","v":0},0,0,0,0,0,0,0,0,0,0]
[null,null,null,null,null,null,null,null,null,null,0,0,0,0,0,0,0,0,0,0,0,0,0,0,0,0,0,0,0,0,0,0,0,0,0,0,0,0,0,0]
[null,null,null,null,null,null,null,null,null,null,0,0,0,0,0,0,0,0,0,0,0,0,0,0,0,0,0,0,0,0,0,0,0,0,0,0,0,0,0,0]
[null,null,null,null,null,null,null,null,null,null,0,0,0,0,0,0,0,0,0,0,0,0,0,0,0,0,0,0,0,0,0,0,0,0,0,0,0,0,0,0]
[null,null,null,null,null,null,null,null,null,null,0,0,0,0,0,0,0,0,0,0,0,0,0,0,0,0,0,0,0,0,0,0,0,0,0,0,0,0,0,0]
[null,null,null,null,null,null,null,null,null,null,0,0,0,0,0,0,0,0,0,0,0,0,0,0,0,0,0,0,0,0,0,0,0,0,0,0,0,0,0,0]
[null,null,null,null,null,null,null,null,null,null,0,0,0,0,0,0,0,0,0,0,0,0,0,0,0,0,0,0,0,0,0,0,0,0,0,0,0,0,0,0]
[null,null,null,null,null,null,null,null,null,null,0,0,0,0,0,0,0,0,0,0,0,0,0,0,0,0,0,0,0,0,0,0,0,0,0,0,0,0,0,0]
[null,null,null,null,null,null,null,null,null,null,0,0,0,0,0,0,0,0,0,0,0,0,0,0,0,0,0,0,0,0,0,0,0,0,0,0,0,0,0,0]
[null,null,null,null,null,null,null,null,null,null,0,0,0,0,0,0,0,0,0,0,0,0,0,0,0,0,0,0,0,0,0,0,0,0,0,0,0,0,0,0]
[null,null,null,null,null,null,null,null,null,null,0,0,0,0,0,0,0,0,0,0,0,0,0,0,0,0,0,0,0,0,0,0,0,0,0,0,0,0,0,0]
[null,null,null,null,null,null,null,null,null,null,0,0,0,0,0,0,0,0,0,0,0,0,0,0,0,0,0,0,0,0,0,0,0,0,0,0,0,0,0,0]
["コンタミネーション","この製品はえび、かに、乳成分を使用した製品と同じ設備で製造しております。",null,null,null,null,null,null,null,null,{"$f":"IF(OR($B43=\"\",$B43=\"なし\"),0,LEN($B43)-LEN(SUBSTITUTE($B43, \"、\", \"\"))+1)","v":3},3,{"$f":"COUNTIF($B43,\"*\"&M$5&\"*\")","v":0},{"$f":"COUNTIF($B43,\"*\"&N$5&\"*\")","v":0},1,0,0,1,1,0,0,0,0,0,0,0,0,0,0,0,{"$f":"COUNTIF($B43,\"*\"&AE$5&\"*\")","v":0},0,0,0,0,0,0,0,0,0]
[null,null,null,null,null,null,null,null,null,null,0,0,{"$f":"COUNTIF($B44,\"*\"&M$5&\"*\")","v":0},0,0,0,0,0,0,0,0,0,0,0,0,0,0,0,0,0,0,0,0,0,0,0,0,0,0,0]
[null,null,null,null,null,null,null,null,null,null,0,0,0,0,0,0,0,0,0,0,0,0,0,0,0,0,0,0,0,0,0,0,0,0,0,0,0,0,0,0]
["特記事項"]
[]
[]
[null,"●　商品の終売・リニューアルの場合は成分等が変更になる場合があります。ご了承ください。"]
["製造元","株式会社スギヨ"]
[]
[{"$f":"一覧!$A$43","v":"オーエンス泉岳自然ふれあい館"}]

{"sheet":"きくらげ","index":7,"n_rows":52,"n_cols":40,"rows_kept":52,"cut":false,"hidden":false,"merged":[[42,0,44,0],[42,1,42,8],[43,1,43,8],[44,1,44,8],[51,0,51,8],[45,0,48,0],[45,1,45,8],[46,1,46,8],[47,1,47,8],[48,1,48,8],[49,0,50,0],[49,1,50,8],[39,1,39,4],[39,5,39,8],[40,1,40,4],[40,5,40,8],[41,1,41,4],[41,5,41,8],[37,1,37,4],[37,5,37,8],[38,1,38,4],[38,5,38,8],[34,1,34,4],[34,5,34,8],[35,1,35,4],[35,5,35,8],[36,1,36,4],[36,5,36,8],[31,1,31,4],[31,5,31,8],[32,1,32,4],[32,5,32,8],[33,1,33,4],[33,5,33,8],[28,1,28,4],[28,5,28,8],[29,1,29,4],[29,5,29,8],[30,1,30,4],[30,5,30,8],[25,1,25,4],[25,5,25,8],[26,1,26,4],[26,5,26,8],[27,1,27,4],[27,5,27,8],[22,1,22,4],[22,5,22,8],[23,1,23,4],[23,5,23,8],[24,1,24,4],[24,5,24,8],[19,1,19,4],[19,5,19,8],[20,1,20,4],[20,5,20,8],[21,1,21,4],[21,5,21,8],[16,1,16,4],[16,5,16,8],[17,1,17,4],[17,5,17,8],[18,1,18,4],[18,5,18,8],[13,1,13,4],[13,5,13,8],[14,1,14,4],[14,5,14,8],[15,1,15,4],[15,5,15,8],[10,1,10,4],[10,5,10,8],[11,1,11,4],[11,5,11,8],[12,1,12,4],[12,5,12,8],[5,1,5,4],[5,5,5,8],[1,1,1,8],[2,0,3,0],[2,1,3,7],[4,0,41,0],[4,1,4,4],[4,5,4,8],[6,1,6,4],[6,5,6,8],[7,1,7,4],[7,5,7,8],[8,1,8,4],[8,5,8,8],[9,1,9,4],[9,5,9,8]]}
["一覧へ","　"]
["シート名",{"$f":"RIGHT(CELL(\"filename\",A1),LEN(CELL(\"filename\",A1))-FIND(\"]\",CELL(\"filename\",A1)))","v":"きくらげ"}]
["商品名","黒きくらげ",null,null,null,null,null,null,"作成日"]
[null,null,null,null,null,null,null,null,{"$f":"一覧!$D$1","v":"2025-02-28"}]
["原材料","原材料名",null,null,null,"28品目アレルゲン",null,null,null,null,"個数①","計",{"$f":"一覧!D5","v":"小麦"},{"$f":"一覧!E5","v":"卵"},{"$f":"一覧!F5","v":"乳"},{"$f":"一覧!G5","v":"そば"},{"$f":"一覧!H5","v":"落花生"},{"$f":"一覧!I5","v":"えび"},{"$f":"一覧!J5","v":"かに"},{"$f":"一覧!K5","v":"くるみ"},{"$f":"一覧!L5","v":"ごま"},{"$f":"一覧!M5","v":"カシュ"},{"$f":"一覧!N5","v":"アーモンド"},{"$f":"一覧!O5","v":"キウイ"},{"$f":"一覧!P5","v":"もも"},{"$f":"一覧!Q5","v":"リンゴ"},{"$f":"一覧!R5","v":"バナナ"},{"$f":"一覧!S5","v":"オレンジ"},{"$f":"一覧!T5","v":"いか"},{"$f":"一覧!U5","v":"いくら"},{"$f":"一覧!V5","v":"さけ"},{"$f":"一覧!W5","v":"さば"},{"$f":"一覧!X5","v":"大豆"},{"$f":"一覧!Y5","v":"鶏肉"},{"$f":"一覧!Z5","v":"豚肉"},{"$f":"一覧!AA5","v":"牛肉"},{"$f":"一覧!AB5","v":"マカダミア"},{"$f":"一覧!AC5","v":"やまいも"},{"$f":"一覧!AD5","v":"ゼラチン"},{"$f":"一覧!AE5","v":"あわび"}]
[null,"黒きくらげ",null,null,null,null,null,null,null,null,{"$f":"IF(F6=\"\",0,LEN(F6)-LEN(SUBSTITUTE(F6, \"、\", \"\"))+1)","v":0},{"$f":"SUM(M6:AN6)","v":0},{"$f":"COUNTIF($F6,\"*\"&M$5&\"*\")","v":0},{"$f":"COUNTIF($F6,\"*\"&N$5&\"*\")","v":0},0,0,0,0,0,0,0,0,0,0,0,0,0,0,0,0,0,0,0,0,0,0,0,0,0,0]
[null,null,null,null,null,null,null,null,null,null,{"$f":"IF(F7=\"\",0,LEN(F7)-LEN(SUBSTITUTE(F7, \"、\", \"\"))+1)","v":0},{"$f":"SUM(M7:AN7)","v":0},{"$f":"COUNTIF($F7,\"*\"&M$5&\"*\")","v":0},0,0,0,0,0,0,0,0,0,0,0,0,0,0,0,0,0,0,0,0,0,0,0,0,0,0,0]
[null,null,null,null,null,null,null,null,null,null,0,0,0,0,0,0,0,0,0,0,0,0,0,0,0,0,0,0,0,0,0,0,0,0,0,0,0,0,0,0]
[null,null,null,null,null,null,null,null,null,null,0,0,0,0,0,0,0,0,0,0,0,0,0,0,0,0,0,0,0,0,0,0,0,0,0,0,0,0,0,0]
[null,null,null,null,null,null,null,null,null,null,0,0,0,0,0,0,0,0,0,0,0,0,0,0,0,0,0,0,0,0,0,0,0,0,0,0,0,0,0,0]
[null,null,null,null,null,null,null,null,null,null,0,0,0,0,0,0,0,0,0,0,0,0,0,0,0,0,0,0,0,0,0,0,0,0,0,0,0,0,0,0]
[null,null,null,null,null,null,null,null,null,null,0,0,0,0,0,0,0,0,0,0,0,0,0,0,0,0,0,0,0,0,0,0,0,0,0,0,0,0,0,0]
[null,null,null,null,null,null,null,null,null,null,0,0,0,0,0,0,0,0,0,0,0,0,0,0,0,0,0,0,0,0,0,0,0,0,0,0,0,0,0,0]
[null,null,null,null,null,null,null,null,null,null,0,0,0,0,0,0,0,0,0,0,0,0,0,0,0,0,0,0,0,0,0,0,0,0,0,0,0,0,0,0]
[null,null,null,null,null,null,null,null,null,null,0,0,0,0,0,0,0,0,0,0,0,0,0,0,0,{"$f":"COUNTIF($F15,\"*\"&Z$5&\"*\")","v":0},0,0,0,0,0,0,0,0,0,0,0,0,0,0]
[null,null,null,null,null,null,null,null,null,null,0,0,0,0,0,0,0,0,0,0,0,0,0,0,0,0,0,0,0,0,0,0,0,0,0,0,0,0,0,0]
[null,null,null,null,null,null,null,null,null,null,0,0,0,0,0,0,0,0,0,0,0,0,0,0,0,0,0,0,0,0,0,0,0,0,0,0,0,0,0,0]
[null,null,null,null,null,null,null,null,null,null,0,0,0,0,0,0,0,0,0,0,0,0,0,0,0,0,0,0,0,0,0,0,0,0,0,0,0,0,0,0]
[null,null,null,null,null,null,null,null,null,null,0,0,0,0,0,0,0,0,0,0,0,0,0,0,0,0,0,0,0,0,0,0,0,0,0,0,0,0,0,0]
[null,null,null,null,null,null,null,null,null,null,0,0,0,0,0,0,0,0,0,0,0,0,0,0,0,0,0,0,0,0,0,0,0,0,0,0,0,0,0,0]
[null,null,null,null,null,null,null,null,null,null,0,0,0,0,0,0,0,0,0,0,0,0,0,0,0,0,0,0,0,0,0,0,0,0,0,0,0,0,0,0]
[null,null,null,null,null,null,null,null,null,null,0,0,0,0,0,0,0,0,0,0,0,0,0,0,0,0,0,0,0,0,0,0,0,0,0,0,0,0,0,0]
[null,null,null,null,null,null,null,null,null,null,0,0,0,0,0,0,0,0,0,0,0,0,0,0,0,0,0,0,0,0,0,0,0,0,0,0,0,0,0,0]
[null,null,null,null,null,null,null,null,null,null,0,0,0,0,0,0,0,0,0,0,0,0,0,0,0,0,0,0,0,0,0,0,0,0,0,0,0,0,0,0]
[null,null,null,null,null,null,null,null,null,null,0,0,0,0,0,0,0,0,0,0,0,0,0,0,0,0,0,0,0,0,0,0,0,0,0,0,0,0,0,0]
[null,null,null,null,null,null,null,null,null,null,0,0,0,0,0,0,0,0,0,0,0,0,0,0,0,0,0,0,0,0,0,0,0,0,0,0,0,0,0,0]
[null,null,null,null,null,null,null,null,null,null,0,0,0,0,0,0,0,0,0,0,0,0,0,0,0,0,0,0,0,0,0,0,0,0,0,0,0,0,0,0]
[null,null,null,null,null,null,null,null,null,null,0,0,0,0,0,0,0,0,0,0,0,0,0,0,0,0,0,0,0,0,0,0,0,0,0,0,0,0,0,0]
[null,null,null,null,null,null,null,null,null,null,0,0,0,0,0,0,0,0,0,0,0,0,0,0,0,0,0,0,0,0,0,0,0,0,0,0,0,0,0,0]
[null,null,null,null,null,null,null,null,null,null,0,0,0,0,0,0,0,0,0,0,{"$f":"COUNTIF($F30,\"*\"&U$5&\"*\")","v":0},0,0,0,0,0,0,0,0,0,0,0,0,0,0,0,0,0,0,0]
[null,null,null,null,null,null,null,null,null,null,0,0,{"$f":"COUNTIF($F31,\"*\"&M$5&\"*\")","v":0},0,0,0,0,0,0,0,0,0,0,0,0,0,0,0,0,{"$f":"COUNTIF($F31,\"*\"&AD$5&\"*\")","v":0},0,0,0,0,0,0,0,0,0,0]
[null,null,null,null,null,null,null,null,null,null,0,0,0,0,0,0,0,0,0,0,0,0,0,0,0,0,0,0,0,0,0,0,0,0,0,0,0,0,0,0]
[null,null,null,null,null,null,null,null,null,null,0,0,0,0,0,0,0,0,0,0,0,0,0,0,0,0,0,0,0,0,0,0,0,0,0,0,0,0,0,0]
[null,null,null,null,null,null,null,null,null,null,0,0,0,0,0,0,0,0,0,0,0,0,0,0,0,0,0,0,0,0,0,0,0,0,0,0,0,0,0,0]
[null,null,null,null,null,null,null,null,null,null,0,0,0,0,0,0,0,0,0,0,0,0,0,0,0,0,0,0,0,0,0,0,0,0,0,0,0,0,0,0]
[null,null,null,null,null,null,null,null,null,null,0,0,0,0,0,0,0,0,0,0,0,0,0,0,0,0,0,0,0,0,0,0,0,0,0,0,0,0,0,0]
[null,null,null,null,null,null,null,null,null,null,0,0,0,0,0,0,0,0,0,0,0,0,0,0,0,0,0,0,0,0,0,0,0,0,0,0,0,0,0,0]
[null,null,null,null,null,null,null,null,null,null,0,0,0,0,0,0,0,0,0,0,0,0,0,0,0,0,0,0,0,0,0,0,0,0,0,0,0,0,0,0]
[null,null,null,null,null,null,null,null,null,null,0,0,0,0,0,0,0,0,0,0,0,0,0,0,0,0,0,0,0,0,0,0,0,0,0,0,0,0,0,0]
[null,null,null,null,null,null,null,null,null,null,0,0,0,0,0,0,0,0,0,0,0,0,0,0,0,0,0,0,0,0,0,0,0,0,0,0,0,0,0,0]
[null,null,null,null,null,null,null,null,null,null,0,0,0,0,0,0,0,0,0,0,0,0,0,0,0,0,0,0,0,0,0,0,0,0,0,0,0,0,0,0]
[null,null,null,null,null,null,null,null,null,null,0,0,0,0,0,0,0,0,0,0,0,0,0,0,0,0,0,0,0,0,0,0,0,0,0,0,0,0,0,0]
["コンタミネーション","なし",null,null,null,null,null,null,null,null,{"$f":"IF(OR($B43=\"\",$B43=\"なし\"),0,LEN($B43)-LEN(SUBSTITUTE($B43, \"、\", \"\"))+1)","v":0},0,{"$f":"COUNTIF($B43,\"*\"&M$5&\"*\")","v":0},{"$f":"COUNTIF($B43,\"*\"&N$5&\"*\")","v":0},0,0,0,0,0,0,0,0,0,0,0,0,0,0,0,0,{"$f":"COUNTIF($B43,\"*\"&AE$5&\"*\")","v":0},0,0,0,0,0,0,0,0,0]
[null,null,null,null,null,null,null,null,null,null,0,0,{"$f":"COUNTIF($B44,\"*\"&M$5&\"*\")","v":0},0,0,0,0,0,0,0,0,0,0,0,0,0,0,0,0,0,0,0,0,0,0,0,0,0,0,0]
[null,null,null,null,null,null,null,null,null,null,0,0,0,0,0,0,0,0,0,0,0,0,0,0,0,0,0,0,0,0,0,0,0,0,0,0,0,0,0,0]
["特記事項"]
[]
[]
[null,"●　商品の終売・リニューアルの場合は成分等が変更になる場合があります。ご了承ください。"]
["製造元","株式会社富士商会"]
[]
[{"$f":"一覧!$A$43","v":"オーエンス泉岳自然ふれあい館"}]

{"sheet":"豚肉","index":8,"n_rows":52,"n_cols":40,"rows_kept":52,"cut":false,"hidden":false,"merged":[[51,0,51,8],[45,0,48,0],[45,1,45,8],[46,1,46,8],[47,1,47,8],[48,1,48,8],[49,0,50,0],[49,1,50,8],[40,1,40,4],[40,5,40,8],[41,1,41,4],[41,5,41,8],[42,0,44,0],[42,1,42,8],[43,1,43,8],[44,1,44,8],[37,1,37,4],[37,5,37,8],[38,1,38,4],[38,5,38,8],[39,1,39,4],[39,5,39,8],[34,1,34,4],[34,5,34,8],[35,1,35,4],[35,5,35,8],[36,1,36,4],[36,5,36,8],[31,1,31,4],[31,5,31,8],[32,1,32,4],[32,5,32,8],[33,1,33,4],[33,5,33,8],[28,1,28,4],[28,5,28,8],[29,1,29,4],[29,5,29,8],[30,1,30,4],[30,5,30,8],[25,1,25,4],[25,5,25,8],[26,1,26,4],[26,5,26,8],[27,1,27,4],[27,5,27,8],[22,1,22,4],[22,5,22,8],[23,1,23,4],[23,5,23,8],[24,1,24,4],[24,5,24,8],[19,1,19,4],[19,5,19,8],[20,1,20,4],[20,5,20,8],[21,1,21,4],[21,5,21,8],[16,1,16,4],[16,5,16,8],[17,1,17,4],[17,5,17,8],[18,1,18,4],[18,5,18,8],[13,1,13,4],[13,5,13,8],[14,1,14,4],[14,5,14,8],[15,1,15,4],[15,5,15,8],[10,1,10,4],[10,5,10,8],[11,1,11,4],[11,5,11,8],[12,1,12,4],[12,5,12,8],[1,1,1,8],[2,0,3,0],[2,1,3,7],[4,0,41,0],[4,1,4,4],[4,5,4,8],[5,1,5,4],[5,5,5,8],[6,1,6,4],[6,5,6,8],[7,1,7,4],[7,5,7,8],[8,1,8,4],[8,5,8,8],[9,1,9,4],[9,5,9,8]]}
["一覧へ"]
["シート名",{"$f":"RIGHT(CELL(\"filename\",A1),LEN(CELL(\"filename\",A1))-FIND(\"]\",CELL(\"filename\",A1)))","v":"豚肉"}]
["商品名","豚バラスライス2.5㎜",null,null,null,null,null,null,"作成日"]
[null,null,null,null,null,null,null,null,{"$f":"一覧!$D$1","v":"2025-02-28"}]
["原材料","原材料名",null,null,null,"28品目アレルゲン",null,null,null,null,"個数①","計",{"$f":"一覧!D5","v":"小麦"},{"$f":"一覧!E5","v":"卵"},{"$f":"一覧!F5","v":"乳"},{"$f":"一覧!G5","v":"そば"},{"$f":"一覧!H5","v":"落花生"},{"$f":"一覧!I5","v":"えび"},{"$f":"一覧!J5","v":"かに"},{"$f":"一覧!K5","v":"くるみ"},{"$f":"一覧!L5","v":"ごま"},{"$f":"一覧!M5","v":"カシュ"},{"$f":"一覧!N5","v":"アーモンド"},{"$f":"一覧!O5","v":"キウイ"},{"$f":"一覧!P5","v":"もも"},{"$f":"一覧!Q5","v":"リンゴ"},{"$f":"一覧!R5","v":"バナナ"},{"$f":"一覧!S5","v":"オレンジ"},{"$f":"一覧!T5","v":"いか"},{"$f":"一覧!U5","v":"いくら"},{"$f":"一覧!V5","v":"さけ"},{"$f":"一覧!W5","v":"さば"},{"$f":"一覧!X5","v":"大豆"},{"$f":"一覧!Y5","v":"鶏肉"},{"$f":"一覧!Z5","v":"豚肉"},{"$f":"一覧!AA5","v":"牛肉"},{"$f":"一覧!AB5","v":"マカダミア"},{"$f":"一覧!AC5","v":"やまいも"},{"$f":"一覧!AD5","v":"ゼラチン"},{"$f":"一覧!AE5","v":"あわび"}]
[null,"豚バラ肉",null,null,null,"豚肉",null,null,null,null,{"$f":"IF(F6=\"\",0,LEN(F6)-LEN(SUBSTITUTE(F6, \"、\", \"\"))+1)","v":1},{"$f":"SUM(M6:AN6)","v":1},{"$f":"COUNTIF($F6,\"*\"&M$5&\"*\")","v":0},{"$f":"COUNTIF($F6,\"*\"&N$5&\"*\")","v":0},0,0,0,0,0,0,0,0,0,0,0,0,0,0,0,0,0,0,0,0,1,0,0,0,0,0]
[null,null,null,null,null,null,null,null,null,null,{"$f":"IF(F7=\"\",0,LEN(F7)-LEN(SUBSTITUTE(F7, \"、\", \"\"))+1)","v":0},{"$f":"SUM(M7:AN7)","v":0},{"$f":"COUNTIF($F7,\"*\"&M$5&\"*\")","v":0},0,0,0,0,0,0,0,0,0,0,0,0,0,0,0,0,0,0,0,0,0,0,0,0,0,0,0]
[null,null,null,null,null,null,null,null,null,null,0,0,0,0,0,0,0,0,0,0,0,0,0,0,0,0,0,0,0,0,0,0,0,0,0,0,0,0,0,0]
[null,null,null,null,null,null,null,null,null,null,0,0,0,0,0,0,0,0,0,0,0,0,0,0,0,0,0,0,0,0,0,0,0,0,0,0,0,0,0,0]
[null,null,null,null,null,null,null,null,null,null,0,0,0,0,0,0,0,0,0,0,0,0,0,0,0,0,0,0,0,0,0,0,0,0,0,0,0,0,0,0]
[null,null,null,null,null,null,null,null,null,null,0,0,0,0,0,0,0,0,0,0,0,0,0,0,0,0,0,0,0,0,0,0,0,0,0,0,0,0,0,0]
[null,null,null,null,null,null,null,null,null,null,0,0,0,0,0,0,0,0,0,0,0,0,0,0,0,0,0,0,0,0,0,0,0,0,0,0,0,0,0,0]
[null,null,null,null,null,null,null,null,null,null,0,0,0,0,0,0,0,0,0,0,0,0,0,0,0,0,0,0,0,0,0,0,0,0,0,0,0,0,0,0]
[null,null,null,null,null,null,null,null,null,null,0,0,0,0,0,0,0,0,0,0,0,0,0,0,0,0,0,0,0,0,0,0,0,0,0,0,0,0,0,0]
[null,null,null,null,null,null,null,null,null,null,0,0,0,0,0,0,0,0,0,0,0,0,0,0,0,{"$f":"COUNTIF($F15,\"*\"&Z$5&\"*\")","v":0},0,0,0,0,0,0,0,0,0,0,0,0,0,0]
[null,null,null,null,null,null,null,null,null,null,0,0,0,0,0,0,0,0,0,0,0,0,0,0,0,0,0,0,0,0,0,0,0,0,0,0,0,0,0,0]
[null,null,null,null,null,null,null,null,null,null,0,0,0,0,0,0,0,0,0,0,0,0,0,0,0,0,0,0,0,0,0,0,0,0,0,0,0,0,0,0]
[null,null,null,null,null,null,null,null,null,null,0,0,0,0,0,0,0,0,0,0,0,0,0,0,0,0,0,0,0,0,0,0,0,0,0,0,0,0,0,0]
[null,null,null,null,null,null,null,null,null,null,0,0,0,0,0,0,0,0,0,0,0,0,0,0,0,0,0,0,0,0,0,0,0,0,0,0,0,0,0,0]
[null,null,null,null,null,null,null,null,null,null,0,0,0,0,0,0,0,0,0,0,0,0,0,0,0,0,0,0,0,0,0,0,0,0,0,0,0,0,0,0]
[null,null,null,null,null,null,null,null,null,null,0,0,0,0,0,0,0,0,0,0,0,0,0,0,0,0,0,0,0,0,0,0,0,0,0,0,0,0,0,0]
[null,null,null,null,null,null,null,null,null,null,0,0,0,0,0,0,0,0,0,0,0,0,0,0,0,0,0,0,0,0,0,0,0,0,0,0,0,0,0,0]
[null,null,null,null,null,null,null,null,null,null,0,0,0,0,0,0,0,0,0,0,0,0,0,0,0,0,0,0,0,0,0,0,0,0,0,0,0,0,0,0]
[null,null,null,null,null,null,null,null,null,null,0,0,0,0,0,0,0,0,0,0,0,0,0,0,0,0,0,0,0,0,0,0,0,0,0,0,0,0,0,0]
[null,null,null,null,null,null,null,null,null,null,0,0,0,0,0,0,0,0,0,0,0,0,0,0,0,0,0,0,0,0,0,0,0,0,0,0,0,0,0,0]
[null,null,null,null,null,null,null,null,null,null,0,0,0,0,0,0,0,0,0,0,0,0,0,0,0,0,0,0,0,0,0,0,0,0,0,0,0,0,0,0]
[null,null,null,null,null,null,null,null,null,null,0,0,0,0,0,0,0,0,0,0,0,0,0,0,0,0,0,0,0,0,0,0,0,0,0,0,0,0,0,0]
[null,null,null,null,null,null,null,null,null,null,0,0,0,0,0,0,0,0,0,0,0,0,0,0,0,0,0,0,0,0,0,0,0,0,0,0,0,0,0,0]
[null,null,null,null,null,null,null,null,null,null,0,0,0,0,0,0,0,0,0,0,0,0,0,0,0,0,0,0,0,0,0,0,0,0,0,0,0,0,0,0]
[null,null,null,null,null,null,null,null,null,null,0,0,0,0,0,0,0,0,0,0,{"$f":"COUNTIF($F30,\"*\"&U$5&\"*\")","v":0},0,0,0,0,0,0,0,0,0,0,0,0,0,0,0,0,0,0,0]
[null,null,null,null,null,null,null,null,null,null,0,0,{"$f":"COUNTIF($F31,\"*\"&M$5&\"*\")","v":0},0,0,0,0,0,0,0,0,0,0,0,0,0,0,0,0,{"$f":"COUNTIF($F31,\"*\"&AD$5&\"*\")","v":0},0,0,0,0,0,0,0,0,0,0]
[null,null,null,null,null,null,null,null,null,null,0,0,0,0,0,0,0,0,0,0,0,0,0,0,0,0,0,0,0,0,0,0,0,0,0,0,0,0,0,0]
[null,null,null,null,null,null,null,null,null,null,0,0,0,0,0,0,0,0,0,0,0,0,0,0,0,0,0,0,0,0,0,0,0,0,0,0,0,0,0,0]
[null,null,null,null,null,null,null,null,null,null,0,0,0,0,0,0,0,0,0,0,0,0,0,0,0,0,0,0,0,0,0,0,0,0,0,0,0,0,0,0]
[null,null,null,null,null,null,null,null,null,null,0,0,0,0,0,0,0,0,0,0,0,0,0,0,0,0,0,0,0,0,0,0,0,0,0,0,0,0,0,0]
[null,null,null,null,null,null,null,null,null,null,0,0,0,0,0,0,0,0,0,0,0,0,0,0,0,0,0,0,0,0,0,0,0,0,0,0,0,0,0,0]
[null,null,null,null,null,null,null,null,null,null,0,0,0,0,0,0,0,0,0,0,0,0,0,0,0,0,0,0,0,0,0,0,0,0,0,0,0,0,0,0]
[null,null,null,null,null,null,null,null,null,null,0,0,0,0,0,0,0,0,0,0,0,0,0,0,0,0,0,0,0,0,0,0,0,0,0,0,0,0,0,0]
[null,null,null,null,null,null,null,null,null,null,0,0,0,0,0,0,0,0,0,0,0,0,0,0,0,0,0,0,0,0,0,0,0,0,0,0,0,0,0,0]
[null,null,null,null,null,null,null,null,null,null,0,0,0,0,0,0,0,0,0,0,0,0,0,0,0,0,0,0,0,0,0,0,0,0,0,0,0,0,0,0]
[null,null,null,null,null,null,null,null,null,null,0,0,0,0,0,0,0,0,0,0,0,0,0,0,0,0,0,0,0,0,0,0,0,0,0,0,0,0,0,0]
[null,null,null,null,null,null,null,null,null,null,0,0,0,0,0,0,0,0,0,0,0,0,0,0,0,0,0,0,0,0,0,0,0,0,0,0,0,0,0,0]
["コンタミネーション","なし",null,null,null,null,null,null,null,null,{"$f":"IF(OR($B43=\"\",$B43=\"なし\"),0,LEN($B43)-LEN(SUBSTITUTE($B43, \"、\", \"\"))+1)","v":0},0,{"$f":"COUNTIF($B43,\"*\"&M$5&\"*\")","v":0},{"$f":"COUNTIF($B43,\"*\"&N$5&\"*\")","v":0},0,0,0,0,0,0,0,0,0,0,0,0,0,0,0,0,{"$f":"COUNTIF($B43,\"*\"&AE$5&\"*\")","v":0},0,0,0,0,0,0,0,0,0]
[null,null,null,null,null,null,null,null,null,null,0,0,{"$f":"COUNTIF($B44,\"*\"&M$5&\"*\")","v":0},0,0,0,0,0,0,0,0,0,0,0,0,0,0,0,0,0,0,0,0,0,0,0,0,0,0,0]
[null,null,null,null,null,null,null,null,null,null,0,0,0,0,0,0,0,0,0,0,0,0,0,0,0,0,0,0,0,0,0,0,0,0,0,0,0,0,0,0]
["特記事項"]
[]
[]
[null,"●　商品の終売・リニューアルの場合は成分等が変更になる場合があります。ご了承ください。"]
["製造元","株式会社マツザカフーズ"]
[]
[{"$f":"一覧!$A$43","v":"オーエンス泉岳自然ふれあい館"}]

{"sheet":"もやし","index":9,"n_rows":52,"n_cols":40,"rows_kept":52,"cut":false,"hidden":false,"merged":[[51,0,51,8],[45,0,48,0],[45,1,45,8],[46,1,46,8],[47,1,47,8],[48,1,48,8],[49,0,50,0],[49,1,50,8],[40,1,40,4],[40,5,40,8],[41,1,41,4],[41,5,41,8],[42,0,44,0],[42,1,42,8],[43,1,43,8],[44,1,44,8],[37,1,37,4],[37,5,37,8],[38,1,38,4],[38,5,38,8],[39,1,39,4],[39,5,39,8],[34,1,34,4],[34,5,34,8],[35,1,35,4],[35,5,35,8],[36,1,36,4],[36,5,36,8],[31,1,31,4],[31,5,31,8],[32,1,32,4],[32,5,32,8],[33,1,33,4],[33,5,33,8],[28,1,28,4],[28,5,28,8],[29,1,29,4],[29,5,29,8],[30,1,30,4],[30,5,30,8],[25,1,25,4],[25,5,25,8],[26,1,26,4],[26,5,26,8],[27,1,27,4],[27,5,27,8],[22,1,22,4],[22,5,22,8],[23,1,23,4],[23,5,23,8],[24,1,24,4],[24,5,24,8],[19,1,19,4],[19,5,19,8],[20,1,20,4],[20,5,20,8],[21,1,21,4],[21,5,21,8],[16,1,16,4],[16,5,16,8],[17,1,17,4],[17,5,17,8],[18,1,18,4],[18,5,18,8],[13,1,13,4],[13,5,13,8],[14,1,14,4],[14,5,14,8],[15,1,15,4],[15,5,15,8],[10,1,10,4],[10,5,10,8],[11,1,11,4],[11,5,11,8],[12,1,12,4],[12,5,12,8],[1,1,1,8],[2,0,3,0],[2,1,3,7],[4,0,41,0],[4,1,4,4],[4,5,4,8],[5,1,5,4],[5,5,5,8],[6,1,6,4],[6,5,6,8],[7,1,7,4],[7,5,7,8],[8,1,8,4],[8,5,8,8],[9,1,9,4],[9,5,9,8]]}
["一覧へ","　"]
["シート名",{"$f":"RIGHT(CELL(\"filename\",A1),LEN(CELL(\"filename\",A1))-FIND(\"]\",CELL(\"filename\",A1)))","v":"もやし"}]
["商品名","もやし",null,null,null,null,null,null,"作成日"]
[null,null,null,null,null,null,null,null,{"$f":"一覧!$D$1","v":"2025-02-28"}]
["原材料","原材料名",null,null,null,"28品目アレルゲン",null,null,null,null,"個数①","計",{"$f":"一覧!D5","v":"小麦"},{"$f":"一覧!E5","v":"卵"},{"$f":"一覧!F5","v":"乳"},{"$f":"一覧!G5","v":"そば"},{"$f":"一覧!H5","v":"落花生"},{"$f":"一覧!I5","v":"えび"},{"$f":"一覧!J5","v":"かに"},{"$f":"一覧!K5","v":"くるみ"},{"$f":"一覧!L5","v":"ごま"},{"$f":"一覧!M5","v":"カシュ"},{"$f":"一覧!N5","v":"アーモンド"},{"$f":"一覧!O5","v":"キウイ"},{"$f":"一覧!P5","v":"もも"},{"$f":"一覧!Q5","v":"リンゴ"},{"$f":"一覧!R5","v":"バナナ"},{"$f":"一覧!S5","v":"オレンジ"},{"$f":"一覧!T5","v":"いか"},{"$f":"一覧!U5","v":"いくら"},{"$f":"一覧!V5","v":"さけ"},{"$f":"一覧!W5","v":"さば"},{"$f":"一覧!X5","v":"大豆"},{"$f":"一覧!Y5","v":"鶏肉"},{"$f":"一覧!Z5","v":"豚肉"},{"$f":"一覧!AA5","v":"牛肉"},{"$f":"一覧!AB5","v":"マカダミア"},{"$f":"一覧!AC5","v":"やまいも"},{"$f":"一覧!AD5","v":"ゼラチン"},{"$f":"一覧!AE5","v":"あわび"}]
[null,"種子・緑豆",null,null,null,null,null,null,null,null,{"$f":"IF(F6=\"\",0,LEN(F6)-LEN(SUBSTITUTE(F6, \"、\", \"\"))+1)","v":0},{"$f":"SUM(M6:AN6)","v":0},{"$f":"COUNTIF($F6,\"*\"&M$5&\"*\")","v":0},{"$f":"COUNTIF($F6,\"*\"&N$5&\"*\")","v":0},0,0,0,0,0,0,0,0,0,0,0,0,0,0,0,0,0,0,0,0,0,0,0,0,0,0]
[null,null,null,null,null,null,null,null,null,null,{"$f":"IF(F7=\"\",0,LEN(F7)-LEN(SUBSTITUTE(F7, \"、\", \"\"))+1)","v":0},{"$f":"SUM(M7:AN7)","v":0},{"$f":"COUNTIF($F7,\"*\"&M$5&\"*\")","v":0},0,0,0,0,0,0,0,0,0,0,0,0,0,0,0,0,0,0,0,0,0,0,0,0,0,0,0]
[null,null,null,null,null,null,null,null,null,null,0,0,0,0,0,0,0,0,0,0,0,0,0,0,0,0,0,0,0,0,0,0,0,0,0,0,0,0,0,0]
[null,null,null,null,null,null,null,null,null,null,0,0,0,0,0,0,0,0,0,0,0,0,0,0,0,0,0,0,0,0,0,0,0,0,0,0,0,0,0,0]
[null,null,null,null,null,null,null,null,null,null,0,0,0,0,0,0,0,0,0,0,0,0,0,0,0,0,0,0,0,0,0,0,0,0,0,0,0,0,0,0]
[null,null,null,null,null,null,null,null,null,null,0,0,0,0,0,0,0,0,0,0,0,0,0,0,0,0,0,0,0,0,0,0,0,0,0,0,0,0,0,0]
[null,null,null,null,null,null,null,null,null,null,0,0,0,0,0,0,0,0,0,0,0,0,0,0,0,0,0,0,0,0,0,0,0,0,0,0,0,0,0,0]
[null,null,null,null,null,null,null,null,null,null,0,0,0,0,0,0,0,0,0,0,0,0,0,0,0,0,0,0,0,0,0,0,0,0,0,0,0,0,0,0]
[null,null,null,null,null,null,null,null,null,null,0,0,0,0,0,0,0,0,0,0,0,0,0,0,0,0,0,0,0,0,0,0,0,0,0,0,0,0,0,0]
[null,null,null,null,null,null,null,null,null,null,0,0,0,0,0,0,0,0,0,0,0,0,0,0,0,{"$f":"COUNTIF($F15,\"*\"&Z$5&\"*\")","v":0},0,0,0,0,0,0,0,0,0,0,0,0,0,0]
[null,null,null,null,null,null,null,null,null,null,0,0,0,0,0,0,0,0,0,0,0,0,0,0,0,0,0,0,0,0,0,0,0,0,0,0,0,0,0,0]
[null,null,null,null,null,null,null,null,null,null,0,0,0,0,0,0,0,0,0,0,0,0,0,0,0,0,0,0,0,0,0,0,0,0,0,0,0,0,0,0]
[null,null,null,null,null,null,null,null,null,null,0,0,0,0,0,0,0,0,0,0,0,0,0,0,0,0,0,0,0,0,0,0,0,0,0,0,0,0,0,0]
[null,null,null,null,null,null,null,null,null,null,0,0,0,0,0,0,0,0,0,0,0,0,0,0,0,0,0,0,0,0,0,0,0,0,0,0,0,0,0,0]
[null,null,null,null,null,null,null,null,null,null,0,0,0,0,0,0,0,0,0,0,0,0,0,0,0,0,0,0,0,0,0,0,0,0,0,0,0,0,0,0]
[null,null,null,null,null,null,null,null,null,null,0,0,0,0,0,0,0,0,0,0,0,0,0,0,0,0,0,0,0,0,0,0,0,0,0,0,0,0,0,0]
[null,null,null,null,null,null,null,null,null,null,0,0,0,0,0,0,0,0,0,0,0,0,0,0,0,0,0,0,0,0,0,0,0,0,0,0,0,0,0,0]
[null,null,null,null,null,null,null,null,null,null,0,0,0,0,0,0,0,0,0,0,0,0,0,0,0,0,0,0,0,0,0,0,0,0,0,0,0,0,0,0]
[null,null,null,null,null,null,null,null,null,null,0,0,0,0,0,0,0,0,0,0,0,0,0,0,0,0,0,0,0,0,0,0,0,0,0,0,0,0,0,0]
[null,null,null,null,null,null,null,null,null,null,0,0,0,0,0,0,0,0,0,0,0,0,0,0,0,0,0,0,0,0,0,0,0,0,0,0,0,0,0,0]
[null,null,null,null,null,null,null,null,null,null,0,0,0,0,0,0,0,0,0,0,0,0,0,0,0,0,0,0,0,0,0,0,0,0,0,0,0,0,0,0]
[null,null,null,null,null,null,null,null,null,null,0,0,0,0,0,0,0,0,0,0,0,0,0,0,0,0,0,0,0,0,0,0,0,0,0,0,0,0,0,0]
[null,null,null,null,null,null,null,null,null,null,0,0,0,0,0,0,0,0,0,0,0,0,0,0,0,0,0,0,0,0,0,0,0,0,0,0,0,0,0,0]
[null,null,null,null,null,null,null,null,null,null,0,0,0,0,0,0,0,0,0,0,0,0,0,0,0,0,0,0,0,0,0,0,0,0,0,0,0,0,0,0]
[null,null,null,null,null,null,null,null,null,null,0,0,0,0,0,0,0,0,0,0,{"$f":"COUNTIF($F30,\"*\"&U$5&\"*\")","v":0},0,0,0,0,0,0,0,0,0,0,0,0,0,0,0,0,0,0,0]
[null,null,null,null,null,null,null,null,null,null,0,0,{"$f":"COUNTIF($F31,\"*\"&M$5&\"*\")","v":0},0,0,0,0,0,0,0,0,0,0,0,0,0,0,0,0,{"$f":"COUNTIF($F31,\"*\"&AD$5&\"*\")","v":0},0,0,0,0,0,0,0,0,0,0]
[null,null,null,null,null,null,null,null,null,null,0,0,0,0,0,0,0,0,0,0,0,0,0,0,0,0,0,0,0,0,0,0,0,0,0,0,0,0,0,0]
[null,null,null,null,null,null,null,null,null,null,0,0,0,0,0,0,0,0,0,0,0,0,0,0,0,0,0,0,0,0,0,0,0,0,0,0,0,0,0,0]
[null,null,null,null,null,null,null,null,null,null,0,0,0,0,0,0,0,0,0,0,0,0,0,0,0,0,0,0,0,0,0,0,0,0,0,0,0,0,0,0]
[null,null,null,null,null,null,null,null,null,null,0,0,0,0,0,0,0,0,0,0,0,0,0,0,0,0,0,0,0,0,0,0,0,0,0,0,0,0,0,0]
[null,null,null,null,null,null,null,null,null,null,0,0,0,0,0,0,0,0,0,0,0,0,0,0,0,0,0,0,0,0,0,0,0,0,0,0,0,0,0,0]
[null,null,null,null,null,null,null,null,null,null,0,0,0,0,0,0,0,0,0,0,0,0,0,0,0,0,0,0,0,0,0,0,0,0,0,0,0,0,0,0]
[null,null,null,null,null,null,null,null,null,null,0,0,0,0,0,0,0,0,0,0,0,0,0,0,0,0,0,0,0,0,0,0,0,0,0,0,0,0,0,0]
[null,null,null,null,null,null,null,null,null,null,0,0,0,0,0,0,0,0,0,0,0,0,0,0,0,0,0,0,0,0,0,0,0,0,0,0,0,0,0,0]
[null,null,null,null,null,null,null,null,null,null,0,0,0,0,0,0,0,0,0,0,0,0,0,0,0,0,0,0,0,0,0,0,0,0,0,0,0,0,0,0]
[null,null,null,null,null,null,null,null,null,null,0,0,0,0,0,0,0,0,0,0,0,0,0,0,0,0,0,0,0,0,0,0,0,0,0,0,0,0,0,0]
[null,null,null,null,null,null,null,null,null,null,0,0,0,0,0,0,0,0,0,0,0,0,0,0,0,0,0,0,0,0,0,0,0,0,0,0,0,0,0,0]
["コンタミネーション","なし",null,null,null,null,null,null,null,null,{"$f":"IF(OR($B43=\"\",$B43=\"なし\"),0,LEN($B43)-LEN(SUBSTITUTE($B43, \"、\", \"\"))+1)","v":0},0,{"$f":"COUNTIF($B43,\"*\"&M$5&\"*\")","v":0},{"$f":"COUNTIF($B43,\"*\"&N$5&\"*\")","v":0},0,0,0,0,0,0,0,0,0,0,0,0,0,0,0,0,{"$f":"COUNTIF($B43,\"*\"&AE$5&\"*\")","v":0},0,0,0,0,0,0,0,0,0]
[null,null,null,null,null,null,null,null,null,null,0,0,{"$f":"COUNTIF($B44,\"*\"&M$5&\"*\")","v":0},0,0,0,0,0,0,0,0,0,0,0,0,0,0,0,0,0,0,0,0,0,0,0,0,0,0,0]
[null,null,null,null,null,null,null,null,null,null,0,0,0,0,0,0,0,0,0,0,0,0,0,0,0,0,0,0,0,0,0,0,0,0,0,0,0,0,0,0]
["特記事項","状況により仕入先が異なります。"]
[]
[]
[null,"●　商品の終売・リニューアルの場合は成分等が変更になる場合があります。ご了承ください。"]
["製造元","―"]
[]
[{"$f":"一覧!$A$43","v":"オーエンス泉岳自然ふれあい館"}]

{"sheet":"長ねぎ","index":10,"n_rows":52,"n_cols":40,"rows_kept":52,"cut":false,"hidden":false,"merged":[[1,1,1,8],[2,0,3,0],[2,1,3,7],[4,0,41,0],[4,1,4,4],[4,5,4,8],[5,1,5,4],[5,5,5,8],[6,1,6,4],[6,5,6,8],[7,1,7,4],[7,5,7,8],[8,1,8,4],[8,5,8,8],[9,1,9,4],[9,5,9,8],[10,1,10,4],[10,5,10,8],[11,1,11,4],[11,5,11,8],[12,1,12,4],[12,5,12,8],[13,1,13,4],[13,5,13,8],[14,1,14,4],[14,5,14,8],[15,1,15,4],[15,5,15,8],[16,1,16,4],[16,5,16,8],[17,1,17,4],[17,5,17,8],[18,1,18,4],[18,5,18,8],[19,1,19,4],[19,5,19,8],[20,1,20,4],[20,5,20,8],[21,1,21,4],[21,5,21,8],[22,1,22,4],[22,5,22,8],[23,1,23,4],[23,5,23,8],[24,1,24,4],[24,5,24,8],[25,1,25,4],[25,5,25,8],[26,1,26,4],[26,5,26,8],[27,1,27,4],[27,5,27,8],[28,1,28,4],[28,5,28,8],[29,1,29,4],[29,5,29,8],[30,1,30,4],[30,5,30,8],[31,1,31,4],[31,5,31,8],[32,1,32,4],[32,5,32,8],[33,1,33,4],[33,5,33,8],[34,1,34,4],[34,5,34,8],[35,1,35,4],[35,5,35,8],[36,1,36,4],[36,5,36,8],[37,1,37,4],[37,5,37,8],[38,1,38,4],[38,5,38,8],[39,1,39,4],[39,5,39,8],[40,1,40,4],[40,5,40,8],[41,1,41,4],[41,5,41,8],[42,0,44,0],[42,1,42,8],[43,1,43,8],[44,1,44,8],[51,0,51,8],[45,0,48,0],[45,1,45,8],[46,1,46,8],[47,1,47,8],[48,1,48,8],[49,0,50,0],[49,1,50,8]]}
["一覧へ","　"]
["シート名",{"$f":"RIGHT(CELL(\"filename\",A1),LEN(CELL(\"filename\",A1))-FIND(\"]\",CELL(\"filename\",A1)))","v":"長ねぎ"}]
["商品名","長ねぎ",null,null,null,null,null,null,"作成日"]
[null,null,null,null,null,null,null,null,{"$f":"一覧!$D$1","v":"2025-02-28"}]
["原材料","原材料名",null,null,null,"28品目アレルゲン",null,null,null,null,"個数①","計",{"$f":"一覧!D5","v":"小麦"},{"$f":"一覧!E5","v":"卵"},{"$f":"一覧!F5","v":"乳"},{"$f":"一覧!G5","v":"そば"},{"$f":"一覧!H5","v":"落花生"},{"$f":"一覧!I5","v":"えび"},{"$f":"一覧!J5","v":"かに"},{"$f":"一覧!K5","v":"くるみ"},{"$f":"一覧!L5","v":"ごま"},{"$f":"一覧!M5","v":"カシュ"},{"$f":"一覧!N5","v":"アーモンド"},{"$f":"一覧!O5","v":"キウイ"},{"$f":"一覧!P5","v":"もも"},{"$f":"一覧!Q5","v":"リンゴ"},{"$f":"一覧!R5","v":"バナナ"},{"$f":"一覧!S5","v":"オレンジ"},{"$f":"一覧!T5","v":"いか"},{"$f":"一覧!U5","v":"いくら"},{"$f":"一覧!V5","v":"さけ"},{"$f":"一覧!W5","v":"さば"},{"$f":"一覧!X5","v":"大豆"},{"$f":"一覧!Y5","v":"鶏肉"},{"$f":"一覧!Z5","v":"豚肉"},{"$f":"一覧!AA5","v":"牛肉"},{"$f":"一覧!AB5","v":"マカダミア"},{"$f":"一覧!AC5","v":"やまいも"},{"$f":"一覧!AD5","v":"ゼラチン"},{"$f":"一覧!AE5","v":"あわび"}]
[null,"長ねぎ",null,null,null,null,null,null,null,null,{"$f":"IF(F6=\"\",0,LEN(F6)-LEN(SUBSTITUTE(F6, \"、\", \"\"))+1)","v":0},{"$f":"SUM(M6:AN6)","v":0},{"$f":"COUNTIF($F6,\"*\"&M$5&\"*\")","v":0},{"$f":"COUNTIF($F6,\"*\"&N$5&\"*\")","v":0},0,0,0,0,0,0,0,0,0,0,0,0,0,0,0,0,0,0,0,0,0,0,0,0,0,0]
[null,null,null,null,null,null,null,null,null,null,{"$f":"IF(F7=\"\",0,LEN(F7)-LEN(SUBSTITUTE(F7, \"、\", \"\"))+1)","v":0},{"$f":"SUM(M7:AN7)","v":0},{"$f":"COUNTIF($F7,\"*\"&M$5&\"*\")","v":0},0,0,0,0,0,0,0,0,0,0,0,0,0,0,0,0,0,0,0,0,0,0,0,0,0,0,0]
[null,null,null,null,null,null,null,null,null,null,0,0,0,0,0,0,0,0,0,0,0,0,0,0,0,0,0,0,0,0,0,0,0,0,0,0,0,0,0,0]
[null,null,null,null,null,null,null,null,null,null,0,0,0,0,0,0,0,0,0,0,0,0,0,0,0,0,0,0,0,0,0,0,0,0,0,0,0,0,0,0]
[null,null,null,null,null,null,null,null,null,null,0,0,0,0,0,0,0,0,0,0,0,0,0,0,0,0,0,0,0,0,0,0,0,0,0,0,0,0,0,0]
[null,null,null,null,null,null,null,null,null,null,0,0,0,0,0,0,0,0,0,0,0,0,0,0,0,0,0,0,0,0,0,0,0,0,0,0,0,0,0,0]
[null,null,null,null,null,null,null,null,null,null,0,0,0,0,0,0,0,0,0,0,0,0,0,0,0,0,0,0,0,0,0,0,0,0,0,0,0,0,0,0]
[null,null,null,null,null,null,null,null,null,null,0,0,0,0,0,0,0,0,0,0,0,0,0,0,0,0,0,0,0,0,0,0,0,0,0,0,0,0,0,0]
[null,null,null,null,null,null,null,null,null,null,0,0,0,0,0,0,0,0,0,0,0,0,0,0,0,0,0,0,0,0,0,0,0,0,0,0,0,0,0,0]
[null,null,null,null,null,null,null,null,null,null,0,0,0,0,0,0,0,0,0,0,0,0,0,0,0,{"$f":"COUNTIF($F15,\"*\"&Z$5&\"*\")","v":0},0,0,0,0,0,0,0,0,0,0,0,0,0,0]
[null,null,null,null,null,null,null,null,null,null,0,0,0,0,0,0,0,0,0,0,0,0,0,0,0,0,0,0,0,0,0,0,0,0,0,0,0,0,0,0]
[null,null,null,null,null,null,null,null,null,null,0,0,0,0,0,0,0,0,0,0,0,0,0,0,0,0,0,0,0,0,0,0,0,0,0,0,0,0,0,0]
[null,null,null,null,null,null,null,null,null,null,0,0,0,0,0,0,0,0,0,0,0,0,0,0,0,0,0,0,0,0,0,0,0,0,0,0,0,0,0,0]
[null,null,null,null,null,null,null,null,null,null,0,0,0,0,0,0,0,0,0,0,0,0,0,0,0,0,0,0,0,0,0,0,0,0,0,0,0,0,0,0]
[null,null,null,null,null,null,null,null,null,null,0,0,0,0,0,0,0,0,0,0,0,0,0,0,0,0,0,0,0,0,0,0,0,0,0,0,0,0,0,0]
[null,null,null,null,null,null,null,null,null,null,0,0,0,0,0,0,0,0,0,0,0,0,0,0,0,0,0,0,0,0,0,0,0,0,0,0,0,0,0,0]
[null,null,null,null,null,null,null,null,null,null,0,0,0,0,0,0,0,0,0,0,0,0,0,0,0,0,0,0,0,0,0,0,0,0,0,0,0,0,0,0]
[null,null,null,null,null,null,null,null,null,null,0,0,0,0,0,0,0,0,0,0,0,0,0,0,0,0,0,0,0,0,0,0,0,0,0,0,0,0,0,0]
[null,null,null,null,null,null,null,null,null,null,0,0,0,0,0,0,0,0,0,0,0,0,0,0,0,0,0,0,0,0,0,0,0,0,0,0,0,0,0,0]
[null,null,null,null,null,null,null,null,null,null,0,0,0,0,0,0,0,0,0,0,0,0,0,0,0,0,0,0,0,0,0,0,0,0,0,0,0,0,0,0]
[null,null,null,null,null,null,null,null,null,null,0,0,0,0,0,0,0,0,0,0,0,0,0,0,0,0,0,0,0,0,0,0,0,0,0,0,0,0,0,0]
[null,null,null,null,null,null,null,null,null,null,0,0,0,0,0,0,0,0,0,0,0,0,0,0,0,0,0,0,0,0,0,0,0,0,0,0,0,0,0,0]
[null,null,null,null,null,null,null,null,null,null,0,0,0,0,0,0,0,0,0,0,0,0,0,0,0,0,0,0,0,0,0,0,0,0,0,0,0,0,0,0]
[null,null,null,null,null,null,null,null,null,null,0,0,0,0,0,0,0,0,0,0,0,0,0,0,0,0,0,0,0,0,0,0,0,0,0,0,0,0,0,0]
[null,null,null,null,null,null,null,null,null,null,0,0,0,0,0,0,0,0,0,0,{"$f":"COUNTIF($F30,\"*\"&U$5&\"*\")","v":0},0,0,0,0,0,0,0,0,0,0,0,0,0,0,0,0,0,0,0]
[null,null,null,null,null,null,null,null,null,null,0,0,{"$f":"COUNTIF($F31,\"*\"&M$5&\"*\")","v":0},0,0,0,0,0,0,0,0,0,0,0,0,0,0,0,0,{"$f":"COUNTIF($F31,\"*\"&AD$5&\"*\")","v":0},0,0,0,0,0,0,0,0,0,0]
[null,null,null,null,null,null,null,null,null,null,0,0,0,0,0,0,0,0,0,0,0,0,0,0,0,0,0,0,0,0,0,0,0,0,0,0,0,0,0,0]
[null,null,null,null,null,null,null,null,null,null,0,0,0,0,0,0,0,0,0,0,0,0,0,0,0,0,0,0,0,0,0,0,0,0,0,0,0,0,0,0]
[null,null,null,null,null,null,null,null,null,null,0,0,0,0,0,0,0,0,0,0,0,0,0,0,0,0,0,0,0,0,0,0,0,0,0,0,0,0,0,0]
[null,null,null,null,null,null,null,null,null,null,0,0,0,0,0,0,0,0,0,0,0,0,0,0,0,0,0,0,0,0,0,0,0,0,0,0,0,0,0,0]
[null,null,null,null,null,null,null,null,null,null,0,0,0,0,0,0,0,0,0,0,0,0,0,0,0,0,0,0,0,0,0,0,0,0,0,0,0,0,0,0]
[null,null,null,null,null,null,null,null,null,null,0,0,0,0,0,0,0,0,0,0,0,0,0,0,0,0,0,0,0,0,0,0,0,0,0,0,0,0,0,0]
[null,null,null,null,null,null,null,null,null,null,0,0,0,0,0,0,0,0,0,0,0,0,0,0,0,0,0,0,0,0,0,0,0,0,0,0,0,0,0,0]
[null,null,null,null,null,null,null,null,null,null,0,0,0,0,0,0,0,0,0,0,0,0,0,0,0,0,0,0,0,0,0,0,0,0,0,0,0,0,0,0]
[null,null,null,null,null,null,null,null,null,null,0,0,0,0,0,0,0,0,0,0,0,0,0,0,0,0,0,0,0,0,0,0,0,0,0,0,0,0,0,0]
[null,null,null,null,null,null,null,null,null,null,0,0,0,0,0,0,0,0,0,0,0,0,0,0,0,0,0,0,0,0,0,0,0,0,0,0,0,0,0,0]
[null,null,null,null,null,null,null,null,null,null,0,0,0,0,0,0,0,0,0,0,0,0,0,0,0,0,0,0,0,0,0,0,0,0,0,0,0,0,0,0]
["コンタミネーション","なし",null,null,null,null,null,null,null,null,{"$f":"IF(OR($B43=\"\",$B43=\"なし\"),0,LEN($B43)-LEN(SUBSTITUTE($B43, \"、\", \"\"))+1)","v":0},0,{"$f":"COUNTIF($B43,\"*\"&M$5&\"*\")","v":0},{"$f":"COUNTIF($B43,\"*\"&N$5&\"*\")","v":0},0,0,0,0,0,0,0,0,0,0,0,0,0,0,0,0,{"$f":"COUNTIF($B43,\"*\"&AE$5&\"*\")","v":0},0,0,0,0,0,0,0,0,0]
[null,null,null,null,null,null,null,null,null,null,0,0,{"$f":"COUNTIF($B44,\"*\"&M$5&\"*\")","v":0},0,0,0,0,0,0,0,0,0,0,0,0,0,0,0,0,0,0,0,0,0,0,0,0,0,0,0]
[null,null,null,null,null,null,null,null,null,null,0,0,0,0,0,0,0,0,0,0,0,0,0,0,0,0,0,0,0,0,0,0,0,0,0,0,0,0,0,0]
["特記事項","状況により仕入先が異なります。"]
[]
[]
[null,"●　商品の終売・リニューアルの場合は成分等が変更になる場合があります。ご了承ください。"]
["製造元","―"]
[]
[{"$f":"一覧!$A$43","v":"オーエンス泉岳自然ふれあい館"}]

{"sheet":"白菜","index":11,"n_rows":52,"n_cols":40,"rows_kept":52,"cut":false,"hidden":false,"merged":[[1,1,1,8],[2,0,3,0],[2,1,3,7],[4,0,41,0],[4,1,4,4],[4,5,4,8],[5,1,5,4],[5,5,5,8],[6,1,6,4],[6,5,6,8],[7,1,7,4],[7,5,7,8],[8,1,8,4],[8,5,8,8],[9,1,9,4],[9,5,9,8],[10,1,10,4],[10,5,10,8],[11,1,11,4],[11,5,11,8],[12,1,12,4],[12,5,12,8],[13,1,13,4],[13,5,13,8],[14,1,14,4],[14,5,14,8],[15,1,15,4],[15,5,15,8],[16,1,16,4],[16,5,16,8],[17,1,17,4],[17,5,17,8],[18,1,18,4],[18,5,18,8],[19,1,19,4],[19,5,19,8],[20,1,20,4],[20,5,20,8],[21,1,21,4],[21,5,21,8],[22,1,22,4],[22,5,22,8],[23,1,23,4],[23,5,23,8],[24,1,24,4],[24,5,24,8],[25,1,25,4],[25,5,25,8],[26,1,26,4],[26,5,26,8],[27,1,27,4],[27,5,27,8],[28,1,28,4],[28,5,28,8],[29,1,29,4],[29,5,29,8],[30,1,30,4],[30,5,30,8],[31,1,31,4],[31,5,31,8],[32,1,32,4],[32,5,32,8],[33,1,33,4],[33,5,33,8],[34,1,34,4],[34,5,34,8],[35,1,35,4],[35,5,35,8],[36,1,36,4],[36,5,36,8],[37,1,37,4],[37,5,37,8],[38,1,38,4],[38,5,38,8],[39,1,39,4],[39,5,39,8],[40,1,40,4],[40,5,40,8],[41,1,41,4],[41,5,41,8],[42,0,44,0],[42,1,42,8],[43,1,43,8],[44,1,44,8],[51,0,51,8],[45,0,48,0],[45,1,45,8],[46,1,46,8],[47,1,47,8],[48,1,48,8],[49,0,50,0],[49,1,50,8]]}
["一覧へ","　"]
["シート名",{"$f":"RIGHT(CELL(\"filename\",A1),LEN(CELL(\"filename\",A1))-FIND(\"]\",CELL(\"filename\",A1)))","v":"白菜"}]
["商品名","白菜",null,null,null,null,null,null,"作成日"]
[null,null,null,null,null,null,null,null,{"$f":"一覧!$D$1","v":"2025-02-28"}]
["原材料","原材料名",null,null,null,"28品目アレルゲン",null,null,null,null,"個数①","計",{"$f":"一覧!D5","v":"小麦"},{"$f":"一覧!E5","v":"卵"},{"$f":"一覧!F5","v":"乳"},{"$f":"一覧!G5","v":"そば"},{"$f":"一覧!H5","v":"落花生"},{"$f":"一覧!I5","v":"えび"},{"$f":"一覧!J5","v":"かに"},{"$f":"一覧!K5","v":"くるみ"},{"$f":"一覧!L5","v":"ごま"},{"$f":"一覧!M5","v":"カシュ"},{"$f":"一覧!N5","v":"アーモンド"},{"$f":"一覧!O5","v":"キウイ"},{"$f":"一覧!P5","v":"もも"},{"$f":"一覧!Q5","v":"リンゴ"},{"$f":"一覧!R5","v":"バナナ"},{"$f":"一覧!S5","v":"オレンジ"},{"$f":"一覧!T5","v":"いか"},{"$f":"一覧!U5","v":"いくら"},{"$f":"一覧!V5","v":"さけ"},{"$f":"一覧!W5","v":"さば"},{"$f":"一覧!X5","v":"大豆"},{"$f":"一覧!Y5","v":"鶏肉"},{"$f":"一覧!Z5","v":"豚肉"},{"$f":"一覧!AA5","v":"牛肉"},{"$f":"一覧!AB5","v":"マカダミア"},{"$f":"一覧!AC5","v":"やまいも"},{"$f":"一覧!AD5","v":"ゼラチン"},{"$f":"一覧!AE5","v":"あわび"}]
[null,"白菜",null,null,null,null,null,null,null,null,{"$f":"IF(F6=\"\",0,LEN(F6)-LEN(SUBSTITUTE(F6, \"、\", \"\"))+1)","v":0},{"$f":"SUM(M6:AN6)","v":0},{"$f":"COUNTIF($F6,\"*\"&M$5&\"*\")","v":0},{"$f":"COUNTIF($F6,\"*\"&N$5&\"*\")","v":0},0,0,0,0,0,0,0,0,0,0,0,0,0,0,0,0,0,0,0,0,0,0,0,0,0,0]
[null,null,null,null,null,null,null,null,null,null,{"$f":"IF(F7=\"\",0,LEN(F7)-LEN(SUBSTITUTE(F7, \"、\", \"\"))+1)","v":0},{"$f":"SUM(M7:AN7)","v":0},{"$f":"COUNTIF($F7,\"*\"&M$5&\"*\")","v":0},0,0,0,0,0,0,0,0,0,0,0,0,0,0,0,0,0,0,0,0,0,0,0,0,0,0,0]
[null,null,null,null,null,null,null,null,null,null,0,0,0,0,0,0,0,0,0,0,0,0,0,0,0,0,0,0,0,0,0,0,0,0,0,0,0,0,0,0]
[null,null,null,null,null,null,null,null,null,null,0,0,0,0,0,0,0,0,0,0,0,0,0,0,0,0,0,0,0,0,0,0,0,0,0,0,0,0,0,0]
[null,null,null,null,null,null,null,null,null,null,0,0,0,0,0,0,0,0,0,0,0,0,0,0,0,0,0,0,0,0,0,0,0,0,0,0,0,0,0,0]
[null,null,null,null,null,null,null,null,null,null,0,0,0,0,0,0,0,0,0,0,0,0,0,0,0,0,0,0,0,0,0,0,0,0,0,0,0,0,0,0]
[null,null,null,null,null,null,null,null,null,null,0,0,0,0,0,0,0,0,0,0,0,0,0,0,0,0,0,0,0,0,0,0,0,0,0,0,0,0,0,0]
[null,null,null,null,null,null,null,null,null,null,0,0,0,0,0,0,0,0,0,0,0,0,0,0,0,0,0,0,0,0,0,0,0,0,0,0,0,0,0,0]
[null,null,null,null,null,null,null,null,null,null,0,0,0,0,0,0,0,0,0,0,0,0,0,0,0,0,0,0,0,0,0,0,0,0,0,0,0,0,0,0]
[null,null,null,null,null,null,null,null,null,null,0,0,0,0,0,0,0,0,0,0,0,0,0,0,0,{"$f":"COUNTIF($F15,\"*\"&Z$5&\"*\")","v":0},0,0,0,0,0,0,0,0,0,0,0,0,0,0]
[null,null,null,null,null,null,null,null,null,null,0,0,0,0,0,0,0,0,0,0,0,0,0,0,0,0,0,0,0,0,0,0,0,0,0,0,0,0,0,0]
[null,null,null,null,null,null,null,null,null,null,0,0,0,0,0,0,0,0,0,0,0,0,0,0,0,0,0,0,0,0,0,0,0,0,0,0,0,0,0,0]
[null,null,null,null,null,null,null,null,null,null,0,0,0,0,0,0,0,0,0,0,0,0,0,0,0,0,0,0,0,0,0,0,0,0,0,0,0,0,0,0]
[null,null,null,null,null,null,null,null,null,null,0,0,0,0,0,0,0,0,0,0,0,0,0,0,0,0,0,0,0,0,0,0,0,0,0,0,0,0,0,0]
[null,null,null,null,null,null,null,null,null,null,0,0,0,0,0,0,0,0,0,0,0,0,0,0,0,0,0,0,0,0,0,0,0,0,0,0,0,0,0,0]
[null,null,null,null,null,null,null,null,null,null,0,0,0,0,0,0,0,0,0,0,0,0,0,0,0,0,0,0,0,0,0,0,0,0,0,0,0,0,0,0]
[null,null,null,null,null,null,null,null,null,null,0,0,0,0,0,0,0,0,0,0,0,0,0,0,0,0,0,0,0,0,0,0,0,0,0,0,0,0,0,0]
[null,null,null,null,null,null,null,null,null,null,0,0,0,0,0,0,0,0,0,0,0,0,0,0,0,0,0,0,0,0,0,0,0,0,0,0,0,0,0,0]
[null,null,null,null,null,null,null,null,null,null,0,0,0,0,0,0,0,0,0,0,0,0,0,0,0,0,0,0,0,0,0,0,0,0,0,0,0,0,0,0]
[null,null,null,null,null,null,null,null,null,null,0,0,0,0,0,0,0,0,0,0,0,0,0,0,0,0,0,0,0,0,0,0,0,0,0,0,0,0,0,0]
[null,null,null,null,null,null,null,null,null,null,0,0,0,0,0,0,0,0,0,0,0,0,0,0,0,0,0,0,0,0,0,0,0,0,0,0,0,0,0,0]
[null,null,null,null,null,null,null,null,null,null,0,0,0,0,0,0,0,0,0,0,0,0,0,0,0,0,0,0,0,0,0,0,0,0,0,0,0,0,0,0]
[null,null,null,null,null,null,null,null,null,null,0,0,0,0,0,0,0,0,0,0,0,0,0,0,0,0,0,0,0,0,0,0,0,0,0,0,0,0,0,0]
[null,null,null,null,null,null,null,null,null,null,0,0,0,0,0,0,0,0,0,0,0,0,0,0,0,0,0,0,0,0,0,0,0,0,0,0,0,0,0,0]
[null,null,null,null,null,null,null,null,null,null,0,0,0,0,0,0,0,0,0,0,{"$f":"COUNTIF($F30,\"*\"&U$5&\"*\")","v":0},0,0,0,0,0,0,0,0,0,0,0,0,0,0,0,0,0,0,0]
[null,null,null,null,null,null,null,null,null,null,0,0,{"$f":"COUNTIF($F31,\"*\"&M$5&\"*\")","v":0},0,0,0,0,0,0,0,0,0,0,0,0,0,0,0,0,{"$f":"COUNTIF($F31,\"*\"&AD$5&\"*\")","v":0},0,0,0,0,0,0,0,0,0,0]
[null,null,null,null,null,null,null,null,null,null,0,0,0,0,0,0,0,0,0,0,0,0,0,0,0,0,0,0,0,0,0,0,0,0,0,0,0,0,0,0]
[null,null,null,null,null,null,null,null,null,null,0,0,0,0,0,0,0,0,0,0,0,0,0,0,0,0,0,0,0,0,0,0,0,0,0,0,0,0,0,0]
[null,null,null,null,null,null,null,null,null,null,0,0,0,0,0,0,0,0,0,0,0,0,0,0,0,0,0,0,0,0,0,0,0,0,0,0,0,0,0,0]
[null,null,null,null,null,null,null,null,null,null,0,0,0,0,0,0,0,0,0,0,0,0,0,0,0,0,0,0,0,0,0,0,0,0,0,0,0,0,0,0]
[null,null,null,null,null,null,null,null,null,null,0,0,0,0,0,0,0,0,0,0,0,0,0,0,0,0,0,0,0,0,0,0,0,0,0,0,0,0,0,0]
[null,null,null,null,null,null,null,null,null,null,0,0,0,0,0,0,0,0,0,0,0,0,0,0,0,0,0,0,0,0,0,0,0,0,0,0,0,0,0,0]
[null,null,null,null,null,null,null,null,null,null,0,0,0,0,0,0,0,0,0,0,0,0,0,0,0,0,0,0,0,0,0,0,0,0,0,0,0,0,0,0]
[null,null,null,null,null,null,null,null,null,null,0,0,0,0,0,0,0,0,0,0,0,0,0,0,0,0,0,0,0,0,0,0,0,0,0,0,0,0,0,0]
[null,null,null,null,null,null,null,null,null,null,0,0,0,0,0,0,0,0,0,0,0,0,0,0,0,0,0,0,0,0,0,0,0,0,0,0,0,0,0,0]
[null,null,null,null,null,null,null,null,null,null,0,0,0,0,0,0,0,0,0,0,0,0,0,0,0,0,0,0,0,0,0,0,0,0,0,0,0,0,0,0]
[null,null,null,null,null,null,null,null,null,null,0,0,0,0,0,0,0,0,0,0,0,0,0,0,0,0,0,0,0,0,0,0,0,0,0,0,0,0,0,0]
["コンタミネーション","なし",null,null,null,null,null,null,null,null,{"$f":"IF(OR($B43=\"\",$B43=\"なし\"),0,LEN($B43)-LEN(SUBSTITUTE($B43, \"、\", \"\"))+1)","v":0},0,{"$f":"COUNTIF($B43,\"*\"&M$5&\"*\")","v":0},{"$f":"COUNTIF($B43,\"*\"&N$5&\"*\")","v":0},0,0,0,0,0,0,0,0,0,0,0,0,0,0,0,0,{"$f":"COUNTIF($B43,\"*\"&AE$5&\"*\")","v":0},0,0,0,0,0,0,0,0,0]
[null,null,null,null,null,null,null,null,null,null,0,0,{"$f":"COUNTIF($B44,\"*\"&M$5&\"*\")","v":0},0,0,0,0,0,0,0,0,0,0,0,0,0,0,0,0,0,0,0,0,0,0,0,0,0,0,0]
[null,null,null,null,null,null,null,null,null,null,0,0,0,0,0,0,0,0,0,0,0,0,0,0,0,0,0,0,0,0,0,0,0,0,0,0,0,0,0,0]
["特記事項","状況により仕入先が異なります。"]
[]
[]
[null,"●　商品の終売・リニューアルの場合は成分等が変更になる場合があります。ご了承ください。"]
["製造元","―"]
[]
[{"$f":"一覧!$A$43","v":"オーエンス泉岳自然ふれあい館"}]

{"sheet":"中華だし","index":12,"n_rows":52,"n_cols":40,"rows_kept":52,"cut":false,"hidden":false,"merged":[[51,0,51,8],[45,0,48,0],[45,1,45,8],[46,1,46,8],[47,1,47,8],[48,1,48,8],[49,0,50,0],[49,1,50,8],[40,1,40,4],[40,5,40,8],[41,1,41,4],[41,5,41,8],[42,0,44,0],[42,1,42,8],[43,1,43,8],[44,1,44,8],[37,1,37,4],[37,5,37,8],[38,1,38,4],[38,5,38,8],[39,1,39,4],[39,5,39,8],[34,1,34,4],[34,5,34,8],[35,1,35,4],[35,5,35,8],[36,1,36,4],[36,5,36,8],[31,1,31,4],[31,5,31,8],[32,1,32,4],[32,5,32,8],[33,1,33,4],[33,5,33,8],[28,1,28,4],[28,5,28,8],[29,1,29,4],[29,5,29,8],[30,1,30,4],[30,5,30,8],[25,1,25,4],[25,5,25,8],[26,1,26,4],[26,5,26,8],[27,1,27,4],[27,5,27,8],[22,1,22,4],[22,5,22,8],[23,1,23,4],[23,5,23,8],[24,1,24,4],[24,5,24,8],[19,1,19,4],[19,5,19,8],[20,1,20,4],[20,5,20,8],[21,1,21,4],[21,5,21,8],[16,1,16,4],[16,5,16,8],[17,1,17,4],[17,5,17,8],[18,1,18,4],[18,5,18,8],[13,1,13,4],[13,5,13,8],[14,1,14,4],[14,5,14,8],[15,1,15,4],[15,5,15,8],[10,1,10,4],[10,5,10,8],[11,1,11,4],[11,5,11,8],[12,1,12,4],[12,5,12,8],[1,1,1,8],[2,0,3,0],[2,1,3,7],[4,0,41,0],[4,1,4,4],[4,5,4,8],[5,1,5,4],[5,5,5,8],[6,1,6,4],[6,5,6,8],[7,1,7,4],[7,5,7,8],[8,1,8,4],[8,5,8,8],[9,1,9,4],[9,5,9,8]]}
["一覧へ","　"]
["シート名",{"$f":"RIGHT(CELL(\"filename\",A1),LEN(CELL(\"filename\",A1))-FIND(\"]\",CELL(\"filename\",A1)))","v":"中華だし"}]
["商品名","中華だし",null,null,null,null,null,null,"作成日"]
[null,null,null,null,null,null,null,null,{"$f":"一覧!$D$1","v":"2025-02-28"}]
[null,"原材料名",null,null,null,"28品目アレルゲン",null,null,null,null,"個数①","計",{"$f":"一覧!D5","v":"小麦"},{"$f":"一覧!E5","v":"卵"},{"$f":"一覧!F5","v":"乳"},{"$f":"一覧!G5","v":"そば"},{"$f":"一覧!H5","v":"落花生"},{"$f":"一覧!I5","v":"えび"},{"$f":"一覧!J5","v":"かに"},{"$f":"一覧!K5","v":"くるみ"},{"$f":"一覧!L5","v":"ごま"},{"$f":"一覧!M5","v":"カシュ"},{"$f":"一覧!N5","v":"アーモンド"},{"$f":"一覧!O5","v":"キウイ"},{"$f":"一覧!P5","v":"もも"},{"$f":"一覧!Q5","v":"リンゴ"},{"$f":"一覧!R5","v":"バナナ"},{"$f":"一覧!S5","v":"オレンジ"},{"$f":"一覧!T5","v":"いか"},{"$f":"一覧!U5","v":"いくら"},{"$f":"一覧!V5","v":"さけ"},{"$f":"一覧!W5","v":"さば"},{"$f":"一覧!X5","v":"大豆"},{"$f":"一覧!Y5","v":"鶏肉"},{"$f":"一覧!Z5","v":"豚肉"},{"$f":"一覧!AA5","v":"牛肉"},{"$f":"一覧!AB5","v":"マカダミア"},{"$f":"一覧!AC5","v":"やまいも"},{"$f":"一覧!AD5","v":"ゼラチン"},{"$f":"一覧!AE5","v":"あわび"}]
[null,"食塩",null,null,null,null,null,null,null,null,{"$f":"IF(F6=\"\",0,LEN(F6)-LEN(SUBSTITUTE(F6, \"、\", \"\"))+1)","v":0},{"$f":"SUM(M6:AN6)","v":0},{"$f":"COUNTIF($F6,\"*\"&M$5&\"*\")","v":0},{"$f":"COUNTIF($F6,\"*\"&N$5&\"*\")","v":0},0,0,0,0,0,0,0,0,0,0,0,0,0,0,0,0,0,0,0,0,0,0,0,0,0,0]
[null,"デキストリン",null,null,null,null,null,null,null,null,{"$f":"IF(F7=\"\",0,LEN(F7)-LEN(SUBSTITUTE(F7, \"、\", \"\"))+1)","v":0},{"$f":"SUM(M7:AN7)","v":0},{"$f":"COUNTIF($F7,\"*\"&M$5&\"*\")","v":0},0,0,0,0,0,0,0,0,0,0,0,0,0,0,0,0,0,0,0,0,0,0,0,0,0,0,0]
[null,"ポークエキスパウダー",null,null,null,"大豆、豚肉",null,null,null,null,2,2,0,0,0,0,0,0,0,0,0,0,0,0,0,0,0,0,0,0,0,0,1,0,1,0,0,0,0,0]
[null,"砂糖",null,null,null,null,null,null,null,null,0,0,0,0,0,0,0,0,0,0,0,0,0,0,0,0,0,0,0,0,0,0,0,0,0,0,0,0,0,0]
[null,"チキンエキスパウダー",null,null,null,"鶏肉",null,null,null,null,1,1,0,0,0,0,0,0,0,0,0,0,0,0,0,0,0,0,0,0,0,0,0,1,0,0,0,0,0,0]
[null,"ジンジャーパウダー",null,null,null,null,null,null,null,null,0,0,0,0,0,0,0,0,0,0,0,0,0,0,0,0,0,0,0,0,0,0,0,0,0,0,0,0,0,0]
[null,"調味動物油脂",null,null,null,"鶏肉",null,null,null,null,1,1,0,0,0,0,0,0,0,0,0,0,0,0,0,0,0,0,0,0,0,0,0,1,0,0,0,0,0,0]
[null,"オニオンパウダー",null,null,null,null,null,null,null,null,0,0,0,0,0,0,0,0,0,0,0,0,0,0,0,0,0,0,0,0,0,0,0,0,0,0,0,0,0,0]
[null,"チキンパウダー",null,null,null,"鶏肉",null,null,null,null,1,1,0,0,0,0,0,0,0,0,0,0,0,0,0,0,0,0,0,0,0,0,0,1,0,0,0,0,0,0]
[null,"こしょう",null,null,null,null,null,null,null,null,0,0,0,0,0,0,0,0,0,0,0,0,0,0,0,{"$f":"COUNTIF($F15,\"*\"&Z$5&\"*\")","v":0},0,0,0,0,0,0,0,0,0,0,0,0,0,0]
[null,"ガーリックパウダー",null,null,null,null,null,null,null,null,0,0,0,0,0,0,0,0,0,0,0,0,0,0,0,0,0,0,0,0,0,0,0,0,0,0,0,0,0,0]
[null,"発酵酵母エキスパウダー",null,null,null,null,null,null,null,null,0,0,0,0,0,0,0,0,0,0,0,0,0,0,0,0,0,0,0,0,0,0,0,0,0,0,0,0,0,0]
[null,"調味料(アミノ酸等)",null,null,null,null,null,null,null,null,0,0,0,0,0,0,0,0,0,0,0,0,0,0,0,0,0,0,0,0,0,0,0,0,0,0,0,0,0,0]
[null,"ｐＨ調整剤",null,null,null,null,null,null,null,null,0,0,0,0,0,0,0,0,0,0,0,0,0,0,0,0,0,0,0,0,0,0,0,0,0,0,0,0,0,0]
[null,null,null,null,null,null,null,null,null,null,0,0,0,0,0,0,0,0,0,0,0,0,0,0,0,0,0,0,0,0,0,0,0,0,0,0,0,0,0,0]
[null,null,null,null,null,null,null,null,null,null,0,0,0,0,0,0,0,0,0,0,0,0,0,0,0,0,0,0,0,0,0,0,0,0,0,0,0,0,0,0]
[null,null,null,null,null,null,null,null,null,null,0,0,0,0,0,0,0,0,0,0,0,0,0,0,0,0,0,0,0,0,0,0,0,0,0,0,0,0,0,0]
[null,null,null,null,null,null,null,null,null,null,0,0,0,0,0,0,0,0,0,0,0,0,0,0,0,0,0,0,0,0,0,0,0,0,0,0,0,0,0,0]
[null,null,null,null,null,null,null,null,null,null,0,0,0,0,0,0,0,0,0,0,0,0,0,0,0,0,0,0,0,0,0,0,0,0,0,0,0,0,0,0]
[null,null,null,null,null,null,null,null,null,null,0,0,0,0,0,0,0,0,0,0,0,0,0,0,0,0,0,0,0,0,0,0,0,0,0,0,0,0,0,0]
[null,null,null,null,null,null,null,null,null,null,0,0,0,0,0,0,0,0,0,0,0,0,0,0,0,0,0,0,0,0,0,0,0,0,0,0,0,0,0,0]
[null,null,null,null,null,null,null,null,null,null,0,0,0,0,0,0,0,0,0,0,0,0,0,0,0,0,0,0,0,0,0,0,0,0,0,0,0,0,0,0]
[null,null,null,null,null,null,null,null,null,null,0,0,0,0,0,0,0,0,0,0,0,0,0,0,0,0,0,0,0,0,0,0,0,0,0,0,0,0,0,0]
[null,null,null,null,null,null,null,null,null,null,0,0,0,0,0,0,0,0,0,0,0,0,0,0,0,0,0,0,0,0,0,0,0,0,0,0,0,0,0,0]
[null,null,null,null,null,null,null,null,null,null,0,0,0,0,0,0,0,0,0,0,{"$f":"COUNTIF($F30,\"*\"&U$5&\"*\")","v":0},0,0,0,0,0,0,0,0,0,0,0,0,0,0,0,0,0,0,0]
[null,null,null,null,null,null,null,null,null,null,0,0,{"$f":"COUNTIF($F31,\"*\"&M$5&\"*\")","v":0},0,0,0,0,0,0,0,0,0,0,0,0,0,0,0,0,{"$f":"COUNTIF($F31,\"*\"&AD$5&\"*\")","v":0},0,0,0,0,0,0,0,0,0,0]
[null,null,null,null,null,null,null,null,null,null,0,0,0,0,0,0,0,0,0,0,0,0,0,0,0,0,0,0,0,0,0,0,0,0,0,0,0,0,0,0]
[null,null,null,null,null,null,null,null,null,null,0,0,0,0,0,0,0,0,0,0,0,0,0,0,0,0,0,0,0,0,0,0,0,0,0,0,0,0,0,0]
[null,null,null,null,null,null,null,null,null,null,0,0,0,0,0,0,0,0,0,0,0,0,0,0,0,0,0,0,0,0,0,0,0,0,0,0,0,0,0,0]
[null,null,null,null,null,null,null,null,null,null,0,0,0,0,0,0,0,0,0,0,0,0,0,0,0,0,0,0,0,0,0,0,0,0,0,0,0,0,0,0]
[null,null,null,null,null,null,null,null,null,null,0,0,0,0,0,0,0,0,0,0,0,0,0,0,0,0,0,0,0,0,0,0,0,0,0,0,0,0,0,0]
[null,null,null,null,null,null,null,null,null,null,0,0,0,0,0,0,0,0,0,0,0,0,0,0,0,0,0,0,0,0,0,0,0,0,0,0,0,0,0,0]
[null,null,null,null,null,null,null,null,null,null,0,0,0,0,0,0,0,0,0,0,0,0,0,0,0,0,0,0,0,0,0,0,0,0,0,0,0,0,0,0]
[null,null,null,null,null,null,null,null,null,null,0,0,0,0,0,0,0,0,0,0,0,0,0,0,0,0,0,0,0,0,0,0,0,0,0,0,0,0,0,0]
[null,null,null,null,null,null,null,null,null,null,0,0,0,0,0,0,0,0,0,0,0,0,0,0,0,0,0,0,0,0,0,0,0,0,0,0,0,0,0,0]
[null,null,null,null,null,null,null,null,null,null,0,0,0,0,0,0,0,0,0,0,0,0,0,0,0,0,0,0,0,0,0,0,0,0,0,0,0,0,0,0]
[null,null,null,null,null,null,null,null,null,null,0,0,0,0,0,0,0,0,0,0,0,0,0,0,0,0,0,0,0,0,0,0,0,0,0,0,0,0,0,0]
["コンタミネーション","なし",null,null,null,null,null,null,null,null,{"$f":"IF(OR($B43=\"\",$B43=\"なし\"),0,LEN($B43)-LEN(SUBSTITUTE($B43, \"、\", \"\"))+1)","v":0},0,{"$f":"COUNTIF($B43,\"*\"&M$5&\"*\")","v":0},{"$f":"COUNTIF($B43,\"*\"&N$5&\"*\")","v":0},0,0,0,0,0,0,0,0,0,0,0,0,0,0,0,0,{"$f":"COUNTIF($B43,\"*\"&AE$5&\"*\")","v":0},0,0,0,0,0,0,0,0,0]
[null,null,null,null,null,null,null,null,null,null,0,0,{"$f":"COUNTIF($B44,\"*\"&M$5&\"*\")","v":0},0,0,0,0,0,0,0,0,0,0,0,0,0,0,0,0,0,0,0,0,0,0,0,0,0,0,0]
[null,null,null,null,null,null,null,null,null,null,0,0,0,0,0,0,0,0,0,0,0,0,0,0,0,0,0,0,0,0,0,0,0,0,0,0,0,0,0,0]
["特記事項"]
[]
[]
[null,"●　商品の終売・リニューアルの場合は成分等が変更になる場合があります。ご了承ください。"]
["製造元","理研ビタミン株式会社"]
[]
[{"$f":"一覧!$A$43","v":"オーエンス泉岳自然ふれあい館"}]

{"sheet":"片栗粉","index":13,"n_rows":52,"n_cols":40,"rows_kept":52,"cut":false,"hidden":false,"merged":[[51,0,51,8],[45,0,48,0],[45,1,45,8],[46,1,46,8],[47,1,47,8],[48,1,48,8],[49,0,50,0],[49,1,50,8],[40,1,40,4],[40,5,40,8],[41,1,41,4],[41,5,41,8],[42,0,44,0],[42,1,42,8],[43,1,43,8],[44,1,44,8],[37,1,37,4],[37,5,37,8],[38,1,38,4],[38,5,38,8],[39,1,39,4],[39,5,39,8],[34,1,34,4],[34,5,34,8],[35,1,35,4],[35,5,35,8],[36,1,36,4],[36,5,36,8],[31,1,31,4],[31,5,31,8],[32,1,32,4],[32,5,32,8],[33,1,33,4],[33,5,33,8],[28,1,28,4],[28,5,28,8],[29,1,29,4],[29,5,29,8],[30,1,30,4],[30,5,30,8],[25,1,25,4],[25,5,25,8],[26,1,26,4],[26,5,26,8],[27,1,27,4],[27,5,27,8],[22,1,22,4],[22,5,22,8],[23,1,23,4],[23,5,23,8],[24,1,24,4],[24,5,24,8],[19,1,19,4],[19,5,19,8],[20,1,20,4],[20,5,20,8],[21,1,21,4],[21,5,21,8],[16,1,16,4],[16,5,16,8],[17,1,17,4],[17,5,17,8],[18,1,18,4],[18,5,18,8],[13,1,13,4],[13,5,13,8],[14,1,14,4],[14,5,14,8],[15,1,15,4],[15,5,15,8],[10,1,10,4],[10,5,10,8],[11,1,11,4],[11,5,11,8],[12,1,12,4],[12,5,12,8],[1,1,1,8],[2,0,3,0],[2,1,3,7],[4,0,41,0],[4,1,4,4],[4,5,4,8],[5,1,5,4],[5,5,5,8],[6,1,6,4],[6,5,6,8],[7,1,7,4],[7,5,7,8],[8,1,8,4],[8,5,8,8],[9,1,9,4],[9,5,9,8]]}
["一覧へ","　"]
["シート名",{"$f":"RIGHT(CELL(\"filename\",A1),LEN(CELL(\"filename\",A1))-FIND(\"]\",CELL(\"filename\",A1)))","v":"片栗粉"}]
["商品名","片栗粉",null,null,null,null,null,null,"作成日"]
[null,null,null,null,null,null,null,null,{"$f":"一覧!$D$1","v":"2025-02-28"}]
["原材料","原材料名",null,null,null,"28品目アレルゲン",null,null,null,null,"個数①","計",{"$f":"一覧!D5","v":"小麦"},{"$f":"一覧!E5","v":"卵"},{"$f":"一覧!F5","v":"乳"},{"$f":"一覧!G5","v":"そば"},{"$f":"一覧!H5","v":"落花生"},{"$f":"一覧!I5","v":"えび"},{"$f":"一覧!J5","v":"かに"},{"$f":"一覧!K5","v":"くるみ"},{"$f":"一覧!L5","v":"ごま"},{"$f":"一覧!M5","v":"カシュ"},{"$f":"一覧!N5","v":"アーモンド"},{"$f":"一覧!O5","v":"キウイ"},{"$f":"一覧!P5","v":"もも"},{"$f":"一覧!Q5","v":"リンゴ"},{"$f":"一覧!R5","v":"バナナ"},{"$f":"一覧!S5","v":"オレンジ"},{"$f":"一覧!T5","v":"いか"},{"$f":"一覧!U5","v":"いくら"},{"$f":"一覧!V5","v":"さけ"},{"$f":"一覧!W5","v":"さば"},{"$f":"一覧!X5","v":"大豆"},{"$f":"一覧!Y5","v":"鶏肉"},{"$f":"一覧!Z5","v":"豚肉"},{"$f":"一覧!AA5","v":"牛肉"},{"$f":"一覧!AB5","v":"マカダミア"},{"$f":"一覧!AC5","v":"やまいも"},{"$f":"一覧!AD5","v":"ゼラチン"},{"$f":"一覧!AE5","v":"あわび"}]
[null,"加工でん粉",null,null,null,null,null,null,null,null,{"$f":"IF(F6=\"\",0,LEN(F6)-LEN(SUBSTITUTE(F6, \"、\", \"\"))+1)","v":0},{"$f":"SUM(M6:AN6)","v":0},{"$f":"COUNTIF($F6,\"*\"&M$5&\"*\")","v":0},{"$f":"COUNTIF($F6,\"*\"&N$5&\"*\")","v":0},0,0,0,0,0,0,0,0,0,0,0,0,0,0,0,0,0,0,0,0,0,0,0,0,0,0]
[null,null,null,null,null,null,null,null,null,null,{"$f":"IF(F7=\"\",0,LEN(F7)-LEN(SUBSTITUTE(F7, \"、\", \"\"))+1)","v":0},{"$f":"SUM(M7:AN7)","v":0},{"$f":"COUNTIF($F7,\"*\"&M$5&\"*\")","v":0},0,0,0,0,0,0,0,0,0,0,0,0,0,0,0,0,0,0,0,0,0,0,0,0,0,0,0]
[null,null,null,null,null,null,null,null,null,null,0,0,0,0,0,0,0,0,0,0,0,0,0,0,0,0,0,0,0,0,0,0,0,0,0,0,0,0,0,0]
[null,null,null,null,null,null,null,null,null,null,0,0,0,0,0,0,0,0,0,0,0,0,0,0,0,0,0,0,0,0,0,0,0,0,0,0,0,0,0,0]
[null,null,null,null,null,null,null,null,null,null,0,0,0,0,0,0,0,0,0,0,0,0,0,0,0,0,0,0,0,0,0,0,0,0,0,0,0,0,0,0]
[null,null,null,null,null,null,null,null,null,null,0,0,0,0,0,0,0,0,0,0,0,0,0,0,0,0,0,0,0,0,0,0,0,0,0,0,0,0,0,0]
[null,null,null,null,null,null,null,null,null,null,0,0,0,0,0,0,0,0,0,0,0,0,0,0,0,0,0,0,0,0,0,0,0,0,0,0,0,0,0,0]
[null,null,null,null,null,null,null,null,null,null,0,0,0,0,0,0,0,0,0,0,0,0,0,0,0,0,0,0,0,0,0,0,0,0,0,0,0,0,0,0]
[null,null,null,null,null,null,null,null,null,null,0,0,0,0,0,0,0,0,0,0,0,0,0,0,0,0,0,0,0,0,0,0,0,0,0,0,0,0,0,0]
[null,null,null,null,null,null,null,null,null,null,0,0,0,0,0,0,0,0,0,0,0,0,0,0,0,{"$f":"COUNTIF($F15,\"*\"&Z$5&\"*\")","v":0},0,0,0,0,0,0,0,0,0,0,0,0,0,0]
[null,null,null,null,null,null,null,null,null,null,0,0,0,0,0,0,0,0,0,0,0,0,0,0,0,0,0,0,0,0,0,0,0,0,0,0,0,0,0,0]
[null,null,null,null,null,null,null,null,null,null,0,0,0,0,0,0,0,0,0,0,0,0,0,0,0,0,0,0,0,0,0,0,0,0,0,0,0,0,0,0]
[null,null,null,null,null,null,null,null,null,null,0,0,0,0,0,0,0,0,0,0,0,0,0,0,0,0,0,0,0,0,0,0,0,0,0,0,0,0,0,0]
[null,null,null,null,null,null,null,null,null,null,0,0,0,0,0,0,0,0,0,0,0,0,0,0,0,0,0,0,0,0,0,0,0,0,0,0,0,0,0,0]
[null,null,null,null,null,null,null,null,null,null,0,0,0,0,0,0,0,0,0,0,0,0,0,0,0,0,0,0,0,0,0,0,0,0,0,0,0,0,0,0]
[null,null,null,null,null,null,null,null,null,null,0,0,0,0,0,0,0,0,0,0,0,0,0,0,0,0,0,0,0,0,0,0,0,0,0,0,0,0,0,0]
[null,null,null,null,null,null,null,null,null,null,0,0,0,0,0,0,0,0,0,0,0,0,0,0,0,0,0,0,0,0,0,0,0,0,0,0,0,0,0,0]
[null,null,null,null,null,null,null,null,null,null,0,0,0,0,0,0,0,0,0,0,0,0,0,0,0,0,0,0,0,0,0,0,0,0,0,0,0,0,0,0]
[null,null,null,null,null,null,null,null,null,null,0,0,0,0,0,0,0,0,0,0,0,0,0,0,0,0,0,0,0,0,0,0,0,0,0,0,0,0,0,0]
[null,null,null,null,null,null,null,null,null,null,0,0,0,0,0,0,0,0,0,0,0,0,0,0,0,0,0,0,0,0,0,0,0,0,0,0,0,0,0,0]
[null,null,null,null,null,null,null,null,null,null,0,0,0,0,0,0,0,0,0,0,0,0,0,0,0,0,0,0,0,0,0,0,0,0,0,0,0,0,0,0]
[null,null,null,null,null,null,null,null,null,null,0,0,0,0,0,0,0,0,0,0,0,0,0,0,0,0,0,0,0,0,0,0,0,0,0,0,0,0,0,0]
[null,null,null,null,null,null,null,null,null,null,0,0,0,0,0,0,0,0,0,0,0,0,0,0,0,0,0,0,0,0,0,0,0,0,0,0,0,0,0,0]
[null,null,null,null,null,null,null,null,null,null,0,0,0,0,0,0,0,0,0,0,0,0,0,0,0,0,0,0,0,0,0,0,0,0,0,0,0,0,0,0]
[null,null,null,null,null,null,null,null,null,null,0,0,0,0,0,0,0,0,0,0,{"$f":"COUNTIF($F30,\"*\"&U$5&\"*\")","v":0},0,0,0,0,0,0,0,0,0,0,0,0,0,0,0,0,0,0,0]
[null,null,null,null,null,null,null,null,null,null,0,0,{"$f":"COUNTIF($F31,\"*\"&M$5&\"*\")","v":0},0,0,0,0,0,0,0,0,0,0,0,0,0,0,0,0,{"$f":"COUNTIF($F31,\"*\"&AD$5&\"*\")","v":0},0,0,0,0,0,0,0,0,0,0]
[null,null,null,null,null,null,null,null,null,null,0,0,0,0,0,0,0,0,0,0,0,0,0,0,0,0,0,0,0,0,0,0,0,0,0,0,0,0,0,0]
[null,null,null,null,null,null,null,null,null,null,0,0,0,0,0,0,0,0,0,0,0,0,0,0,0,0,0,0,0,0,0,0,0,0,0,0,0,0,0,0]
[null,null,null,null,null,null,null,null,null,null,0,0,0,0,0,0,0,0,0,0,0,0,0,0,0,0,0,0,0,0,0,0,0,0,0,0,0,0,0,0]
[null,null,null,null,null,null,null,null,null,null,0,0,0,0,0,0,0,0,0,0,0,0,0,0,0,0,0,0,0,0,0,0,0,0,0,0,0,0,0,0]
[null,null,null,null,null,null,null,null,null,null,0,0,0,0,0,0,0,0,0,0,0,0,0,0,0,0,0,0,0,0,0,0,0,0,0,0,0,0,0,0]
[null,null,null,null,null,null,null,null,null,null,0,0,0,0,0,0,0,0,0,0,0,0,0,0,0,0,0,0,0,0,0,0,0,0,0,0,0,0,0,0]
[null,null,null,null,null,null,null,null,null,null,0,0,0,0,0,0,0,0,0,0,0,0,0,0,0,0,0,0,0,0,0,0,0,0,0,0,0,0,0,0]
[null,null,null,null,null,null,null,null,null,null,0,0,0,0,0,0,0,0,0,0,0,0,0,0,0,0,0,0,0,0,0,0,0,0,0,0,0,0,0,0]
[null,null,null,null,null,null,null,null,null,null,0,0,0,0,0,0,0,0,0,0,0,0,0,0,0,0,0,0,0,0,0,0,0,0,0,0,0,0,0,0]
[null,null,null,null,null,null,null,null,null,null,0,0,0,0,0,0,0,0,0,0,0,0,0,0,0,0,0,0,0,0,0,0,0,0,0,0,0,0,0,0]
[null,null,null,null,null,null,null,null,null,null,0,0,0,0,0,0,0,0,0,0,0,0,0,0,0,0,0,0,0,0,0,0,0,0,0,0,0,0,0,0]
["コンタミネーション","なし",null,null,null,null,null,null,null,null,{"$f":"IF(OR($B43=\"\",$B43=\"なし\"),0,LEN($B43)-LEN(SUBSTITUTE($B43, \"、\", \"\"))+1)","v":0},0,{"$f":"COUNTIF($B43,\"*\"&M$5&\"*\")","v":0},{"$f":"COUNTIF($B43,\"*\"&N$5&\"*\")","v":0},0,0,0,0,0,0,0,0,0,0,0,0,0,0,0,0,{"$f":"COUNTIF($B43,\"*\"&AE$5&\"*\")","v":0},0,0,0,0,0,0,0,0,0]
[null,null,null,null,null,null,null,null,null,null,0,0,{"$f":"COUNTIF($B44,\"*\"&M$5&\"*\")","v":0},0,0,0,0,0,0,0,0,0,0,0,0,0,0,0,0,0,0,0,0,0,0,0,0,0,0,0]
[null,null,null,null,null,null,null,null,null,null,0,0,0,0,0,0,0,0,0,0,0,0,0,0,0,0,0,0,0,0,0,0,0,0,0,0,0,0,0,0]
["特記事項"]
[]
[]
[null,"●　商品の終売・リニューアルの場合は成分等が変更になる場合があります。ご了承ください。"]
["製造元","三倉産業株式会社"]
[]
[{"$f":"一覧!$A$43","v":"オーエンス泉岳自然ふれあい館"}]

{"sheet":"ごま油","index":14,"n_rows":52,"n_cols":40,"rows_kept":52,"cut":false,"hidden":false,"merged":[[1,1,1,8],[2,0,3,0],[2,1,3,7],[4,0,41,0],[4,1,4,4],[4,5,4,8],[5,1,5,4],[5,5,5,8],[6,1,6,4],[6,5,6,8],[7,1,7,4],[7,5,7,8],[8,1,8,4],[8,5,8,8],[9,1,9,4],[9,5,9,8],[10,1,10,4],[10,5,10,8],[11,1,11,4],[11,5,11,8],[12,1,12,4],[12,5,12,8],[13,1,13,4],[13,5,13,8],[14,1,14,4],[14,5,14,8],[15,1,15,4],[15,5,15,8],[16,1,16,4],[16,5,16,8],[17,1,17,4],[17,5,17,8],[18,1,18,4],[18,5,18,8],[19,1,19,4],[19,5,19,8],[20,1,20,4],[20,5,20,8],[21,1,21,4],[21,5,21,8],[22,1,22,4],[22,5,22,8],[23,1,23,4],[23,5,23,8],[24,1,24,4],[24,5,24,8],[25,1,25,4],[25,5,25,8],[26,1,26,4],[26,5,26,8],[27,1,27,4],[27,5,27,8],[28,1,28,4],[28,5,28,8],[29,1,29,4],[29,5,29,8],[30,1,30,4],[30,5,30,8],[31,1,31,4],[31,5,31,8],[32,1,32,4],[32,5,32,8],[33,1,33,4],[33,5,33,8],[34,1,34,4],[34,5,34,8],[35,1,35,4],[35,5,35,8],[36,1,36,4],[36,5,36,8],[37,1,37,4],[37,5,37,8],[38,1,38,4],[38,5,38,8],[39,1,39,4],[39,5,39,8],[40,1,40,4],[40,5,40,8],[41,1,41,4],[41,5,41,8],[42,0,44,0],[42,1,42,8],[43,1,43,8],[44,1,44,8],[51,0,51,8],[45,0,48,0],[45,1,45,8],[46,1,46,8],[47,1,47,8],[48,1,48,8],[49,0,50,0],[49,1,50,8]]}
["一覧へ","　"]
["シート名",{"$f":"RIGHT(CELL(\"filename\",A1),LEN(CELL(\"filename\",A1))-FIND(\"]\",CELL(\"filename\",A1)))","v":"ごま油"}]
["商品名","調合ごま油　",null,null,null,null,null,null,"作成日"]
[null,null,null,null,null,null,null,null,{"$f":"一覧!$D$1","v":"2025-02-28"}]
["原材料","原材料名",null,null,null,"28品目アレルゲン",null,null,null,null,"個数①","計","小麦","卵","乳","そば","落花生","えび","かに","ごま","くるみ","カシュ","アーモンド","キウイ","もも","リンゴ","バナナ","オレンジ","いか","いくら","さけ","さば","大豆","鶏肉","豚肉","牛肉","まつたけ","やまいも","ゼラチン","あわび"]
[null,"食用ごま油",null,null,null,"ごま",null,null,null,null,{"$f":"IF(F6=\"\",0,LEN(F6)-LEN(SUBSTITUTE(F6, \"、\", \"\"))+1)","v":1},{"$f":"SUM(M6:AN6)","v":1},{"$f":"COUNTIF($F6,\"*\"&M$5&\"*\")","v":0},{"$f":"COUNTIF($F6,\"*\"&N$5&\"*\")","v":0},0,0,0,0,0,1,0,0,0,0,0,0,0,0,0,0,0,0,0,0,0,0,0,0,0,0]
[null,"ごま",null,null,null,null,null,null,null,null,{"$f":"IF(F7=\"\",0,LEN(F7)-LEN(SUBSTITUTE(F7, \"、\", \"\"))+1)","v":0},{"$f":"SUM(M7:AN7)","v":0},{"$f":"COUNTIF($F7,\"*\"&M$5&\"*\")","v":0},0,0,0,0,0,0,0,0,0,0,0,0,0,0,0,0,0,0,0,0,0,0,0,0,0,0,0]
[null,"食用大豆油",null,null,null,"大豆",null,null,null,null,1,1,0,0,0,0,0,0,0,0,0,0,0,0,0,0,0,0,0,0,0,0,1,0,0,0,0,0,0,0]
[null,"大豆",null,null,null,null,null,null,null,null,0,0,0,0,0,0,0,0,0,0,0,0,0,0,0,0,0,0,0,0,0,0,0,0,0,0,0,0,0,0]
[null,null,null,null,null,null,null,null,null,null,0,0,0,0,0,0,0,0,0,0,0,0,0,0,0,0,0,0,0,0,0,0,0,0,0,0,0,0,0,0]
[null,null,null,null,null,null,null,null,null,null,0,0,0,0,0,0,0,0,0,0,0,0,0,0,0,0,0,0,0,0,0,0,0,0,0,0,0,0,0,0]
[null,null,null,null,null,null,null,null,null,null,0,0,0,0,0,0,0,0,0,0,0,0,0,0,0,0,0,0,0,0,0,0,0,0,0,0,0,0,0,0]
[null,null,null,null,null,null,null,null,null,null,0,0,0,0,0,0,0,0,0,0,0,0,0,0,0,0,0,0,0,0,0,0,0,0,0,0,0,0,0,0]
[null,null,null,null,null,null,null,null,null,null,0,0,0,0,0,0,0,0,0,0,0,0,0,0,0,0,0,0,0,0,0,0,0,0,0,0,0,0,0,0]
[null,null,null,null,null,null,null,null,null,null,0,0,0,0,0,0,0,0,0,0,0,0,0,0,0,{"$f":"COUNTIF($F15,\"*\"&Z$5&\"*\")","v":0},0,0,0,0,0,0,0,0,0,0,0,0,0,0]
[null,null,null,null,null,null,null,null,null,null,0,0,0,0,0,0,0,0,0,0,0,0,0,0,0,0,0,0,0,0,0,0,0,0,0,0,0,0,0,0]
[null,null,null,null,null,null,null,null,null,null,0,0,0,0,0,0,0,0,0,0,0,0,0,0,0,0,0,0,0,0,0,0,0,0,0,0,0,0,0,0]
[null,null,null,null,null,null,null,null,null,null,0,0,0,0,0,0,0,0,0,0,0,0,0,0,0,0,0,0,0,0,0,0,0,0,0,0,0,0,0,0]
[null,null,null,null,null,null,null,null,null,null,0,0,0,0,0,0,0,0,0,0,0,0,0,0,0,0,0,0,0,0,0,0,0,0,0,0,0,0,0,0]
[null,null,null,null,null,null,null,null,null,null,0,0,0,0,0,0,0,0,0,0,0,0,0,0,0,0,0,0,0,0,0,0,0,0,0,0,0,0,0,0]
[null,null,null,null,null,null,null,null,null,null,0,0,0,0,0,0,0,0,0,0,0,0,0,0,0,0,0,0,0,0,0,0,0,0,0,0,0,0,0,0]
[null,null,null,null,null,null,null,null,null,null,0,0,0,0,0,0,0,0,0,0,0,0,0,0,0,0,0,0,0,0,0,0,0,0,0,0,0,0,0,0]
[null,null,null,null,null,null,null,null,null,null,0,0,0,0,0,0,0,0,0,0,0,0,0,0,0,0,0,0,0,0,0,0,0,0,0,0,0,0,0,0]
[null,null,null,null,null,null,null,null,null,null,0,0,0,0,0,0,0,0,0,0,0,0,0,0,0,0,0,0,0,0,0,0,0,0,0,0,0,0,0,0]
[null,null,null,null,null,null,null,null,null,null,0,0,0,0,0,0,0,0,0,0,0,0,0,0,0,0,0,0,0,0,0,0,0,0,0,0,0,0,0,0]
[null,null,null,null,null,null,null,null,null,null,0,0,0,0,0,0,0,0,0,0,0,0,0,0,0,0,0,0,0,0,0,0,0,0,0,0,0,0,0,0]
[null,null,null,null,null,null,null,null,null,null,0,0,0,0,0,0,0,0,0,0,0,0,0,0,0,0,0,0,0,0,0,0,0,0,0,0,0,0,0,0]
[null,null,null,null,null,null,null,null,null,null,0,0,0,0,0,0,0,0,0,0,0,0,0,0,0,0,0,0,0,0,0,0,0,0,0,0,0,0,0,0]
[null,null,null,null,null,null,null,null,null,null,0,0,0,0,0,0,0,0,0,0,0,0,0,0,0,0,0,0,0,0,0,0,0,0,0,0,0,0,0,0]
[null,null,null,null,null,null,null,null,null,null,0,0,0,0,0,0,0,0,0,0,{"$f":"COUNTIF($F30,\"*\"&U$5&\"*\")","v":0},0,0,0,0,0,0,0,0,0,0,0,0,0,0,0,0,0,0,0]
[null,null,null,null,null,null,null,null,null,null,0,0,{"$f":"COUNTIF($F31,\"*\"&M$5&\"*\")","v":0},0,0,0,0,0,0,0,0,0,0,0,0,0,0,0,0,{"$f":"COUNTIF($F31,\"*\"&AD$5&\"*\")","v":0},0,0,0,0,0,0,0,0,0,0]
[null,null,null,null,null,null,null,null,null,null,0,0,0,0,0,0,0,0,0,0,0,0,0,0,0,0,0,0,0,0,0,0,0,0,0,0,0,0,0,0]
[null,null,null,null,null,null,null,null,null,null,0,0,0,0,0,0,0,0,0,0,0,0,0,0,0,0,0,0,0,0,0,0,0,0,0,0,0,0,0,0]
[null,null,null,null,null,null,null,null,null,null,0,0,0,0,0,0,0,0,0,0,0,0,0,0,0,0,0,0,0,0,0,0,0,0,0,0,0,0,0,0]
[null,null,null,null,null,null,null,null,null,null,0,0,0,0,0,0,0,0,0,0,0,0,0,0,0,0,0,0,0,0,0,0,0,0,0,0,0,0,0,0]
[null,null,null,null,null,null,null,null,null,null,0,0,0,0,0,0,0,0,0,0,0,0,0,0,0,0,0,0,0,0,0,0,0,0,0,0,0,0,0,0]
[null,null,null,null,null,null,null,null,null,null,0,0,0,0,0,0,0,0,0,0,0,0,0,0,0,0,0,0,0,0,0,0,0,0,0,0,0,0,0,0]
[null,null,null,null,null,null,null,null,null,null,0,0,0,0,0,0,0,0,0,0,0,0,0,0,0,0,0,0,0,0,0,0,0,0,0,0,0,0,0,0]
[null,null,null,null,null,null,null,null,null,null,0,0,0,0,0,0,0,0,0,0,0,0,0,0,0,0,0,0,0,0,0,0,0,0,0,0,0,0,0,0]
[null,null,null,null,null,null,null,null,null,null,0,0,0,0,0,0,0,0,0,0,0,0,0,0,0,0,0,0,0,0,0,0,0,0,0,0,0,0,0,0]
[null,null,null,null,null,null,null,null,null,null,0,0,0,0,0,0,0,0,0,0,0,0,0,0,0,0,0,0,0,0,0,0,0,0,0,0,0,0,0,0]
[null,null,null,null,null,null,null,null,null,null,0,0,0,0,0,0,0,0,0,0,0,0,0,0,0,0,0,0,0,0,0,0,0,0,0,0,0,0,0,0]
["コンタミネーション","なし",null,null,null,null,null,null,null,null,{"$f":"IF(OR($B43=\"\",$B43=\"なし\"),0,LEN($B43)-LEN(SUBSTITUTE($B43, \"、\", \"\"))+1)","v":0},0,{"$f":"COUNTIF($B43,\"*\"&M$5&\"*\")","v":0},{"$f":"COUNTIF($B43,\"*\"&N$5&\"*\")","v":0},0,0,0,0,0,0,0,0,0,0,0,0,0,0,0,0,{"$f":"COUNTIF($B43,\"*\"&AE$5&\"*\")","v":0},0,0,0,0,0,0,0,0,0]
[null,null,null,null,null,null,null,null,null,null,0,0,{"$f":"COUNTIF($B44,\"*\"&M$5&\"*\")","v":0},0,0,0,0,0,0,0,0,0,0,0,0,0,0,0,0,0,0,0,0,0,0,0,0,0,0,0]
[null,null,null,null,null,null,null,null,null,null,0,0,0,0,0,0,0,0,0,0,0,0,0,0,0,0,0,0,0,0,0,0,0,0,0,0,0,0,0,0]
["特記事項"]
[]
[]
[null,"●　商品の終売・リニューアルの場合は成分等が変更になる場合があります。ご了承ください。"]
["製造元","竹本油脂株式会社"]
[]
["オーエンス泉岳自然ふれあい館"]

{"sheet":"青ネギ","index":15,"n_rows":52,"n_cols":40,"rows_kept":52,"cut":false,"hidden":false,"merged":[[1,1,1,8],[2,0,3,0],[2,1,3,7],[4,0,41,0],[4,1,4,4],[4,5,4,8],[5,1,5,4],[5,5,5,8],[6,1,6,4],[6,5,6,8],[7,1,7,4],[7,5,7,8],[8,1,8,4],[8,5,8,8],[9,1,9,4],[9,5,9,8],[10,1,10,4],[10,5,10,8],[11,1,11,4],[11,5,11,8],[12,1,12,4],[12,5,12,8],[13,1,13,4],[13,5,13,8],[14,1,14,4],[14,5,14,8],[15,1,15,4],[15,5,15,8],[16,1,16,4],[16,5,16,8],[17,1,17,4],[17,5,17,8],[18,1,18,4],[18,5,18,8],[19,1,19,4],[19,5,19,8],[20,1,20,4],[20,5,20,8],[21,1,21,4],[21,5,21,8],[22,1,22,4],[22,5,22,8],[23,1,23,4],[23,5,23,8],[24,1,24,4],[24,5,24,8],[25,1,25,4],[25,5,25,8],[26,1,26,4],[26,5,26,8],[27,1,27,4],[27,5,27,8],[28,1,28,4],[28,5,28,8],[29,1,29,4],[29,5,29,8],[30,1,30,4],[30,5,30,8],[31,1,31,4],[31,5,31,8],[32,1,32,4],[32,5,32,8],[33,1,33,4],[33,5,33,8],[34,1,34,4],[34,5,34,8],[35,1,35,4],[35,5,35,8],[36,1,36,4],[36,5,36,8],[37,1,37,4],[37,5,37,8],[38,1,38,4],[38,5,38,8],[39,1,39,4],[39,5,39,8],[40,1,40,4],[40,5,40,8],[41,1,41,4],[41,5,41,8],[42,0,44,0],[42,1,42,8],[43,1,43,8],[44,1,44,8],[51,0,51,8],[45,0,48,0],[45,1,45,8],[46,1,46,8],[47,1,47,8],[48,1,48,8],[49,0,50,0],[49,1,50,8]]}
["一覧へ","　"]
["シート名",{"$f":"RIGHT(CELL(\"filename\",A1),LEN(CELL(\"filename\",A1))-FIND(\"]\",CELL(\"filename\",A1)))","v":"青ネギ"}]
["商品名","青ネギカット3ｍｍ",null,null,null,null,null,null,"作成日"]
[null,null,null,null,null,null,null,null,{"$f":"一覧!$D$1","v":"2025-02-28"}]
["原材料","原材料名",null,null,null,"28品目アレルゲン",null,null,null,null,"個数①","計",{"$f":"一覧!D5","v":"小麦"},{"$f":"一覧!E5","v":"卵"},{"$f":"一覧!F5","v":"乳"},{"$f":"一覧!G5","v":"そば"},{"$f":"一覧!H5","v":"落花生"},{"$f":"一覧!I5","v":"えび"},{"$f":"一覧!J5","v":"かに"},{"$f":"一覧!K5","v":"くるみ"},{"$f":"一覧!L5","v":"ごま"},{"$f":"一覧!M5","v":"カシュ"},{"$f":"一覧!N5","v":"アーモンド"},{"$f":"一覧!O5","v":"キウイ"},{"$f":"一覧!P5","v":"もも"},{"$f":"一覧!Q5","v":"リンゴ"},{"$f":"一覧!R5","v":"バナナ"},{"$f":"一覧!S5","v":"オレンジ"},{"$f":"一覧!T5","v":"いか"},{"$f":"一覧!U5","v":"いくら"},{"$f":"一覧!V5","v":"さけ"},{"$f":"一覧!W5","v":"さば"},{"$f":"一覧!X5","v":"大豆"},{"$f":"一覧!Y5","v":"鶏肉"},{"$f":"一覧!Z5","v":"豚肉"},{"$f":"一覧!AA5","v":"牛肉"},{"$f":"一覧!AB5","v":"マカダミア"},{"$f":"一覧!AC5","v":"やまいも"},{"$f":"一覧!AD5","v":"ゼラチン"},{"$f":"一覧!AE5","v":"あわび"}]
[null,"青ネギ",null,null,null,null,null,null,null,null,{"$f":"IF(F6=\"\",0,LEN(F6)-LEN(SUBSTITUTE(F6, \"、\", \"\"))+1)","v":0},{"$f":"SUM(M6:AN6)","v":0},{"$f":"COUNTIF($F6,\"*\"&M$5&\"*\")","v":0},{"$f":"COUNTIF($F6,\"*\"&N$5&\"*\")","v":0},0,0,0,0,0,0,0,0,0,0,0,0,0,0,0,0,0,0,0,0,0,0,0,0,0,0]
[null,null,null,null,null,null,null,null,null,null,{"$f":"IF(F7=\"\",0,LEN(F7)-LEN(SUBSTITUTE(F7, \"、\", \"\"))+1)","v":0},{"$f":"SUM(M7:AN7)","v":0},{"$f":"COUNTIF($F7,\"*\"&M$5&\"*\")","v":0},0,0,0,0,0,0,0,0,0,0,0,0,0,0,0,0,0,0,0,0,0,0,0,0,0,0,0]
[null,null,null,null,null,null,null,null,null,null,0,0,0,0,0,0,0,0,0,0,0,0,0,0,0,0,0,0,0,0,0,0,0,0,0,0,0,0,0,0]
[null,null,null,null,null,null,null,null,null,null,0,0,0,0,0,0,0,0,0,0,0,0,0,0,0,0,0,0,0,0,0,0,0,0,0,0,0,0,0,0]
[null,null,null,null,null,null,null,null,null,null,0,0,0,0,0,0,0,0,0,0,0,0,0,0,0,0,0,0,0,0,0,0,0,0,0,0,0,0,0,0]
[null,null,null,null,null,null,null,null,null,null,0,0,0,0,0,0,0,0,0,0,0,0,0,0,0,0,0,0,0,0,0,0,0,0,0,0,0,0,0,0]
[null,null,null,null,null,null,null,null,null,null,0,0,0,0,0,0,0,0,0,0,0,0,0,0,0,0,0,0,0,0,0,0,0,0,0,0,0,0,0,0]
[null,null,null,null,null,null,null,null,null,null,0,0,0,0,0,0,0,0,0,0,0,0,0,0,0,0,0,0,0,0,0,0,0,0,0,0,0,0,0,0]
[null,null,null,null,null,null,null,null,null,null,0,0,0,0,0,0,0,0,0,0,0,0,0,0,0,0,0,0,0,0,0,0,0,0,0,0,0,0,0,0]
[null,null,null,null,null,null,null,null,null,null,0,0,0,0,0,0,0,0,0,0,0,0,0,0,0,{"$f":"COUNTIF($F15,\"*\"&Z$5&\"*\")","v":0},0,0,0,0,0,0,0,0,0,0,0,0,0,0]
[null,null,null,null,null,null,null,null,null,null,0,0,0,0,0,0,0,0,0,0,0,0,0,0,0,0,0,0,0,0,0,0,0,0,0,0,0,0,0,0]
[null,null,null,null,null,null,null,null,null,null,0,0,0,0,0,0,0,0,0,0,0,0,0,0,0,0,0,0,0,0,0,0,0,0,0,0,0,0,0,0]
[null,null,null,null,null,null,null,null,null,null,0,0,0,0,0,0,0,0,0,0,0,0,0,0,0,0,0,0,0,0,0,0,0,0,0,0,0,0,0,0]
[null,null,null,null,null,null,null,null,null,null,0,0,0,0,0,0,0,0,0,0,0,0,0,0,0,0,0,0,0,0,0,0,0,0,0,0,0,0,0,0]
[null,null,null,null,null,null,null,null,null,null,0,0,0,0,0,0,0,0,0,0,0,0,0,0,0,0,0,0,0,0,0,0,0,0,0,0,0,0,0,0]
[null,null,null,null,null,null,null,null,null,null,0,0,0,0,0,0,0,0,0,0,0,0,0,0,0,0,0,0,0,0,0,0,0,0,0,0,0,0,0,0]
[null,null,null,null,null,null,null,null,null,null,0,0,0,0,0,0,0,0,0,0,0,0,0,0,0,0,0,0,0,0,0,0,0,0,0,0,0,0,0,0]
[null,null,null,null,null,null,null,null,null,null,0,0,0,0,0,0,0,0,0,0,0,0,0,0,0,0,0,0,0,0,0,0,0,0,0,0,0,0,0,0]
[null,null,null,null,null,null,null,null,null,null,0,0,0,0,0,0,0,0,0,0,0,0,0,0,0,0,0,0,0,0,0,0,0,0,0,0,0,0,0,0]
[null,null,null,null,null,null,null,null,null,null,0,0,0,0,0,0,0,0,0,0,0,0,0,0,0,0,0,0,0,0,0,0,0,0,0,0,0,0,0,0]
[null,null,null,null,null,null,null,null,null,null,0,0,0,0,0,0,0,0,0,0,0,0,0,0,0,0,0,0,0,0,0,0,0,0,0,0,0,0,0,0]
[null,null,null,null,null,null,null,null,null,null,0,0,0,0,0,0,0,0,0,0,0,0,0,0,0,0,0,0,0,0,0,0,0,0,0,0,0,0,0,0]
[null,null,null,null,null,null,null,null,null,null,0,0,0,0,0,0,0,0,0,0,0,0,0,0,0,0,0,0,0,0,0,0,0,0,0,0,0,0,0,0]
[null,null,null,null,null,null,null,null,null,null,0,0,0,0,0,0,0,0,0,0,0,0,0,0,0,0,0,0,0,0,0,0,0,0,0,0,0,0,0,0]
[null,null,null,null,null,null,null,null,null,null,0,0,0,0,0,0,0,0,0,0,{"$f":"COUNTIF($F30,\"*\"&U$5&\"*\")","v":0},0,0,0,0,0,0,0,0,0,0,0,0,0,0,0,0,0,0,0]
[null,null,null,null,null,null,null,null,null,null,0,0,{"$f":"COUNTIF($F31,\"*\"&M$5&\"*\")","v":0},0,0,0,0,0,0,0,0,0,0,0,0,0,0,0,0,{"$f":"COUNTIF($F31,\"*\"&AD$5&\"*\")","v":0},0,0,0,0,0,0,0,0,0,0]
[null,null,null,null,null,null,null,null,null,null,0,0,0,0,0,0,0,0,0,0,0,0,0,0,0,0,0,0,0,0,0,0,0,0,0,0,0,0,0,0]
[null,null,null,null,null,null,null,null,null,null,0,0,0,0,0,0,0,0,0,0,0,0,0,0,0,0,0,0,0,0,0,0,0,0,0,0,0,0,0,0]
[null,null,null,null,null,null,null,null,null,null,0,0,0,0,0,0,0,0,0,0,0,0,0,0,0,0,0,0,0,0,0,0,0,0,0,0,0,0,0,0]
[null,null,null,null,null,null,null,null,null,null,0,0,0,0,0,0,0,0,0,0,0,0,0,0,0,0,0,0,0,0,0,0,0,0,0,0,0,0,0,0]
[null,null,null,null,null,null,null,null,null,null,0,0,0,0,0,0,0,0,0,0,0,0,0,0,0,0,0,0,0,0,0,0,0,0,0,0,0,0,0,0]
[null,null,null,null,null,null,null,null,null,null,0,0,0,0,0,0,0,0,0,0,0,0,0,0,0,0,0,0,0,0,0,0,0,0,0,0,0,0,0,0]
[null,null,null,null,null,null,null,null,null,null,0,0,0,0,0,0,0,0,0,0,0,0,0,0,0,0,0,0,0,0,0,0,0,0,0,0,0,0,0,0]
[null,null,null,null,null,null,null,null,null,null,0,0,0,0,0,0,0,0,0,0,0,0,0,0,0,0,0,0,0,0,0,0,0,0,0,0,0,0,0,0]
[null,null,null,null,null,null,null,null,null,null,0,0,0,0,0,0,0,0,0,0,0,0,0,0,0,0,0,0,0,0,0,0,0,0,0,0,0,0,0,0]
[null,null,null,null,null,null,null,null,null,null,0,0,0,0,0,0,0,0,0,0,0,0,0,0,0,0,0,0,0,0,0,0,0,0,0,0,0,0,0,0]
[null,null,null,null,null,null,null,null,null,null,0,0,0,0,0,0,0,0,0,0,0,0,0,0,0,0,0,0,0,0,0,0,0,0,0,0,0,0,0,0]
["コンタミネーション","なし",null,null,null,null,null,null,null,null,{"$f":"IF(OR($B43=\"\",$B43=\"なし\"),0,LEN($B43)-LEN(SUBSTITUTE($B43, \"、\", \"\"))+1)","v":0},0,{"$f":"COUNTIF($B43,\"*\"&M$5&\"*\")","v":0},{"$f":"COUNTIF($B43,\"*\"&N$5&\"*\")","v":0},0,0,0,0,0,0,0,0,0,0,0,0,0,0,0,0,{"$f":"COUNTIF($B43,\"*\"&AE$5&\"*\")","v":0},0,0,0,0,0,0,0,0,0]
[null,null,null,null,null,null,null,null,null,null,0,0,{"$f":"COUNTIF($B44,\"*\"&M$5&\"*\")","v":0},0,0,0,0,0,0,0,0,0,0,0,0,0,0,0,0,0,0,0,0,0,0,0,0,0,0,0]
[null,null,null,null,null,null,null,null,null,null,0,0,0,0,0,0,0,0,0,0,0,0,0,0,0,0,0,0,0,0,0,0,0,0,0,0,0,0,0,0]
["特記事項"]
[]
[]
[null,"●　商品の終売・リニューアルの場合は成分等が変更になる場合があります。ご了承ください。"]
["製造元","カーギルジャパン合同会社"]
[]
[{"$f":"一覧!$A$43","v":"オーエンス泉岳自然ふれあい館"}]

{"sheet":"卵","index":16,"n_rows":52,"n_cols":40,"rows_kept":52,"cut":false,"hidden":false,"merged":[[51,0,51,8],[45,0,48,0],[45,1,45,8],[46,1,46,8],[47,1,47,8],[48,1,48,8],[49,0,50,0],[49,1,50,8],[40,1,40,4],[40,5,40,8],[41,1,41,4],[41,5,41,8],[42,0,44,0],[42,1,42,8],[43,1,43,8],[44,1,44,8],[37,1,37,4],[37,5,37,8],[38,1,38,4],[38,5,38,8],[39,1,39,4],[39,5,39,8],[34,1,34,4],[34,5,34,8],[35,1,35,4],[35,5,35,8],[36,1,36,4],[36,5,36,8],[31,1,31,4],[31,5,31,8],[32,1,32,4],[32,5,32,8],[33,1,33,4],[33,5,33,8],[28,1,28,4],[28,5,28,8],[29,1,29,4],[29,5,29,8],[30,1,30,4],[30,5,30,8],[25,1,25,4],[25,5,25,8],[26,1,26,4],[26,5,26,8],[27,1,27,4],[27,5,27,8],[22,1,22,4],[22,5,22,8],[23,1,23,4],[23,5,23,8],[24,1,24,4],[24,5,24,8],[19,1,19,4],[19,5,19,8],[20,1,20,4],[20,5,20,8],[21,1,21,4],[21,5,21,8],[16,1,16,4],[16,5,16,8],[17,1,17,4],[17,5,17,8],[18,1,18,4],[18,5,18,8],[13,1,13,4],[13,5,13,8],[14,1,14,4],[14,5,14,8],[15,1,15,4],[15,5,15,8],[10,1,10,4],[10,5,10,8],[11,1,11,4],[11,5,11,8],[12,1,12,4],[12,5,12,8],[1,1,1,8],[2,0,3,0],[2,1,3,7],[4,0,41,0],[4,1,4,4],[4,5,4,8],[5,1,5,4],[5,5,5,8],[6,1,6,4],[6,5,6,8],[7,1,7,4],[7,5,7,8],[8,1,8,4],[8,5,8,8],[9,1,9,4],[9,5,9,8]]}
["一覧へ","　"]
["シート名",{"$f":"RIGHT(CELL(\"filename\",A1),LEN(CELL(\"filename\",A1))-FIND(\"]\",CELL(\"filename\",A1)))","v":"卵"}]
["商品名","Good-eggサイズM",null,null,null,null,null,null,"作成日"]
[null,null,null,null,null,null,null,null,{"$f":"一覧!$D$1","v":"2025-02-28"}]
["原材料","原材料名",null,null,null,"28品目アレルゲン",null,null,null,null,"個数①","計",{"$f":"一覧!D5","v":"小麦"},{"$f":"一覧!E5","v":"卵"},{"$f":"一覧!F5","v":"乳"},{"$f":"一覧!G5","v":"そば"},{"$f":"一覧!H5","v":"落花生"},{"$f":"一覧!I5","v":"えび"},{"$f":"一覧!J5","v":"かに"},{"$f":"一覧!K5","v":"くるみ"},{"$f":"一覧!L5","v":"ごま"},{"$f":"一覧!M5","v":"カシュ"},{"$f":"一覧!N5","v":"アーモンド"},{"$f":"一覧!O5","v":"キウイ"},{"$f":"一覧!P5","v":"もも"},{"$f":"一覧!Q5","v":"リンゴ"},{"$f":"一覧!R5","v":"バナナ"},{"$f":"一覧!S5","v":"オレンジ"},{"$f":"一覧!T5","v":"いか"},{"$f":"一覧!U5","v":"いくら"},{"$f":"一覧!V5","v":"さけ"},{"$f":"一覧!W5","v":"さば"},{"$f":"一覧!X5","v":"大豆"},{"$f":"一覧!Y5","v":"鶏肉"},{"$f":"一覧!Z5","v":"豚肉"},{"$f":"一覧!AA5","v":"牛肉"},{"$f":"一覧!AB5","v":"マカダミア"},{"$f":"一覧!AC5","v":"やまいも"},{"$f":"一覧!AD5","v":"ゼラチン"},{"$f":"一覧!AE5","v":"あわび"}]
[null,"鶏卵",null,null,null,"卵",null,null,null,null,{"$f":"IF(F6=\"\",0,LEN(F6)-LEN(SUBSTITUTE(F6, \"、\", \"\"))+1)","v":1},{"$f":"SUM(M6:AN6)","v":1},{"$f":"COUNTIF($F6,\"*\"&M$5&\"*\")","v":0},{"$f":"COUNTIF($F6,\"*\"&N$5&\"*\")","v":1},0,0,0,0,0,0,0,0,0,0,0,0,0,0,0,0,0,0,0,0,0,0,0,0,0,0]
[null,null,null,null,null,null,null,null,null,null,{"$f":"IF(F7=\"\",0,LEN(F7)-LEN(SUBSTITUTE(F7, \"、\", \"\"))+1)","v":0},{"$f":"SUM(M7:AN7)","v":0},{"$f":"COUNTIF($F7,\"*\"&M$5&\"*\")","v":0},0,0,0,0,0,0,0,0,0,0,0,0,0,0,0,0,0,0,0,0,0,0,0,0,0,0,0]
[null,null,null,null,null,null,null,null,null,null,0,0,0,0,0,0,0,0,0,0,0,0,0,0,0,0,0,0,0,0,0,0,0,0,0,0,0,0,0,0]
[null,null,null,null,null,null,null,null,null,null,0,0,0,0,0,0,0,0,0,0,0,0,0,0,0,0,0,0,0,0,0,0,0,0,0,0,0,0,0,0]
[null,null,null,null,null,null,null,null,null,null,0,0,0,0,0,0,0,0,0,0,0,0,0,0,0,0,0,0,0,0,0,0,0,0,0,0,0,0,0,0]
[null,null,null,null,null,null,null,null,null,null,0,0,0,0,0,0,0,0,0,0,0,0,0,0,0,0,0,0,0,0,0,0,0,0,0,0,0,0,0,0]
[null,null,null,null,null,null,null,null,null,null,0,0,0,0,0,0,0,0,0,0,0,0,0,0,0,0,0,0,0,0,0,0,0,0,0,0,0,0,0,0]
[null,null,null,null,null,null,null,null,null,null,0,0,0,0,0,0,0,0,0,0,0,0,0,0,0,0,0,0,0,0,0,0,0,0,0,0,0,0,0,0]
[null,null,null,null,null,null,null,null,null,null,0,0,0,0,0,0,0,0,0,0,0,0,0,0,0,0,0,0,0,0,0,0,0,0,0,0,0,0,0,0]
[null,null,null,null,null,null,null,null,null,null,0,0,0,0,0,0,0,0,0,0,0,0,0,0,0,{"$f":"COUNTIF($F15,\"*\"&Z$5&\"*\")","v":0},0,0,0,0,0,0,0,0,0,0,0,0,0,0]
[null,null,null,null,null,null,null,null,null,null,0,0,0,0,0,0,0,0,0,0,0,0,0,0,0,0,0,0,0,0,0,0,0,0,0,0,0,0,0,0]
[null,null,null,null,null,null,null,null,null,null,0,0,0,0,0,0,0,0,0,0,0,0,0,0,0,0,0,0,0,0,0,0,0,0,0,0,0,0,0,0]
[null,null,null,null,null,null,null,null,null,null,0,0,0,0,0,0,0,0,0,0,0,0,0,0,0,0,0,0,0,0,0,0,0,0,0,0,0,0,0,0]
[null,null,null,null,null,null,null,null,null,null,0,0,0,0,0,0,0,0,0,0,0,0,0,0,0,0,0,0,0,0,0,0,0,0,0,0,0,0,0,0]
[null,null,null,null,null,null,null,null,null,null,0,0,0,0,0,0,0,0,0,0,0,0,0,0,0,0,0,0,0,0,0,0,0,0,0,0,0,0,0,0]
[null,null,null,null,null,null,null,null,null,null,0,0,0,0,0,0,0,0,0,0,0,0,0,0,0,0,0,0,0,0,0,0,0,0,0,0,0,0,0,0]
[null,null,null,null,null,null,null,null,null,null,0,0,0,0,0,0,0,0,0,0,0,0,0,0,0,0,0,0,0,0,0,0,0,0,0,0,0,0,0,0]
[null,null,null,null,null,null,null,null,null,null,0,0,0,0,0,0,0,0,0,0,0,0,0,0,0,0,0,0,0,0,0,0,0,0,0,0,0,0,0,0]
[null,null,null,null,null,null,null,null,null,null,0,0,0,0,0,0,0,0,0,0,0,0,0,0,0,0,0,0,0,0,0,0,0,0,0,0,0,0,0,0]
[null,null,null,null,null,null,null,null,null,null,0,0,0,0,0,0,0,0,0,0,0,0,0,0,0,0,0,0,0,0,0,0,0,0,0,0,0,0,0,0]
[null,null,null,null,null,null,null,null,null,null,0,0,0,0,0,0,0,0,0,0,0,0,0,0,0,0,0,0,0,0,0,0,0,0,0,0,0,0,0,0]
[null,null,null,null,null,null,null,null,null,null,0,0,0,0,0,0,0,0,0,0,0,0,0,0,0,0,0,0,0,0,0,0,0,0,0,0,0,0,0,0]
[null,null,null,null,null,null,null,null,null,null,0,0,0,0,0,0,0,0,0,0,0,0,0,0,0,0,0,0,0,0,0,0,0,0,0,0,0,0,0,0]
[null,null,null,null,null,null,null,null,null,null,0,0,0,0,0,0,0,0,0,0,0,0,0,0,0,0,0,0,0,0,0,0,0,0,0,0,0,0,0,0]
[null,null,null,null,null,null,null,null,null,null,0,0,0,0,0,0,0,0,0,0,{"$f":"COUNTIF($F30,\"*\"&U$5&\"*\")","v":0},0,0,0,0,0,0,0,0,0,0,0,0,0,0,0,0,0,0,0]
[null,null,null,null,null,null,null,null,null,null,0,0,{"$f":"COUNTIF($F31,\"*\"&M$5&\"*\")","v":0},0,0,0,0,0,0,0,0,0,0,0,0,0,0,0,0,{"$f":"COUNTIF($F31,\"*\"&AD$5&\"*\")","v":0},0,0,0,0,0,0,0,0,0,0]
[null,null,null,null,null,null,null,null,null,null,0,0,0,0,0,0,0,0,0,0,0,0,0,0,0,0,0,0,0,0,0,0,0,0,0,0,0,0,0,0]
[null,null,null,null,null,null,null,null,null,null,0,0,0,0,0,0,0,0,0,0,0,0,0,0,0,0,0,0,0,0,0,0,0,0,0,0,0,0,0,0]
[null,null,null,null,null,null,null,null,null,null,0,0,0,0,0,0,0,0,0,0,0,0,0,0,0,0,0,0,0,0,0,0,0,0,0,0,0,0,0,0]
[null,null,null,null,null,null,null,null,null,null,0,0,0,0,0,0,0,0,0,0,0,0,0,0,0,0,0,0,0,0,0,0,0,0,0,0,0,0,0,0]
[null,null,null,null,null,null,null,null,null,null,0,0,0,0,0,0,0,0,0,0,0,0,0,0,0,0,0,0,0,0,0,0,0,0,0,0,0,0,0,0]
[null,null,null,null,null,null,null,null,null,null,0,0,0,0,0,0,0,0,0,0,0,0,0,0,0,0,0,0,0,0,0,0,0,0,0,0,0,0,0,0]
[null,null,null,null,null,null,null,null,null,null,0,0,0,0,0,0,0,0,0,0,0,0,0,0,0,0,0,0,0,0,0,0,0,0,0,0,0,0,0,0]
[null,null,null,null,null,null,null,null,null,null,0,0,0,0,0,0,0,0,0,0,0,0,0,0,0,0,0,0,0,0,0,0,0,0,0,0,0,0,0,0]
[null,null,null,null,null,null,null,null,null,null,0,0,0,0,0,0,0,0,0,0,0,0,0,0,0,0,0,0,0,0,0,0,0,0,0,0,0,0,0,0]
[null,null,null,null,null,null,null,null,null,null,0,0,0,0,0,0,0,0,0,0,0,0,0,0,0,0,0,0,0,0,0,0,0,0,0,0,0,0,0,0]
[null,null,null,null,null,null,null,null,null,null,0,0,0,0,0,0,0,0,0,0,0,0,0,0,0,0,0,0,0,0,0,0,0,0,0,0,0,0,0,0]
["コンタミネーション","なし",null,null,null,null,null,null,null,null,{"$f":"IF(OR($B43=\"\",$B43=\"なし\"),0,LEN($B43)-LEN(SUBSTITUTE($B43, \"、\", \"\"))+1)","v":0},0,{"$f":"COUNTIF($B43,\"*\"&M$5&\"*\")","v":0},{"$f":"COUNTIF($B43,\"*\"&N$5&\"*\")","v":0},0,0,0,0,0,0,0,0,0,0,0,0,0,0,0,0,{"$f":"COUNTIF($B43,\"*\"&AE$5&\"*\")","v":0},0,0,0,0,0,0,0,0,0]
[null,null,null,null,null,null,null,null,null,null,0,0,{"$f":"COUNTIF($B44,\"*\"&M$5&\"*\")","v":0},0,0,0,0,0,0,0,0,0,0,0,0,0,0,0,0,0,0,0,0,0,0,0,0,0,0,0]
[null,null,null,null,null,null,null,null,null,null,0,0,0,0,0,0,0,0,0,0,0,0,0,0,0,0,0,0,0,0,0,0,0,0,0,0,0,0,0,0]
["特記事項","状況により仕入れ先が異なります。"]
[]
[]
[null,"●　商品の終売・リニューアルの場合は成分等が変更になる場合があります。ご了承ください。"]
["製造元","株式会社　タカムラ　"]
[]
[{"$f":"一覧!$A$43","v":"オーエンス泉岳自然ふれあい館"}]

{"sheet":"たけのこ","index":17,"n_rows":52,"n_cols":40,"rows_kept":52,"cut":false,"hidden":false,"merged":[[1,1,1,8],[2,0,3,0],[2,1,3,7],[4,0,41,0],[4,1,4,4],[4,5,4,8],[5,1,5,4],[5,5,5,8],[6,1,6,4],[6,5,6,8],[7,1,7,4],[7,5,7,8],[8,1,8,4],[8,5,8,8],[9,1,9,4],[9,5,9,8],[10,1,10,4],[10,5,10,8],[11,1,11,4],[11,5,11,8],[12,1,12,4],[12,5,12,8],[13,1,13,4],[13,5,13,8],[14,1,14,4],[14,5,14,8],[15,1,15,4],[15,5,15,8],[16,1,16,4],[16,5,16,8],[17,1,17,4],[17,5,17,8],[18,1,18,4],[18,5,18,8],[19,1,19,4],[19,5,19,8],[20,1,20,4],[20,5,20,8],[21,1,21,4],[21,5,21,8],[22,1,22,4],[22,5,22,8],[23,1,23,4],[23,5,23,8],[24,1,24,4],[24,5,24,8],[25,1,25,4],[25,5,25,8],[26,1,26,4],[26,5,26,8],[27,1,27,4],[27,5,27,8],[28,1,28,4],[28,5,28,8],[29,1,29,4],[29,5,29,8],[30,1,30,4],[30,5,30,8],[31,1,31,4],[31,5,31,8],[32,1,32,4],[32,5,32,8],[33,1,33,4],[33,5,33,8],[34,1,34,4],[34,5,34,8],[35,1,35,4],[35,5,35,8],[36,1,36,4],[36,5,36,8],[37,1,37,4],[37,5,37,8],[38,1,38,4],[38,5,38,8],[39,1,39,4],[39,5,39,8],[40,1,40,4],[40,5,40,8],[41,1,41,4],[41,5,41,8],[42,0,44,0],[42,1,42,8],[43,1,43,8],[44,1,44,8],[51,0,51,8],[45,0,48,0],[45,1,45,8],[46,1,46,8],[47,1,47,8],[48,1,48,8],[49,0,50,0],[49,1,50,8]]}
["一覧へ","　"]
["シート名",{"$f":"RIGHT(CELL(\"filename\",A1),LEN(CELL(\"filename\",A1))-FIND(\"]\",CELL(\"filename\",A1)))","v":"たけのこ"}]
["商品名","Vたけのこ水煮　千切り",null,null,null,null,null,null,"作成日"]
[null,null,null,null,null,null,null,null,{"$f":"一覧!$D$1","v":"2025-02-28"}]
["原材料","原材料名",null,null,null,"28品目アレルゲン",null,null,null,null,"個数①","計",{"$f":"一覧!D5","v":"小麦"},{"$f":"一覧!E5","v":"卵"},{"$f":"一覧!F5","v":"乳"},{"$f":"一覧!G5","v":"そば"},{"$f":"一覧!H5","v":"落花生"},{"$f":"一覧!I5","v":"えび"},{"$f":"一覧!J5","v":"かに"},{"$f":"一覧!K5","v":"くるみ"},{"$f":"一覧!L5","v":"ごま"},{"$f":"一覧!M5","v":"カシュ"},{"$f":"一覧!N5","v":"アーモンド"},{"$f":"一覧!O5","v":"キウイ"},{"$f":"一覧!P5","v":"もも"},{"$f":"一覧!Q5","v":"リンゴ"},{"$f":"一覧!R5","v":"バナナ"},{"$f":"一覧!S5","v":"オレンジ"},{"$f":"一覧!T5","v":"いか"},{"$f":"一覧!U5","v":"いくら"},{"$f":"一覧!V5","v":"さけ"},{"$f":"一覧!W5","v":"さば"},{"$f":"一覧!X5","v":"大豆"},{"$f":"一覧!Y5","v":"鶏肉"},{"$f":"一覧!Z5","v":"豚肉"},{"$f":"一覧!AA5","v":"牛肉"},{"$f":"一覧!AB5","v":"マカダミア"},{"$f":"一覧!AC5","v":"やまいも"},{"$f":"一覧!AD5","v":"ゼラチン"},{"$f":"一覧!AE5","v":"あわび"}]
[null,"たけのこ",null,null,null,null,null,null,null,null,{"$f":"IF(F6=\"\",0,LEN(F6)-LEN(SUBSTITUTE(F6, \"、\", \"\"))+1)","v":0},{"$f":"SUM(M6:AN6)","v":0},{"$f":"COUNTIF($F6,\"*\"&M$5&\"*\")","v":0},{"$f":"COUNTIF($F6,\"*\"&N$5&\"*\")","v":0},0,0,0,0,0,0,0,0,0,0,0,0,0,0,0,0,0,0,0,0,0,0,0,0,0,0]
[null,"クエン酸",null,null,null,null,null,null,null,null,{"$f":"IF(F7=\"\",0,LEN(F7)-LEN(SUBSTITUTE(F7, \"、\", \"\"))+1)","v":0},{"$f":"SUM(M7:AN7)","v":0},{"$f":"COUNTIF($F7,\"*\"&M$5&\"*\")","v":0},0,0,0,0,0,0,0,0,0,0,0,0,0,0,0,0,0,0,0,0,0,0,0,0,0,0,0]
[null,"水",null,null,null,null,null,null,null,null,0,0,0,0,0,0,0,0,0,0,0,0,0,0,0,0,0,0,0,0,0,0,0,0,0,0,0,0,0,0]
[null,null,null,null,null,null,null,null,null,null,0,0,0,0,0,0,0,0,0,0,0,0,0,0,0,0,0,0,0,0,0,0,0,0,0,0,0,0,0,0]
[null,null,null,null,null,null,null,null,null,null,0,0,0,0,0,0,0,0,0,0,0,0,0,0,0,0,0,0,0,0,0,0,0,0,0,0,0,0,0,0]
[null,null,null,null,null,null,null,null,null,null,0,0,0,0,0,0,0,0,0,0,0,0,0,0,0,0,0,0,0,0,0,0,0,0,0,0,0,0,0,0]
[null,null,null,null,null,null,null,null,null,null,0,0,0,0,0,0,0,0,0,0,0,0,0,0,0,0,0,0,0,0,0,0,0,0,0,0,0,0,0,0]
[null,null,null,null,null,null,null,null,null,null,0,0,0,0,0,0,0,0,0,0,0,0,0,0,0,0,0,0,0,0,0,0,0,0,0,0,0,0,0,0]
[null,null,null,null,null,null,null,null,null,null,0,0,0,0,0,0,0,0,0,0,0,0,0,0,0,0,0,0,0,0,0,0,0,0,0,0,0,0,0,0]
[null,null,null,null,null,null,null,null,null,null,0,0,0,0,0,0,0,0,0,0,0,0,0,0,0,{"$f":"COUNTIF($F15,\"*\"&Z$5&\"*\")","v":0},0,0,0,0,0,0,0,0,0,0,0,0,0,0]
[null,null,null,null,null,null,null,null,null,null,0,0,0,0,0,0,0,0,0,0,0,0,0,0,0,0,0,0,0,0,0,0,0,0,0,0,0,0,0,0]
[null,null,null,null,null,null,null,null,null,null,0,0,0,0,0,0,0,0,0,0,0,0,0,0,0,0,0,0,0,0,0,0,0,0,0,0,0,0,0,0]
[null,null,null,null,null,null,null,null,null,null,0,0,0,0,0,0,0,0,0,0,0,0,0,0,0,0,0,0,0,0,0,0,0,0,0,0,0,0,0,0]
[null,null,null,null,null,null,null,null,null,null,0,0,0,0,0,0,0,0,0,0,0,0,0,0,0,0,0,0,0,0,0,0,0,0,0,0,0,0,0,0]
[null,null,null,null,null,null,null,null,null,null,0,0,0,0,0,0,0,0,0,0,0,0,0,0,0,0,0,0,0,0,0,0,0,0,0,0,0,0,0,0]
[null,null,null,null,null,null,null,null,null,null,0,0,0,0,0,0,0,0,0,0,0,0,0,0,0,0,0,0,0,0,0,0,0,0,0,0,0,0,0,0]
[null,null,null,null,null,null,null,null,null,null,0,0,0,0,0,0,0,0,0,0,0,0,0,0,0,0,0,0,0,0,0,0,0,0,0,0,0,0,0,0]
[null,null,null,null,null,null,null,null,null,null,0,0,0,0,0,0,0,0,0,0,0,0,0,0,0,0,0,0,0,0,0,0,0,0,0,0,0,0,0,0]
[null,null,null,null,null,null,null,null,null,null,0,0,0,0,0,0,0,0,0,0,0,0,0,0,0,0,0,0,0,0,0,0,0,0,0,0,0,0,0,0]
[null,null,null,null,null,null,null,null,null,null,0,0,0,0,0,0,0,0,0,0,0,0,0,0,0,0,0,0,0,0,0,0,0,0,0,0,0,0,0,0]
[null,null,null,null,null,null,null,null,null,null,0,0,0,0,0,0,0,0,0,0,0,0,0,0,0,0,0,0,0,0,0,0,0,0,0,0,0,0,0,0]
[null,null,null,null,null,null,null,null,null,null,0,0,0,0,0,0,0,0,0,0,0,0,0,0,0,0,0,0,0,0,0,0,0,0,0,0,0,0,0,0]
[null,null,null,null,null,null,null,null,null,null,0,0,0,0,0,0,0,0,0,0,0,0,0,0,0,0,0,0,0,0,0,0,0,0,0,0,0,0,0,0]
[null,null,null,null,null,null,null,null,null,null,0,0,0,0,0,0,0,0,0,0,0,0,0,0,0,0,0,0,0,0,0,0,0,0,0,0,0,0,0,0]
[null,null,null,null,null,null,null,null,null,null,0,0,0,0,0,0,0,0,0,0,{"$f":"COUNTIF($F30,\"*\"&U$5&\"*\")","v":0},0,0,0,0,0,0,0,0,0,0,0,0,0,0,0,0,0,0,0]
[null,null,null,null,null,null,null,null,null,null,0,0,{"$f":"COUNTIF($F31,\"*\"&M$5&\"*\")","v":0},0,0,0,0,0,0,0,0,0,0,0,0,0,0,0,0,{"$f":"COUNTIF($F31,\"*\"&AD$5&\"*\")","v":0},0,0,0,0,0,0,0,0,0,0]
[null,null,null,null,null,null,null,null,null,null,0,0,0,0,0,0,0,0,0,0,0,0,0,0,0,0,0,0,0,0,0,0,0,0,0,0,0,0,0,0]
[null,null,null,null,null,null,null,null,null,null,0,0,0,0,0,0,0,0,0,0,0,0,0,0,0,0,0,0,0,0,0,0,0,0,0,0,0,0,0,0]
[null,null,null,null,null,null,null,null,null,null,0,0,0,0,0,0,0,0,0,0,0,0,0,0,0,0,0,0,0,0,0,0,0,0,0,0,0,0,0,0]
[null,null,null,null,null,null,null,null,null,null,0,0,0,0,0,0,0,0,0,0,0,0,0,0,0,0,0,0,0,0,0,0,0,0,0,0,0,0,0,0]
[null,null,null,null,null,null,null,null,null,null,0,0,0,0,0,0,0,0,0,0,0,0,0,0,0,0,0,0,0,0,0,0,0,0,0,0,0,0,0,0]
[null,null,null,null,null,null,null,null,null,null,0,0,0,0,0,0,0,0,0,0,0,0,0,0,0,0,0,0,0,0,0,0,0,0,0,0,0,0,0,0]
[null,null,null,null,null,null,null,null,null,null,0,0,0,0,0,0,0,0,0,0,0,0,0,0,0,0,0,0,0,0,0,0,0,0,0,0,0,0,0,0]
[null,null,null,null,null,null,null,null,null,null,0,0,0,0,0,0,0,0,0,0,0,0,0,0,0,0,0,0,0,0,0,0,0,0,0,0,0,0,0,0]
[null,null,null,null,null,null,null,null,null,null,0,0,0,0,0,0,0,0,0,0,0,0,0,0,0,0,0,0,0,0,0,0,0,0,0,0,0,0,0,0]
[null,null,null,null,null,null,null,null,null,null,0,0,0,0,0,0,0,0,0,0,0,0,0,0,0,0,0,0,0,0,0,0,0,0,0,0,0,0,0,0]
[null,null,null,null,null,null,null,null,null,null,0,0,0,0,0,0,0,0,0,0,0,0,0,0,0,0,0,0,0,0,0,0,0,0,0,0,0,0,0,0]
["コンタミネーション","なし",null,null,null,null,null,null,null,null,{"$f":"IF(OR($B43=\"\",$B43=\"なし\"),0,LEN($B43)-LEN(SUBSTITUTE($B43, \"、\", \"\"))+1)","v":0},0,{"$f":"COUNTIF($B43,\"*\"&M$5&\"*\")","v":0},{"$f":"COUNTIF($B43,\"*\"&N$5&\"*\")","v":0},0,0,0,0,0,0,0,0,0,0,0,0,0,0,0,0,{"$f":"COUNTIF($B43,\"*\"&AE$5&\"*\")","v":0},0,0,0,0,0,0,0,0,0]
[null,null,null,null,null,null,null,null,null,null,0,0,{"$f":"COUNTIF($B44,\"*\"&M$5&\"*\")","v":0},0,0,0,0,0,0,0,0,0,0,0,0,0,0,0,0,0,0,0,0,0,0,0,0,0,0,0]
[null,null,null,null,null,null,null,null,null,null,0,0,0,0,0,0,0,0,0,0,0,0,0,0,0,0,0,0,0,0,0,0,0,0,0,0,0,0,0,0]
["特記事項"]
[]
[]
[null,"●　商品の終売・リニューアルの場合は成分等が変更になる場合があります。ご了承ください。"]
["製造元","株式会社長山フーズファクトリー"]
[]
[{"$f":"一覧!$A$43","v":"オーエンス泉岳自然ふれあい館"}]

{"sheet":"こしょう","index":18,"n_rows":52,"n_cols":40,"rows_kept":52,"cut":false,"hidden":false,"merged":[[51,0,51,8],[45,0,48,0],[45,1,45,8],[46,1,46,8],[47,1,47,8],[48,1,48,8],[49,0,50,0],[49,1,50,8],[40,1,40,4],[40,5,40,8],[41,1,41,4],[41,5,41,8],[42,0,44,0],[42,1,42,8],[43,1,43,8],[44,1,44,8],[37,1,37,4],[37,5,37,8],[38,1,38,4],[38,5,38,8],[39,1,39,4],[39,5,39,8],[34,1,34,4],[34,5,34,8],[35,1,35,4],[35,5,35,8],[36,1,36,4],[36,5,36,8],[31,1,31,4],[31,5,31,8],[32,1,32,4],[32,5,32,8],[33,1,33,4],[33,5,33,8],[28,1,28,4],[28,5,28,8],[29,1,29,4],[29,5,29,8],[30,1,30,4],[30,5,30,8],[25,1,25,4],[25,5,25,8],[26,1,26,4],[26,5,26,8],[27,1,27,4],[27,5,27,8],[22,1,22,4],[22,5,22,8],[23,1,23,4],[23,5,23,8],[24,1,24,4],[24,5,24,8],[19,1,19,4],[19,5,19,8],[20,1,20,4],[20,5,20,8],[21,1,21,4],[21,5,21,8],[16,1,16,4],[16,5,16,8],[17,1,17,4],[17,5,17,8],[18,1,18,4],[18,5,18,8],[13,1,13,4],[13,5,13,8],[14,1,14,4],[14,5,14,8],[15,1,15,4],[15,5,15,8],[10,1,10,4],[10,5,10,8],[11,1,11,4],[11,5,11,8],[12,1,12,4],[12,5,12,8],[1,1,1,8],[2,0,3,0],[2,1,3,7],[4,0,41,0],[4,1,4,4],[4,5,4,8],[5,1,5,4],[5,5,5,8],[6,1,6,4],[6,5,6,8],[7,1,7,4],[7,5,7,8],[8,1,8,4],[8,5,8,8],[9,1,9,4],[9,5,9,8]]}
["一覧へ","　"]
["シート名",{"$f":"RIGHT(CELL(\"filename\",A1),LEN(CELL(\"filename\",A1))-FIND(\"]\",CELL(\"filename\",A1)))","v":"こしょう"}]
["商品名","セレクト　ホワイトペッパー",null,null,null,null,null,null,"作成日"]
[null,null,null,null,null,null,null,null,{"$f":"一覧!$D$1","v":"2025-02-28"}]
["原材料","原材料名",null,null,null,"28品目アレルゲン",null,null,null,null,"個数①","計",{"$f":"一覧!D5","v":"小麦"},{"$f":"一覧!E5","v":"卵"},{"$f":"一覧!F5","v":"乳"},{"$f":"一覧!G5","v":"そば"},{"$f":"一覧!H5","v":"落花生"},{"$f":"一覧!I5","v":"えび"},{"$f":"一覧!J5","v":"かに"},{"$f":"一覧!K5","v":"くるみ"},{"$f":"一覧!L5","v":"ごま"},{"$f":"一覧!M5","v":"カシュ"},{"$f":"一覧!N5","v":"アーモンド"},{"$f":"一覧!O5","v":"キウイ"},{"$f":"一覧!P5","v":"もも"},{"$f":"一覧!Q5","v":"リンゴ"},{"$f":"一覧!R5","v":"バナナ"},{"$f":"一覧!S5","v":"オレンジ"},{"$f":"一覧!T5","v":"いか"},{"$f":"一覧!U5","v":"いくら"},{"$f":"一覧!V5","v":"さけ"},{"$f":"一覧!W5","v":"さば"},{"$f":"一覧!X5","v":"大豆"},{"$f":"一覧!Y5","v":"鶏肉"},{"$f":"一覧!Z5","v":"豚肉"},{"$f":"一覧!AA5","v":"牛肉"},{"$f":"一覧!AB5","v":"マカダミア"},{"$f":"一覧!AC5","v":"やまいも"},{"$f":"一覧!AD5","v":"ゼラチン"},{"$f":"一覧!AE5","v":"あわび"}]
[null,"ホワイトペッパー",null,null,null,null,null,null,null,null,{"$f":"IF(F6=\"\",0,LEN(F6)-LEN(SUBSTITUTE(F6, \"、\", \"\"))+1)","v":0},{"$f":"SUM(M6:AN6)","v":0},{"$f":"COUNTIF($F6,\"*\"&M$5&\"*\")","v":0},{"$f":"COUNTIF($F6,\"*\"&N$5&\"*\")","v":0},0,0,0,0,0,0,0,0,0,0,0,0,0,0,0,0,0,0,0,0,0,0,0,0,0,0]
[null,null,null,null,null,null,null,null,null,null,{"$f":"IF(F7=\"\",0,LEN(F7)-LEN(SUBSTITUTE(F7, \"、\", \"\"))+1)","v":0},{"$f":"SUM(M7:AN7)","v":0},{"$f":"COUNTIF($F7,\"*\"&M$5&\"*\")","v":0},0,0,0,0,0,0,0,0,0,0,0,0,0,0,0,0,0,0,0,0,0,0,0,0,0,0,0]
[null,null,null,null,null,null,null,null,null,null,0,0,0,0,0,0,0,0,0,0,0,0,0,0,0,0,0,0,0,0,0,0,0,0,0,0,0,0,0,0]
[null,null,null,null,null,null,null,null,null,null,0,0,0,0,0,0,0,0,0,0,0,0,0,0,0,0,0,0,0,0,0,0,0,0,0,0,0,0,0,0]
[null,null,null,null,null,null,null,null,null,null,0,0,0,0,0,0,0,0,0,0,0,0,0,0,0,0,0,0,0,0,0,0,0,0,0,0,0,0,0,0]
[null,null,null,null,null,null,null,null,null,null,0,0,0,0,0,0,0,0,0,0,0,0,0,0,0,0,0,0,0,0,0,0,0,0,0,0,0,0,0,0]
[null,null,null,null,null,null,null,null,null,null,0,0,0,0,0,0,0,0,0,0,0,0,0,0,0,0,0,0,0,0,0,0,0,0,0,0,0,0,0,0]
[null,null,null,null,null,null,null,null,null,null,0,0,0,0,0,0,0,0,0,0,0,0,0,0,0,0,0,0,0,0,0,0,0,0,0,0,0,0,0,0]
[null,null,null,null,null,null,null,null,null,null,0,0,0,0,0,0,0,0,0,0,0,0,0,0,0,0,0,0,0,0,0,0,0,0,0,0,0,0,0,0]
[null,null,null,null,null,null,null,null,null,null,0,0,0,0,0,0,0,0,0,0,0,0,0,0,0,{"$f":"COUNTIF($F15,\"*\"&Z$5&\"*\")","v":0},0,0,0,0,0,0,0,0,0,0,0,0,0,0]
[null,null,null,null,null,null,null,null,null,null,0,0,0,0,0,0,0,0,0,0,0,0,0,0,0,0,0,0,0,0,0,0,0,0,0,0,0,0,0,0]
[null,null,null,null,null,null,null,null,null,null,0,0,0,0,0,0,0,0,0,0,0,0,0,0,0,0,0,0,0,0,0,0,0,0,0,0,0,0,0,0]
[null,null,null,null,null,null,null,null,null,null,0,0,0,0,0,0,0,0,0,0,0,0,0,0,0,0,0,0,0,0,0,0,0,0,0,0,0,0,0,0]
[null,null,null,null,null,null,null,null,null,null,0,0,0,0,0,0,0,0,0,0,0,0,0,0,0,0,0,0,0,0,0,0,0,0,0,0,0,0,0,0]
[null,null,null,null,null,null,null,null,null,null,0,0,0,0,0,0,0,0,0,0,0,0,0,0,0,0,0,0,0,0,0,0,0,0,0,0,0,0,0,0]
[null,null,null,null,null,null,null,null,null,null,0,0,0,0,0,0,0,0,0,0,0,0,0,0,0,0,0,0,0,0,0,0,0,0,0,0,0,0,0,0]
[null,null,null,null,null,null,null,null,null,null,0,0,0,0,0,0,0,0,0,0,0,0,0,0,0,0,0,0,0,0,0,0,0,0,0,0,0,0,0,0]
[null,null,null,null,null,null,null,null,null,null,0,0,0,0,0,0,0,0,0,0,0,0,0,0,0,0,0,0,0,0,0,0,0,0,0,0,0,0,0,0]
[null,null,null,null,null,null,null,null,null,null,0,0,0,0,0,0,0,0,0,0,0,0,0,0,0,0,0,0,0,0,0,0,0,0,0,0,0,0,0,0]
[null,null,null,null,null,null,null,null,null,null,0,0,0,0,0,0,0,0,0,0,0,0,0,0,0,0,0,0,0,0,0,0,0,0,0,0,0,0,0,0]
[null,null,null,null,null,null,null,null,null,null,0,0,0,0,0,0,0,0,0,0,0,0,0,0,0,0,0,0,0,0,0,0,0,0,0,0,0,0,0,0]
[null,null,null,null,null,null,null,null,null,null,0,0,0,0,0,0,0,0,0,0,0,0,0,0,0,0,0,0,0,0,0,0,0,0,0,0,0,0,0,0]
[null,null,null,null,null,null,null,null,null,null,0,0,0,0,0,0,0,0,0,0,0,0,0,0,0,0,0,0,0,0,0,0,0,0,0,0,0,0,0,0]
[null,null,null,null,null,null,null,null,null,null,0,0,0,0,0,0,0,0,0,0,0,0,0,0,0,0,0,0,0,0,0,0,0,0,0,0,0,0,0,0]
[null,null,null,null,null,null,null,null,null,null,0,0,0,0,0,0,0,0,0,0,{"$f":"COUNTIF($F30,\"*\"&U$5&\"*\")","v":0},0,0,0,0,0,0,0,0,0,0,0,0,0,0,0,0,0,0,0]
[null,null,null,null,null,null,null,null,null,null,0,0,{"$f":"COUNTIF($F31,\"*\"&M$5&\"*\")","v":0},0,0,0,0,0,0,0,0,0,0,0,0,0,0,0,0,{"$f":"COUNTIF($F31,\"*\"&AD$5&\"*\")","v":0},0,0,0,0,0,0,0,0,0,0]
[null,null,null,null,null,null,null,null,null,null,0,0,0,0,0,0,0,0,0,0,0,0,0,0,0,0,0,0,0,0,0,0,0,0,0,0,0,0,0,0]
[null,null,null,null,null,null,null,null,null,null,0,0,0,0,0,0,0,0,0,0,0,0,0,0,0,0,0,0,0,0,0,0,0,0,0,0,0,0,0,0]
[null,null,null,null,null,null,null,null,null,null,0,0,0,0,0,0,0,0,0,0,0,0,0,0,0,0,0,0,0,0,0,0,0,0,0,0,0,0,0,0]
[null,null,null,null,null,null,null,null,null,null,0,0,0,0,0,0,0,0,0,0,0,0,0,0,0,0,0,0,0,0,0,0,0,0,0,0,0,0,0,0]
[null,null,null,null,null,null,null,null,null,null,0,0,0,0,0,0,0,0,0,0,0,0,0,0,0,0,0,0,0,0,0,0,0,0,0,0,0,0,0,0]
[null,null,null,null,null,null,null,null,null,null,0,0,0,0,0,0,0,0,0,0,0,0,0,0,0,0,0,0,0,0,0,0,0,0,0,0,0,0,0,0]
[null,null,null,null,null,null,null,null,null,null,0,0,0,0,0,0,0,0,0,0,0,0,0,0,0,0,0,0,0,0,0,0,0,0,0,0,0,0,0,0]
[null,null,null,null,null,null,null,null,null,null,0,0,0,0,0,0,0,0,0,0,0,0,0,0,0,0,0,0,0,0,0,0,0,0,0,0,0,0,0,0]
[null,null,null,null,null,null,null,null,null,null,0,0,0,0,0,0,0,0,0,0,0,0,0,0,0,0,0,0,0,0,0,0,0,0,0,0,0,0,0,0]
[null,null,null,null,null,null,null,null,null,null,0,0,0,0,0,0,0,0,0,0,0,0,0,0,0,0,0,0,0,0,0,0,0,0,0,0,0,0,0,0]
[null,null,null,null,null,null,null,null,null,null,0,0,0,0,0,0,0,0,0,0,0,0,0,0,0,0,0,0,0,0,0,0,0,0,0,0,0,0,0,0]
["コンタミネーション","なし",null,null,null,null,null,null,null,null,{"$f":"IF(OR($B43=\"\",$B43=\"なし\"),0,LEN($B43)-LEN(SUBSTITUTE($B43, \"、\", \"\"))+1)","v":0},0,{"$f":"COUNTIF($B43,\"*\"&M$5&\"*\")","v":0},{"$f":"COUNTIF($B43,\"*\"&N$5&\"*\")","v":0},0,0,0,0,0,0,0,0,0,0,0,0,0,0,0,0,{"$f":"COUNTIF($B43,\"*\"&AE$5&\"*\")","v":0},0,0,0,0,0,0,0,0,0]
[null,null,null,null,null,null,null,null,null,null,0,0,{"$f":"COUNTIF($B44,\"*\"&M$5&\"*\")","v":0},0,0,0,0,0,0,0,0,0,0,0,0,0,0,0,0,0,0,0,0,0,0,0,0,0,0,0]
[null,null,null,null,null,null,null,null,null,null,0,0,0,0,0,0,0,0,0,0,0,0,0,0,0,0,0,0,0,0,0,0,0,0,0,0,0,0,0,0]
["特記事項"]
[]
[]
[null,"●　商品の終売・リニューアルの場合は成分等が変更になる場合があります。ご了承ください。"]
["製造元","ヱスビー食品株式会社"]
[]
[{"$f":"一覧!$A$43","v":"オーエンス泉岳自然ふれあい館"}]

{"sheet":"絹揚げ","index":19,"n_rows":52,"n_cols":40,"rows_kept":52,"cut":false,"hidden":false,"merged":[[51,0,51,8],[45,0,48,0],[45,1,45,8],[46,1,46,8],[47,1,47,8],[48,1,48,8],[49,0,50,0],[49,1,50,8],[40,1,40,4],[40,5,40,8],[41,1,41,4],[41,5,41,8],[42,0,44,0],[42,1,42,8],[43,1,43,8],[44,1,44,8],[37,1,37,4],[37,5,37,8],[38,1,38,4],[38,5,38,8],[39,1,39,4],[39,5,39,8],[34,1,34,4],[34,5,34,8],[35,1,35,4],[35,5,35,8],[36,1,36,4],[36,5,36,8],[31,1,31,4],[31,5,31,8],[32,1,32,4],[32,5,32,8],[33,1,33,4],[33,5,33,8],[28,1,28,4],[28,5,28,8],[29,1,29,4],[29,5,29,8],[30,1,30,4],[30,5,30,8],[25,1,25,4],[25,5,25,8],[26,1,26,4],[26,5,26,8],[27,1,27,4],[27,5,27,8],[22,1,22,4],[22,5,22,8],[23,1,23,4],[23,5,23,8],[24,1,24,4],[24,5,24,8],[19,1,19,4],[19,5,19,8],[20,1,20,4],[20,5,20,8],[21,1,21,4],[21,5,21,8],[16,1,16,4],[16,5,16,8],[17,1,17,4],[17,5,17,8],[18,1,18,4],[18,5,18,8],[13,1,13,4],[13,5,13,8],[14,1,14,4],[14,5,14,8],[15,1,15,4],[15,5,15,8],[10,1,10,4],[10,5,10,8],[11,1,11,4],[11,5,11,8],[12,1,12,4],[12,5,12,8],[1,1,1,8],[2,0,3,0],[2,1,3,7],[4,0,41,0],[4,1,4,4],[4,5,4,8],[5,1,5,4],[5,5,5,8],[6,1,6,4],[6,5,6,8],[7,1,7,4],[7,5,7,8],[8,1,8,4],[8,5,8,8],[9,1,9,4],[9,5,9,8]]}
["一覧へ","　"]
["シート名",{"$f":"RIGHT(CELL(\"filename\",A1),LEN(CELL(\"filename\",A1))-FIND(\"]\",CELL(\"filename\",A1)))","v":"絹揚げ"}]
["商品名","冷凍絹厚揚げ10",null,null,null,null,null,null,"作成日"]
[null,null,null,null,null,null,null,null,{"$f":"一覧!$D$1","v":"2025-02-28"}]
["原材料","原材料名",null,null,null,"28品目アレルゲン",null,null,null,null,"個数①","計",{"$f":"一覧!D5","v":"小麦"},{"$f":"一覧!E5","v":"卵"},{"$f":"一覧!F5","v":"乳"},{"$f":"一覧!G5","v":"そば"},{"$f":"一覧!H5","v":"落花生"},{"$f":"一覧!I5","v":"えび"},{"$f":"一覧!J5","v":"かに"},{"$f":"一覧!K5","v":"くるみ"},{"$f":"一覧!L5","v":"ごま"},{"$f":"一覧!M5","v":"カシュ"},{"$f":"一覧!N5","v":"アーモンド"},{"$f":"一覧!O5","v":"キウイ"},{"$f":"一覧!P5","v":"もも"},{"$f":"一覧!Q5","v":"リンゴ"},{"$f":"一覧!R5","v":"バナナ"},{"$f":"一覧!S5","v":"オレンジ"},{"$f":"一覧!T5","v":"いか"},{"$f":"一覧!U5","v":"いくら"},{"$f":"一覧!V5","v":"さけ"},{"$f":"一覧!W5","v":"さば"},{"$f":"一覧!X5","v":"大豆"},{"$f":"一覧!Y5","v":"鶏肉"},{"$f":"一覧!Z5","v":"豚肉"},{"$f":"一覧!AA5","v":"牛肉"},{"$f":"一覧!AB5","v":"マカダミア"},{"$f":"一覧!AC5","v":"やまいも"},{"$f":"一覧!AD5","v":"ゼラチン"},{"$f":"一覧!AE5","v":"あわび"}]
[null,"豆乳（大豆）",null,null,null,"大豆",null,null,null,null,{"$f":"IF(F6=\"\",0,LEN(F6)-LEN(SUBSTITUTE(F6, \"、\", \"\"))+1)","v":1},{"$f":"SUM(M6:AN6)","v":1},{"$f":"COUNTIF($F6,\"*\"&M$5&\"*\")","v":0},{"$f":"COUNTIF($F6,\"*\"&N$5&\"*\")","v":0},0,0,0,0,0,0,0,0,0,0,0,0,0,0,0,0,0,0,1,0,0,0,0,0,0,0]
[null,"植物油",null,null,null,"大豆",null,null,null,null,{"$f":"IF(F7=\"\",0,LEN(F7)-LEN(SUBSTITUTE(F7, \"、\", \"\"))+1)","v":1},{"$f":"SUM(M7:AN7)","v":1},{"$f":"COUNTIF($F7,\"*\"&M$5&\"*\")","v":0},0,0,0,0,0,0,0,0,0,0,0,0,0,0,0,0,0,0,0,1,0,0,0,0,0,0,0]
[null,"安定剤",null,null,null,null,null,null,null,null,0,0,0,0,0,0,0,0,0,0,0,0,0,0,0,0,0,0,0,0,0,0,0,0,0,0,0,0,0,0]
[null,"焼成カルシウム",null,null,null,null,null,null,null,null,0,0,0,0,0,0,0,0,0,0,0,0,0,0,0,0,0,0,0,0,0,0,0,0,0,0,0,0,0,0]
[null,"豆腐用凝固剤",null,null,null,"大豆",null,null,null,null,1,1,0,0,0,0,0,0,0,0,0,0,0,0,0,0,0,0,0,0,0,0,1,0,0,0,0,0,0,0]
[null,"酵素",null,null,null,null,null,null,null,null,0,0,0,0,0,0,0,0,0,0,0,0,0,0,0,0,0,0,0,0,0,0,0,0,0,0,0,0,0,0]
[null,"ピロリン酸第二鉄",null,null,null,null,null,null,null,null,0,0,0,0,0,0,0,0,0,0,0,0,0,0,0,0,0,0,0,0,0,0,0,0,0,0,0,0,0,0]
[null,"チアミン塩酸塩",null,null,null,null,null,null,null,null,0,0,0,0,0,0,0,0,0,0,0,0,0,0,0,0,0,0,0,0,0,0,0,0,0,0,0,0,0,0]
[null,null,null,null,null,null,null,null,null,null,0,0,0,0,0,0,0,0,0,0,0,0,0,0,0,0,0,0,0,0,0,0,0,0,0,0,0,0,0,0]
[null,null,null,null,null,null,null,null,null,null,0,0,0,0,0,0,0,0,0,0,0,0,0,0,0,{"$f":"COUNTIF($F15,\"*\"&Z$5&\"*\")","v":0},0,0,0,0,0,0,0,0,0,0,0,0,0,0]
[null,null,null,null,null,null,null,null,null,null,0,0,0,0,0,0,0,0,0,0,0,0,0,0,0,0,0,0,0,0,0,0,0,0,0,0,0,0,0,0]
[null,null,null,null,null,null,null,null,null,null,0,0,0,0,0,0,0,0,0,0,0,0,0,0,0,0,0,0,0,0,0,0,0,0,0,0,0,0,0,0]
[null,null,null,null,null,null,null,null,null,null,0,0,0,0,0,0,0,0,0,0,0,0,0,0,0,0,0,0,0,0,0,0,0,0,0,0,0,0,0,0]
[null,null,null,null,null,null,null,null,null,null,0,0,0,0,0,0,0,0,0,0,0,0,0,0,0,0,0,0,0,0,0,0,0,0,0,0,0,0,0,0]
[null,null,null,null,null,null,null,null,null,null,0,0,0,0,0,0,0,0,0,0,0,0,0,0,0,0,0,0,0,0,0,0,0,0,0,0,0,0,0,0]
[null,null,null,null,null,null,null,null,null,null,0,0,0,0,0,0,0,0,0,0,0,0,0,0,0,0,0,0,0,0,0,0,0,0,0,0,0,0,0,0]
[null,null,null,null,null,null,null,null,null,null,0,0,0,0,0,0,0,0,0,0,0,0,0,0,0,0,0,0,0,0,0,0,0,0,0,0,0,0,0,0]
[null,null,null,null,null,null,null,null,null,null,0,0,0,0,0,0,0,0,0,0,0,0,0,0,0,0,0,0,0,0,0,0,0,0,0,0,0,0,0,0]
[null,null,null,null,null,null,null,null,null,null,0,0,0,0,0,0,0,0,0,0,0,0,0,0,0,0,0,0,0,0,0,0,0,0,0,0,0,0,0,0]
[null,null,null,null,null,null,null,null,null,null,0,0,0,0,0,0,0,0,0,0,0,0,0,0,0,0,0,0,0,0,0,0,0,0,0,0,0,0,0,0]
[null,null,null,null,null,null,null,null,null,null,0,0,0,0,0,0,0,0,0,0,0,0,0,0,0,0,0,0,0,0,0,0,0,0,0,0,0,0,0,0]
[null,null,null,null,null,null,null,null,null,null,0,0,0,0,0,0,0,0,0,0,0,0,0,0,0,0,0,0,0,0,0,0,0,0,0,0,0,0,0,0]
[null,null,null,null,null,null,null,null,null,null,0,0,0,0,0,0,0,0,0,0,0,0,0,0,0,0,0,0,0,0,0,0,0,0,0,0,0,0,0,0]
[null,null,null,null,null,null,null,null,null,null,0,0,0,0,0,0,0,0,0,0,0,0,0,0,0,0,0,0,0,0,0,0,0,0,0,0,0,0,0,0]
[null,null,null,null,null,null,null,null,null,null,0,0,0,0,0,0,0,0,0,0,{"$f":"COUNTIF($F30,\"*\"&U$5&\"*\")","v":0},0,0,0,0,0,0,0,0,0,0,0,0,0,0,0,0,0,0,0]
[null,null,null,null,null,null,null,null,null,null,0,0,{"$f":"COUNTIF($F31,\"*\"&M$5&\"*\")","v":0},0,0,0,0,0,0,0,0,0,0,0,0,0,0,0,0,{"$f":"COUNTIF($F31,\"*\"&AD$5&\"*\")","v":0},0,0,0,0,0,0,0,0,0,0]
[null,null,null,null,null,null,null,null,null,null,0,0,0,0,0,0,0,0,0,0,0,0,0,0,0,0,0,0,0,0,0,0,0,0,0,0,0,0,0,0]
[null,null,null,null,null,null,null,null,null,null,0,0,0,0,0,0,0,0,0,0,0,0,0,0,0,0,0,0,0,0,0,0,0,0,0,0,0,0,0,0]
[null,null,null,null,null,null,null,null,null,null,0,0,0,0,0,0,0,0,0,0,0,0,0,0,0,0,0,0,0,0,0,0,0,0,0,0,0,0,0,0]
[null,null,null,null,null,null,null,null,null,null,0,0,0,0,0,0,0,0,0,0,0,0,0,0,0,0,0,0,0,0,0,0,0,0,0,0,0,0,0,0]
[null,null,null,null,null,null,null,null,null,null,0,0,0,0,0,0,0,0,0,0,0,0,0,0,0,0,0,0,0,0,0,0,0,0,0,0,0,0,0,0]
[null,null,null,null,null,null,null,null,null,null,0,0,0,0,0,0,0,0,0,0,0,0,0,0,0,0,0,0,0,0,0,0,0,0,0,0,0,0,0,0]
[null,null,null,null,null,null,null,null,null,null,0,0,0,0,0,0,0,0,0,0,0,0,0,0,0,0,0,0,0,0,0,0,0,0,0,0,0,0,0,0]
[null,null,null,null,null,null,null,null,null,null,0,0,0,0,0,0,0,0,0,0,0,0,0,0,0,0,0,0,0,0,0,0,0,0,0,0,0,0,0,0]
[null,null,null,null,null,null,null,null,null,null,0,0,0,0,0,0,0,0,0,0,0,0,0,0,0,0,0,0,0,0,0,0,0,0,0,0,0,0,0,0]
[null,null,null,null,null,null,null,null,null,null,0,0,0,0,0,0,0,0,0,0,0,0,0,0,0,0,0,0,0,0,0,0,0,0,0,0,0,0,0,0]
[null,null,null,null,null,null,null,null,null,null,0,0,0,0,0,0,0,0,0,0,0,0,0,0,0,0,0,0,0,0,0,0,0,0,0,0,0,0,0,0]
["コンタミネーション","なし",null,null,null,null,null,null,null,null,{"$f":"IF(OR($B43=\"\",$B43=\"なし\"),0,LEN($B43)-LEN(SUBSTITUTE($B43, \"、\", \"\"))+1)","v":0},0,{"$f":"COUNTIF($B43,\"*\"&M$5&\"*\")","v":0},{"$f":"COUNTIF($B43,\"*\"&N$5&\"*\")","v":0},0,0,0,0,0,0,0,0,0,0,0,0,0,0,0,0,{"$f":"COUNTIF($B43,\"*\"&AE$5&\"*\")","v":0},0,0,0,0,0,0,0,0,0]
[null,null,null,null,null,null,null,null,null,null,0,0,{"$f":"COUNTIF($B44,\"*\"&M$5&\"*\")","v":0},0,0,0,0,0,0,0,0,0,0,0,0,0,0,0,0,0,0,0,0,0,0,0,0,0,0,0]
[null,null,null,null,null,null,null,null,null,null,0,0,0,0,0,0,0,0,0,0,0,0,0,0,0,0,0,0,0,0,0,0,0,0,0,0,0,0,0,0]
["特記事項"]
[]
[]
[null,"●　商品の終売・リニューアルの場合は成分等が変更になる場合があります。ご了承ください。"]
["製造元","株式会社ソイフ"]
[]
[{"$f":"一覧!$A$43","v":"オーエンス泉岳自然ふれあい館"}]

{"sheet":"甘酢たれ","index":20,"n_rows":52,"n_cols":40,"rows_kept":52,"cut":false,"hidden":false,"merged":[[9,1,9,4],[51,0,51,8],[45,0,48,0],[45,1,45,8],[46,1,46,8],[47,1,47,8],[48,1,48,8],[49,0,50,0],[49,1,50,8],[40,1,40,4],[40,5,40,8],[41,1,41,4],[41,5,41,8],[42,0,44,0],[42,1,42,8],[43,1,43,8],[44,1,44,8],[37,1,37,4],[37,5,37,8],[38,1,38,4],[38,5,38,8],[39,1,39,4],[39,5,39,8],[34,1,34,4],[34,5,34,8],[35,1,35,4],[35,5,35,8],[36,1,36,4],[36,5,36,8],[31,1,31,4],[31,5,31,8],[32,1,32,4],[32,5,32,8],[33,1,33,4],[33,5,33,8],[28,1,28,4],[28,5,28,8],[29,1,29,4],[29,5,29,8],[30,1,30,4],[30,5,30,8],[25,1,25,4],[25,5,25,8],[26,1,26,4],[26,5,26,8],[27,1,27,4],[27,5,27,8],[22,1,22,4],[22,5,22,8],[23,1,23,4],[23,5,23,8],[24,1,24,4],[24,5,24,8],[19,1,19,4],[19,5,19,8],[20,1,20,4],[20,5,20,8],[21,1,21,4],[21,5,21,8],[16,1,16,4],[16,5,16,8],[17,1,17,4],[17,5,17,8],[18,1,18,4],[18,5,18,8],[13,1,13,4],[13,5,13,8],[14,1,14,4],[14,5,14,8],[15,1,15,4],[15,5,15,8],[10,5,10,8],[11,1,11,4],[11,5,11,8],[12,1,12,4],[12,5,12,8],[1,1,1,8],[2,0,3,0],[2,1,3,7],[4,0,41,0],[4,1,4,4],[4,5,4,8],[5,1,5,4],[5,5,5,8],[6,5,6,8],[6,1,6,4],[7,5,7,8],[7,1,7,4],[8,5,8,8],[8,1,8,4],[9,5,9,8],[10,1,10,4]]}
["一覧へ"]
["シート名",{"$f":"RIGHT(CELL(\"filename\",A1),LEN(CELL(\"filename\",A1))-FIND(\"]\",CELL(\"filename\",A1)))","v":"甘酢たれ"}]
["商品名","甘酢あんかけ ",null,null,null,null,null,null,"作成日"]
[null,null,null,null,null,null,null,null,{"$f":"一覧!$D$1","v":"2025-02-28"}]
["原材料","原材料名",null,null,null,"28品目アレルゲン",null,null,null,null,"個数①","計","小麦","卵","乳","そば","落花生","えび","かに","ごま","くるみ","カシュ","アーモンド","キウイ","もも","リンゴ","バナナ","オレンジ","いか","いくら","さけ","さば","大豆","鶏肉","豚肉","牛肉","まつたけ","やまいも","ゼラチン","あわび"]
[null,"糖類",null,null,null,null,null,null,null,null,{"$f":"IF(F6=\"\",0,LEN(F6)-LEN(SUBSTITUTE(F6, \"、\", \"\"))+1)","v":0},{"$f":"SUM(M6:AN6)","v":0},{"$f":"COUNTIF($F6,\"*\"&M$5&\"*\")","v":0},{"$f":"COUNTIF($F6,\"*\"&N$5&\"*\")","v":0},0,0,0,0,0,0,0,0,0,0,0,0,0,0,0,0,0,0,0,0,0,0,0,0,0,0]
[null,"しょうゆ",null,null,null,"小麦、大豆",null,null,null,null,{"$f":"IF(F7=\"\",0,LEN(F7)-LEN(SUBSTITUTE(F7, \"、\", \"\"))+1)","v":2},{"$f":"SUM(M7:AN7)","v":2},{"$f":"COUNTIF($F7,\"*\"&M$5&\"*\")","v":1},0,0,0,0,0,0,0,0,0,0,0,0,0,0,0,0,0,0,0,1,0,0,0,0,0,0,0]
[null,"アミノ酸液",null,null,null,"大豆",null,null,null,null,1,1,0,0,0,0,0,0,0,0,0,0,0,0,0,0,0,0,0,0,0,0,1,0,0,0,0,0,0,0]
[null,"醸造酢",null,null,null,null,null,null,null,null,0,0,0,0,0,0,0,0,0,0,0,0,0,0,0,0,0,0,0,0,0,0,0,0,0,0,0,0,0,0]
[null,"食塩",null,null,null,null,null,null,null,null,0,0,0,0,0,0,0,0,0,0,0,0,0,0,0,0,0,0,0,0,0,0,0,0,0,0,0,0,0,0]
[null,"米発酵調味料",null,null,null,null,null,null,null,null,0,0,0,0,0,0,0,0,0,0,0,0,0,0,0,0,0,0,0,0,0,0,0,0,0,0,0,0,0,0]
[null,"たん白加水分解物",null,null,null,null,null,null,null,null,0,0,0,0,0,0,0,0,0,0,0,0,0,0,0,0,0,0,0,0,0,0,0,0,0,0,0,0,0,0]
[null,"ごま油",null,null,null,"ごま",null,null,null,null,1,1,0,0,0,0,0,0,0,1,0,0,0,0,0,0,0,0,0,0,0,0,0,0,0,0,0,0,0,0]
[null,"増粘剤",null,null,null,null,null,null,null,null,0,0,0,0,0,0,0,0,0,0,0,0,0,0,0,0,0,0,0,0,0,0,0,0,0,0,0,0,0,0]
[null,"調味料",null,null,null,null,null,null,null,null,0,0,0,0,0,0,0,0,0,0,0,0,0,0,0,{"$f":"COUNTIF($F15,\"*\"&Z$5&\"*\")","v":0},0,0,0,0,0,0,0,0,0,0,0,0,0,0]
[null,"カラメル色素",null,null,null,null,null,null,null,null,0,0,0,0,0,0,0,0,0,0,0,0,0,0,0,0,0,0,0,0,0,0,0,0,0,0,0,0,0,0]
[null,null,null,null,null,null,null,null,null,null,0,0,0,0,0,0,0,0,0,0,0,0,0,0,0,0,0,0,0,0,0,0,0,0,0,0,0,0,0,0]
[null,null,null,null,null,null,null,null,null,null,0,0,0,0,0,0,0,0,0,0,0,0,0,0,0,0,0,0,0,0,0,0,0,0,0,0,0,0,0,0]
[null,null,null,null,null,null,null,null,null,null,0,0,0,0,0,0,0,0,0,0,0,0,0,0,0,0,0,0,0,0,0,0,0,0,0,0,0,0,0,0]
[null,null,null,null,null,null,null,null,null,null,0,0,0,0,0,0,0,0,0,0,0,0,0,0,0,0,0,0,0,0,0,0,0,0,0,0,0,0,0,0]
[null,null,null,null,null,null,null,null,null,null,0,0,0,0,0,0,0,0,0,0,0,0,0,0,0,0,0,0,0,0,0,0,0,0,0,0,0,0,0,0]
[null,null,null,null,null,null,null,null,null,null,0,0,0,0,0,0,0,0,0,0,0,0,0,0,0,0,0,0,0,0,0,0,0,0,0,0,0,0,0,0]
[null,null,null,null,null,null,null,null,null,null,0,0,0,0,0,0,0,0,0,0,0,0,0,0,0,0,0,0,0,0,0,0,0,0,0,0,0,0,0,0]
[null,null,null,null,null,null,null,null,null,null,0,0,0,0,0,0,0,0,0,0,0,0,0,0,0,0,0,0,0,0,0,0,0,0,0,0,0,0,0,0]
[null,null,null,null,null,null,null,null,null,null,0,0,0,0,0,0,0,0,0,0,0,0,0,0,0,0,0,0,0,0,0,0,0,0,0,0,0,0,0,0]
[null,null,null,null,null,null,null,null,null,null,0,0,0,0,0,0,0,0,0,0,0,0,0,0,0,0,0,0,0,0,0,0,0,0,0,0,0,0,0,0]
[null,null,null,null,null,null,null,null,null,null,0,0,0,0,0,0,0,0,0,0,0,0,0,0,0,0,0,0,0,0,0,0,0,0,0,0,0,0,0,0]
[null,null,null,null,null,null,null,null,null,null,0,0,0,0,0,0,0,0,0,0,0,0,0,0,0,0,0,0,0,0,0,0,0,0,0,0,0,0,0,0]
[null,null,null,null,null,null,null,null,null,null,0,0,0,0,0,0,0,0,0,0,0,0,0,0,0,0,0,0,0,0,0,0,0,0,0,0,0,0,0,0]
[null,null,null,null,null,null,null,null,null,null,0,0,0,0,0,0,0,0,0,0,{"$f":"COUNTIF($F30,\"*\"&U$5&\"*\")","v":0},0,0,0,0,0,0,0,0,0,0,0,0,0,0,0,0,0,0,0]
[null,null,null,null,null,null,null,null,null,null,0,0,{"$f":"COUNTIF($F31,\"*\"&M$5&\"*\")","v":0},0,0,0,0,0,0,0,0,0,0,0,0,0,0,0,0,{"$f":"COUNTIF($F31,\"*\"&AD$5&\"*\")","v":0},0,0,0,0,0,0,0,0,0,0]
[null,null,null,null,null,null,null,null,null,null,0,0,0,0,0,0,0,0,0,0,0,0,0,0,0,0,0,0,0,0,0,0,0,0,0,0,0,0,0,0]
[null,null,null,null,null,null,null,null,null,null,0,0,0,0,0,0,0,0,0,0,0,0,0,0,0,0,0,0,0,0,0,0,0,0,0,0,0,0,0,0]
[null,null,null,null,null,null,null,null,null,null,0,0,0,0,0,0,0,0,0,0,0,0,0,0,0,0,0,0,0,0,0,0,0,0,0,0,0,0,0,0]
[null,null,null,null,null,null,null,null,null,null,0,0,0,0,0,0,0,0,0,0,0,0,0,0,0,0,0,0,0,0,0,0,0,0,0,0,0,0,0,0]
[null,null,null,null,null,null,null,null,null,null,0,0,0,0,0,0,0,0,0,0,0,0,0,0,0,0,0,0,0,0,0,0,0,0,0,0,0,0,0,0]
[null,null,null,null,null,null,null,null,null,null,0,0,0,0,0,0,0,0,0,0,0,0,0,0,0,0,0,0,0,0,0,0,0,0,0,0,0,0,0,0]
[null,null,null,null,null,null,null,null,null,null,0,0,0,0,0,0,0,0,0,0,0,0,0,0,0,0,0,0,0,0,0,0,0,0,0,0,0,0,0,0]
[null,null,null,null,null,null,null,null,null,null,0,0,0,0,0,0,0,0,0,0,0,0,0,0,0,0,0,0,0,0,0,0,0,0,0,0,0,0,0,0]
[null,null,null,null,null,null,null,null,null,null,0,0,0,0,0,0,0,0,0,0,0,0,0,0,0,0,0,0,0,0,0,0,0,0,0,0,0,0,0,0]
[null,null,null,null,null,null,null,null,null,null,0,0,0,0,0,0,0,0,0,0,0,0,0,0,0,0,0,0,0,0,0,0,0,0,0,0,0,0,0,0]
[null,null,null,null,null,null,null,null,null,null,0,0,0,0,0,0,0,0,0,0,0,0,0,0,0,0,0,0,0,0,0,0,0,0,0,0,0,0,0,0]
["コンタミネーション","なし",null,null,null,null,null,null,null,null,{"$f":"IF(OR($B43=\"\",$B43=\"なし\"),0,LEN($B43)-LEN(SUBSTITUTE($B43, \"、\", \"\"))+1)","v":0},0,{"$f":"COUNTIF($B43,\"*\"&M$5&\"*\")","v":0},{"$f":"COUNTIF($B43,\"*\"&N$5&\"*\")","v":0},0,0,0,0,0,0,0,0,0,0,0,0,0,0,0,0,{"$f":"COUNTIF($B43,\"*\"&AE$5&\"*\")","v":0},0,0,0,0,0,0,0,0,0]
[null,null,null,null,null,null,null,null,null,null,{"$f":"IF(OR($B44=\"\",$B44=\"なし\"),0,LEN($B44)-LEN(SUBSTITUTE($B44, \"、\", \"\"))+1)","v":0},0,{"$f":"COUNTIF($B44,\"*\"&M$5&\"*\")","v":0},0,0,0,0,0,0,0,0,0,0,0,0,0,0,0,0,0,0,0,0,0,0,0,0,0,0,0]
[null,null,null,null,null,null,null,null,null,null,0,0,0,0,0,0,0,0,0,0,0,0,0,0,0,0,0,0,0,0,0,0,0,0,0,0,0,0,0,0]
["特記事項"]
[]
[]
[null,"●　商品の終売・リニューアルの場合は成分等が変更になる場合があります。ご了承ください。"]
["製造元","株式会社Mizkan"]
[]
[{"$f":"一覧!$A$43","v":"オーエンス泉岳自然ふれあい館"}]

{"sheet":"白玉","index":21,"n_rows":52,"n_cols":40,"rows_kept":52,"cut":false,"hidden":false,"merged":[[51,0,51,8],[45,0,48,0],[45,1,45,8],[46,1,46,8],[47,1,47,8],[48,1,48,8],[49,0,50,0],[49,1,50,8],[40,1,40,4],[40,5,40,8],[41,1,41,4],[41,5,41,8],[42,0,44,0],[42,1,42,8],[43,1,43,8],[44,1,44,8],[37,1,37,4],[37,5,37,8],[38,1,38,4],[38,5,38,8],[39,1,39,4],[39,5,39,8],[34,1,34,4],[34,5,34,8],[35,1,35,4],[35,5,35,8],[36,1,36,4],[36,5,36,8],[31,1,31,4],[31,5,31,8],[32,1,32,4],[32,5,32,8],[33,1,33,4],[33,5,33,8],[28,1,28,4],[28,5,28,8],[29,1,29,4],[29,5,29,8],[30,1,30,4],[30,5,30,8],[25,1,25,4],[25,5,25,8],[26,1,26,4],[26,5,26,8],[27,1,27,4],[27,5,27,8],[22,1,22,4],[22,5,22,8],[23,1,23,4],[23,5,23,8],[24,1,24,4],[24,5,24,8],[19,1,19,4],[19,5,19,8],[20,1,20,4],[20,5,20,8],[21,1,21,4],[21,5,21,8],[16,1,16,4],[16,5,16,8],[17,1,17,4],[17,5,17,8],[18,1,18,4],[18,5,18,8],[13,1,13,4],[13,5,13,8],[14,1,14,4],[14,5,14,8],[15,1,15,4],[15,5,15,8],[10,1,10,4],[10,5,10,8],[11,1,11,4],[11,5,11,8],[12,1,12,4],[12,5,12,8],[1,1,1,8],[2,0,3,0],[2,1,3,7],[4,0,41,0],[4,1,4,4],[4,5,4,8],[5,1,5,4],[5,5,5,8],[6,1,6,4],[6,5,6,8],[7,1,7,4],[7,5,7,8],[8,1,8,4],[8,5,8,8],[9,1,9,4],[9,5,9,8]]}
["一覧へ"," "," "]
["シート名",{"$f":"RIGHT(CELL(\"filename\",A1),LEN(CELL(\"filename\",A1))-FIND(\"]\",CELL(\"filename\",A1)))","v":"白玉"}]
["商品名","冷凍白玉",null,null,null,null,null,null,"作成日"]
[null,null,null,null,null,null,null,null,{"$f":"一覧!$D$1","v":"2025-02-28"}]
["原材料","原材料名",null,null,null,"28品目アレルゲン",null,null,null,null,"個数①","計",{"$f":"一覧!D5","v":"小麦"},{"$f":"一覧!E5","v":"卵"},{"$f":"一覧!F5","v":"乳"},{"$f":"一覧!G5","v":"そば"},{"$f":"一覧!H5","v":"落花生"},{"$f":"一覧!I5","v":"えび"},{"$f":"一覧!J5","v":"かに"},{"$f":"一覧!K5","v":"くるみ"},{"$f":"一覧!L5","v":"ごま"},{"$f":"一覧!M5","v":"カシュ"},{"$f":"一覧!N5","v":"アーモンド"},{"$f":"一覧!O5","v":"キウイ"},{"$f":"一覧!P5","v":"もも"},{"$f":"一覧!Q5","v":"リンゴ"},{"$f":"一覧!R5","v":"バナナ"},{"$f":"一覧!S5","v":"オレンジ"},{"$f":"一覧!T5","v":"いか"},{"$f":"一覧!U5","v":"いくら"},{"$f":"一覧!V5","v":"さけ"},{"$f":"一覧!W5","v":"さば"},{"$f":"一覧!X5","v":"大豆"},{"$f":"一覧!Y5","v":"鶏肉"},{"$f":"一覧!Z5","v":"豚肉"},{"$f":"一覧!AA5","v":"牛肉"},{"$f":"一覧!AB5","v":"マカダミア"},{"$f":"一覧!AC5","v":"やまいも"},{"$f":"一覧!AD5","v":"ゼラチン"},{"$f":"一覧!AE5","v":"あわび"}]
[null,"もち米粉",null,null,null,null,null,null,null,null,{"$f":"IF(F6=\"\",0,LEN(F6)-LEN(SUBSTITUTE(F6, \"、\", \"\"))+1)","v":0},{"$f":"SUM(M6:AN6)","v":0},{"$f":"COUNTIF($F6,\"*\"&M$5&\"*\")","v":0},{"$f":"COUNTIF($F6,\"*\"&N$5&\"*\")","v":0},0,0,0,0,0,0,0,0,0,0,0,0,0,0,0,0,0,0,0,0,0,0,0,0,0,0]
[null,"加工でん粉",null,null,null,null,null,null,null,null,{"$f":"IF(F7=\"\",0,LEN(F7)-LEN(SUBSTITUTE(F7, \"、\", \"\"))+1)","v":0},{"$f":"SUM(M7:AN7)","v":0},{"$f":"COUNTIF($F7,\"*\"&M$5&\"*\")","v":0},0,0,0,0,0,0,0,0,0,0,0,0,0,0,0,0,0,0,0,0,0,0,0,0,0,0,0]
[null,null,null,null,null,null,null,null,null,null,0,0,0,0,0,0,0,0,0,0,0,0,0,0,0,0,0,0,0,0,0,0,0,0,0,0,0,0,0,0]
[null,null,null,null,null,null,null,null,null,null,0,0,0,0,0,0,0,0,0,0,0,0,0,0,0,0,0,0,0,0,0,0,0,0,0,0,0,0,0,0]
[null,null,null,null,null,null,null,null,null,null,0,0,0,0,0,0,0,0,0,0,0,0,0,0,0,0,0,0,0,0,0,0,0,0,0,0,0,0,0,0]
[null,null,null,null,null,null,null,null,null,null,0,0,0,0,0,0,0,0,0,0,0,0,0,0,0,0,0,0,0,0,0,0,0,0,0,0,0,0,0,0]
[null,null,null,null,null,null,null,null,null,null,0,0,0,0,0,0,0,0,0,0,0,0,0,0,0,0,0,0,0,0,0,0,0,0,0,0,0,0,0,0]
[null,null,null,null,null,null,null,null,null,null,0,0,0,0,0,0,0,0,0,0,0,0,0,0,0,0,0,0,0,0,0,0,0,0,0,0,0,0,0,0]
[null,null,null,null,null,null,null,null,null,null,0,0,0,0,0,0,0,0,0,0,0,0,0,0,0,0,0,0,0,0,0,0,0,0,0,0,0,0,0,0]
[null,null,null,null,null,null,null,null,null,null,0,0,0,0,0,0,0,0,0,0,0,0,0,0,0,{"$f":"COUNTIF($F15,\"*\"&Z$5&\"*\")","v":0},0,0,0,0,0,0,0,0,0,0,0,0,0,0]
[null,null,null,null,null,null,null,null,null,null,0,0,0,0,0,0,0,0,0,0,0,0,0,0,0,0,0,0,0,0,0,0,0,0,0,0,0,0,0,0]
[null,null,null,null,null,null,null,null,null,null,0,0,0,0,0,0,0,0,0,0,0,0,0,0,0,0,0,0,0,0,0,0,0,0,0,0,0,0,0,0]
[null,null,null,null,null,null,null,null,null,null,0,0,0,0,0,0,0,0,0,0,0,0,0,0,0,0,0,0,0,0,0,0,0,0,0,0,0,0,0,0]
[null,null,null,null,null,null,null,null,null,null,0,0,0,0,0,0,0,0,0,0,0,0,0,0,0,0,0,0,0,0,0,0,0,0,0,0,0,0,0,0]
[null,null,null,null,null,null,null,null,null,null,0,0,0,0,0,0,0,0,0,0,0,0,0,0,0,0,0,0,0,0,0,0,0,0,0,0,0,0,0,0]
[null,null,null,null,null,null,null,null,null,null,0,0,0,0,0,0,0,0,0,0,0,0,0,0,0,0,0,0,0,0,0,0,0,0,0,0,0,0,0,0]
[null,null,null,null,null,null,null,null,null,null,0,0,0,0,0,0,0,0,0,0,0,0,0,0,0,0,0,0,0,0,0,0,0,0,0,0,0,0,0,0]
[null,null,null,null,null,null,null,null,null,null,0,0,0,0,0,0,0,0,0,0,0,0,0,0,0,0,0,0,0,0,0,0,0,0,0,0,0,0,0,0]
[null,null,null,null,null,null,null,null,null,null,0,0,0,0,0,0,0,0,0,0,0,0,0,0,0,0,0,0,0,0,0,0,0,0,0,0,0,0,0,0]
[null,null,null,null,null,null,null,null,null,null,0,0,0,0,0,0,0,0,0,0,0,0,0,0,0,0,0,0,0,0,0,0,0,0,0,0,0,0,0,0]
[null,null,null,null,null,null,null,null,null,null,0,0,0,0,0,0,0,0,0,0,0,0,0,0,0,0,0,0,0,0,0,0,0,0,0,0,0,0,0,0]
[null,null,null,null,null,null,null,null,null,null,0,0,0,0,0,0,0,0,0,0,0,0,0,0,0,0,0,0,0,0,0,0,0,0,0,0,0,0,0,0]
[null,null,null,null,null,null,null,null,null,null,0,0,0,0,0,0,0,0,0,0,0,0,0,0,0,0,0,0,0,0,0,0,0,0,0,0,0,0,0,0]
[null,null,null,null,null,null,null,null,null,null,0,0,0,0,0,0,0,0,0,0,0,0,0,0,0,0,0,0,0,0,0,0,0,0,0,0,0,0,0,0]
[null,null,null,null,null,null,null,null,null,null,0,0,0,0,0,0,0,0,0,0,{"$f":"COUNTIF($F30,\"*\"&U$5&\"*\")","v":0},0,0,0,0,0,0,0,0,0,0,0,0,0,0,0,0,0,0,0]
[null,null,null,null,null,null,null,null,null,null,0,0,{"$f":"COUNTIF($F31,\"*\"&M$5&\"*\")","v":0},0,0,0,0,0,0,0,0,0,0,0,0,0,0,0,0,{"$f":"COUNTIF($F31,\"*\"&AD$5&\"*\")","v":0},0,0,0,0,0,0,0,0,0,0]
[null,null,null,null,null,null,null,null,null,null,0,0,0,0,0,0,0,0,0,0,0,0,0,0,0,0,0,0,0,0,0,0,0,0,0,0,0,0,0,0]
[null,null,null,null,null,null,null,null,null,null,0,0,0,0,0,0,0,0,0,0,0,0,0,0,0,0,0,0,0,0,0,0,0,0,0,0,0,0,0,0]
[null,null,null,null,null,null,null,null,null,null,0,0,0,0,0,0,0,0,0,0,0,0,0,0,0,0,0,0,0,0,0,0,0,0,0,0,0,0,0,0]
[null,null,null,null,null,null,null,null,null,null,0,0,0,0,0,0,0,0,0,0,0,0,0,0,0,0,0,0,0,0,0,0,0,0,0,0,0,0,0,0]
[null,null,null,null,null,null,null,null,null,null,0,0,0,0,0,0,0,0,0,0,0,0,0,0,0,0,0,0,0,0,0,0,0,0,0,0,0,0,0,0]
[null,null,null,null,null,null,null,null,null,null,0,0,0,0,0,0,0,0,0,0,0,0,0,0,0,0,0,0,0,0,0,0,0,0,0,0,0,0,0,0]
[null,null,null,null,null,null,null,null,null,null,0,0,0,0,0,0,0,0,0,0,0,0,0,0,0,0,0,0,0,0,0,0,0,0,0,0,0,0,0,0]
[null,null,null,null,null,null,null,null,null,null,0,0,0,0,0,0,0,0,0,0,0,0,0,0,0,0,0,0,0,0,0,0,0,0,0,0,0,0,0,0]
[null,null,null,null,null,null,null,null,null,null,0,0,0,0,0,0,0,0,0,0,0,0,0,0,0,0,0,0,0,0,0,0,0,0,0,0,0,0,0,0]
[null,null,null,null,null,null,null,null,null,null,0,0,0,0,0,0,0,0,0,0,0,0,0,0,0,0,0,0,0,0,0,0,0,0,0,0,0,0,0,0]
[null,null,null,null,null,null,null,null,null,null,0,0,0,0,0,0,0,0,0,0,0,0,0,0,0,0,0,0,0,0,0,0,0,0,0,0,0,0,0,0]
["コンタミネーション","なし",null,null,null,null,null,null,null,null,{"$f":"IF(OR($B43=\"\",$B43=\"なし\"),0,LEN($B43)-LEN(SUBSTITUTE($B43, \"、\", \"\"))+1)","v":0},0,{"$f":"COUNTIF($B43,\"*\"&M$5&\"*\")","v":0},{"$f":"COUNTIF($B43,\"*\"&N$5&\"*\")","v":0},0,0,0,0,0,0,0,0,0,0,0,0,0,0,0,0,{"$f":"COUNTIF($B43,\"*\"&AE$5&\"*\")","v":0},0,0,0,0,0,0,0,0,0]
[null,null,null,null,null,null,null,null,null,null,0,0,{"$f":"COUNTIF($B44,\"*\"&M$5&\"*\")","v":0},0,0,0,0,0,0,0,0,0,0,0,0,0,0,0,0,0,0,0,0,0,0,0,0,0,0,0]
[null,null,null,null,null,null,null,null,null,null,0,0,0,0,0,0,0,0,0,0,0,0,0,0,0,0,0,0,0,0,0,0,0,0,0,0,0,0,0,0]
["特記事項"]
[]
[]
[null,"●　商品の終売・リニューアルの場合は成分等が変更になる場合があります。ご了承ください。"]
["製造元","株式会社たかの"]
[]
[{"$f":"一覧!$A$43","v":"オーエンス泉岳自然ふれあい館"}]

{"sheet":"ずんだのたれ","index":22,"n_rows":52,"n_cols":40,"rows_kept":52,"cut":false,"hidden":false,"merged":[[51,0,51,8],[10,1,10,4],[45,0,48,0],[45,1,45,8],[46,1,46,8],[47,1,47,8],[48,1,48,8],[49,0,50,0],[49,1,50,8],[40,1,40,4],[40,5,40,8],[41,1,41,4],[41,5,41,8],[42,0,44,0],[42,1,42,8],[43,1,43,8],[44,1,44,8],[37,1,37,4],[37,5,37,8],[38,1,38,4],[38,5,38,8],[39,1,39,4],[39,5,39,8],[34,1,34,4],[34,5,34,8],[35,1,35,4],[35,5,35,8],[36,1,36,4],[36,5,36,8],[31,1,31,4],[31,5,31,8],[32,1,32,4],[32,5,32,8],[33,1,33,4],[33,5,33,8],[28,1,28,4],[28,5,28,8],[29,1,29,4],[29,5,29,8],[30,1,30,4],[30,5,30,8],[25,1,25,4],[25,5,25,8],[26,1,26,4],[26,5,26,8],[27,1,27,4],[27,5,27,8],[22,1,22,4],[22,5,22,8],[23,1,23,4],[23,5,23,8],[24,1,24,4],[24,5,24,8],[19,1,19,4],[19,5,19,8],[20,1,20,4],[20,5,20,8],[21,1,21,4],[21,5,21,8],[16,1,16,4],[16,5,16,8],[17,1,17,4],[17,5,17,8],[18,1,18,4],[18,5,18,8],[13,1,13,4],[13,5,13,8],[14,1,14,4],[14,5,14,8],[15,1,15,4],[15,5,15,8],[10,5,10,8],[11,1,11,4],[11,5,11,8],[12,1,12,4],[12,5,12,8],[1,1,1,8],[2,0,3,0],[2,1,3,7],[4,0,41,0],[4,1,4,4],[4,5,4,8],[5,1,5,4],[5,5,5,8],[6,1,6,4],[6,5,6,8],[7,1,7,4],[7,5,7,8],[8,1,8,4],[8,5,8,8],[9,5,9,8],[9,1,9,4]]}
["一覧へ","　"]
["シート名",{"$f":"RIGHT(CELL(\"filename\",A1),LEN(CELL(\"filename\",A1))-FIND(\"]\",CELL(\"filename\",A1)))","v":"ずんだのたれ"}]
["商品名","KYずんだ",null,null,null,null,null,null,"作成日"]
[null,null,null,null,null,null,null,null,{"$f":"一覧!$D$1","v":"2025-02-28"}]
["原材料","原材料名",null,null,null,"28品目アレルゲン",null,null,null,null,"個数①","計","小麦","卵","乳","そば","落花生","えび","かに","ごま","くるみ","カシュ","アーモンド","キウイ","もも","リンゴ","バナナ","オレンジ","いか","いくら","さけ","さば","大豆","鶏肉","豚肉","牛肉","まつたけ","やまいも","ゼラチン","あわび"]
[null,"枝豆(大豆)",null,null,null,"大豆",null,null,null,null,{"$f":"IF(F6=\"\",0,LEN(F6)-LEN(SUBSTITUTE(F6, \"、\", \"\"))+1)","v":1},{"$f":"SUM(M6:AN6)","v":1},{"$f":"COUNTIF($F6,\"*\"&M$5&\"*\")","v":0},{"$f":"COUNTIF($F6,\"*\"&N$5&\"*\")","v":0},0,0,0,0,0,0,0,0,0,0,0,0,0,0,0,0,0,0,1,0,0,0,0,0,0,0]
[null,"砂糖",null,null,null,null,null,null,null,null,{"$f":"IF(F7=\"\",0,LEN(F7)-LEN(SUBSTITUTE(F7, \"、\", \"\"))+1)","v":0},{"$f":"SUM(M7:AN7)","v":0},{"$f":"COUNTIF($F7,\"*\"&M$5&\"*\")","v":0},0,0,0,0,0,0,0,0,0,0,0,0,0,0,0,0,0,0,0,0,0,0,0,0,0,0,0]
[null,"食塩",null,null,null,null,null,null,null,null,0,0,0,0,0,0,0,0,0,0,0,0,0,0,0,0,0,0,0,0,0,0,0,0,0,0,0,0,0,0]
[null,"トレハロース",null,null,null,null,null,null,null,null,0,0,0,0,0,0,0,0,0,0,0,0,0,0,0,0,0,0,0,0,0,0,0,0,0,0,0,0,0,0]
[null,"着色料",null,null,null,null,null,null,null,null,0,0,0,0,0,0,0,0,0,0,0,0,0,0,0,0,0,0,0,0,0,0,0,0,0,0,0,0,0,0]
[null,"寒天",null,null,null,null,null,null,null,null,0,0,0,0,0,0,0,0,0,0,0,0,0,0,0,0,0,0,0,0,0,0,0,0,0,0,0,0,0,0]
[null,null,null,null,null,null,null,null,null,null,0,0,0,0,0,0,0,0,0,0,0,0,0,0,0,0,0,0,0,0,0,0,0,0,0,0,0,0,0,0]
[null,null,null,null,null,null,null,null,null,null,0,0,0,0,0,0,0,0,0,0,0,0,0,0,0,0,0,0,0,0,0,0,0,0,0,0,0,0,0,0]
[null,null,null,null,null,null,null,null,null,null,0,0,0,0,0,0,0,0,0,0,0,0,0,0,0,0,0,0,0,0,0,0,0,0,0,0,0,0,0,0]
[null,null,null,null,null,null,null,null,null,null,0,0,0,0,0,0,0,0,0,0,0,0,0,0,0,{"$f":"COUNTIF($F15,\"*\"&Z$5&\"*\")","v":0},0,0,0,0,0,0,0,0,0,0,0,0,0,0]
[null,null,null,null,null,null,null,null,null,null,0,0,0,0,0,0,0,0,0,0,0,0,0,0,0,0,0,0,0,0,0,0,0,0,0,0,0,0,0,0]
[null,null,null,null,null,null,null,null,null,null,0,0,0,0,0,0,0,0,0,0,0,0,0,0,0,0,0,0,0,0,0,0,0,0,0,0,0,0,0,0]
[null,null,null,null,null,null,null,null,null,null,0,0,0,0,0,0,0,0,0,0,0,0,0,0,0,0,0,0,0,0,0,0,0,0,0,0,0,0,0,0]
[null,null,null,null,null,null,null,null,null,null,0,0,0,0,0,0,0,0,0,0,0,0,0,0,0,0,0,0,0,0,0,0,0,0,0,0,0,0,0,0]
[null,null,null,null,null,null,null,null,null,null,0,0,0,0,0,0,0,0,0,0,0,0,0,0,0,0,0,0,0,0,0,0,0,0,0,0,0,0,0,0]
[null,null,null,null,null,null,null,null,null,null,0,0,0,0,0,0,0,0,0,0,0,0,0,0,0,0,0,0,0,0,0,0,0,0,0,0,0,0,0,0]
[null,null,null,null,null,null,null,null,null,null,0,0,0,0,0,0,0,0,0,0,0,0,0,0,0,0,0,0,0,0,0,0,0,0,0,0,0,0,0,0]
[null,null,null,null,null,null,null,null,null,null,0,0,0,0,0,0,0,0,0,0,0,0,0,0,0,0,0,0,0,0,0,0,0,0,0,0,0,0,0,0]
[null,null,null,null,null,null,null,null,null,null,0,0,0,0,0,0,0,0,0,0,0,0,0,0,0,0,0,0,0,0,0,0,0,0,0,0,0,0,0,0]
[null,null,null,null,null,null,null,null,null,null,0,0,0,0,0,0,0,0,0,0,0,0,0,0,0,0,0,0,0,0,0,0,0,0,0,0,0,0,0,0]
[null,null,null,null,null,null,null,null,null,null,0,0,0,0,0,0,0,0,0,0,0,0,0,0,0,0,0,0,0,0,0,0,0,0,0,0,0,0,0,0]
[null,null,null,null,null,null,null,null,null,null,0,0,0,0,0,0,0,0,0,0,0,0,0,0,0,0,0,0,0,0,0,0,0,0,0,0,0,0,0,0]
[null,null,null,null,null,null,null,null,null,null,0,0,0,0,0,0,0,0,0,0,0,0,0,0,0,0,0,0,0,0,0,0,0,0,0,0,0,0,0,0]
[null,null,null,null,null,null,null,null,null,null,0,0,0,0,0,0,0,0,0,0,0,0,0,0,0,0,0,0,0,0,0,0,0,0,0,0,0,0,0,0]
[null,null,null,null,null,null,null,null,null,null,0,0,0,0,0,0,0,0,0,0,{"$f":"COUNTIF($F30,\"*\"&U$5&\"*\")","v":0},0,0,0,0,0,0,0,0,0,0,0,0,0,0,0,0,0,0,0]
[null,null,null,null,null,null,null,null,null,null,0,0,{"$f":"COUNTIF($F31,\"*\"&M$5&\"*\")","v":0},0,0,0,0,0,0,0,0,0,0,0,0,0,0,0,0,{"$f":"COUNTIF($F31,\"*\"&AD$5&\"*\")","v":0},0,0,0,0,0,0,0,0,0,0]
[null,null,null,null,null,null,null,null,null,null,0,0,0,0,0,0,0,0,0,0,0,0,0,0,0,0,0,0,0,0,0,0,0,0,0,0,0,0,0,0]
[null,null,null,null,null,null,null,null,null,null,0,0,0,0,0,0,0,0,0,0,0,0,0,0,0,0,0,0,0,0,0,0,0,0,0,0,0,0,0,0]
[null,null,null,null,null,null,null,null,null,null,0,0,0,0,0,0,0,0,0,0,0,0,0,0,0,0,0,0,0,0,0,0,0,0,0,0,0,0,0,0]
[null,null,null,null,null,null,null,null,null,null,0,0,0,0,0,0,0,0,0,0,0,0,0,0,0,0,0,0,0,0,0,0,0,0,0,0,0,0,0,0]
[null,null,null,null,null,null,null,null,null,null,0,0,0,0,0,0,0,0,0,0,0,0,0,0,0,0,0,0,0,0,0,0,0,0,0,0,0,0,0,0]
[null,null,null,null,null,null,null,null,null,null,0,0,0,0,0,0,0,0,0,0,0,0,0,0,0,0,0,0,0,0,0,0,0,0,0,0,0,0,0,0]
[null,null,null,null,null,null,null,null,null,null,0,0,0,0,0,0,0,0,0,0,0,0,0,0,0,0,0,0,0,0,0,0,0,0,0,0,0,0,0,0]
[null,null,null,null,null,null,null,null,null,null,0,0,0,0,0,0,0,0,0,0,0,0,0,0,0,0,0,0,0,0,0,0,0,0,0,0,0,0,0,0]
[null,null,null,null,null,null,null,null,null,null,0,0,0,0,0,0,0,0,0,0,0,0,0,0,0,0,0,0,0,0,0,0,0,0,0,0,0,0,0,0]
[null,null,null,null,null,null,null,null,null,null,0,0,0,0,0,0,0,0,0,0,0,0,0,0,0,0,0,0,0,0,0,0,0,0,0,0,0,0,0,0]
[null,null,null,null,null,null,null,null,null,null,0,0,0,0,0,0,0,0,0,0,0,0,0,0,0,0,0,0,0,0,0,0,0,0,0,0,0,0,0,0]
["コンタミネーション","なし",null,null,null,null,null,null,null,null,{"$f":"IF(OR($B43=\"\",$B43=\"なし\"),0,LEN($B43)-LEN(SUBSTITUTE($B43, \"、\", \"\"))+1)","v":0},0,{"$f":"COUNTIF($B43,\"*\"&M$5&\"*\")","v":0},{"$f":"COUNTIF($B43,\"*\"&N$5&\"*\")","v":0},0,0,0,0,0,0,0,0,0,0,0,0,0,0,0,0,{"$f":"COUNTIF($B43,\"*\"&AE$5&\"*\")","v":0},0,0,0,0,0,0,0,0,0]
[null,null,null,null,null,null,null,null,null,null,0,0,{"$f":"COUNTIF($B44,\"*\"&M$5&\"*\")","v":0},0,0,0,0,0,0,0,0,0,0,0,0,0,0,0,0,0,0,0,0,0,0,0,0,0,0,0]
[null,null,null,null,null,null,null,null,null,null,0,0,0,0,0,0,0,0,0,0,0,0,0,0,0,0,0,0,0,0,0,0,0,0,0,0,0,0,0,0]
["特記事項"]
[]
[]
[null,"●　商品の終売・リニューアルの場合は成分等が変更になる場合があります。ご了承ください。"]
["製造元","株式会社　三和フーズ"]
[]
[{"$f":"一覧!$A$43","v":"オーエンス泉岳自然ふれあい館"}]

{"sheet":"ぶどうゼリー","index":23,"n_rows":52,"n_cols":40,"rows_kept":52,"cut":false,"hidden":false,"merged":[[51,0,51,8],[45,0,48,0],[45,1,45,8],[46,1,46,8],[47,1,47,8],[48,1,48,8],[49,0,50,0],[49,1,50,8],[40,1,40,4],[40,5,40,8],[41,1,41,4],[41,5,41,8],[42,0,44,0],[42,1,42,8],[43,1,43,8],[44,1,44,8],[37,1,37,4],[37,5,37,8],[38,1,38,4],[38,5,38,8],[39,1,39,4],[39,5,39,8],[34,1,34,4],[34,5,34,8],[35,1,35,4],[35,5,35,8],[36,1,36,4],[36,5,36,8],[31,1,31,4],[31,5,31,8],[32,1,32,4],[32,5,32,8],[33,1,33,4],[33,5,33,8],[28,1,28,4],[28,5,28,8],[29,1,29,4],[29,5,29,8],[30,1,30,4],[30,5,30,8],[25,1,25,4],[25,5,25,8],[26,1,26,4],[26,5,26,8],[27,1,27,4],[27,5,27,8],[22,1,22,4],[22,5,22,8],[23,1,23,4],[23,5,23,8],[24,1,24,4],[24,5,24,8],[19,1,19,4],[19,5,19,8],[20,1,20,4],[20,5,20,8],[21,1,21,4],[21,5,21,8],[16,1,16,4],[16,5,16,8],[17,1,17,4],[17,5,17,8],[18,1,18,4],[18,5,18,8],[13,1,13,4],[13,5,13,8],[14,1,14,4],[14,5,14,8],[15,1,15,4],[15,5,15,8],[10,1,10,4],[10,5,10,8],[11,1,11,4],[11,5,11,8],[12,1,12,4],[12,5,12,8],[1,1,1,8],[2,0,3,0],[2,1,3,7],[4,0,41,0],[4,1,4,4],[4,5,4,8],[5,1,5,4],[5,5,5,8],[6,1,6,4],[6,5,6,8],[7,1,7,4],[7,5,7,8],[8,1,8,4],[8,5,8,8],[9,1,9,4],[9,5,9,8]]}
["一覧へ"]
["シート名",{"$f":"RIGHT(CELL(\"filename\",A1),LEN(CELL(\"filename\",A1))-FIND(\"]\",CELL(\"filename\",A1)))","v":"ぶどうゼリー"}]
["商品名","国産ぶどうゼリー40ｇ",null,null,null,null,null,null,"作成日"]
[null,null,null,null,null,null,null,null,{"$f":"一覧!$D$1","v":"2025-02-28"}]
["原材料","原材料名",null,null,null,"28品目アレルゲン",null,null,null,null,"個数①","計",{"$f":"一覧!D5","v":"小麦"},{"$f":"一覧!E5","v":"卵"},{"$f":"一覧!F5","v":"乳"},{"$f":"一覧!G5","v":"そば"},{"$f":"一覧!H5","v":"落花生"},{"$f":"一覧!I5","v":"えび"},{"$f":"一覧!J5","v":"かに"},{"$f":"一覧!K5","v":"くるみ"},{"$f":"一覧!L5","v":"ごま"},{"$f":"一覧!M5","v":"カシュ"},{"$f":"一覧!N5","v":"アーモンド"},{"$f":"一覧!O5","v":"キウイ"},{"$f":"一覧!P5","v":"もも"},{"$f":"一覧!Q5","v":"リンゴ"},{"$f":"一覧!R5","v":"バナナ"},{"$f":"一覧!S5","v":"オレンジ"},{"$f":"一覧!T5","v":"いか"},{"$f":"一覧!U5","v":"いくら"},{"$f":"一覧!V5","v":"さけ"},{"$f":"一覧!W5","v":"さば"},{"$f":"一覧!X5","v":"大豆"},{"$f":"一覧!Y5","v":"鶏肉"},{"$f":"一覧!Z5","v":"豚肉"},{"$f":"一覧!AA5","v":"牛肉"},{"$f":"一覧!AB5","v":"マカダミア"},{"$f":"一覧!AC5","v":"やまいも"},{"$f":"一覧!AD5","v":"ゼラチン"},{"$f":"一覧!AE5","v":"あわび"}]
[null,"ぶどう果汁",null,null,null,null,null,null,null,null,{"$f":"IF(F6=\"\",0,LEN(F6)-LEN(SUBSTITUTE(F6, \"、\", \"\"))+1)","v":0},{"$f":"SUM(M6:AN6)","v":0},{"$f":"COUNTIF($F6,\"*\"&M$5&\"*\")","v":0},{"$f":"COUNTIF($F6,\"*\"&N$5&\"*\")","v":0},0,0,0,0,0,0,0,0,0,0,0,0,0,0,0,0,0,0,0,0,0,0,0,0,0,0]
[null,"水あめ",null,null,null,null,null,null,null,null,{"$f":"IF(F7=\"\",0,LEN(F7)-LEN(SUBSTITUTE(F7, \"、\", \"\"))+1)","v":0},{"$f":"SUM(M7:AN7)","v":0},{"$f":"COUNTIF($F7,\"*\"&M$5&\"*\")","v":0},0,0,0,0,0,0,0,0,0,0,0,0,0,0,0,0,0,0,0,0,0,0,0,0,0,0,0]
[null,"砂糖",null,null,null,null,null,null,null,null,0,0,0,0,0,0,0,0,0,0,0,0,0,0,0,0,0,0,0,0,0,0,0,0,0,0,0,0,0,0]
[null,"水",null,null,null,null,null,null,null,null,0,0,0,0,0,0,0,0,0,0,0,0,0,0,0,0,0,0,0,0,0,0,0,0,0,0,0,0,0,0]
[null,"(使用添加物）",null,null,null,null,null,null,null,null,0,0,0,0,0,0,0,0,0,0,0,0,0,0,0,0,0,0,0,0,0,0,0,0,0,0,0,0,0,0]
[null,"乳酸ca",null,null,null,null,null,null,null,null,0,0,0,0,0,0,0,0,0,0,0,0,0,0,0,0,0,0,0,0,0,0,0,0,0,0,0,0,0,0]
[null,"ゲル化剤（増粘多糖類）",null,null,null,null,null,null,null,null,0,0,0,0,0,0,0,0,0,0,0,0,0,0,0,0,0,0,0,0,0,0,0,0,0,0,0,0,0,0]
[null,"酸味料",null,null,null,null,null,null,null,null,0,0,0,0,0,0,0,0,0,0,0,0,0,0,0,0,0,0,0,0,0,0,0,0,0,0,0,0,0,0]
[null,"ビタミンC",null,null,null,null,null,null,null,null,0,0,0,0,0,0,0,0,0,0,0,0,0,0,0,0,0,0,0,0,0,0,0,0,0,0,0,0,0,0]
[null,"香料",null,null,null,null,null,null,null,null,0,0,0,0,0,0,0,0,0,0,0,0,0,0,0,{"$f":"COUNTIF($F15,\"*\"&Z$5&\"*\")","v":0},0,0,0,0,0,0,0,0,0,0,0,0,0,0]
[null,"クエン酸鉄Na",null,null,null,null,null,null,null,null,0,0,0,0,0,0,0,0,0,0,0,0,0,0,0,0,0,0,0,0,0,0,0,0,0,0,0,0,0,0]
[null,null,null,null,null,null,null,null,null,null,0,0,0,0,0,0,0,0,0,0,0,0,0,0,0,0,0,0,0,0,0,0,0,0,0,0,0,0,0,0]
[null,null,null,null,null,null,null,null,null,null,0,0,0,0,0,0,0,0,0,0,0,0,0,0,0,0,0,0,0,0,0,0,0,0,0,0,0,0,0,0]
[null,null,null,null,null,null,null,null,null,null,0,0,0,0,0,0,0,0,0,0,0,0,0,0,0,0,0,0,0,0,0,0,0,0,0,0,0,0,0,0]
[null,null,null,null,null,null,null,null,null,null,0,0,0,0,0,0,0,0,0,0,0,0,0,0,0,0,0,0,0,0,0,0,0,0,0,0,0,0,0,0]
[null,null,null,null,null,null,null,null,null,null,0,0,0,0,0,0,0,0,0,0,0,0,0,0,0,0,0,0,0,0,0,0,0,0,0,0,0,0,0,0]
[null,null,null,null,null,null,null,null,null,null,0,0,0,0,0,0,0,0,0,0,0,0,0,0,0,0,0,0,0,0,0,0,0,0,0,0,0,0,0,0]
[null,null,null,null,null,null,null,null,null,null,0,0,0,0,0,0,0,0,0,0,0,0,0,0,0,0,0,0,0,0,0,0,0,0,0,0,0,0,0,0]
[null,null,null,null,null,null,null,null,null,null,0,0,0,0,0,0,0,0,0,0,0,0,0,0,0,0,0,0,0,0,0,0,0,0,0,0,0,0,0,0]
[null,null,null,null,null,null,null,null,null,null,0,0,0,0,0,0,0,0,0,0,0,0,0,0,0,0,0,0,0,0,0,0,0,0,0,0,0,0,0,0]
[null,null,null,null,null,null,null,null,null,null,0,0,0,0,0,0,0,0,0,0,0,0,0,0,0,0,0,0,0,0,0,0,0,0,0,0,0,0,0,0]
[null,null,null,null,null,null,null,null,null,null,0,0,0,0,0,0,0,0,0,0,0,0,0,0,0,0,0,0,0,0,0,0,0,0,0,0,0,0,0,0]
[null,null,null,null,null,null,null,null,null,null,0,0,0,0,0,0,0,0,0,0,0,0,0,0,0,0,0,0,0,0,0,0,0,0,0,0,0,0,0,0]
[null,null,null,null,null,null,null,null,null,null,0,0,0,0,0,0,0,0,0,0,0,0,0,0,0,0,0,0,0,0,0,0,0,0,0,0,0,0,0,0]
[null,null,null,null,null,null,null,null,null,null,0,0,0,0,0,0,0,0,0,0,{"$f":"COUNTIF($F30,\"*\"&U$5&\"*\")","v":0},0,0,0,0,0,0,0,0,0,0,0,0,0,0,0,0,0,0,0]
[null,null,null,null,null,null,null,null,null,null,0,0,{"$f":"COUNTIF($F31,\"*\"&M$5&\"*\")","v":0},0,0,0,0,0,0,0,0,0,0,0,0,0,0,0,0,{"$f":"COUNTIF($F31,\"*\"&AD$5&\"*\")","v":0},0,0,0,0,0,0,0,0,0,0]
[null,null,null,null,null,null,null,null,null,null,0,0,0,0,0,0,0,0,0,0,0,0,0,0,0,0,0,0,0,0,0,0,0,0,0,0,0,0,0,0]
[null,null,null,null,null,null,null,null,null,null,0,0,0,0,0,0,0,0,0,0,0,0,0,0,0,0,0,0,0,0,0,0,0,0,0,0,0,0,0,0]
[null,null,null,null,null,null,null,null,null,null,0,0,0,0,0,0,0,0,0,0,0,0,0,0,0,0,0,0,0,0,0,0,0,0,0,0,0,0,0,0]
[null,null,null,null,null,null,null,null,null,null,0,0,0,0,0,0,0,0,0,0,0,0,0,0,0,0,0,0,0,0,0,0,0,0,0,0,0,0,0,0]
[null,null,null,null,null,null,null,null,null,null,0,0,0,0,0,0,0,0,0,0,0,0,0,0,0,0,0,0,0,0,0,0,0,0,0,0,0,0,0,0]
[null,null,null,null,null,null,null,null,null,null,0,0,0,0,0,0,0,0,0,0,0,0,0,0,0,0,0,0,0,0,0,0,0,0,0,0,0,0,0,0]
[null,null,null,null,null,null,null,null,null,null,0,0,0,0,0,0,0,0,0,0,0,0,0,0,0,0,0,0,0,0,0,0,0,0,0,0,0,0,0,0]
[null,null,null,null,null,null,null,null,null,null,0,0,0,0,0,0,0,0,0,0,0,0,0,0,0,0,0,0,0,0,0,0,0,0,0,0,0,0,0,0]
[null,null,null,null,null,null,null,null,null,null,0,0,0,0,0,0,0,0,0,0,0,0,0,0,0,0,0,0,0,0,0,0,0,0,0,0,0,0,0,0]
[null,null,null,null,null,null,null,null,null,null,0,0,0,0,0,0,0,0,0,0,0,0,0,0,0,0,0,0,0,0,0,0,0,0,0,0,0,0,0,0]
[null,null,null,null,null,null,null,null,null,null,0,0,0,0,0,0,0,0,0,0,0,0,0,0,0,0,0,0,0,0,0,0,0,0,0,0,0,0,0,0]
["コンタミネーション","なし",null,null,null,null,null,null,null,null,{"$f":"IF(OR($B43=\"\",$B43=\"なし\"),0,LEN($B43)-LEN(SUBSTITUTE($B43, \"、\", \"\"))+1)","v":0},0,{"$f":"COUNTIF($B43,\"*\"&M$5&\"*\")","v":0},{"$f":"COUNTIF($B43,\"*\"&N$5&\"*\")","v":0},0,0,0,0,0,0,0,0,0,0,0,0,0,0,0,0,{"$f":"COUNTIF($B43,\"*\"&AE$5&\"*\")","v":0},0,0,0,0,0,0,0,0,0]
[null,null,null,null,null,null,null,null,null,null,0,0,{"$f":"COUNTIF($B44,\"*\"&M$5&\"*\")","v":0},0,0,0,0,0,0,0,0,0,0,0,0,0,0,0,0,0,0,0,0,0,0,0,0,0,0,0]
[null,null,null,null,null,null,null,null,null,null,0,0,0,0,0,0,0,0,0,0,0,0,0,0,0,0,0,0,0,0,0,0,0,0,0,0,0,0,0,0]
["特記事項"]
[null,"コンタミネーション防止のため異なる製品の切替時は適切な方法により十分に洗浄"]
[null,"をした上で製造にあたってます。"]
[null,"●　商品の終売・リニューアルの場合は成分等が変更になる場合があります。ご了承ください。"]
["製造元","日東ベスト株式会社"]
[]
[{"$f":"一覧!$A$43","v":"オーエンス泉岳自然ふれあい館"}]

{"sheet":"鶏唐揚げ","index":24,"n_rows":52,"n_cols":40,"rows_kept":52,"cut":false,"hidden":false,"merged":[[1,1,1,8],[2,0,3,0],[2,1,3,7],[4,0,41,0],[4,1,4,4],[4,5,4,8],[5,1,5,4],[5,5,5,8],[6,1,6,4],[6,5,6,8],[7,1,7,4],[7,5,7,8],[8,1,8,4],[8,5,8,8],[9,1,9,4],[9,5,9,8],[10,1,10,4],[10,5,10,8],[11,1,11,4],[11,5,11,8],[12,1,12,4],[12,5,12,8],[13,1,13,4],[13,5,13,8],[14,1,14,4],[14,5,14,8],[15,1,15,4],[15,5,15,8],[16,1,16,4],[16,5,16,8],[17,1,17,4],[17,5,17,8],[18,1,18,4],[18,5,18,8],[19,1,19,4],[19,5,19,8],[20,1,20,4],[20,5,20,8],[21,1,21,4],[21,5,21,8],[22,1,22,4],[22,5,22,8],[23,1,23,4],[23,5,23,8],[24,1,24,4],[24,5,24,8],[25,1,25,4],[25,5,25,8],[26,1,26,4],[26,5,26,8],[27,1,27,4],[27,5,27,8],[28,1,28,4],[28,5,28,8],[29,1,29,4],[29,5,29,8],[30,1,30,4],[30,5,30,8],[31,1,31,4],[31,5,31,8],[32,1,32,4],[32,5,32,8],[33,1,33,4],[33,5,33,8],[34,1,34,4],[34,5,34,8],[35,1,35,4],[35,5,35,8],[36,1,36,4],[36,5,36,8],[37,1,37,4],[37,5,37,8],[38,1,38,4],[38,5,38,8],[39,1,39,4],[39,5,39,8],[40,1,40,4],[40,5,40,8],[41,1,41,4],[41,5,41,8],[42,0,44,0],[42,1,42,8],[43,1,43,8],[44,1,44,8],[51,0,51,8],[45,0,48,0],[45,1,45,8],[46,1,46,8],[47,1,47,8],[48,1,48,8],[49,0,50,0],[49,1,50,8]]}
["一覧へ","　"]
["シート名",{"$f":"RIGHT(CELL(\"filename\",A1),LEN(CELL(\"filename\",A1))-FIND(\"]\",CELL(\"filename\",A1)))","v":"鶏唐揚げ"}]
["商品名","やわらか鶏もも唐揚げ",null,null,null,null,null,null,"作成日"]
[null,null,null,null,null,null,null,null,{"$f":"一覧!$D$1","v":"2025-02-28"}]
["原材料","原材料名",null,null,null,"28品目アレルゲン",null,null,null,null,"個数①","計","小麦","卵","乳","そば","落花生","えび","かに","くるみ","ごま","カシュ","アーモンド","キウイ","もも","リンゴ","バナナ","オレンジ","いか","いくら","さけ","さば","大豆","鶏肉","豚肉","牛肉","マカダミア","やまいも","ゼラチン","あわび"]
[null,"鶏肉",null,null,null,"鶏肉",null,null,null,null,{"$f":"IF(F6=\"\",0,LEN(F6)-LEN(SUBSTITUTE(F6, \"、\", \"\"))+1)","v":1},{"$f":"SUM(M6:AN6)","v":1},{"$f":"COUNTIF($F6,\"*\"&M$5&\"*\")","v":0},0,0,0,0,0,0,0,0,0,0,0,0,0,0,0,{"$f":"COUNTIF($F6,\"*\"&AC$5&\"*\")","v":0},0,0,0,0,1,0,0,0,0,0,0]
[null,"でん粉",null,null,null,"小麦",null,null,null,null,{"$f":"IF(F7=\"\",0,LEN(F7)-LEN(SUBSTITUTE(F7, \"、\", \"\"))+1)","v":1},1,1,0,0,0,0,0,0,0,0,0,0,0,0,0,0,0,0,0,0,0,0,0,0,0,0,0,0,0]
[null,"しょうゆ",null,null,null,"小麦、大豆",null,null,null,null,{"$f":"IF(#REF!=\"\",0,LEN(#REF!)-LEN(SUBSTITUTE(#REF!, \"、\", \"\"))+1)","v":{"$error":"#REF!"}},{"$error":"#REF!"},{"$f":"COUNTIF(#REF!,\"*\"&M$5&\"*\")","v":{"$error":"#REF!"}},{"$f":"COUNTIF(#REF!,\"*\"&N$5&\"*\")","v":{"$error":"#REF!"}},{"$f":"COUNTIF(#REF!,\"*\"&O$5&\"*\")","v":{"$error":"#REF!"}},{"$f":"COUNTIF(#REF!,\"*\"&P$5&\"*\")","v":{"$error":"#REF!"}},{"$f":"COUNTIF(#REF!,\"*\"&Q$5&\"*\")","v":{"$error":"#REF!"}},{"$f":"COUNTIF(#REF!,\"*\"&R$5&\"*\")","v":{"$error":"#REF!"}},{"$f":"COUNTIF(#REF!,\"*\"&S$5&\"*\")","v":{"$error":"#REF!"}},{"$f":"COUNTIF(#REF!,\"*\"&T$5&\"*\")","v":{"$error":"#REF!"}},{"$f":"COUNTIF(#REF!,\"*\"&U$5&\"*\")","v":{"$error":"#REF!"}},{"$f":"COUNTIF(#REF!,\"*\"&V$5&\"*\")","v":{"$error":"#REF!"}},{"$f":"COUNTIF(#REF!,\"*\"&W$5&\"*\")","v":{"$error":"#REF!"}},{"$f":"COUNTIF(#REF!,\"*\"&X$5&\"*\")","v":{"$error":"#REF!"}},{"$f":"COUNTIF(#REF!,\"*\"&Y$5&\"*\")","v":{"$error":"#REF!"}},{"$f":"COUNTIF(#REF!,\"*\"&Z$5&\"*\")","v":{"$error":"#REF!"}},{"$f":"COUNTIF(#REF!,\"*\"&AA$5&\"*\")","v":{"$error":"#REF!"}},{"$f":"COUNTIF(#REF!,\"*\"&AB$5&\"*\")","v":{"$error":"#REF!"}},{"$f":"COUNTIF(#REF!,\"*\"&AC$5&\"*\")","v":{"$error":"#REF!"}},{"$f":"COUNTIF(#REF!,\"*\"&AD$5&\"*\")","v":{"$error":"#REF!"}},{"$f":"COUNTIF(#REF!,\"*\"&AE$5&\"*\")","v":{"$error":"#REF!"}},{"$f":"COUNTIF(#REF!,\"*\"&AF$5&\"*\")","v":{"$error":"#REF!"}},{"$f":"COUNTIF(#REF!,\"*\"&AG$5&\"*\")","v":{"$error":"#REF!"}},{"$f":"COUNTIF(#REF!,\"*\"&AH$5&\"*\")","v":{"$error":"#REF!"}},{"$f":"COUNTIF(#REF!,\"*\"&AI$5&\"*\")","v":{"$error":"#REF!"}},{"$f":"COUNTIF(#REF!,\"*\"&AJ$5&\"*\")","v":{"$error":"#REF!"}},{"$f":"COUNTIF(#REF!,\"*\"&AK$5&\"*\")","v":{"$error":"#REF!"}},{"$f":"COUNTIF(#REF!,\"*\"&AL$5&\"*\")","v":{"$error":"#REF!"}},{"$f":"COUNTIF(#REF!,\"*\"&AM$5&\"*\")","v":{"$error":"#REF!"}},{"$f":"COUNTIF(#REF!,\"*\"&AN$5&\"*\")","v":{"$error":"#REF!"}}]
[null,"砂糖",null,null,null,null,null,null,null,null,{"$f":"IF(F8=\"\",0,LEN(F8)-LEN(SUBSTITUTE(F8, \"、\", \"\"))+1)","v":2},2,{"$f":"COUNTIF($F8,\"*\"&M$5&\"*\")","v":1},0,0,0,0,0,0,0,0,0,0,0,0,0,0,0,0,0,0,0,1,0,0,0,0,0,0,0]
[null,"大豆油",null,null,null,"大豆",null,null,null,null,{"$f":"IF(F10=\"\",0,LEN(F10)-LEN(SUBSTITUTE(F10, \"、\", \"\"))+1)","v":1},1,{"$f":"COUNTIF($F10,\"*\"&M$5&\"*\")","v":0},0,0,0,0,0,0,0,0,0,0,0,0,0,0,0,{"$f":"COUNTIF($F10,\"*\"&AC$5&\"*\")","v":0},0,0,0,1,0,0,0,0,0,0,0]
[null,"食塩",null,null,null,null,null,null,null,null,0,0,0,0,0,0,0,0,0,0,0,0,0,0,0,0,0,0,0,0,0,0,0,0,0,0,0,0,0,0]
[null,"香辛料",null,null,null,null,null,null,null,null,0,0,0,0,0,0,0,0,0,0,0,0,0,0,0,0,0,0,0,0,0,0,0,0,0,0,0,0,0,0]
[null,"チキンミートパウダー",null,null,null,"鶏肉",null,null,null,null,1,1,0,0,0,0,0,0,0,0,0,0,0,0,0,0,0,0,0,0,0,0,0,1,0,0,0,0,0,0]
[null,"衣",null,null,null,"小麦、大豆",null,null,null,null,2,2,1,0,0,0,0,0,0,0,0,0,0,0,0,0,0,0,0,0,0,0,1,0,0,0,0,0,0,0]
[null,"揚げ油",null,null,null,"大豆",null,null,null,null,1,1,0,0,0,0,0,0,0,0,0,0,0,0,0,0,0,0,0,0,0,0,1,0,0,0,0,0,0,0]
[null,"加工でん粉",null,null,null,null,null,null,null,null,0,0,0,0,0,0,0,0,0,0,0,0,0,0,0,0,0,0,0,0,0,0,0,0,0,0,0,0,0,0]
[null,"調味料",null,null,null,null,null,null,null,null,0,0,0,0,0,0,0,0,0,0,0,0,0,0,0,0,0,0,0,0,0,0,0,0,0,0,0,0,0,0]
[null,"乳化剤",null,null,null,null,null,null,null,null,0,0,0,0,0,0,0,0,0,0,0,0,0,0,0,0,0,0,0,0,0,0,0,0,0,0,0,0,0,0]
[null,"重曹",null,null,null,null,null,null,null,null,0,0,0,0,0,0,0,0,0,0,0,0,0,0,0,0,0,0,0,0,0,0,0,0,0,0,0,0,0,0]
[null,"増粘剤",null,null,null,null,null,null,null,null,0,0,0,0,0,0,0,0,0,0,0,0,0,0,0,0,0,0,0,0,0,0,0,0,0,0,0,0,0,0]
[null,null,null,null,null,null,null,null,null,null,0,0,0,0,0,0,0,0,0,0,0,0,0,0,0,0,0,0,0,0,0,0,0,0,0,0,0,0,0,0]
[null,null,null,null,null,null,null,null,null,null,0,0,0,0,0,0,0,0,0,0,0,0,0,0,0,0,0,0,0,0,0,0,0,0,0,0,0,0,0,0]
[null,null,null,null,null,null,null,null,null,null,0,0,0,0,0,0,0,0,0,0,0,0,0,0,0,0,0,0,0,0,0,0,0,0,0,0,0,0,0,0]
[null,null,null,null,null,null,null,null,null,null,0,0,0,0,0,0,0,0,0,0,0,0,0,0,0,0,0,0,0,0,0,0,0,0,0,0,0,0,0,0]
[null,null,null,null,null,null,null,null,null,null,0,0,0,0,0,0,0,0,0,0,0,0,0,0,0,0,0,{"$f":"COUNTIF($F25,\"*\"&AB$5&\"*\")","v":0},0,0,0,0,0,0,0,0,0,0,0,0]
[null,null,null,null,null,null,null,null,null,null,0,0,{"$f":"COUNTIF($F26,\"*\"&M$5&\"*\")","v":0},0,0,0,0,0,0,0,0,0,0,0,0,0,0,0,0,0,0,0,0,0,0,0,0,0,{"$f":"COUNTIF($F26,\"*\"&AM$5&\"*\")","v":0},0]
[null,null,null,null,null,null,null,null,null,null,0,0,0,0,0,0,0,0,0,0,0,0,0,0,0,0,0,0,0,0,0,0,0,0,0,0,0,0,0,0]
[null,null,null,null,null,null,null,null,null,null,0,0,0,0,0,0,0,0,0,0,0,0,0,0,0,0,0,0,0,0,0,0,0,0,0,0,0,0,0,0]
[null,null,null,null,null,null,null,null,null,null,0,0,0,0,0,0,0,0,0,0,0,0,0,0,0,0,0,0,0,0,0,0,0,0,0,0,0,0,0,0]
[null,null,null,null,null,null,null,null,null,null,0,0,0,0,0,0,0,0,0,0,0,0,0,0,0,0,0,0,0,0,0,0,0,0,0,0,0,0,0,0]
[null,null,null,null,null,null,null,null,null,null,0,0,0,0,0,0,0,0,0,0,0,0,0,0,0,0,0,0,0,0,0,0,0,0,0,0,0,0,0,0]
[null,null,null,null,null,null,null,null,null,null,0,0,0,0,0,0,0,0,0,0,0,0,0,0,0,0,0,0,0,0,0,0,0,0,0,0,0,0,0,0]
[null,null,null,null,null,null,null,null,null,null,0,0,0,0,0,0,0,0,0,0,0,0,0,0,0,0,0,0,0,0,0,0,0,0,0,0,0,0,0,0]
[null,null,null,null,null,null,null,null,null,null,0,0,0,0,0,0,0,0,0,0,0,0,0,0,0,0,0,0,0,0,0,0,0,0,0,0,0,0,0,0]
[null,null,null,null,null,null,null,null,null,null,0,0,0,0,0,0,0,0,0,0,0,0,0,0,0,0,0,0,0,0,0,0,0,0,0,0,0,0,0,0]
[null,null,null,null,null,null,null,null,null,null,0,0,0,0,0,0,0,0,0,0,0,0,0,0,0,0,0,0,0,0,0,0,0,0,0,0,0,0,0,0]
[null,null,null,null,null,null,null,null,null,null,0,0,0,0,0,0,0,0,0,0,0,0,0,0,0,0,0,0,0,0,0,0,0,0,0,0,0,0,0,0]
[null,null,null,null,null,null,null,null,null,null,0,0,0,0,0,0,0,0,0,0,0,0,0,0,0,0,0,0,0,0,0,0,0,0,0,0,0,0,0,0]
[null,null,null,null,null,null,null,null,null,null,0,0,0,0,0,0,0,0,0,0,0,0,0,0,0,0,0,0,0,0,0,0,0,0,0,0,0,0,0,0]
[null,null,null,null,null,null,null,null,null,null,0,0,0,0,0,0,0,0,0,0,0,0,0,0,0,0,0,0,0,0,0,0,0,0,0,0,0,0,0,0]
[null,null,null,null,null,null,null,null,null,null,0,0,0,0,0,0,0,0,0,0,0,0,0,0,0,0,0,0,{"$f":"COUNTIF($F41,\"*\"&AC$5&\"*\")","v":0},0,0,0,0,0,0,0,0,0,0,0]
[null,null,null,null,null,null,null,null,null,null,0,0,{"$f":"COUNTIF($F42,\"*\"&M$5&\"*\")","v":0},0,0,0,0,0,0,0,0,0,0,0,0,0,0,0,0,0,0,0,0,0,0,0,0,0,{"$f":"COUNTIF($F42,\"*\"&AM$5&\"*\")","v":0},0]
["コンタミネーション","なし",null,null,null,null,null,null,null,null,{"$f":"IF(OR($B43=\"\",$B43=\"なし\"),0,LEN($B43)-LEN(SUBSTITUTE($B43, \"、\", \"\"))+1)","v":0},0,{"$f":"COUNTIF($B43,\"*\"&M$5&\"*\")","v":0},0,0,0,0,0,0,0,0,0,0,0,0,0,0,0,{"$f":"COUNTIF($B43,\"*\"&AC$5&\"*\")","v":0},0,0,0,0,0,0,0,0,0,0,0]
[null,null,null,null,null,null,null,null,null,null,{"$f":"IF(OR($B44=\"\",$B44=\"なし\"),0,LEN($B44)-LEN(SUBSTITUTE($B44, \"、\", \"\"))+1)","v":0},0,0,0,0,0,0,0,0,0,0,0,0,0,0,0,0,0,0,0,0,0,0,0,0,0,0,0,0,0]
[null,null,null,null,null,null,null,null,null,null,{"$f":"IF(OR($B45=\"\",$B45=\"なし\"),0,LEN($B45)-LEN(SUBSTITUTE($B45, \"、\", \"\"))+1)","v":0},0,0,0,0,0,0,0,0,0,0,0,0,0,0,0,0,0,0,0,0,0,0,0,0,0,0,0,0,0]
["特記事項","●　原料事情により下記原料の産地が変更する場合があります。"]
[null,"●　加工品原料終売による原料代替等でアレルゲン・GMOの内容が変わる場合があります。"]
[]
[null,"●　商品の終売・リニューアルの場合は成分等が変更になる場合があります。ご了承ください。"]
["製造元","味の素冷凍食品株式会社"]
[]
["オーエンス泉岳自然ふれあい館"]

{"sheet":"キャノーラ油","index":25,"n_rows":52,"n_cols":40,"rows_kept":52,"cut":false,"hidden":false,"merged":[[1,1,1,8],[2,0,3,0],[2,1,3,7],[4,0,41,0],[4,1,4,4],[4,5,4,8],[5,1,5,4],[5,5,5,8],[6,1,6,4],[6,5,6,8],[7,1,7,4],[7,5,7,8],[8,1,8,4],[8,5,8,8],[9,1,9,4],[9,5,9,8],[10,1,10,4],[10,5,10,8],[11,1,11,4],[11,5,11,8],[12,1,12,4],[12,5,12,8],[13,1,13,4],[13,5,13,8],[14,1,14,4],[14,5,14,8],[15,1,15,4],[15,5,15,8],[16,1,16,4],[16,5,16,8],[17,1,17,4],[17,5,17,8],[18,1,18,4],[18,5,18,8],[19,1,19,4],[19,5,19,8],[20,1,20,4],[20,5,20,8],[21,1,21,4],[21,5,21,8],[22,1,22,4],[22,5,22,8],[23,1,23,4],[23,5,23,8],[24,1,24,4],[24,5,24,8],[25,1,25,4],[25,5,25,8],[26,1,26,4],[26,5,26,8],[27,1,27,4],[27,5,27,8],[28,1,28,4],[28,5,28,8],[29,1,29,4],[29,5,29,8],[30,1,30,4],[30,5,30,8],[31,1,31,4],[31,5,31,8],[32,1,32,4],[32,5,32,8],[33,1,33,4],[33,5,33,8],[34,1,34,4],[34,5,34,8],[35,1,35,4],[35,5,35,8],[36,1,36,4],[36,5,36,8],[37,1,37,4],[37,5,37,8],[38,1,38,4],[38,5,38,8],[39,1,39,4],[39,5,39,8],[40,1,40,4],[40,5,40,8],[41,1,41,4],[41,5,41,8],[42,0,44,0],[42,1,42,8],[43,1,43,8],[44,1,44,8],[51,0,51,8],[45,0,48,0],[45,1,45,8],[46,1,46,8],[47,1,47,8],[48,1,48,8],[49,0,50,0],[49,1,50,8]]}
["一覧へ","　"]
["シート名",{"$f":"RIGHT(CELL(\"filename\",A1),LEN(CELL(\"filename\",A1))-FIND(\"]\",CELL(\"filename\",A1)))","v":"キャノーラ油"}]
["商品名","キャノーラサラダ油",null,null,null,null,null,null,"作成日"]
[null,null,null,null,null,null,null,null,{"$f":"一覧!$D$1","v":"2025-02-28"}]
["原材料","原材料名",null,null,null,"28品目アレルゲン",null,null,null,null,"個数①","計","小麦","卵","乳","そば","落花生","えび","かに","くるみ","ごま","カシュ","アーモンド","キウイ","もも","リンゴ","バナナ","オレンジ","いか","いくら","さけ","さば","大豆","鶏肉","豚肉","牛肉","マカダミア","やまいも","ゼラチン","あわび"]
[null,"食用なたね油",null,null,null,null,null,null,null,null,{"$f":"IF(F6=\"\",0,LEN(F6)-LEN(SUBSTITUTE(F6, \"、\", \"\"))+1)","v":0},{"$f":"SUM(M6:AN6)","v":0},{"$f":"COUNTIF($F6,\"*\"&M$5&\"*\")","v":0},{"$f":"COUNTIF($F6,\"*\"&N$5&\"*\")","v":0},0,0,0,0,0,0,0,0,0,0,0,0,0,0,0,0,0,0,0,0,0,0,0,0,0,0]
[null,null,null,null,null,null,null,null,null,null,{"$f":"IF(F7=\"\",0,LEN(F7)-LEN(SUBSTITUTE(F7, \"、\", \"\"))+1)","v":0},{"$f":"SUM(M7:AN7)","v":0},{"$f":"COUNTIF($F7,\"*\"&M$5&\"*\")","v":0},0,0,0,0,0,0,0,0,0,0,0,0,0,0,0,0,0,0,0,0,0,0,0,0,0,0,0]
[null,null,null,null,null,null,null,null,null,null,0,0,0,0,0,0,0,0,0,0,0,0,0,0,0,0,0,0,0,0,0,0,0,0,0,0,0,0,0,0]
[null,null,null,null,null,null,null,null,null,null,0,0,0,0,0,0,0,0,0,0,0,0,0,0,0,0,0,0,0,0,0,0,0,0,0,0,0,0,0,0]
[null,null,null,null,null,null,null,null,null,null,0,0,0,0,0,0,0,0,0,0,0,0,0,0,0,0,0,0,0,0,0,0,0,0,0,0,0,0,0,0]
[null,null,null,null,null,null,null,null,null,null,0,0,0,0,0,0,0,0,0,0,0,0,0,0,0,0,0,0,0,0,0,0,0,0,0,0,0,0,0,0]
[null,null,null,null,null,null,null,null,null,null,0,0,0,0,0,0,0,0,0,0,0,0,0,0,0,0,0,0,0,0,0,0,0,0,0,0,0,0,0,0]
[null,null,null,null,null,null,null,null,null,null,0,0,0,0,0,0,0,0,0,0,0,0,0,0,0,0,0,0,0,0,0,0,0,0,0,0,0,0,0,0]
[null,null,null,null,null,null,null,null,null,null,0,0,0,0,0,0,0,0,0,0,0,0,0,0,0,0,0,0,0,0,0,0,0,0,0,0,0,0,0,0]
[null,null,null,null,null,null,null,null,null,null,0,0,0,0,0,0,0,0,0,0,0,0,0,0,0,{"$f":"COUNTIF($F15,\"*\"&Z$5&\"*\")","v":0},0,0,0,0,0,0,0,0,0,0,0,0,0,0]
[null,null,null,null,null,null,null,null,null,null,0,0,0,0,0,0,0,0,0,0,0,0,0,0,0,0,0,0,0,0,0,0,0,0,0,0,0,0,0,0]
[null,null,null,null,null,null,null,null,null,null,0,0,0,0,0,0,0,0,0,0,0,0,0,0,0,0,0,0,0,0,0,0,0,0,0,0,0,0,0,0]
[null,null,null,null,null,null,null,null,null,null,0,0,0,0,0,0,0,0,0,0,0,0,0,0,0,0,0,0,0,0,0,0,0,0,0,0,0,0,0,0]
[null,null,null,null,null,null,null,null,null,null,0,0,0,0,0,0,0,0,0,0,0,0,0,0,0,0,0,0,0,0,0,0,0,0,0,0,0,0,0,0]
[null,null,null,null,null,null,null,null,null,null,0,0,0,0,0,0,0,0,0,0,0,0,0,0,0,0,0,0,0,0,0,0,0,0,0,0,0,0,0,0]
[null,null,null,null,null,null,null,null,null,null,0,0,0,0,0,0,0,0,0,0,0,0,0,0,0,0,0,0,0,0,0,0,0,0,0,0,0,0,0,0]
[null,null,null,null,null,null,null,null,null,null,0,0,0,0,0,0,0,0,0,0,0,0,0,0,0,0,0,0,0,0,0,0,0,0,0,0,0,0,0,0]
[null,null,null,null,null,null,null,null,null,null,0,0,0,0,0,0,0,0,0,0,0,0,0,0,0,0,0,0,0,0,0,0,0,0,0,0,0,0,0,0]
[null,null,null,null,null,null,null,null,null,null,0,0,0,0,0,0,0,0,0,0,0,0,0,0,0,0,0,0,0,0,0,0,0,0,0,0,0,0,0,0]
[null,null,null,null,null,null,null,null,null,null,0,0,0,0,0,0,0,0,0,0,0,0,0,0,0,0,0,0,0,0,0,0,0,0,0,0,0,0,0,0]
[null,null,null,null,null,null,null,null,null,null,0,0,0,0,0,0,0,0,0,0,0,0,0,0,0,0,0,0,0,0,0,0,0,0,0,0,0,0,0,0]
[null,null,null,null,null,null,null,null,null,null,0,0,0,0,0,0,0,0,0,0,0,0,0,0,0,0,0,0,0,0,0,0,0,0,0,0,0,0,0,0]
[null,null,null,null,null,null,null,null,null,null,0,0,0,0,0,0,0,0,0,0,0,0,0,0,0,0,0,0,0,0,0,0,0,0,0,0,0,0,0,0]
[null,null,null,null,null,null,null,null,null,null,0,0,0,0,0,0,0,0,0,0,0,0,0,0,0,0,0,0,0,0,0,0,0,0,0,0,0,0,0,0]
[null,null,null,null,null,null,null,null,null,null,0,0,0,0,0,0,0,0,0,0,{"$f":"COUNTIF($F30,\"*\"&U$5&\"*\")","v":0},0,0,0,0,0,0,0,0,0,0,0,0,0,0,0,0,0,0,0]
[null,null,null,null,null,null,null,null,null,null,0,0,{"$f":"COUNTIF($F31,\"*\"&M$5&\"*\")","v":0},0,0,0,0,0,0,0,0,0,0,0,0,0,0,0,0,{"$f":"COUNTIF($F31,\"*\"&AD$5&\"*\")","v":0},0,0,0,0,0,0,0,0,0,0]
[null,null,null,null,null,null,null,null,null,null,0,0,0,0,0,0,0,0,0,0,0,0,0,0,0,0,0,0,0,0,0,0,0,0,0,0,0,0,0,0]
[null,null,null,null,null,null,null,null,null,null,0,0,0,0,0,0,0,0,0,0,0,0,0,0,0,0,0,0,0,0,0,0,0,0,0,0,0,0,0,0]
[null,null,null,null,null,null,null,null,null,null,0,0,0,0,0,0,0,0,0,0,0,0,0,0,0,0,0,0,0,0,0,0,0,0,0,0,0,0,0,0]
[null,null,null,null,null,null,null,null,null,null,0,0,0,0,0,0,0,0,0,0,0,0,0,0,0,0,0,0,0,0,0,0,0,0,0,0,0,0,0,0]
[null,null,null,null,null,null,null,null,null,null,0,0,0,0,0,0,0,0,0,0,0,0,0,0,0,0,0,0,0,0,0,0,0,0,0,0,0,0,0,0]
[null,null,null,null,null,null,null,null,null,null,0,0,0,0,0,0,0,0,0,0,0,0,0,0,0,0,0,0,0,0,0,0,0,0,0,0,0,0,0,0]
[null,null,null,null,null,null,null,null,null,null,0,0,0,0,0,0,0,0,0,0,0,0,0,0,0,0,0,0,0,0,0,0,0,0,0,0,0,0,0,0]
[null,null,null,null,null,null,null,null,null,null,0,0,0,0,0,0,0,0,0,0,0,0,0,0,0,0,0,0,0,0,0,0,0,0,0,0,0,0,0,0]
[null,null,null,null,null,null,null,null,null,null,0,0,0,0,0,0,0,0,0,0,0,0,0,0,0,0,0,0,0,0,0,0,0,0,0,0,0,0,0,0]
[null,null,null,null,null,null,null,null,null,null,0,0,0,0,0,0,0,0,0,0,0,0,0,0,0,0,0,0,0,0,0,0,0,0,0,0,0,0,0,0]
[null,null,null,null,null,null,null,null,null,null,0,0,0,0,0,0,0,0,0,0,0,0,0,0,0,0,0,0,0,0,0,0,0,0,0,0,0,0,0,0]
["コンタミネーション","なし",null,null,null,null,null,null,null,null,{"$f":"IF(OR($B43=\"\",$B43=\"なし\"),0,LEN($B43)-LEN(SUBSTITUTE($B43, \"、\", \"\"))+1)","v":0},0,{"$f":"COUNTIF($B43,\"*\"&M$5&\"*\")","v":0},{"$f":"COUNTIF($B43,\"*\"&N$5&\"*\")","v":0},0,0,0,0,0,0,0,0,0,0,0,0,0,0,0,0,{"$f":"COUNTIF($B43,\"*\"&AE$5&\"*\")","v":0},0,0,0,0,0,0,0,0,0]
[null,null,null,null,null,null,null,null,null,null,0,0,{"$f":"COUNTIF($B44,\"*\"&M$5&\"*\")","v":0},0,0,0,0,0,0,0,0,0,0,0,0,0,0,0,0,0,0,0,0,0,0,0,0,0,0,0]
[null,null,null,null,null,null,null,null,null,null,0,0,0,0,0,0,0,0,0,0,0,0,0,0,0,0,0,0,0,0,0,0,0,0,0,0,0,0,0,0]
["特記事項"]
[]
[]
[null,"●　商品の終売・リニューアルの場合は成分等が変更になる場合があります。ご了承ください。"]
["製造元","理研農産化工（株）"]
[]
["オーエンス泉岳自然ふれあい館"]