{"text_format":"1","workbook":"xlsx","n_sheets":28,"sheets":["入力例","別添マスター","選択肢","一覧","精白米","白石温麺","豆麩","いんげん","ごぼう","にんじん","冷凍油揚げ","干し椎茸","酒","鶏肉","濃口醤油","薄口醤油","食塩","顆粒だし","片栗粉","うす口ハンバーグ","トマトケチャップ","ソース","フライドポテト","食塩 ","キャノーラ油","ミニグラタン","ブロッコリー","豆乳プリン"],"not_rendered":{"charts":0,"images":2,"macros":1,"external_links":0,"defined_names":2,"comments":0,"pivot_tables":0},"unopened":[],"bounds":{"document_bytes":16777216,"sheet_cells":100000,"rows_first":2000,"rows_last":500,"rows_between":2000,"halvings":0,"cell_chars":16384,"cell_head_chars":4096},"cells_cut":0,"cells_raw":0,"read":"whole","date_system":"1900"}

{"sheet":"入力例","index":0,"n_rows":52,"n_cols":43,"rows_kept":52,"cut":false,"hidden":true,"merged":[[49,34,50,34],[49,35,50,42],[51,34,51,42],[45,34,48,34],[45,35,45,42],[46,35,46,42],[47,35,47,42],[48,35,48,42],[41,35,41,38],[41,39,41,42],[42,34,44,34],[42,35,42,42],[43,35,43,42],[44,35,44,42],[4,34,41,34],[38,35,38,38],[38,39,38,42],[39,35,39,38],[39,39,39,42],[40,35,40,38],[40,39,40,42],[35,35,35,38],[35,39,35,42],[36,35,36,38],[36,39,36,42],[37,35,37,38],[37,39,37,42],[32,35,32,38],[32,39,32,42],[33,35,33,38],[33,39,33,42],[34,35,34,38],[34,39,34,42],[29,35,29,38],[29,39,29,42],[30,35,30,38],[30,39,30,42],[31,35,31,38],[31,39,31,42],[26,35,26,38],[26,39,26,42],[27,35,27,38],[27,39,27,42],[28,35,28,38],[28,39,28,42],[23,35,23,38],[23,39,23,42],[24,35,24,38],[24,39,24,42],[25,35,25,38],[25,39,25,42],[20,35,20,38],[20,39,20,42],[21,35,21,38],[21,39,21,42],[22,35,22,38],[22,39,22,42],[18,35,18,38],[18,39,18,42],[19,35,19,38],[19,39,19,42],[14,35,14,38],[14,39,14,42],[15,35,15,38],[15,39,15,42],[16,35,16,38],[16,39,16,42],[13,35,13,38],[13,39,13,42],[8,35,8,38],[8,39,8,42],[9,35,9,38],[9,39,9,42],[10,35,10,38],[10,39,10,42],[17,35,17,38],[17,39,17,42],[7,35,7,38],[7,39,7,42],[37,2,37,32],[0,5,0,32],[1,2,2,4],[1,5,2,32],[3,2,4,2],[3,3,4,3],[3,4,4,4],[3,5,3,11],[3,12,3,32],[1,35,1,42],[2,35,2,41],[3,35,3,41],[4,35,4,38],[4,39,4,42],[5,35,5,38],[5,39,5,42],[6,35,6,38],[6,39,6,42],[11,35,11,38],[11,39,11,42],[12,35,12,38],[12,39,12,42]]}
[null,null,null,null,null,{"$f":"一覧!D1","v":"2023-03-01"},null,null,null,null,null,null,null,null,null,null,null,null,null,null,null,null,null,null,null,null,null,null,null,null,null,null,null,null,"一覧へ"]
[null,null,{"$f":"\"（見本）\"&一覧!$A$2","v":"（見本）幼児食タイプ③夕食"},null,null,"記号例…●：別添資料あり、○：アレルゲンあり、△：当該品目を含む製品の製造等でコンタミネーションの可能性があるもの\n※コンタミネーション…食品を製造する際に、原材料としては使用していないにもかかわらず、特定原材料等が意図せずして最終加工食品に混入してしまう場合のこと",null,null,null,null,null,null,null,null,null,null,null,null,null,null,null,null,null,null,null,null,null,null,null,null,null,null,null,null,"シート名",{"$f":"RIGHT(CELL(\"filename\",AI1),LEN(CELL(\"filename\",AI1))-FIND(\"]\",CELL(\"filename\",AI1)))","v":"入力例"}]
[null,null,null,null,null,null,null,null,null,null,null,null,null,null,null,null,null,null,null,null,null,null,null,null,null,null,null,null,null,null,null,null,null,null,"商品名","サイコロ1ｋｇ",null,null,null,null,null,null,"作成日"]
[null,null,"献立名","別添資料","使用食材","七大アレルゲン",null,null,null,null,null,null,"特定原材料に準ずるもの21品目",null,null,null,null,null,null,null,null,null,null,null,null,null,null,null,null,null,null,null,null,null,"規格","1ｋｇ",null,null,null,null,null,null,{"$f":"A25","v":"2023-03-01"}]
[null,null,null,null,null,{"$f":"一覧!D5","v":"小麦"},{"$f":"一覧!E5","v":"卵"},{"$f":"一覧!F5","v":"乳"},{"$f":"一覧!G5","v":"そば"},{"$f":"一覧!H5","v":"落花生"},{"$f":"一覧!I5","v":"えび"},{"$f":"一覧!J5","v":"かに"},{"$f":"一覧!K5","v":"ごま"},{"$f":"一覧!L5","v":"くるみ"},{"$f":"一覧!M5","v":"カシュ"},"アーモンド",{"$f":"一覧!O5","v":"キウイ"},{"$f":"一覧!P5","v":"もも"},{"$f":"一覧!Q5","v":"リンゴ"},{"$f":"一覧!R5","v":"バナナ"},{"$f":"一覧!S5","v":"オレンジ"},{"$f":"一覧!T5","v":"いか"},{"$f":"一覧!U5","v":"いくら"},{"$f":"一覧!V5","v":"さけ"},{"$f":"一覧!W5","v":"さば"},{"$f":"一覧!X5","v":"大豆"},{"$f":"一覧!Y5","v":"鶏肉"},{"$f":"一覧!Z5","v":"豚肉"},{"$f":"一覧!AA5","v":"牛肉"},{"$f":"一覧!AB5","v":"まつたけ"},{"$f":"一覧!AC5","v":"やまいも"},{"$f":"一覧!AD5","v":"ゼラチン"},{"$f":"一覧!AE5","v":"あわび"},null,"原材料","原材料名",null,null,null,"28品目アレルゲン"]
[null,null,{"$f":"IF(一覧!A6=\"\",\"\",一覧!A6)","v":"ごはん"},{"$f":"IF(一覧!B6=\"\",\"\",一覧!B6)","v":"●"},{"$f":"IF(一覧!C6=\"\",\"\",一覧!C6)","v":"精白米"},{"$f":"IFERROR(IF(COUNTIF(INDIRECT($E6&\"!F5:I42\"),\"*\"&F$5&\"*\")>0,\"○\",IF(COUNTIF(INDIRECT($E6&\"!B43:I45\"),\"*\"&F$5&\"*\")>0,\"△\",\"\")),\"\")","v":""},{"$f":"IFERROR(IF(COUNTIF(INDIRECT($E6&\"!F5:I42\"),\"*\"&G$5&\"*\")>0,\"○\",IF(COUNTIF(INDIRECT($E6&\"!B43:I45\"),\"*\"&G$5&\"*\")>0,\"△\",\"\")),\"\")","v":""},"","","","","","","","",{"$f":"IFERROR(IF(COUNTIF(INDIRECT($E6&\"!F5:I42\"),\"*\"&P$5&\"*\")>0,\"○\",IF(COUNTIF(INDIRECT($E6&\"!B43:I45\"),\"*\"&P$5&\"*\")>0,\"△\",\"\")),\"\")","v":""},"","","","","","","",{"$f":"IFERROR(IF(COUNTIF(INDIRECT($E6&\"!F5:I42\"),\"*\"&X$5&\"*\")>0,\"○\",IF(COUNTIF(INDIRECT($E6&\"!B43:I45\"),\"*\"&X$5&\"*\")>0,\"△\",\"\")),\"\")","v":""},"","","","","","","","","",null,null,"豆乳　　　　大豆",null,null,null,"大豆"]
[null,null,{"$f":"IF(一覧!A7=\"\",\"\",一覧!A7)","v":"おくずかけ"},{"$f":"IF(一覧!B7=\"\",\"\",一覧!B7)","v":"●"},{"$f":"IF(一覧!C7=\"\",\"\",一覧!C7)","v":"白石温麺"},{"$f":"IFERROR(IF(COUNTIF(INDIRECT($E7&\"!F5:I42\"),\"*\"&F$5&\"*\")>0,\"○\",IF(COUNTIF(INDIRECT($E7&\"!B43:I45\"),\"*\"&F$5&\"*\")>0,\"△\",\"\")),\"\")","v":"○"},"","","△","","","","","","","","","","","","",{"$f":"IFERROR(IF(COUNTIF(INDIRECT($E7&\"!F5:I42\"),\"*\"&V$5&\"*\")>0,\"○\",IF(COUNTIF(INDIRECT($E7&\"!B43:I45\"),\"*\"&V$5&\"*\")>0,\"△\",\"\")),\"\")","v":""},"","","","","","","","","△","","",null,null,"　　　　　　　水（水道水）"]
[null,null,{"$f":"IF(一覧!A8=\"\",\"\",一覧!A8)","v":""},{"$f":"IF(一覧!B8=\"\",\"\",一覧!B8)","v":"●"},{"$f":"IF(一覧!C8=\"\",\"\",一覧!C8)","v":"豆麩"},"○","","","","","","","","","","","","","","","","","","","","","","","","","","","",null,null,"澱粉　　　　コーンスターチ"]
[null,null,{"$f":"IF(一覧!A9=\"\",\"\",一覧!A9)","v":""},{"$f":"IF(一覧!B9=\"\",\"\",一覧!B9)","v":"●"},{"$f":"IF(一覧!C9=\"\",\"\",一覧!C9)","v":"いんげん"},"","","","","","","","","","","","","","","","","","","","","","","","","","","","",null,null,"加工澱粉  アセチル化アジピン酸架橋デンプン"]
[null,null,{"$f":"IF(一覧!A10=\"\",\"\",一覧!A10)","v":""},{"$f":"IF(一覧!B10=\"\",\"\",一覧!B10)","v":"●"},{"$f":"IF(一覧!C10=\"\",\"\",一覧!C10)","v":"ごぼう"},"","","","","","","","","","","","","","","","","","","","","","","","","","","","",null,null,"塩化マグネシウム"]
[null,null,{"$f":"IF(一覧!A11=\"\",\"\",一覧!A11)","v":""},{"$f":"IF(一覧!B11=\"\",\"\",一覧!B11)","v":"●"},{"$f":"IF(一覧!C11=\"\",\"\",一覧!C11)","v":"にんじん"},"","","","","","","","","","","","","","","","","","","","","","","","","","","","",null,null,"水"]
[null,null,{"$f":"IF(一覧!A12=\"\",\"\",一覧!A12)","v":""},{"$f":"IF(一覧!B12=\"\",\"\",一覧!B12)","v":"●"},{"$f":"IF(一覧!C12=\"\",\"\",一覧!C12)","v":"冷凍油揚げ"},"","","","","","","","","","","","","","","","","","","","","○","","","","","","",""]
[null,null,{"$f":"IF(一覧!A13=\"\",\"\",一覧!A13)","v":""},{"$f":"IF(一覧!B13=\"\",\"\",一覧!B13)","v":"●"},{"$f":"IF(一覧!C13=\"\",\"\",一覧!C13)","v":"干し椎茸"},"","","","","","","","","","","","","","","","","","","","","","","","","","","",""]
[null,null,{"$f":"IF(一覧!A14=\"\",\"\",一覧!A14)","v":""},{"$f":"IF(一覧!B14=\"\",\"\",一覧!B14)","v":"●"},{"$f":"IF(一覧!C14=\"\",\"\",一覧!C14)","v":"酒"},"","","","","","","","","","","","","","","","","","","","","","","","","","","",""]
[null,null,{"$f":"IF(一覧!A15=\"\",\"\",一覧!A15)","v":""},{"$f":"IF(一覧!B15=\"\",\"\",一覧!B15)","v":"●"},{"$f":"IF(一覧!C15=\"\",\"\",一覧!C15)","v":"鶏肉"},"","","","","","","","","","","","","","","","","","","","","","○","","","","","",""]
[null,null,{"$f":"IF(一覧!A16=\"\",\"\",一覧!A16)","v":""},{"$f":"IF(一覧!B16=\"\",\"\",一覧!B16)","v":"●"},{"$f":"IF(一覧!C16=\"\",\"\",一覧!C16)","v":"濃口醤油"},"○","","","","","","","","","","","","","","","","","","","","○","","",{"$f":"IFERROR(IF(COUNTIF(INDIRECT($E16&\"!F5:I42\"),\"*\"&AC$5&\"*\")>0,\"○\",IF(COUNTIF(INDIRECT($E16&\"!B43:I45\"),\"*\"&AC$5&\"*\")>0,\"△\",\"\")),\"\")","v":""},"","","",""]
[null,null,{"$f":"IF(一覧!A17=\"\",\"\",一覧!A17)","v":""},{"$f":"IF(一覧!B17=\"\",\"\",一覧!B17)","v":"●"},{"$f":"IF(一覧!C17=\"\",\"\",一覧!C17)","v":"薄口醤油"},"○","","","","","","","","","","","","","","","","","","","","○","","","","","","",""]
[null,null,{"$f":"IF(一覧!A18=\"\",\"\",一覧!A18)","v":""},{"$f":"IF(一覧!B18=\"\",\"\",一覧!B18)","v":"●"},{"$f":"IF(一覧!C18=\"\",\"\",一覧!C18)","v":"食塩"},"","","","","","","","","","","","","","","","","","","","","","","","","","","",""]
[null,null,{"$f":"IF(一覧!A19=\"\",\"\",一覧!A19)","v":""},{"$f":"IF(一覧!B19=\"\",\"\",一覧!B19)","v":"●"},{"$f":"IF(一覧!C19=\"\",\"\",一覧!C19)","v":"顆粒だし"},"","","","","","","","","","","","","","","","","","","","","","","","","","","",""]
[null,null,{"$f":"IF(一覧!A20=\"\",\"\",一覧!A20)","v":""},{"$f":"IF(一覧!B20=\"\",\"\",一覧!B20)","v":"●"},{"$f":"IF(一覧!C20=\"\",\"\",一覧!C20)","v":"片栗粉"},"","","","","","","","","","","","","","","","","","","","","","","","","","","",""]
["施設名称",null,{"$f":"IF(一覧!A21=\"\",\"\",一覧!A21)","v":""},{"$f":"IF(一覧!B21=\"\",\"\",一覧!B21)","v":""},{"$f":"IF(一覧!C21=\"\",\"\",一覧!C21)","v":"水"},"","","","","","","","","","","","","","","","","","","","","","","","","","","",""]
["オーエンス泉岳自然ふれあい館",null,{"$f":"IF(一覧!A22=\"\",\"\",一覧!A22)","v":"ハンバーグ"},{"$f":"IF(一覧!B22=\"\",\"\",一覧!B22)","v":"●"},{"$f":"IF(一覧!C22=\"\",\"\",一覧!C22)","v":"うす口ハンバーグ"},"","","","","","","","△","","","","","","△","","","","","","","○","○","○","△","","","△",""]
[null,null,{"$f":"IF(一覧!A23=\"\",\"\",一覧!A23)","v":""},{"$f":"IF(一覧!B23=\"\",\"\",一覧!B23)","v":"●"},{"$f":"IF(一覧!C23=\"\",\"\",一覧!C23)","v":"トマトケチャップ"},"","","","","","","","","","","","","","","","","","","","","","","","","","","",""]
["更新日",null,{"$f":"IF(一覧!A26=\"\",\"\",一覧!A26)","v":"フライドポテト"},{"$f":"IF(一覧!B24=\"\",\"\",一覧!B24)","v":"●"},{"$f":"IF(一覧!C24=\"\",\"\",一覧!C24)","v":"ソース"},{"$f":"IFERROR(IF(COUNTIF(INDIRECT($E24&\"!F5:I42\"),\"*\"&F$5&\"*\")>0,\"○\",IF(COUNTIF(INDIRECT($E24&\"!B43:I45\"),\"*\"&F$5&\"*\")>0,\"△\",\"\")),\"\")","v":""},"","","","","","","","","","","","","○","","","","","","","","","","","","","",""]
["2023-03-01",null,{"$f":"IF(一覧!A25=\"\",\"\",一覧!A25)","v":""},{"$f":"IF(一覧!B25=\"\",\"\",一覧!B25)","v":""},{"$f":"IF(一覧!C25=\"\",\"\",一覧!C25)","v":"水"},"","","","","","","","","","","","","","","","","","","","","","","","","","","",""]
[null,null,{"$f":"IF(一覧!#REF!=\"\",\"\",一覧!#REF!)","v":{"$error":"#REF!"}},{"$f":"IF(一覧!B26=\"\",\"\",一覧!B26)","v":"●"},{"$f":"IF(一覧!C26=\"\",\"\",一覧!C26)","v":"フライドポテト"},"○","","","","","","","","","","","","","","","","","","","","","","","","","","",""]
[null,null,{"$f":"IF(一覧!A30=\"\",\"\",一覧!A30)","v":"ブロッコリー"},{"$f":"IF(一覧!B27=\"\",\"\",一覧!B27)","v":"●"},{"$f":"IF(一覧!C29=\"\",\"\",一覧!C29)","v":"ミニグラタン"},"○","","○","","","","","","","","","","","","","","","","","","○","","○","","","","",""]
[null,null,{"$f":"IF(一覧!A31=\"\",\"\",一覧!A31)","v":"豆乳プリン"},{"$f":"IF(一覧!B28=\"\",\"\",一覧!B28)","v":"●"},{"$f":"IF(一覧!C30=\"\",\"\",一覧!C30)","v":"ブロッコリー"},"","","","","","","","","","","","","","","","","","","","","","","","","","","",""]
[null,null,{"$f":"IF(一覧!A32=\"\",\"\",一覧!A32)","v":""},{"$f":"IF(一覧!B29=\"\",\"\",一覧!B29)","v":"●"},{"$f":"IF(一覧!C31=\"\",\"\",一覧!C31)","v":"豆乳プリン"},"","","","","","","","","","","△","","","","","","","","","","○","","","","","","",""]
[null,null,{"$f":"IF(一覧!#REF!=\"\",\"\",一覧!#REF!)","v":{"$error":"#REF!"}},{"$f":"IF(一覧!B30=\"\",\"\",一覧!B30)","v":"●"},{"$f":"IF(一覧!C32=\"\",\"\",一覧!C32)","v":""},"","","","","","","","","","","","","","","","","","","","","","","","","","","",""]
[null,null,{"$f":"IF(一覧!A33=\"\",\"\",一覧!A33)","v":""},{"$f":"IF(一覧!B31=\"\",\"\",一覧!B31)","v":"●"},{"$f":"IF(一覧!C33=\"\",\"\",一覧!C33)","v":""},"","","","","","","","","","","","","","","","","","","","","","","","","","","",""]
[null,null,{"$f":"IF(一覧!A35=\"\",\"\",一覧!A35)","v":""},{"$f":"IF(一覧!B32=\"\",\"\",一覧!B32)","v":""},{"$f":"IF(一覧!C35=\"\",\"\",一覧!C35)","v":""},"","","","","","","","","","","","","","","","","","","","","","","","","","","",""]
[null,null,{"$f":"IF(一覧!#REF!=\"\",\"\",一覧!#REF!)","v":{"$error":"#REF!"}},{"$f":"IF(一覧!B33=\"\",\"\",一覧!B33)","v":""},{"$f":"IF(一覧!#REF!=\"\",\"\",一覧!#REF!)","v":{"$error":"#REF!"}},"","","","","","","","","","","","","","","","","","","","","","","","","","","",""]
[null,null,{"$f":"IF(一覧!#REF!=\"\",\"\",一覧!#REF!)","v":{"$error":"#REF!"}},{"$f":"IF(一覧!B34=\"\",\"\",一覧!B34)","v":""},{"$f":"IF(一覧!#REF!=\"\",\"\",一覧!#REF!)","v":{"$error":"#REF!"}},"","","","","","","","","","","","","","","","","","","","","","","","","","","",""]
[null,null,{"$f":"IF(一覧!#REF!=\"\",\"\",一覧!#REF!)","v":{"$error":"#REF!"}},{"$f":"IF(一覧!B35=\"\",\"\",一覧!B35)","v":""},{"$f":"IF(一覧!#REF!=\"\",\"\",一覧!#REF!)","v":{"$error":"#REF!"}},"","","","","","","","","","","","","","","","","","","","","","","","","","","",""]
[null,null,{"$f":"IF(一覧!A36=\"\",\"\",一覧!A36)","v":""},{"$f":"IF(一覧!B36=\"\",\"\",一覧!B36)","v":""},{"$f":"IF(一覧!C36=\"\",\"\",一覧!C36)","v":""},"","","","","","","","","","","","","","","","","","","","","","","","","","","",""]
[null,null,{"$f":"IF(一覧!A37=\"\",\"\",一覧!A37)","v":""},{"$f":"IF(一覧!B37=\"\",\"\",一覧!B37)","v":""},{"$f":"IF(一覧!C37=\"\",\"\",一覧!C37)","v":""},"","","","","","","","","","","","","","","","","","","","","","","","","","","",""]
[null,null,{"$f":"$A$22","v":"オーエンス泉岳自然ふれあい館"}]
[]
[]
[]
[]
[null,null,null,null,null,null,null,null,null,null,null,null,null,null,null,null,null,null,null,null,null,null,null,null,null,null,null,null,null,null,null,null,null,null,"コンタミネーション"]
[]
[]
[null,null,null,null,null,null,null,null,null,null,null,null,null,null,null,null,null,null,null,null,null,null,null,null,null,null,null,null,null,null,null,null,null,null,"特記事項"]
[]
[]
[null,null,null,null,null,null,null,null,null,null,null,null,null,null,null,null,null,null,null,null,null,null,null,null,null,null,null,null,null,null,null,null,null,null,null,"●　商品の終売・リニューアルの場合は成分等が変更になる場合があります。ご了承ください。"]
[null,null,null,null,null,null,null,null,null,null,null,null,null,null,null,null,null,null,null,null,null,null,null,null,null,null,null,null,null,null,null,null,null,null,"製造元","株式会社マメックス"]
[]
[null,null,null,null,null,null,null,null,null,null,null,null,null,null,null,null,null,null,null,null,null,null,null,null,null,null,null,null,null,null,null,null,null,null,{"$f":"一覧!AI41","v":0}]

{"sheet":"別添マスター","index":1,"n_rows":52,"n_cols":40,"rows_kept":52,"cut":false,"hidden":true,"merged":[[2,0,3,0],[2,1,3,7],[51,0,51,8],[45,0,48,0],[45,1,45,8],[46,1,46,8],[47,1,47,8],[48,1,48,8],[49,0,50,0],[49,1,50,8],[40,1,40,4],[40,5,40,8],[41,1,41,4],[41,5,41,8],[42,0,44,0],[42,1,42,8],[44,1,44,8],[37,1,37,4],[37,5,37,8],[38,1,38,4],[38,5,38,8],[39,1,39,4],[39,5,39,8],[35,1,35,4],[35,5,35,8],[36,1,36,4],[36,5,36,8],[43,1,43,8],[32,1,32,4],[32,5,32,8],[33,1,33,4],[33,5,33,8],[34,1,34,4],[34,5,34,8],[29,1,29,4],[29,5,29,8],[30,1,30,4],[30,5,30,8],[31,1,31,4],[31,5,31,8],[26,1,26,4],[26,5,26,8],[27,1,27,4],[27,5,27,8],[28,1,28,4],[28,5,28,8],[23,1,23,4],[23,5,23,8],[24,1,24,4],[24,5,24,8],[25,1,25,4],[25,5,25,8],[20,1,20,4],[20,5,20,8],[21,1,21,4],[21,5,21,8],[22,1,22,4],[22,5,22,8],[17,1,17,4],[17,5,17,8],[18,1,18,4],[18,5,18,8],[19,1,19,4],[19,5,19,8],[14,1,14,4],[14,5,14,8],[15,1,15,4],[15,5,15,8],[16,1,16,4],[16,5,16,8],[11,1,11,4],[11,5,11,8],[12,1,12,4],[12,5,12,8],[13,1,13,4],[13,5,13,8],[1,1,1,8],[4,0,41,0],[4,1,4,4],[4,5,4,8],[5,1,5,4],[5,5,5,8],[6,1,6,4],[6,5,6,8],[7,1,7,4],[7,5,7,8],[8,1,8,4],[8,5,8,8],[9,1,9,4],[9,5,9,8],[10,1,10,4],[10,5,10,8]]}
["一覧へ"]
["シート名",{"$f":"RIGHT(CELL(\"filename\",A1),LEN(CELL(\"filename\",A1))-FIND(\"]\",CELL(\"filename\",A1)))","v":"別添マスター"}]
["商品名",null,null,null,null,null,null,null,"作成日"]
[null,null,null,null,null,null,null,null,{"$f":"一覧!$D$1","v":"2023-03-01"}]
["原材料","原材料名",null,null,null,"28品目アレルゲン",null,null,null,null,"個数①","計",{"$f":"一覧!D5","v":"小麦"},{"$f":"一覧!E5","v":"卵"},{"$f":"一覧!F5","v":"乳"},{"$f":"一覧!G5","v":"そば"},{"$f":"一覧!H5","v":"落花生"},{"$f":"一覧!I5","v":"えび"},{"$f":"一覧!J5","v":"かに"},{"$f":"一覧!K5","v":"ごま"},{"$f":"一覧!L5","v":"くるみ"},{"$f":"一覧!M5","v":"カシュ"},{"$f":"一覧!N5","v":"アーモンド"},{"$f":"一覧!O5","v":"キウイ"},{"$f":"一覧!P5","v":"もも"},{"$f":"一覧!Q5","v":"リンゴ"},{"$f":"一覧!R5","v":"バナナ"},{"$f":"一覧!S5","v":"オレンジ"},{"$f":"一覧!T5","v":"いか"},{"$f":"一覧!U5","v":"いくら"},{"$f":"一覧!V5","v":"さけ"},{"$f":"一覧!W5","v":"さば"},{"$f":"一覧!X5","v":"大豆"},{"$f":"一覧!Y5","v":"鶏肉"},{"$f":"一覧!Z5","v":"豚肉"},{"$f":"一覧!AA5","v":"牛肉"},{"$f":"一覧!AB5","v":"まつたけ"},{"$f":"一覧!AC5","v":"やまいも"},{"$f":"一覧!AD5","v":"ゼラチン"},{"$f":"一覧!AE5","v":"あわび"}]
[null,null,null,null,null,null,null,null,null,null,{"$f":"IF(F6=\"\",0,LEN(F6)-LEN(SUBSTITUTE(F6, \"、\", \"\"))+1)","v":0},{"$f":"SUM(M6:AN6)","v":0},{"$f":"COUNTIF($F6,\"*\"&M$5&\"*\")","v":0},{"$f":"COUNTIF($F6,\"*\"&N$5&\"*\")","v":0},0,0,0,0,0,0,0,0,{"$f":"COUNTIF($F6,\"*\"&W$5&\"*\")","v":0},0,0,0,0,0,0,0,0,0,0,0,0,0,0,0,0,0]
[null,null,null,null,null,null,null,null,null,null,{"$f":"IF(F7=\"\",0,LEN(F7)-LEN(SUBSTITUTE(F7, \"、\", \"\"))+1)","v":0},{"$f":"SUM(M7:AN7)","v":0},{"$f":"COUNTIF($F7,\"*\"&M$5&\"*\")","v":0},0,0,0,0,0,0,0,0,0,0,0,0,0,0,0,0,0,0,0,0,0,0,0,0,0,0,0]
[null,null,null,null,null,null,null,null,null,null,0,0,0,0,0,0,0,0,0,0,0,0,0,0,0,0,0,0,0,0,0,0,0,0,0,0,0,0,0,0]
[null,null,null,null,null,null,null,null,null,null,0,0,0,0,0,0,0,0,0,0,0,0,0,0,0,0,0,0,0,0,0,0,0,0,0,0,0,0,0,0]
[null,null,null,null,null,null,null,null,null,null,0,0,0,0,0,0,0,0,0,0,0,0,0,0,0,0,0,0,0,0,0,0,0,0,0,0,0,0,0,0]
[null,null,null,null,null,null,null,null,null,null,0,0,0,0,0,0,0,0,0,0,0,0,0,0,0,0,0,0,0,0,0,0,0,0,0,0,0,0,0,0]
[null,null,null,null,null,null,null,null,null,null,0,0,0,0,0,0,0,0,0,0,0,0,0,0,0,0,0,0,0,0,0,0,0,0,0,0,0,0,0,0]
[null,null,null,null,null,null,null,null,null,null,0,0,0,0,0,0,0,0,0,0,0,0,0,0,0,0,0,0,0,0,0,0,0,0,0,0,0,0,0,0]
[null,null,null,null,null,null,null,null,null,null,0,0,0,0,0,0,0,0,0,0,0,0,0,0,0,0,0,0,0,0,0,0,0,0,0,0,0,0,0,0]
[null,null,null,null,null,null,null,null,null,null,0,0,0,0,0,0,0,0,0,0,0,0,0,0,0,0,0,0,0,0,0,0,0,0,0,{"$f":"COUNTIF($F15,\"*\"&AJ$5&\"*\")","v":0},0,0,0,0]
[null,null,null,null,null,null,null,null,null,null,0,0,0,0,0,0,0,0,0,0,0,0,0,0,0,0,0,0,0,{"$f":"COUNTIF($F16,\"*\"&AD$5&\"*\")","v":0},0,0,0,0,0,0,0,0,0,0]
[null,null,null,null,null,null,null,null,null,null,0,0,0,0,0,0,0,0,0,0,0,0,0,0,0,0,0,0,0,0,0,0,0,0,0,0,0,0,0,0]
[null,null,null,null,null,null,null,null,null,null,0,0,0,0,0,0,0,0,0,0,0,0,0,0,0,0,0,0,0,0,0,0,0,0,0,0,0,0,0,0]
[null,null,null,null,null,null,null,null,null,null,0,0,0,0,0,0,0,0,0,0,0,0,0,0,0,0,0,0,0,0,0,0,0,0,0,0,0,0,0,0]
[null,null,null,null,null,null,null,null,null,null,0,0,0,0,0,0,0,0,0,0,0,0,0,0,0,0,0,0,0,0,0,0,0,0,0,0,0,0,0,0]
[null,null,null,null,null,null,null,null,null,null,0,0,0,0,0,0,0,0,0,0,0,0,0,0,0,0,0,0,0,0,0,0,0,0,0,0,0,0,0,0]
[null,null,null,null,null,null,null,null,null,null,0,0,0,0,0,0,0,0,0,0,0,0,0,0,0,0,0,0,0,0,0,0,0,0,0,0,0,0,0,0]
[null,null,null,null,null,null,null,null,null,null,0,0,0,0,0,0,0,0,0,0,0,0,0,0,0,0,0,0,0,0,0,0,0,0,0,0,0,0,0,0]
[null,null,null,null,null,null,null,null,null,null,0,0,0,0,0,0,0,0,0,0,0,0,0,0,0,0,0,0,0,0,0,0,0,0,0,0,0,0,0,0]
[null,null,null,null,null,null,null,null,null,null,0,0,0,0,0,0,0,0,0,0,0,0,0,0,0,0,0,0,0,0,0,0,0,0,0,0,0,0,0,0]
[null,null,null,null,null,null,null,null,null,null,0,0,0,0,0,0,0,0,0,0,0,0,0,0,0,0,0,0,0,0,0,0,0,0,0,0,0,0,0,0]
[null,null,null,null,null,null,null,null,null,null,0,0,0,0,0,0,0,0,0,0,0,0,0,0,0,0,0,0,0,0,0,0,0,0,0,0,0,0,0,0]
[null,null,null,null,null,null,null,null,null,null,0,0,0,0,0,0,0,0,0,0,0,0,0,0,0,0,0,0,0,0,0,0,0,0,0,0,0,0,0,0]
[null,null,null,null,null,null,null,null,null,null,0,0,0,0,0,0,0,0,0,0,0,0,0,0,0,0,0,0,0,0,0,0,0,0,0,0,0,0,0,0]
[null,null,null,null,null,null,null,null,null,null,0,0,0,0,0,0,0,0,0,0,0,0,0,0,0,0,0,0,0,0,0,0,0,0,0,0,0,0,0,0]
[null,null,null,null,null,null,null,null,null,null,0,0,0,0,0,0,0,0,{"$f":"COUNTIF($F31,\"*\"&S$5&\"*\")","v":0},0,0,0,0,0,0,0,0,0,0,0,0,0,0,0,0,0,0,0,0,0]
[null,null,null,null,null,null,null,null,null,null,0,0,{"$f":"COUNTIF($F32,\"*\"&M$5&\"*\")","v":0},0,0,0,0,0,0,0,0,0,0,0,0,0,0,0,0,0,0,0,0,0,0,0,0,0,0,0]
[null,null,null,null,null,null,null,null,null,null,0,0,0,0,0,0,0,0,0,0,0,0,0,0,0,0,0,0,0,0,0,0,0,0,0,0,0,0,0,0]
[null,null,null,null,null,null,null,null,null,null,0,0,0,0,0,0,0,0,0,0,0,0,0,0,0,0,0,0,0,0,0,0,0,0,0,0,0,0,0,0]
[null,null,null,null,null,null,null,null,null,null,0,0,0,0,0,0,0,0,0,0,0,0,0,0,0,0,0,0,0,0,0,0,0,0,0,0,0,0,0,0]
[null,null,null,null,null,null,null,null,null,null,0,0,0,0,0,0,0,0,0,0,0,0,0,0,0,0,0,0,0,0,0,0,0,0,0,0,0,0,0,0]
[null,null,null,null,null,null,null,null,null,null,0,0,0,0,0,0,0,0,0,0,0,0,0,0,0,0,0,0,0,0,0,0,0,0,0,0,0,0,0,0]
[null,null,null,null,null,null,null,null,null,null,0,0,0,0,0,0,0,0,0,0,0,0,0,0,0,0,0,0,0,0,0,0,0,0,0,0,0,0,0,0]
[null,null,null,null,null,null,null,null,null,null,0,0,0,0,0,0,0,0,0,0,0,0,0,0,0,0,0,0,0,0,0,0,0,0,0,0,0,0,0,0]
[null,null,null,null,null,null,null,null,null,null,0,0,0,0,0,0,0,0,0,0,0,0,0,0,0,0,0,0,0,0,0,0,0,0,0,0,0,0,0,0]
[null,null,null,null,null,null,null,null,null,null,0,0,0,0,0,0,0,0,0,0,0,0,0,0,0,0,0,0,0,0,0,0,0,0,0,0,0,0,0,0]
[null,null,null,null,null,null,null,null,null,null,0,0,0,0,0,0,0,0,0,0,0,0,0,0,0,0,0,0,0,0,0,0,0,0,0,0,0,0,0,0]
["コンタミネーション",null,null,null,null,null,null,null,null,null,{"$f":"IF(OR($B43=\"\",$B43=\"なし\"),0,LEN($B43)-LEN(SUBSTITUTE($B43, \"、\", \"\"))+1)","v":0},0,{"$f":"COUNTIF($B43,\"*\"&M$5&\"*\")","v":0},{"$f":"COUNTIF($B43,\"*\"&N$5&\"*\")","v":0},0,0,0,0,0,0,0,0,0,0,0,0,0,0,0,0,{"$f":"COUNTIF($B43,\"*\"&AE$5&\"*\")","v":0},0,0,0,0,0,0,0,0,0]
[null,null,null,null,null,null,null,null,null,null,0,0,{"$f":"COUNTIF($B44,\"*\"&M$5&\"*\")","v":0},0,0,0,0,0,0,0,0,0,0,0,0,0,0,0,0,0,0,0,0,0,0,0,0,0,0,0]
[null,null,null,null,null,null,null,null,null,null,0,0,0,0,0,0,0,0,0,0,0,0,0,0,0,0,0,0,0,0,0,0,0,0,0,0,0,0,0,0]
["特記事項"]
[]
[]
[null,"●　商品の終売・リニューアルの場合は成分等が変更になる場合があります。ご了承ください。"]
["製造元"]
[]
[{"$f":"一覧!$A$41","v":"オーエンス泉岳自然ふれあい館"}]

{"sheet":"選択肢","index":2,"n_rows":200,"n_cols":2,"rows_kept":200,"cut":false,"hidden":true,"merged":[]}
[null,"使用食材"]
[null,"水"]
[null,"味噌"]
[null,"顆粒だし"]
[null,"濃口醤油"]
[null,"薄口醤油"]
[null,"食塩"]
[null,"白だし"]
[null,"めんつゆ"]
[null,"酒"]
[null,"みりん"]
[null,"フレンチドレッシング_白"]
[null,"フレンチドレッシング_赤"]
[null,"チキンコンソメ"]
[null,"中華味"]
[null,"チャーハンの素"]
[null,"チキンライスの素"]
[null,"トマトケチャップ"]
[null,"ソース_個包装"]
[null,"てりやきソース"]
[null,"マヨネーズ"]
[null,"塩だれ"]
[null,"レモン果汁"]
[null,"バター"]
[null,"上白糖"]
[null,"おろし生姜"]
[null,"カレールー"]
[null,"サラダ油"]
[null,"キャノーラ油"]
[null,"ごま油"]
[null,"片栗粉"]
[null,"黒こしょう"]
[null,"昆布"]
[null,"いちごジャム・マーガリン"]
[null,"いちごジャム"]
[null,"トマトドレッシング"]
[null,"山椒パウダー"]
[null,"オリーブオイル"]
[null,"パプリカパウダー"]
[null,"甘酢たれ"]
[null,"白こしょう"]
[null,"ピザソース"]
[null,"豚肉"]
[null,"牛肉"]
[null,"鶏肉"]
[null,"豚肉"]
[null,"鶏肉"]
[null,"鮭塩焼き"]
[null,"豚肉"]
[null,"えび_冷凍"]
[null,"キャベツ"]
[null,"にんじん"]
[null,"ごぼう"]
[null,"たまねぎ"]
[null,"たまねぎ"]
[null,"きゅうり"]
[null,"大根"]
[null,"大根"]
[null,"長ねぎ"]
[null,"長ねぎ"]
[null,"スリムネギ"]
[null,"じゃが芋_男爵"]
[null,"ミニトマト"]
[null,"グリーンカール"]
[null,"白菜"]
[null,"キウイフルーツ"]
[null,"紫キャベツ"]
[null,"サニーレタス"]
[null,"サニーレタス"]
[null,"にんじん"]
[null,"にんじん"]
[null,"もやし"]
[null,"木綿豆腐"]
[null,"こんにゃく"]
[null,"糸こんにゃく"]
[null,"精白米"]
[null,"冷凍豆腐"]
[null,"冷凍油揚げ"]
[null,"乾燥わかめ"]
[null,"干し椎茸"]
[null,"豆麩"]
[null,"白石温麺"]
[null,"冷凍ひっつみ"]
[null,"冷凍白玉"]
[null,"ロールパン"]
[null,"パンケーキ"]
[null,"スパゲティ"]
[null,"塩焼きそば"]
[null,"目玉焼風オムレツ"]
[null,"オムレツ"]
[null,"厚焼き玉子"]
[null,"ほうれん草"]
[null,"ブロッコリー"]
[null,"いんげん"]
[null,"コーン"]
[null,"ミックスベジタブル"]
[null,"ポテトサラダ"]
[null,"パンプキンサラダ"]
[null,"マカロニサラダ"]
[null,"なま酢"]
[null,"ミックスピメント"]
[null,"バターポテト"]
[null,"笹かまぼこ"]
[null,"ツナフレーク"]
[null,"おとうふフィッシュ"]
[null,"さつま揚げ_にんじん型"]
[null,"ベーコンスライス"]
[null,"ボロニアハーフ"]
[null,"ハンバーグ"]
[null,"星型ハンバーグ"]
[null,"豆腐ハンバーグ"]
[null,"ミニチキン_醤油"]
[null,"マス塩焼き"]
[null,"エビフライ"]
[null,"いかリングフライ"]
[null,"野菜コロッケ"]
[null,"ポテトフライ"]
[null,"鶏唐揚げ"]
[null,"厚切りハムカツ"]
[null,"アメリカンドッグ"]
[null,"チキンナゲット"]
[null,"ささみカツ"]
[null,"星型コロッケ"]
[null,"豆腐包み焼き"]
[null,"揚げ出し豆腐"]
[null,"肉だんご"]
[null,"肉だんご"]
[null,"やさいふりかけ"]
[null,"ふりかけ"]
[null,"納豆"]
[null,"なめ茸"]
[null,"福神漬け"]
[null,"いりごま_白"]
[null,"かつおぶし"]
[null,"ベーコン"]
[null,"ウインナー"]
[null,"ポムピン"]
[null,"いかメンチカツ"]
[null,"鶏唐揚げ"]
[null,"春巻"]
[null,"クリームコロッケ"]
[null,"ごぼうサラダ"]
[null,"ごぼうサラダ"]
[null,"グリンピース"]
[null,"納豆"]
[null,"麻婆豆腐の素"]
[null,"グラタン"]
[null,"ミルク寒天"]
[null,"クラムチャウダー"]
[null,"マカロニ"]
[null,"カニかまぼこ"]
[null,"ロールパン"]
[null,"クロワッサン"]
[null,"ミニクロワッサン"]
[null,"ミニメンチカツ"]
[null,"すりごま_白"]
[null,"スパゲティサラダ"]
[null,"かぼちゃ煮"]
[null,"食パン"]
[null,"食パン"]
[null,"スクランブルエッグ"]
[null,"パルメザンチーズ"]
[null,"ナチュラルチーズ"]
[null,"牛乳"]
[null,"りんごジュース"]
[null,"オレンジジュース"]
[null,"緑茶"]
[null,"ヨーグルト"]
[null,"りんごゼリー"]
[null,"ぶどうゼリー"]
[null,"豆乳プリン"]
[null,"さつまいも甘露煮"]
[null,"づんだのたれ"]
[null,"黄桃"]
[null,"パインアップル"]
[null,"冷凍パイン"]
[null,"ガトーショコラ"]
[null,"ガトーショコラ"]
[null,"トロピカルフルーツ"]
[null,"コッペパン"]
[null,"サツマイモサラダ"]
[null,"トマトケチャップ_個包装"]
[null,"地中海野菜"]
[null,"豆腐焼売"]
[null,"三角揚げ"]
[null,"菜の花_冷凍"]
[null,"醤油_個包装"]
[null,"星ポテト"]
[null,"トマトグラタン"]
[null,"ももタルト"]
[null,"ドレッシング_個包装"]
[null,"大根のそぼろあんかけ"]
[null,"中華野菜ミックス"]
[null,"笹かまぼこ"]
[null,"アセロラゼリー"]
[null,"気仙沼ふかひれスープ"]
[null,"絹揚げ"]
[null,"焼肉のたれ"]
[null,"うす口ハンバーグ"]
[null,"ミニグラタン"]

{"sheet":"一覧","index":3,"n_rows":41,"n_cols":31,"rows_kept":41,"cut":false,"hidden":false,"merged":[[40,0,40,30],[0,3,0,30],[3,3,3,9],[3,0,4,0],[3,2,4,2],[3,10,3,30],[3,1,4,1],[1,0,2,2],[1,3,2,30]]}
["　",null,null,{"$f":"入力例!$A$25","v":"2023-03-01"}]
["幼児食タイプ③夕食",null,null,"記号例…●：別添資料あり、○：アレルゲンあり、△：当該品目を含む製品の製造等でコンタミネーションの可能性があるもの\n※コンタミネーション…食品を製造する際に、原材料としては使用していないにもかかわらず、特定原材料等が意図せずして最終加工食品に混入してしまう場合のこと"]
[]
["献立名","別添資料","使用食材","七大アレルゲン",null,null,null,null,null,null,"特定原材料に準ずるもの21品目"]
[null,null,null,"小麦","卵","乳","そば","落花生","えび","かに","ごま","くるみ","カシュ","アーモンド","キウイ","もも","リンゴ","バナナ","オレンジ","いか","いくら","さけ","さば","大豆","鶏肉","豚肉","牛肉","まつたけ","やまいも","ゼラチン","あわび"]
["ごはん","●","精白米",{"$f":"IFERROR(IF(COUNTIF(INDIRECT($C6&\"!F5:I42\"),\"*\"&D$5&\"*\")>0,\"○\",IF(COUNTIF(INDIRECT($C6&\"!B43:I45\"),\"*\"&D$5&\"*\")>0,\"△\",\"\")),\"\")","v":""},{"$f":"IFERROR(IF(COUNTIF(INDIRECT($C6&\"!F5:I42\"),\"*\"&E$5&\"*\")>0,\"○\",IF(COUNTIF(INDIRECT($C6&\"!B43:I45\"),\"*\"&E$5&\"*\")>0,\"△\",\"\")),\"\")","v":""},"","","","","","","","","","","","","","","",{"$f":"IFERROR(IF(COUNTIF(INDIRECT($C6&\"!F5:I42\"),\"*\"&U$5&\"*\")>0,\"○\",IF(COUNTIF(INDIRECT($C6&\"!B43:I45\"),\"*\"&U$5&\"*\")>0,\"△\",\"\")),\"\")","v":""},"","","","","","","","","",""]
["おくずかけ","●","白石温麺",{"$f":"IFERROR(IF(COUNTIF(INDIRECT($C7&\"!F5:I42\"),\"*\"&D$5&\"*\")>0,\"○\",IF(COUNTIF(INDIRECT($C7&\"!B43:I45\"),\"*\"&D$5&\"*\")>0,\"△\",\"\")),\"\")","v":"○"},"","","△","","","","","","","","","","","","","","","","","","","","","","△","",""]
[null,"●","豆麩","○","","","","","","","","","","","","","","","","","","","","","","","","","","",""]
[null,"●","いんげん","","","","","","","","","","","","","","","","","","","","","","","","","","","",""]
[null,"●","ごぼう","","","","","","","","","","","","","","","","","","","","","","","","","","","",""]
[null,"●","にんじん","","","","","","","","","","","","","","","","","","","","","","","","","","","",""]
[null,"●","冷凍油揚げ","","","","","","","","","","","","","","","","","","","","","○","","","","","","",""]
[null,"●","干し椎茸","","","","","","","","","","","","","","","","","","","","","","","","","","","",""]
[null,"●","酒","","","","","","","","","","","","","","","","","","","","","","","","","","","",""]
[null,"●","鶏肉","","","","","","","","","","","","","","","","","","","","","","○","","","","","",""]
[null,"●","濃口醤油","○","","","","","","","","","","","","","","","","","","","","○","","","","","","",""]
[null,"●","薄口醤油","○","","","","","","","","","","","","","","","","","","","","○","","","","","","",""]
[null,"●","食塩","","","","","","","","","","","","","","","","","","","","","","","","","","","",""]
[null,"●","顆粒だし","","","","","","","","","","","","","","","","","","","","","","","","","","","",""]
[null,"●","片栗粉","","","","","","","","","","","","","","","","","","","","","","","","","","","",""]
[null,null,"水","","","","","","","","","","","","","","","","",{"$f":"IFERROR(IF(COUNTIF(INDIRECT($C21&\"!F5:I42\"),\"*\"&T$5&\"*\")>0,\"○\",IF(COUNTIF(INDIRECT($C21&\"!B43:I45\"),\"*\"&T$5&\"*\")>0,\"△\",\"\")),\"\")","v":""},"","","","","","","","","","",""]
["ハンバーグ","●","うす口ハンバーグ","","","","","","","","△","","","","","","△","","","","","","","○","○","○","△","","","△",""]
[null,"●","トマトケチャップ",{"$f":"IFERROR(IF(COUNTIF(INDIRECT($C23&\"!F5:I42\"),\"*\"&D$5&\"*\")>0,\"○\",IF(COUNTIF(INDIRECT($C23&\"!B43:I45\"),\"*\"&D$5&\"*\")>0,\"△\",\"\")),\"\")","v":""},"","","","","","","","","","","","","","","","","","","","","","","","","","",""]
[null,"●","ソース","","","","","","","","","","","","","","○","","","","","","","","","","","","","",""]
[null,null,"水","","","","","","","","","","","","","","","","","","","","","","","","","","","",""]
["フライドポテト","●","フライドポテト","○","","","","","","","","","","","","","","","","","","","","","","","","","","",""]
[null,"●","食塩","","","","","","","","","","","","","","","","","","","","","","","","","","","",""]
[null,"●","キャノーラ油","","","","","","","","","","","","","","","","","","","","","","","","","","","",""]
["ミニグラタン","●","ミニグラタン","○","","○","","","","","","","","","","","","","","","","","","○","","○","","","","",""]
["ブロッコリー","●","ブロッコリー","","","","","","","","","","","","","","","","","","","","","","","","","","","",""]
["豆乳プリン","●","豆乳プリン","","","","","","","","","","","△","","","","","","","","","","○","","","","","","",""]
[null,null,null,"","","","","","","","","","","","","","","","","","","","","","","","","","","",""]
[null,null,null,"","","","","","","","","","","","","","","","","","","","","","","","","","","",""]
[null,null,null,"","","","","","","","","","","","","","","","","","","","","","","","","","","",""]
[null,null,null,"","","","","","","","","","","","","","","","","","","","","","","","","","","",""]
[null,null,null,{"$f":"IFERROR(IF(COUNTIF(INDIRECT($C36&\"!F5:I42\"),\"*\"&D$5&\"*\")>0,\"○\",IF(COUNTIF(INDIRECT($C36&\"!B43:I45\"),\"*\"&D$5&\"*\")>0,\"△\",\"\")),\"\")","v":""},"","","","","","","","","","","","","","","","","","","","","","","","","","",""]
[null,null,null,"","","","","","","","","","","","","","","","",{"$f":"IFERROR(IF(COUNTIF(INDIRECT($C37&\"!F5:I42\"),\"*\"&T$5&\"*\")>0,\"○\",IF(COUNTIF(INDIRECT($C37&\"!B43:I45\"),\"*\"&T$5&\"*\")>0,\"△\",\"\")),\"\")","v":""},"","","","","","","","","","",""]
[null,null,null,"","","","","","","","","","","","","","","","","","","","","","","","","","","",""]
[null,null,null,"","","","","","","","","","","","","","","","","","","","","","","","","","","",""]
[null,null,null,"","","","","","","","","","","","","","","","","","","","","","","","","","","",""]
[{"$f":"入力例!A22","v":"オーエンス泉岳自然ふれあい館"}]

{"sheet":"精白米","index":4,"n_rows":52,"n_cols":40,"rows_kept":52,"cut":false,"hidden":false,"merged":[[51,0,51,8],[2,0,3,0],[2,1,3,7],[45,0,48,0],[45,1,45,8],[46,1,46,8],[47,1,47,8],[48,1,48,8],[49,0,50,0],[49,1,50,8],[40,1,40,4],[40,5,40,8],[41,1,41,4],[41,5,41,8],[42,0,44,0],[42,1,42,8],[44,1,44,8],[37,1,37,4],[37,5,37,8],[38,1,38,4],[38,5,38,8],[39,1,39,4],[39,5,39,8],[35,1,35,4],[35,5,35,8],[36,1,36,4],[36,5,36,8],[43,1,43,8],[32,1,32,4],[32,5,32,8],[33,1,33,4],[33,5,33,8],[34,1,34,4],[34,5,34,8],[29,1,29,4],[29,5,29,8],[30,1,30,4],[30,5,30,8],[31,1,31,4],[31,5,31,8],[26,1,26,4],[26,5,26,8],[27,1,27,4],[27,5,27,8],[28,1,28,4],[28,5,28,8],[23,1,23,4],[23,5,23,8],[24,1,24,4],[24,5,24,8],[25,1,25,4],[25,5,25,8],[20,1,20,4],[20,5,20,8],[21,1,21,4],[21,5,21,8],[22,1,22,4],[22,5,22,8],[17,1,17,4],[17,5,17,8],[18,1,18,4],[18,5,18,8],[19,1,19,4],[19,5,19,8],[14,1,14,4],[14,5,14,8],[15,1,15,4],[15,5,15,8],[16,1,16,4],[16,5,16,8],[11,1,11,4],[11,5,11,8],[12,1,12,4],[12,5,12,8],[13,1,13,4],[13,5,13,8],[1,1,1,8],[4,0,41,0],[4,1,4,4],[4,5,4,8],[5,1,5,4],[5,5,5,8],[6,1,6,4],[6,5,6,8],[7,1,7,4],[7,5,7,8],[8,1,8,4],[8,5,8,8],[9,1,9,4],[9,5,9,8],[10,1,10,4],[10,5,10,8]]}
["一覧へ","　"]
["シート名",{"$f":"RIGHT(CELL(\"filename\",A1),LEN(CELL(\"filename\",A1))-FIND(\"]\",CELL(\"filename\",A1)))","v":"精白米"}]
["商品名","根白石環境ひとめぼれ",null,null,null,null,null,null,"作成日"]
[null,null,null,null,null,null,null,null,{"$f":"一覧!$D$1","v":"2023-03-01"}]
["原材料","原材料名",null,null,null,"28品目アレルゲン",null,null,null,null,"個数①","計",{"$f":"一覧!D5","v":"小麦"},{"$f":"一覧!E5","v":"卵"},{"$f":"一覧!F5","v":"乳"},{"$f":"一覧!G5","v":"そば"},{"$f":"一覧!H5","v":"落花生"},{"$f":"一覧!I5","v":"えび"},{"$f":"一覧!J5","v":"かに"},{"$f":"一覧!K5","v":"ごま"},{"$f":"一覧!L5","v":"くるみ"},{"$f":"一覧!M5","v":"カシュ"},{"$f":"一覧!N5","v":"アーモンド"},{"$f":"一覧!O5","v":"キウイ"},{"$f":"一覧!P5","v":"もも"},{"$f":"一覧!Q5","v":"リンゴ"},{"$f":"一覧!R5","v":"バナナ"},{"$f":"一覧!S5","v":"オレンジ"},{"$f":"一覧!T5","v":"いか"},{"$f":"一覧!U5","v":"いくら"},{"$f":"一覧!V5","v":"さけ"},{"$f":"一覧!W5","v":"さば"},{"$f":"一覧!X5","v":"大豆"},{"$f":"一覧!Y5","v":"鶏肉"},{"$f":"一覧!Z5","v":"豚肉"},{"$f":"一覧!AA5","v":"牛肉"},{"$f":"一覧!AB5","v":"まつたけ"},{"$f":"一覧!AC5","v":"やまいも"},{"$f":"一覧!AD5","v":"ゼラチン"},{"$f":"一覧!AE5","v":"あわび"}]
[null,"米",null,null,null,null,null,null,null,null,{"$f":"IF(F6=\"\",0,LEN(F6)-LEN(SUBSTITUTE(F6, \"、\", \"\"))+1)","v":0},{"$f":"SUM(M6:AN6)","v":0},{"$f":"COUNTIF($F6,\"*\"&M$5&\"*\")","v":0},{"$f":"COUNTIF($F6,\"*\"&N$5&\"*\")","v":0},0,0,0,0,0,0,0,0,0,0,0,0,0,0,0,0,0,0,0,0,0,0,0,0,0,0]
[null,null,null,null,null,null,null,null,null,null,{"$f":"IF(F7=\"\",0,LEN(F7)-LEN(SUBSTITUTE(F7, \"、\", \"\"))+1)","v":0},{"$f":"SUM(M7:AN7)","v":0},{"$f":"COUNTIF($F7,\"*\"&M$5&\"*\")","v":0},0,0,0,0,0,0,0,0,0,0,0,0,0,0,0,0,0,0,0,0,0,0,0,0,0,0,0]
[null,null,null,null,null,null,null,null,null,null,0,0,0,0,0,0,0,0,0,0,0,0,0,0,0,0,0,0,0,0,0,0,0,0,0,0,0,0,0,0]
[null,null,null,null,null,null,null,null,null,null,0,0,0,0,0,0,0,0,0,0,0,0,0,0,0,0,0,0,0,0,0,0,0,0,0,0,0,0,0,0]
[null,null,null,null,null,null,null,null,null,null,0,0,0,0,0,0,0,0,0,0,0,0,0,0,0,0,0,0,0,0,0,0,0,0,0,0,0,0,0,0]
[null,null,null,null,null,null,null,null,null,null,0,0,0,0,0,0,0,0,0,0,0,0,0,0,0,0,0,0,0,0,0,0,0,0,0,0,0,0,0,0]
[null,null,null,null,null,null,null,null,null,null,0,0,0,0,0,0,0,0,0,0,0,0,0,0,0,0,0,0,0,0,0,0,0,0,0,0,0,0,0,0]
[null,null,null,null,null,null,null,null,null,null,0,0,0,0,0,0,0,0,0,0,0,0,0,0,0,0,0,0,0,0,0,0,0,0,0,0,0,0,0,0]
[null,null,null,null,null,null,null,null,null,null,0,0,0,0,0,0,0,0,0,0,0,0,0,0,0,0,0,0,0,0,0,0,0,0,0,0,0,0,0,0]
[null,null,null,null,null,null,null,null,null,null,0,0,0,0,0,0,0,0,0,0,0,0,0,0,0,{"$f":"COUNTIF($F15,\"*\"&Z$5&\"*\")","v":0},0,0,0,0,0,0,0,0,0,0,0,0,0,0]
[null,null,null,null,null,null,null,null,null,null,0,0,0,0,0,0,0,0,0,0,0,0,0,0,0,0,0,0,0,0,0,0,0,0,0,0,0,0,0,0]
[null,null,null,null,null,null,null,null,null,null,0,0,0,0,0,0,0,0,0,0,0,0,0,0,0,0,0,0,0,0,0,0,0,0,0,0,0,0,0,0]
[null,null,null,null,null,null,null,null,null,null,0,0,0,0,0,0,0,0,0,0,0,0,0,0,0,0,0,0,0,0,0,0,0,0,0,0,0,0,0,0]
[null,null,null,null,null,null,null,null,null,null,0,0,0,0,0,0,0,0,0,0,0,0,0,0,0,0,0,0,0,0,0,0,0,0,0,0,0,0,0,0]
[null,null,null,null,null,null,null,null,null,null,0,0,0,0,0,0,0,0,0,0,0,0,0,0,0,0,0,0,0,0,0,0,0,0,0,0,0,0,0,0]
[null,null,null,null,null,null,null,null,null,null,0,0,0,0,0,0,0,0,0,0,0,0,0,0,0,0,0,0,0,0,0,0,0,0,0,0,0,0,0,0]
[null,null,null,null,null,null,null,null,null,null,0,0,0,0,0,0,0,0,0,0,0,0,0,0,0,0,0,0,0,0,0,0,0,0,0,0,0,0,0,0]
[null,null,null,null,null,null,null,null,null,null,0,0,0,0,0,0,0,0,0,0,0,0,0,0,0,0,0,0,0,0,0,0,0,0,0,0,0,0,0,0]
[null,null,null,null,null,null,null,null,null,null,0,0,0,0,0,0,0,0,0,0,0,0,0,0,0,0,0,0,0,0,0,0,0,0,0,0,0,0,0,0]
[null,null,null,null,null,null,null,null,null,null,0,0,0,0,0,0,0,0,0,0,0,0,0,0,0,0,0,0,0,0,0,0,0,0,0,0,0,0,0,0]
[null,null,null,null,null,null,null,null,null,null,0,0,0,0,0,0,0,0,0,0,0,0,0,0,0,0,0,0,0,0,0,0,0,0,0,0,0,0,0,0]
[null,null,null,null,null,null,null,null,null,null,0,0,0,0,0,0,0,0,0,0,0,0,0,0,0,0,0,0,0,0,0,0,0,0,0,0,0,0,0,0]
[null,null,null,null,null,null,null,null,null,null,0,0,0,0,0,0,0,0,0,0,0,0,0,0,0,0,0,0,0,0,0,0,0,0,0,0,0,0,0,0]
[null,null,null,null,null,null,null,null,null,null,0,0,0,0,0,0,0,0,0,0,0,0,0,0,0,0,0,0,0,0,0,0,0,0,0,0,0,0,0,0]
[null,null,null,null,null,null,null,null,null,null,0,0,0,0,0,0,0,0,0,0,{"$f":"COUNTIF($F30,\"*\"&U$5&\"*\")","v":0},0,0,0,0,0,0,0,0,0,0,0,0,0,0,0,0,0,0,0]
[null,null,null,null,null,null,null,null,null,null,0,0,{"$f":"COUNTIF($F31,\"*\"&M$5&\"*\")","v":0},0,0,0,0,0,0,0,0,0,0,0,0,0,0,0,0,{"$f":"COUNTIF($F31,\"*\"&AD$5&\"*\")","v":0},0,0,0,0,0,0,0,0,0,0]
[null,null,null,null,null,null,null,null,null,null,0,0,0,0,0,0,0,0,0,0,0,0,0,0,0,0,0,0,0,0,0,0,0,0,0,0,0,0,0,0]
[null,null,null,null,null,null,null,null,null,null,0,0,0,0,0,0,0,0,0,0,0,0,0,0,0,0,0,0,0,0,0,0,0,0,0,0,0,0,0,0]
[null,null,null,null,null,null,null,null,null,null,0,0,0,0,0,0,0,0,0,0,0,0,0,0,0,0,0,0,0,0,0,0,0,0,0,0,0,0,0,0]
[null,null,null,null,null,null,null,null,null,null,0,0,0,0,0,0,0,0,0,0,0,0,0,0,0,0,0,0,0,0,0,0,0,0,0,0,0,0,0,0]
[null,null,null,null,null,null,null,null,null,null,0,0,0,0,0,0,0,0,0,0,0,0,0,0,0,0,0,0,0,0,0,0,0,0,0,0,0,0,0,0]
[null,null,null,null,null,null,null,null,null,null,0,0,0,0,0,0,0,0,0,0,0,0,0,0,0,0,0,0,0,0,0,0,0,0,0,0,0,0,0,0]
[null,null,null,null,null,null,null,null,null,null,0,0,0,0,0,0,0,0,0,0,0,0,0,0,0,0,0,0,0,0,0,0,0,0,0,0,0,0,0,0]
[null,null,null,null,null,null,null,null,null,null,0,0,0,0,0,0,0,0,0,0,0,0,0,0,0,0,0,0,0,0,0,0,0,0,0,0,0,0,0,0]
[null,null,null,null,null,null,null,null,null,null,0,0,0,0,0,0,0,0,0,0,0,0,0,0,0,0,0,0,0,0,0,0,0,0,0,0,0,0,0,0]
[null,null,null,null,null,null,null,null,null,null,0,0,0,0,0,0,0,0,0,0,0,0,0,0,0,0,0,0,0,0,0,0,0,0,0,0,0,0,0,0]
[null,null,null,null,null,null,null,null,null,null,0,0,0,0,0,0,0,0,0,0,0,0,0,0,0,0,0,0,0,0,0,0,0,0,0,0,0,0,0,0]
["コンタミネーション","なし",null,null,null,null,null,null,null,null,{"$f":"IF(OR($B43=\"\",$B43=\"なし\"),0,LEN($B43)-LEN(SUBSTITUTE($B43, \"、\", \"\"))+1)","v":0},0,{"$f":"COUNTIF($B43,\"*\"&M$5&\"*\")","v":0},{"$f":"COUNTIF($B43,\"*\"&N$5&\"*\")","v":0},0,0,0,0,0,0,0,0,0,0,0,0,0,0,0,0,{"$f":"COUNTIF($B43,\"*\"&AE$5&\"*\")","v":0},0,0,0,0,0,0,0,0,0]
[null,null,null,null,null,null,null,null,null,null,0,0,{"$f":"COUNTIF($B44,\"*\"&M$5&\"*\")","v":0},0,0,0,0,0,0,0,0,0,0,0,0,0,0,0,0,0,0,0,0,0,0,0,0,0,0,0]
[null,null,null,null,null,null,null,null,null,null,0,0,0,0,0,0,0,0,0,0,0,0,0,0,0,0,0,0,0,0,0,0,0,0,0,0,0,0,0,0]
["特記事項"]
[]
[]
[null,"●　商品の終売・リニューアルの場合は成分等が変更になる場合があります。ご了承ください。"]
["製造元","株式会社ジェイエイ仙台"]
[]
[{"$f":"一覧!$A$41","v":"オーエンス泉岳自然ふれあい館"}]

{"sheet":"白石温麺","index":5,"n_rows":52,"n_cols":40,"rows_kept":52,"cut":false,"hidden":false,"merged":[[1,1,1,8],[2,0,3,0],[2,1,3,7],[4,0,41,0],[4,1,4,4],[4,5,4,8],[5,1,5,4],[5,5,5,8],[6,1,6,4],[6,5,6,8],[7,1,7,4],[7,5,7,8],[8,1,8,4],[8,5,8,8],[9,1,9,4],[9,5,9,8],[10,1,10,4],[10,5,10,8],[11,1,11,4],[11,5,11,8],[12,1,12,4],[12,5,12,8],[13,1,13,4],[13,5,13,8],[14,1,14,4],[14,5,14,8],[15,1,15,4],[15,5,15,8],[16,1,16,4],[16,5,16,8],[17,1,17,4],[17,5,17,8],[18,1,18,4],[18,5,18,8],[19,1,19,4],[19,5,19,8],[20,1,20,4],[20,5,20,8],[21,1,21,4],[21,5,21,8],[22,1,22,4],[22,5,22,8],[23,1,23,4],[23,5,23,8],[24,1,24,4],[24,5,24,8],[25,1,25,4],[25,5,25,8],[26,1,26,4],[26,5,26,8],[27,1,27,4],[27,5,27,8],[28,1,28,4],[28,5,28,8],[29,1,29,4],[29,5,29,8],[30,1,30,4],[30,5,30,8],[31,1,31,4],[31,5,31,8],[32,1,32,4],[32,5,32,8],[33,1,33,4],[33,5,33,8],[34,1,34,4],[34,5,34,8],[35,1,35,4],[35,5,35,8],[36,1,36,4],[36,5,36,8],[37,1,37,4],[37,5,37,8],[38,1,38,4],[38,5,38,8],[39,1,39,4],[39,5,39,8],[40,1,40,4],[40,5,40,8],[41,1,41,4],[41,5,41,8],[42,0,44,0],[42,1,42,8],[43,1,43,8],[44,1,44,8],[51,0,51,8],[45,0,48,0],[45,1,45,8],[46,1,46,8],[47,1,47,8],[48,1,48,8],[49,0,50,0],[49,1,50,8]]}
["一覧へ","　"]
["シート名",{"$f":"RIGHT(CELL(\"filename\",A1),LEN(CELL(\"filename\",A1))-FIND(\"]\",CELL(\"filename\",A1)))","v":"白石温麺"}]
["商品名","クラウン白石温麺",null,null,null,null,null,null,"作成日"]
[null,null,null,null,null,null,null,null,{"$f":"一覧!$D$1","v":"2023-03-01"}]
["原材料","原材料名",null,null,null,"28品目アレルゲン",null,null,null,null,"個数①","計",{"$f":"一覧!D5","v":"小麦"},{"$f":"一覧!E5","v":"卵"},{"$f":"一覧!F5","v":"乳"},{"$f":"一覧!G5","v":"そば"},{"$f":"一覧!H5","v":"落花生"},{"$f":"一覧!I5","v":"えび"},{"$f":"一覧!J5","v":"かに"},{"$f":"一覧!K5","v":"ごま"},{"$f":"一覧!L5","v":"くるみ"},{"$f":"一覧!M5","v":"カシュ"},{"$f":"一覧!N5","v":"アーモンド"},{"$f":"一覧!O5","v":"キウイ"},{"$f":"一覧!P5","v":"もも"},{"$f":"一覧!Q5","v":"リンゴ"},{"$f":"一覧!R5","v":"バナナ"},{"$f":"一覧!S5","v":"オレンジ"},{"$f":"一覧!T5","v":"いか"},{"$f":"一覧!U5","v":"いくら"},{"$f":"一覧!V5","v":"さけ"},{"$f":"一覧!W5","v":"さば"},{"$f":"一覧!X5","v":"大豆"},{"$f":"一覧!Y5","v":"鶏肉"},{"$f":"一覧!Z5","v":"豚肉"},{"$f":"一覧!AA5","v":"牛肉"},{"$f":"一覧!AB5","v":"まつたけ"},{"$f":"一覧!AC5","v":"やまいも"},{"$f":"一覧!AD5","v":"ゼラチン"},{"$f":"一覧!AE5","v":"あわび"}]
[null,"小麦粉",null,null,null,"小麦",null,null,null,null,{"$f":"IF(F6=\"\",0,LEN(F6)-LEN(SUBSTITUTE(F6, \"、\", \"\"))+1)","v":1},{"$f":"SUM(M6:AN6)","v":1},{"$f":"COUNTIF($F6,\"*\"&M$5&\"*\")","v":1},{"$f":"COUNTIF($F6,\"*\"&N$5&\"*\")","v":0},0,0,0,0,0,0,0,0,0,0,0,0,0,0,0,0,0,0,0,0,0,0,0,0,0,0]
[null,"食塩(外割り)",null,null,null,null,null,null,null,null,{"$f":"IF(F7=\"\",0,LEN(F7)-LEN(SUBSTITUTE(F7, \"、\", \"\"))+1)","v":0},{"$f":"SUM(M7:AN7)","v":0},{"$f":"COUNTIF($F7,\"*\"&M$5&\"*\")","v":0},0,0,0,0,0,0,0,0,0,0,0,0,0,0,0,0,0,0,0,0,0,0,0,0,0,0,0]
[null,null,null,null,null,null,null,null,null,null,0,0,0,0,0,0,0,0,0,0,0,0,0,0,0,0,0,0,0,0,0,0,0,0,0,0,0,0,0,0]
[null,null,null,null,null,null,null,null,null,null,0,0,0,0,0,0,0,0,0,0,0,0,0,0,0,0,0,0,0,0,0,0,0,0,0,0,0,0,0,0]
[null,null,null,null,null,null,null,null,null,null,0,0,0,0,0,0,0,0,0,0,0,0,0,0,0,0,0,0,0,0,0,0,0,0,0,0,0,0,0,0]
[null,null,null,null,null,null,null,null,null,null,0,0,0,0,0,0,0,0,0,0,0,0,0,0,0,0,0,0,0,0,0,0,0,0,0,0,0,0,0,0]
[null,null,null,null,null,null,null,null,null,null,0,0,0,0,0,0,0,0,0,0,0,0,0,0,0,0,0,0,0,0,0,0,0,0,0,0,0,0,0,0]
[null,null,null,null,null,null,null,null,null,null,0,0,0,0,0,0,0,0,0,0,0,0,0,0,0,0,0,0,0,0,0,0,0,0,0,0,0,0,0,0]
[null,null,null,null,null,null,null,null,null,null,0,0,0,0,0,0,0,0,0,0,0,0,0,0,0,0,0,0,0,0,0,0,0,0,0,0,0,0,0,0]
[null,null,null,null,null,null,null,null,null,null,0,0,0,0,0,0,0,0,0,0,0,0,0,0,0,{"$f":"COUNTIF($F15,\"*\"&Z$5&\"*\")","v":0},0,0,0,0,0,0,0,0,0,0,0,0,0,0]
[null,null,null,null,null,null,null,null,null,null,0,0,0,0,0,0,0,0,0,0,0,0,0,0,0,0,0,0,0,0,0,0,0,0,0,0,0,0,0,0]
[null,null,null,null,null,null,null,null,null,null,0,0,0,0,0,0,0,0,0,0,0,0,0,0,0,0,0,0,0,0,0,0,0,0,0,0,0,0,0,0]
[null,null,null,null,null,null,null,null,null,null,0,0,0,0,0,0,0,0,0,0,0,0,0,0,0,0,0,0,0,0,0,0,0,0,0,0,0,0,0,0]
[null,null,null,null,null,null,null,null,null,null,0,0,0,0,0,0,0,0,0,0,0,0,0,0,0,0,0,0,0,0,0,0,0,0,0,0,0,0,0,0]
[null,null,null,null,null,null,null,null,null,null,0,0,0,0,0,0,0,0,0,0,0,0,0,0,0,0,0,0,0,0,0,0,0,0,0,0,0,0,0,0]
[null,null,null,null,null,null,null,null,null,null,0,0,0,0,0,0,0,0,0,0,0,0,0,0,0,0,0,0,0,0,0,0,0,0,0,0,0,0,0,0]
[null,null,null,null,null,null,null,null,null,null,0,0,0,0,0,0,0,0,0,0,0,0,0,0,0,0,0,0,0,0,0,0,0,0,0,0,0,0,0,0]
[null,null,null,null,null,null,null,null,null,null,0,0,0,0,0,0,0,0,0,0,0,0,0,0,0,0,0,0,0,0,0,0,0,0,0,0,0,0,0,0]
[null,null,null,null,null,null,null,null,null,null,0,0,0,0,0,0,0,0,0,0,0,0,0,0,0,0,0,0,0,0,0,0,0,0,0,0,0,0,0,0]
[null,null,null,null,null,null,null,null,null,null,0,0,0,0,0,0,0,0,0,0,0,0,0,0,0,0,0,0,0,0,0,0,0,0,0,0,0,0,0,0]
[null,null,null,null,null,null,null,null,null,null,0,0,0,0,0,0,0,0,0,0,0,0,0,0,0,0,0,0,0,0,0,0,0,0,0,0,0,0,0,0]
[null,null,null,null,null,null,null,null,null,null,0,0,0,0,0,0,0,0,0,0,0,0,0,0,0,0,0,0,0,0,0,0,0,0,0,0,0,0,0,0]
[null,null,null,null,null,null,null,null,null,null,0,0,0,0,0,0,0,0,0,0,0,0,0,0,0,0,0,0,0,0,0,0,0,0,0,0,0,0,0,0]
[null,null,null,null,null,null,null,null,null,null,0,0,0,0,0,0,0,0,0,0,0,0,0,0,0,0,0,0,0,0,0,0,0,0,0,0,0,0,0,0]
[null,null,null,null,null,null,null,null,null,null,0,0,0,0,0,0,0,0,0,0,{"$f":"COUNTIF($F30,\"*\"&U$5&\"*\")","v":0},0,0,0,0,0,0,0,0,0,0,0,0,0,0,0,0,0,0,0]
[null,null,null,null,null,null,null,null,null,null,0,0,{"$f":"COUNTIF($F31,\"*\"&M$5&\"*\")","v":0},0,0,0,0,0,0,0,0,0,0,0,0,0,0,0,0,{"$f":"COUNTIF($F31,\"*\"&AD$5&\"*\")","v":0},0,0,0,0,0,0,0,0,0,0]
[null,null,null,null,null,null,null,null,null,null,0,0,0,0,0,0,0,0,0,0,0,0,0,0,0,0,0,0,0,0,0,0,0,0,0,0,0,0,0,0]
[null,null,null,null,null,null,null,null,null,null,0,0,0,0,0,0,0,0,0,0,0,0,0,0,0,0,0,0,0,0,0,0,0,0,0,0,0,0,0,0]
[null,null,null,null,null,null,null,null,null,null,0,0,0,0,0,0,0,0,0,0,0,0,0,0,0,0,0,0,0,0,0,0,0,0,0,0,0,0,0,0]
[null,null,null,null,null,null,null,null,null,null,0,0,0,0,0,0,0,0,0,0,0,0,0,0,0,0,0,0,0,0,0,0,0,0,0,0,0,0,0,0]
[null,null,null,null,null,null,null,null,null,null,0,0,0,0,0,0,0,0,0,0,0,0,0,0,0,0,0,0,0,0,0,0,0,0,0,0,0,0,0,0]
[null,null,null,null,null,null,null,null,null,null,0,0,0,0,0,0,0,0,0,0,0,0,0,0,0,0,0,0,0,0,0,0,0,0,0,0,0,0,0,0]
[null,null,null,null,null,null,null,null,null,null,0,0,0,0,0,0,0,0,0,0,0,0,0,0,0,0,0,0,0,0,0,0,0,0,0,0,0,0,0,0]
[null,null,null,null,null,null,null,null,null,null,0,0,0,0,0,0,0,0,0,0,0,0,0,0,0,0,0,0,0,0,0,0,0,0,0,0,0,0,0,0]
[null,null,null,null,null,null,null,null,null,null,0,0,0,0,0,0,0,0,0,0,0,0,0,0,0,0,0,0,0,0,0,0,0,0,0,0,0,0,0,0]
[null,null,null,null,null,null,null,null,null,null,0,0,0,0,0,0,0,0,0,0,0,0,0,0,0,0,0,0,0,0,0,0,0,0,0,0,0,0,0,0]
[null,null,null,null,null,null,null,null,null,null,0,0,0,0,0,0,0,0,0,0,0,0,0,0,0,0,0,0,0,0,0,0,0,0,0,0,0,0,0,0]
["コンタミネーション","そば、やまいも",null,null,null,null,null,null,null,null,{"$f":"IF(OR($B43=\"\",$B43=\"なし\"),0,LEN($B43)-LEN(SUBSTITUTE($B43, \"、\", \"\"))+1)","v":2},2,{"$f":"COUNTIF($B43,\"*\"&M$5&\"*\")","v":0},{"$f":"COUNTIF($B43,\"*\"&N$5&\"*\")","v":0},0,1,0,0,0,0,0,0,0,0,0,0,0,0,0,0,{"$f":"COUNTIF($B43,\"*\"&AE$5&\"*\")","v":0},0,0,0,0,0,0,1,0,0]
[null,null,null,null,null,null,null,null,null,null,0,0,{"$f":"COUNTIF($B44,\"*\"&M$5&\"*\")","v":0},0,0,0,0,0,0,0,0,0,0,0,0,0,0,0,0,0,0,0,0,0,0,0,0,0,0,0]
[null,null,null,null,null,null,null,null,null,null,0,0,0,0,0,0,0,0,0,0,0,0,0,0,0,0,0,0,0,0,0,0,0,0,0,0,0,0,0,0]
["特記事項"]
[]
[]
[null,"●　商品の終売・リニューアルの場合は成分等が変更になる場合があります。ご了承ください。"]
["製造元","株式会社松田製粉"]
[]
[{"$f":"一覧!$A$41","v":"オーエンス泉岳自然ふれあい館"}]

{"sheet":"豆麩","index":6,"n_rows":52,"n_cols":40,"rows_kept":52,"cut":false,"hidden":false,"merged":[[1,1,1,8],[2,0,3,0],[2,1,3,7],[4,0,41,0],[4,1,4,4],[4,5,4,8],[5,1,5,4],[5,5,5,8],[6,1,6,4],[6,5,6,8],[7,1,7,4],[7,5,7,8],[8,1,8,4],[8,5,8,8],[9,1,9,4],[9,5,9,8],[10,1,10,4],[10,5,10,8],[11,1,11,4],[11,5,11,8],[12,1,12,4],[12,5,12,8],[13,1,13,4],[13,5,13,8],[14,1,14,4],[14,5,14,8],[15,1,15,4],[15,5,15,8],[16,1,16,4],[16,5,16,8],[17,1,17,4],[17,5,17,8],[18,1,18,4],[18,5,18,8],[19,1,19,4],[19,5,19,8],[20,1,20,4],[20,5,20,8],[21,1,21,4],[21,5,21,8],[22,1,22,4],[22,5,22,8],[23,1,23,4],[23,5,23,8],[24,1,24,4],[24,5,24,8],[25,1,25,4],[25,5,25,8],[26,1,26,4],[26,5,26,8],[27,1,27,4],[27,5,27,8],[28,1,28,4],[28,5,28,8],[29,1,29,4],[29,5,29,8],[30,1,30,4],[30,5,30,8],[31,1,31,4],[31,5,31,8],[32,1,32,4],[32,5,32,8],[33,1,33,4],[33,5,33,8],[34,1,34,4],[34,5,34,8],[35,1,35,4],[35,5,35,8],[36,1,36,4],[36,5,36,8],[37,1,37,4],[37,5,37,8],[38,1,38,4],[38,5,38,8],[39,1,39,4],[39,5,39,8],[40,1,40,4],[40,5,40,8],[41,1,41,4],[41,5,41,8],[42,0,44,0],[42,1,42,8],[43,1,43,8],[44,1,44,8],[51,0,51,8],[45,0,48,0],[45,1,45,8],[46,1,46,8],[47,1,47,8],[48,1,48,8],[49,0,50,0],[49,1,50,8]]}
["一覧へ","　"]
["シート名",{"$f":"RIGHT(CELL(\"filename\",A1),LEN(CELL(\"filename\",A1))-FIND(\"]\",CELL(\"filename\",A1)))","v":"豆麩"}]
["商品名","白玉麩",null,null,null,null,null,null,"作成日"]
[null,null,null,null,null,null,null,null,{"$f":"一覧!$D$1","v":"2023-03-01"}]
["原材料","原材料名",null,null,null,"28品目アレルゲン",null,null,null,null,"個数①","計",{"$f":"一覧!D5","v":"小麦"},{"$f":"一覧!E5","v":"卵"},{"$f":"一覧!F5","v":"乳"},{"$f":"一覧!G5","v":"そば"},{"$f":"一覧!H5","v":"落花生"},{"$f":"一覧!I5","v":"えび"},{"$f":"一覧!J5","v":"かに"},{"$f":"一覧!K5","v":"ごま"},{"$f":"一覧!L5","v":"くるみ"},{"$f":"一覧!M5","v":"カシュ"},{"$f":"一覧!N5","v":"アーモンド"},{"$f":"一覧!O5","v":"キウイ"},{"$f":"一覧!P5","v":"もも"},{"$f":"一覧!Q5","v":"リンゴ"},{"$f":"一覧!R5","v":"バナナ"},{"$f":"一覧!S5","v":"オレンジ"},{"$f":"一覧!T5","v":"いか"},{"$f":"一覧!U5","v":"いくら"},{"$f":"一覧!V5","v":"さけ"},{"$f":"一覧!W5","v":"さば"},{"$f":"一覧!X5","v":"大豆"},{"$f":"一覧!Y5","v":"鶏肉"},{"$f":"一覧!Z5","v":"豚肉"},{"$f":"一覧!AA5","v":"牛肉"},{"$f":"一覧!AB5","v":"まつたけ"},{"$f":"一覧!AC5","v":"やまいも"},{"$f":"一覧!AD5","v":"ゼラチン"},{"$f":"一覧!AE5","v":"あわび"}]
[null,"小麦",null,null,null,"小麦",null,null,null,null,{"$f":"IF(F6=\"\",0,LEN(F6)-LEN(SUBSTITUTE(F6, \"、\", \"\"))+1)","v":1},{"$f":"SUM(M6:AN6)","v":1},{"$f":"COUNTIF($F6,\"*\"&M$5&\"*\")","v":1},{"$f":"COUNTIF($F6,\"*\"&N$5&\"*\")","v":0},0,0,0,0,0,0,0,0,0,0,0,0,0,0,0,0,0,0,0,0,0,0,0,0,0,0]
[null,null,null,null,null,null,null,null,null,null,{"$f":"IF(F7=\"\",0,LEN(F7)-LEN(SUBSTITUTE(F7, \"、\", \"\"))+1)","v":0},{"$f":"SUM(M7:AN7)","v":0},{"$f":"COUNTIF($F7,\"*\"&M$5&\"*\")","v":0},0,0,0,0,0,0,0,0,0,0,0,0,0,0,0,0,0,0,0,0,0,0,0,0,0,0,0]
[null,null,null,null,null,null,null,null,null,null,0,0,0,0,0,0,0,0,0,0,0,0,0,0,0,0,0,0,0,0,0,0,0,0,0,0,0,0,0,0]
[null,null,null,null,null,null,null,null,null,null,0,0,0,0,0,0,0,0,0,0,0,0,0,0,0,0,0,0,0,0,0,0,0,0,0,0,0,0,0,0]
[null,null,null,null,null,null,null,null,null,null,0,0,0,0,0,0,0,0,0,0,0,0,0,0,0,0,0,0,0,0,0,0,0,0,0,0,0,0,0,0]
[null,null,null,null,null,null,null,null,null,null,0,0,0,0,0,0,0,0,0,0,0,0,0,0,0,0,0,0,0,0,0,0,0,0,0,0,0,0,0,0]
[null,null,null,null,null,null,null,null,null,null,0,0,0,0,0,0,0,0,0,0,0,0,0,0,0,0,0,0,0,0,0,0,0,0,0,0,0,0,0,0]
[null,null,null,null,null,null,null,null,null,null,0,0,0,0,0,0,0,0,0,0,0,0,0,0,0,0,0,0,0,0,0,0,0,0,0,0,0,0,0,0]
[null,null,null,null,null,null,null,null,null,null,0,0,0,0,0,0,0,0,0,0,0,0,0,0,0,0,0,0,0,0,0,0,0,0,0,0,0,0,0,0]
[null,null,null,null,null,null,null,null,null,null,0,0,0,0,0,0,0,0,0,0,0,0,0,0,0,{"$f":"COUNTIF($F15,\"*\"&Z$5&\"*\")","v":0},0,0,0,0,0,0,0,0,0,0,0,0,0,0]
[null,null,null,null,null,null,null,null,null,null,0,0,0,0,0,0,0,0,0,0,0,0,0,0,0,0,0,0,0,0,0,0,0,0,0,0,0,0,0,0]
[null,null,null,null,null,null,null,null,null,null,0,0,0,0,0,0,0,0,0,0,0,0,0,0,0,0,0,0,0,0,0,0,0,0,0,0,0,0,0,0]
[null,null,null,null,null,null,null,null,null,null,0,0,0,0,0,0,0,0,0,0,0,0,0,0,0,0,0,0,0,0,0,0,0,0,0,0,0,0,0,0]
[null,null,null,null,null,null,null,null,null,null,0,0,0,0,0,0,0,0,0,0,0,0,0,0,0,0,0,0,0,0,0,0,0,0,0,0,0,0,0,0]
[null,null,null,null,null,null,null,null,null,null,0,0,0,0,0,0,0,0,0,0,0,0,0,0,0,0,0,0,0,0,0,0,0,0,0,0,0,0,0,0]
[null,null,null,null,null,null,null,null,null,null,0,0,0,0,0,0,0,0,0,0,0,0,0,0,0,0,0,0,0,0,0,0,0,0,0,0,0,0,0,0]
[null,null,null,null,null,null,null,null,null,null,0,0,0,0,0,0,0,0,0,0,0,0,0,0,0,0,0,0,0,0,0,0,0,0,0,0,0,0,0,0]
[null,null,null,null,null,null,null,null,null,null,0,0,0,0,0,0,0,0,0,0,0,0,0,0,0,0,0,0,0,0,0,0,0,0,0,0,0,0,0,0]
[null,null,null,null,null,null,null,null,null,null,0,0,0,0,0,0,0,0,0,0,0,0,0,0,0,0,0,0,0,0,0,0,0,0,0,0,0,0,0,0]
[null,null,null,null,null,null,null,null,null,null,0,0,0,0,0,0,0,0,0,0,0,0,0,0,0,0,0,0,0,0,0,0,0,0,0,0,0,0,0,0]
[null,null,null,null,null,null,null,null,null,null,0,0,0,0,0,0,0,0,0,0,0,0,0,0,0,0,0,0,0,0,0,0,0,0,0,0,0,0,0,0]
[null,null,null,null,null,null,null,null,null,null,0,0,0,0,0,0,0,0,0,0,0,0,0,0,0,0,0,0,0,0,0,0,0,0,0,0,0,0,0,0]
[null,null,null,null,null,null,null,null,null,null,0,0,0,0,0,0,0,0,0,0,0,0,0,0,0,0,0,0,0,0,0,0,0,0,0,0,0,0,0,0]
[null,null,null,null,null,null,null,null,null,null,0,0,0,0,0,0,0,0,0,0,0,0,0,0,0,0,0,0,0,0,0,0,0,0,0,0,0,0,0,0]
[null,null,null,null,null,null,null,null,null,null,0,0,0,0,0,0,0,0,0,0,{"$f":"COUNTIF($F30,\"*\"&U$5&\"*\")","v":0},0,0,0,0,0,0,0,0,0,0,0,0,0,0,0,0,0,0,0]
[null,null,null,null,null,null,null,null,null,null,0,0,{"$f":"COUNTIF($F31,\"*\"&M$5&\"*\")","v":0},0,0,0,0,0,0,0,0,0,0,0,0,0,0,0,0,{"$f":"COUNTIF($F31,\"*\"&AD$5&\"*\")","v":0},0,0,0,0,0,0,0,0,0,0]
[null,null,null,null,null,null,null,null,null,null,0,0,0,0,0,0,0,0,0,0,0,0,0,0,0,0,0,0,0,0,0,0,0,0,0,0,0,0,0,0]
[null,null,null,null,null,null,null,null,null,null,0,0,0,0,0,0,0,0,0,0,0,0,0,0,0,0,0,0,0,0,0,0,0,0,0,0,0,0,0,0]
[null,null,null,null,null,null,null,null,null,null,0,0,0,0,0,0,0,0,0,0,0,0,0,0,0,0,0,0,0,0,0,0,0,0,0,0,0,0,0,0]
[null,null,null,null,null,null,null,null,null,null,0,0,0,0,0,0,0,0,0,0,0,0,0,0,0,0,0,0,0,0,0,0,0,0,0,0,0,0,0,0]
[null,null,null,null,null,null,null,null,null,null,0,0,0,0,0,0,0,0,0,0,0,0,0,0,0,0,0,0,0,0,0,0,0,0,0,0,0,0,0,0]
[null,null,null,null,null,null,null,null,null,null,0,0,0,0,0,0,0,0,0,0,0,0,0,0,0,0,0,0,0,0,0,0,0,0,0,0,0,0,0,0]
[null,null,null,null,null,null,null,null,null,null,0,0,0,0,0,0,0,0,0,0,0,0,0,0,0,0,0,0,0,0,0,0,0,0,0,0,0,0,0,0]
[null,null,null,null,null,null,null,null,null,null,0,0,0,0,0,0,0,0,0,0,0,0,0,0,0,0,0,0,0,0,0,0,0,0,0,0,0,0,0,0]
[null,null,null,null,null,null,null,null,null,null,0,0,0,0,0,0,0,0,0,0,0,0,0,0,0,0,0,0,0,0,0,0,0,0,0,0,0,0,0,0]
[null,null,null,null,null,null,null,null,null,null,0,0,0,0,0,0,0,0,0,0,0,0,0,0,0,0,0,0,0,0,0,0,0,0,0,0,0,0,0,0]
[null,null,null,null,null,null,null,null,null,null,0,0,0,0,0,0,0,0,0,0,0,0,0,0,0,0,0,0,0,0,0,0,0,0,0,0,0,0,0,0]
["コンタミネーション","なし",null,null,null,null,null,null,null,null,{"$f":"IF(OR($B43=\"\",$B43=\"なし\"),0,LEN($B43)-LEN(SUBSTITUTE($B43, \"、\", \"\"))+1)","v":0},0,{"$f":"COUNTIF($B43,\"*\"&M$5&\"*\")","v":0},{"$f":"COUNTIF($B43,\"*\"&N$5&\"*\")","v":0},0,0,0,0,0,0,0,0,0,0,0,0,0,0,0,0,{"$f":"COUNTIF($B43,\"*\"&AE$5&\"*\")","v":0},0,0,0,0,0,0,0,0,0]
[null,null,null,null,null,null,null,null,null,null,0,0,{"$f":"COUNTIF($B44,\"*\"&M$5&\"*\")","v":0},0,0,0,0,0,0,0,0,0,0,0,0,0,0,0,0,0,0,0,0,0,0,0,0,0,0,0]
[null,null,null,null,null,null,null,null,null,null,0,0,0,0,0,0,0,0,0,0,0,0,0,0,0,0,0,0,0,0,0,0,0,0,0,0,0,0,0,0]
["特記事項"]
[]
[]
[null,"●　商品の終売・リニューアルの場合は成分等が変更になる場合があります。ご了承ください。"]
["製造元","大沼焼麩店"]
[]
[{"$f":"一覧!$A$41","v":"オーエンス泉岳自然ふれあい館"}]

{"sheet":"いんげん","index":7,"n_rows":52,"n_cols":40,"rows_kept":52,"cut":false,"hidden":false,"merged":[[1,1,1,8],[2,0,3,0],[2,1,3,7],[4,0,41,0],[4,1,4,4],[4,5,4,8],[5,1,5,4],[5,5,5,8],[6,1,6,4],[6,5,6,8],[7,1,7,4],[7,5,7,8],[8,1,8,4],[8,5,8,8],[9,1,9,4],[9,5,9,8],[10,1,10,4],[10,5,10,8],[11,1,11,4],[11,5,11,8],[12,1,12,4],[12,5,12,8],[13,1,13,4],[13,5,13,8],[14,1,14,4],[14,5,14,8],[15,1,15,4],[15,5,15,8],[16,1,16,4],[16,5,16,8],[17,1,17,4],[17,5,17,8],[18,1,18,4],[18,5,18,8],[19,1,19,4],[19,5,19,8],[20,1,20,4],[20,5,20,8],[21,1,21,4],[21,5,21,8],[22,1,22,4],[22,5,22,8],[23,1,23,4],[23,5,23,8],[24,1,24,4],[24,5,24,8],[25,1,25,4],[25,5,25,8],[26,1,26,4],[26,5,26,8],[27,1,27,4],[27,5,27,8],[28,1,28,4],[28,5,28,8],[29,1,29,4],[29,5,29,8],[30,1,30,4],[30,5,30,8],[31,1,31,4],[31,5,31,8],[32,1,32,4],[32,5,32,8],[33,1,33,4],[33,5,33,8],[34,1,34,4],[34,5,34,8],[35,1,35,4],[35,5,35,8],[36,1,36,4],[36,5,36,8],[37,1,37,4],[37,5,37,8],[38,1,38,4],[38,5,38,8],[39,1,39,4],[39,5,39,8],[40,1,40,4],[40,5,40,8],[41,1,41,4],[41,5,41,8],[42,0,44,0],[42,1,42,8],[43,1,43,8],[44,1,44,8],[51,0,51,8],[45,0,48,0],[45,1,45,8],[46,1,46,8],[47,1,47,8],[48,1,48,8],[49,0,50,0],[49,1,50,8]]}
["一覧へ"]
["シート名",{"$f":"RIGHT(CELL(\"filename\",A1),LEN(CELL(\"filename\",A1))-FIND(\"]\",CELL(\"filename\",A1)))","v":"いんげん"}]
["商品名","そのまま使えるカットいんげん",null,null,null,null,null,null,"作成日"]
[null,null,null,null,null,null,null,null,{"$f":"一覧!$D$1","v":"2023-03-01"}]
["原材料","原材料名",null,null,null,"28品目アレルゲン",null,null,null,null,"個数①","計","小麦","卵","乳","そば","落花生","えび","かに","ごま","くるみ","カシュ","アーモンド","キウイ","もも","リンゴ","バナナ","オレンジ","いか","いくら","さけ","さば","大豆","鶏肉","豚肉","牛肉","まつたけ","やまいも","ゼラチン","あわび"]
[null,"いんげん",null,null,null,null,null,null,null,null,{"$f":"IF(F6=\"\",0,LEN(F6)-LEN(SUBSTITUTE(F6, \"、\", \"\"))+1)","v":0},{"$f":"SUM(M6:AN6)","v":0},{"$f":"COUNTIF($F6,\"*\"&M$5&\"*\")","v":0},{"$f":"COUNTIF($F6,\"*\"&N$5&\"*\")","v":0},0,0,0,0,0,0,0,0,0,0,0,0,0,0,0,0,0,0,0,0,0,0,0,0,0,0]
[null,null,null,null,null,null,null,null,null,null,{"$f":"IF(F7=\"\",0,LEN(F7)-LEN(SUBSTITUTE(F7, \"、\", \"\"))+1)","v":0},{"$f":"SUM(M7:AN7)","v":0},{"$f":"COUNTIF($F7,\"*\"&M$5&\"*\")","v":0},0,0,0,0,0,0,0,0,0,0,0,0,0,0,0,0,0,0,0,0,0,0,0,0,0,0,0]
[null,null,null,null,null,null,null,null,null,null,0,0,0,0,0,0,0,0,0,0,0,0,0,0,0,0,0,0,0,0,0,0,0,0,0,0,0,0,0,0]
[null,null,null,null,null,null,null,null,null,null,0,0,0,0,0,0,0,0,0,0,0,0,0,0,0,0,0,0,0,0,0,0,0,0,0,0,0,0,0,0]
[null,null,null,null,null,null,null,null,null,null,0,0,0,0,0,0,0,0,0,0,0,0,0,0,0,0,0,0,0,0,0,0,0,0,0,0,0,0,0,0]
[null,null,null,null,null,null,null,null,null,null,0,0,0,0,0,0,0,0,0,0,0,0,0,0,0,0,0,0,0,0,0,0,0,0,0,0,0,0,0,0]
[null,null,null,null,null,null,null,null,null,null,0,0,0,0,0,0,0,0,0,0,0,0,0,0,0,0,0,0,0,0,0,0,0,0,0,0,0,0,0,0]
[null,null,null,null,null,null,null,null,null,null,0,0,0,0,0,0,0,0,0,0,0,0,0,0,0,0,0,0,0,0,0,0,0,0,0,0,0,0,0,0]
[null,null,null,null,null,null,null,null,null,null,0,0,0,0,0,0,0,0,0,0,0,0,0,0,0,0,0,0,0,0,0,0,0,0,0,0,0,0,0,0]
[null,null,null,null,null,null,null,null,null,null,0,0,0,0,0,0,0,0,0,0,0,0,0,0,0,{"$f":"COUNTIF($F15,\"*\"&Z$5&\"*\")","v":0},0,0,0,0,0,0,0,0,0,0,0,0,0,0]
[null,null,null,null,null,null,null,null,null,null,0,0,0,0,0,0,0,0,0,0,0,0,0,0,0,0,0,0,0,0,0,0,0,0,0,0,0,0,0,0]
[null,null,null,null,null,null,null,null,null,null,0,0,0,0,0,0,0,0,0,0,0,0,0,0,0,0,0,0,0,0,0,0,0,0,0,0,0,0,0,0]
[null,null,null,null,null,null,null,null,null,null,0,0,0,0,0,0,0,0,0,0,0,0,0,0,0,0,0,0,0,0,0,0,0,0,0,0,0,0,0,0]
[null,null,null,null,null,null,null,null,null,null,0,0,0,0,0,0,0,0,0,0,0,0,0,0,0,0,0,0,0,0,0,0,0,0,0,0,0,0,0,0]
[null,null,null,null,null,null,null,null,null,null,0,0,0,0,0,0,0,0,0,0,0,0,0,0,0,0,0,0,0,0,0,0,0,0,0,0,0,0,0,0]
[null,null,null,null,null,null,null,null,null,null,0,0,0,0,0,0,0,0,0,0,0,0,0,0,0,0,0,0,0,0,0,0,0,0,0,0,0,0,0,0]
[null,null,null,null,null,null,null,null,null,null,0,0,0,0,0,0,0,0,0,0,0,0,0,0,0,0,0,0,0,0,0,0,0,0,0,0,0,0,0,0]
[null,null,null,null,null,null,null,null,null,null,0,0,0,0,0,0,0,0,0,0,0,0,0,0,0,0,0,0,0,0,0,0,0,0,0,0,0,0,0,0]
[null,null,null,null,null,null,null,null,null,null,0,0,0,0,0,0,0,0,0,0,0,0,0,0,0,0,0,0,0,0,0,0,0,0,0,0,0,0,0,0]
[null,null,null,null,null,null,null,null,null,null,0,0,0,0,0,0,0,0,0,0,0,0,0,0,0,0,0,0,0,0,0,0,0,0,0,0,0,0,0,0]
[null,null,null,null,null,null,null,null,null,null,0,0,0,0,0,0,0,0,0,0,0,0,0,0,0,0,0,0,0,0,0,0,0,0,0,0,0,0,0,0]
[null,null,null,null,null,null,null,null,null,null,0,0,0,0,0,0,0,0,0,0,0,0,0,0,0,0,0,0,0,0,0,0,0,0,0,0,0,0,0,0]
[null,null,null,null,null,null,null,null,null,null,0,0,0,0,0,0,0,0,0,0,0,0,0,0,0,0,0,0,0,0,0,0,0,0,0,0,0,0,0,0]
[null,null,null,null,null,null,null,null,null,null,0,0,0,0,0,0,0,0,0,0,0,0,0,0,0,0,0,0,0,0,0,0,0,0,0,0,0,0,0,0]
[null,null,null,null,null,null,null,null,null,null,0,0,0,0,0,0,0,0,0,0,{"$f":"COUNTIF($F30,\"*\"&U$5&\"*\")","v":0},0,0,0,0,0,0,0,0,0,0,0,0,0,0,0,0,0,0,0]
[null,null,null,null,null,null,null,null,null,null,0,0,{"$f":"COUNTIF($F31,\"*\"&M$5&\"*\")","v":0},0,0,0,0,0,0,0,0,0,0,0,0,0,0,0,0,{"$f":"COUNTIF($F31,\"*\"&AD$5&\"*\")","v":0},0,0,0,0,0,0,0,0,0,0]
[null,null,null,null,null,null,null,null,null,null,0,0,0,0,0,0,0,0,0,0,0,0,0,0,0,0,0,0,0,0,0,0,0,0,0,0,0,0,0,0]
[null,null,null,null,null,null,null,null,null,null,0,0,0,0,0,0,0,0,0,0,0,0,0,0,0,0,0,0,0,0,0,0,0,0,0,0,0,0,0,0]
[null,null,null,null,null,null,null,null,null,null,0,0,0,0,0,0,0,0,0,0,0,0,0,0,0,0,0,0,0,0,0,0,0,0,0,0,0,0,0,0]
[null,null,null,null,null,null,null,null,null,null,0,0,0,0,0,0,0,0,0,0,0,0,0,0,0,0,0,0,0,0,0,0,0,0,0,0,0,0,0,0]
[null,null,null,null,null,null,null,null,null,null,0,0,0,0,0,0,0,0,0,0,0,0,0,0,0,0,0,0,0,0,0,0,0,0,0,0,0,0,0,0]
[null,null,null,null,null,null,null,null,null,null,0,0,0,0,0,0,0,0,0,0,0,0,0,0,0,0,0,0,0,0,0,0,0,0,0,0,0,0,0,0]
[null,null,null,null,null,null,null,null,null,null,0,0,0,0,0,0,0,0,0,0,0,0,0,0,0,0,0,0,0,0,0,0,0,0,0,0,0,0,0,0]
[null,null,null,null,null,null,null,null,null,null,0,0,0,0,0,0,0,0,0,0,0,0,0,0,0,0,0,0,0,0,0,0,0,0,0,0,0,0,0,0]
[null,null,null,null,null,null,null,null,null,null,0,0,0,0,0,0,0,0,0,0,0,0,0,0,0,0,0,0,0,0,0,0,0,0,0,0,0,0,0,0]
[null,null,null,null,null,null,null,null,null,null,0,0,0,0,0,0,0,0,0,0,0,0,0,0,0,0,0,0,0,0,0,0,0,0,0,0,0,0,0,0]
[null,null,null,null,null,null,null,null,null,null,0,0,0,0,0,0,0,0,0,0,0,0,0,0,0,0,0,0,0,0,0,0,0,0,0,0,0,0,0,0]
["コンタミネーション","なし",null,null,null,null,null,null,null,null,{"$f":"IF(OR($B43=\"\",$B43=\"なし\"),0,LEN($B43)-LEN(SUBSTITUTE($B43, \"、\", \"\"))+1)","v":0},0,{"$f":"COUNTIF($B43,\"*\"&M$5&\"*\")","v":0},{"$f":"COUNTIF($B43,\"*\"&N$5&\"*\")","v":0},0,0,0,0,0,0,0,0,0,0,0,0,0,0,0,0,{"$f":"COUNTIF($B43,\"*\"&AE$5&\"*\")","v":0},0,0,0,0,0,0,0,0,0]
[null,null,null,null,null,null,null,null,null,null,{"$f":"IF(OR($B44=\"\",$B44=\"なし\"),0,LEN($B44)-LEN(SUBSTITUTE($B44, \"、\", \"\"))+1)","v":0},0,{"$f":"COUNTIF($B44,\"*\"&M$5&\"*\")","v":0},0,0,0,0,0,0,0,0,0,0,0,0,0,0,0,0,0,0,0,0,0,0,0,0,0,0,0]
[null,null,null,null,null,null,null,null,null,null,0,0,0,0,0,0,0,0,0,0,0,0,0,0,0,0,0,0,0,0,0,0,0,0,0,0,0,0,0,0]
["特記事項"]
[]
[]
[null,"●　商品の終売・リニューアルの場合は成分等が変更になる場合があります。ご了承ください。"]
["製造元","株式会社ニチレイフーズ"]
[]
[{"$f":"一覧!$A$41","v":"オーエンス泉岳自然ふれあい館"}]

{"sheet":"ごぼう","index":8,"n_rows":52,"n_cols":40,"rows_kept":52,"cut":false,"hidden":false,"merged":[[1,1,1,8],[2,0,3,0],[2,1,3,7],[4,0,41,0],[4,1,4,4],[4,5,4,8],[5,1,5,4],[5,5,5,8],[6,1,6,4],[6,5,6,8],[7,1,7,4],[7,5,7,8],[8,1,8,4],[8,5,8,8],[9,1,9,4],[9,5,9,8],[10,1,10,4],[10,5,10,8],[11,1,11,4],[11,5,11,8],[12,1,12,4],[12,5,12,8],[13,1,13,4],[13,5,13,8],[14,1,14,4],[14,5,14,8],[15,1,15,4],[15,5,15,8],[16,1,16,4],[16,5,16,8],[17,1,17,4],[17,5,17,8],[18,1,18,4],[18,5,18,8],[19,1,19,4],[19,5,19,8],[20,1,20,4],[20,5,20,8],[21,1,21,4],[21,5,21,8],[22,1,22,4],[22,5,22,8],[23,1,23,4],[23,5,23,8],[24,1,24,4],[24,5,24,8],[25,1,25,4],[25,5,25,8],[26,1,26,4],[26,5,26,8],[27,1,27,4],[27,5,27,8],[28,1,28,4],[28,5,28,8],[29,1,29,4],[29,5,29,8],[30,1,30,4],[30,5,30,8],[31,1,31,4],[31,5,31,8],[32,1,32,4],[32,5,32,8],[33,1,33,4],[33,5,33,8],[34,1,34,4],[34,5,34,8],[35,1,35,4],[35,5,35,8],[36,1,36,4],[36,5,36,8],[37,1,37,4],[37,5,37,8],[38,1,38,4],[38,5,38,8],[39,1,39,4],[39,5,39,8],[40,1,40,4],[40,5,40,8],[41,1,41,4],[41,5,41,8],[42,0,44,0],[42,1,42,8],[43,1,43,8],[44,1,44,8],[51,0,51,8],[45,0,48,0],[45,1,45,8],[46,1,46,8],[47,1,47,8],[48,1,48,8],[49,0,50,0],[49,1,50,8]]}
["一覧へ"]
["シート名",{"$f":"RIGHT(CELL(\"filename\",A1),LEN(CELL(\"filename\",A1))-FIND(\"]\",CELL(\"filename\",A1)))","v":"ごぼう"}]
["商品名","ごぼう",null,null,null,null,null,null,"作成日"]
[null,null,null,null,null,null,null,null,{"$f":"一覧!$D$1","v":"2023-03-01"}]
["原材料","原材料名",null,null,null,"28品目アレルゲン",null,null,null,null,"個数①","計",{"$f":"一覧!D5","v":"小麦"},{"$f":"一覧!E5","v":"卵"},{"$f":"一覧!F5","v":"乳"},{"$f":"一覧!G5","v":"そば"},{"$f":"一覧!H5","v":"落花生"},{"$f":"一覧!I5","v":"えび"},{"$f":"一覧!J5","v":"かに"},{"$f":"一覧!K5","v":"ごま"},{"$f":"一覧!L5","v":"くるみ"},{"$f":"一覧!M5","v":"カシュ"},{"$f":"一覧!N5","v":"アーモンド"},{"$f":"一覧!O5","v":"キウイ"},{"$f":"一覧!P5","v":"もも"},{"$f":"一覧!Q5","v":"リンゴ"},{"$f":"一覧!R5","v":"バナナ"},{"$f":"一覧!S5","v":"オレンジ"},{"$f":"一覧!T5","v":"いか"},{"$f":"一覧!U5","v":"いくら"},{"$f":"一覧!V5","v":"さけ"},{"$f":"一覧!W5","v":"さば"},{"$f":"一覧!X5","v":"大豆"},{"$f":"一覧!Y5","v":"鶏肉"},{"$f":"一覧!Z5","v":"豚肉"},{"$f":"一覧!AA5","v":"牛肉"},{"$f":"一覧!AB5","v":"まつたけ"},{"$f":"一覧!AC5","v":"やまいも"},{"$f":"一覧!AD5","v":"ゼラチン"},{"$f":"一覧!AE5","v":"あわび"}]
[null,"ごぼう",null,null,null,null,null,null,null,null,{"$f":"IF(F6=\"\",0,LEN(F6)-LEN(SUBSTITUTE(F6, \"、\", \"\"))+1)","v":0},{"$f":"SUM(M6:AN6)","v":0},{"$f":"COUNTIF($F6,\"*\"&M$5&\"*\")","v":0},{"$f":"COUNTIF($F6,\"*\"&N$5&\"*\")","v":0},0,0,0,0,0,0,0,0,0,0,0,0,0,0,0,0,0,0,0,0,0,0,0,0,0,0]
[null,null,null,null,null,null,null,null,null,null,{"$f":"IF(F7=\"\",0,LEN(F7)-LEN(SUBSTITUTE(F7, \"、\", \"\"))+1)","v":0},{"$f":"SUM(M7:AN7)","v":0},{"$f":"COUNTIF($F7,\"*\"&M$5&\"*\")","v":0},0,0,0,0,0,0,0,0,0,0,0,0,0,0,0,0,0,0,0,0,0,0,0,0,0,0,0]
[null,null,null,null,null,null,null,null,null,null,0,0,0,0,0,0,0,0,0,0,0,0,0,0,0,0,0,0,0,0,0,0,0,0,0,0,0,0,0,0]
[null,null,null,null,null,null,null,null,null,null,0,0,0,0,0,0,0,0,0,0,0,0,0,0,0,0,0,0,0,0,0,0,0,0,0,0,0,0,0,0]
[null,null,null,null,null,null,null,null,null,null,0,0,0,0,0,0,0,0,0,0,0,0,0,0,0,0,0,0,0,0,0,0,0,0,0,0,0,0,0,0]
[null,null,null,null,null,null,null,null,null,null,0,0,0,0,0,0,0,0,0,0,0,0,0,0,0,0,0,0,0,0,0,0,0,0,0,0,0,0,0,0]
[null,null,null,null,null,null,null,null,null,null,0,0,0,0,0,0,0,0,0,0,0,0,0,0,0,0,0,0,0,0,0,0,0,0,0,0,0,0,0,0]
[null,null,null,null,null,null,null,null,null,null,0,0,0,0,0,0,0,0,0,0,0,0,0,0,0,0,0,0,0,0,0,0,0,0,0,0,0,0,0,0]
[null,null,null,null,null,null,null,null,null,null,0,0,0,0,0,0,0,0,0,0,0,0,0,0,0,0,0,0,0,0,0,0,0,0,0,0,0,0,0,0]
[null,null,null,null,null,null,null,null,null,null,0,0,0,0,0,0,0,0,0,0,0,0,0,0,0,{"$f":"COUNTIF($F15,\"*\"&Z$5&\"*\")","v":0},0,0,0,0,0,0,0,0,0,0,0,0,0,0]
[null,null,null,null,null,null,null,null,null,null,0,0,0,0,0,0,0,0,0,0,0,0,0,0,0,0,0,0,0,0,0,0,0,0,0,0,0,0,0,0]
[null,null,null,null,null,null,null,null,null,null,0,0,0,0,0,0,0,0,0,0,0,0,0,0,0,0,0,0,0,0,0,0,0,0,0,0,0,0,0,0]
[null,null,null,null,null,null,null,null,null,null,0,0,0,0,0,0,0,0,0,0,0,0,0,0,0,0,0,0,0,0,0,0,0,0,0,0,0,0,0,0]
[null,null,null,null,null,null,null,null,null,null,0,0,0,0,0,0,0,0,0,0,0,0,0,0,0,0,0,0,0,0,0,0,0,0,0,0,0,0,0,0]
[null,null,null,null,null,null,null,null,null,null,0,0,0,0,0,0,0,0,0,0,0,0,0,0,0,0,0,0,0,0,0,0,0,0,0,0,0,0,0,0]
[null,null,null,null,null,null,null,null,null,null,0,0,0,0,0,0,0,0,0,0,0,0,0,0,0,0,0,0,0,0,0,0,0,0,0,0,0,0,0,0]
[null,null,null,null,null,null,null,null,null,null,0,0,0,0,0,0,0,0,0,0,0,0,0,0,0,0,0,0,0,0,0,0,0,0,0,0,0,0,0,0]
[null,null,null,null,null,null,null,null,null,null,0,0,0,0,0,0,0,0,0,0,0,0,0,0,0,0,0,0,0,0,0,0,0,0,0,0,0,0,0,0]
[null,null,null,null,null,null,null,null,null,null,0,0,0,0,0,0,0,0,0,0,0,0,0,0,0,0,0,0,0,0,0,0,0,0,0,0,0,0,0,0]
[null,null,null,null,null,null,null,null,null,null,0,0,0,0,0,0,0,0,0,0,0,0,0,0,0,0,0,0,0,0,0,0,0,0,0,0,0,0,0,0]
[null,null,null,null,null,null,null,null,null,null,0,0,0,0,0,0,0,0,0,0,0,0,0,0,0,0,0,0,0,0,0,0,0,0,0,0,0,0,0,0]
[null,null,null,null,null,null,null,null,null,null,0,0,0,0,0,0,0,0,0,0,0,0,0,0,0,0,0,0,0,0,0,0,0,0,0,0,0,0,0,0]
[null,null,null,null,null,null,null,null,null,null,0,0,0,0,0,0,0,0,0,0,0,0,0,0,0,0,0,0,0,0,0,0,0,0,0,0,0,0,0,0]
[null,null,null,null,null,null,null,null,null,null,0,0,0,0,0,0,0,0,0,0,0,0,0,0,0,0,0,0,0,0,0,0,0,0,0,0,0,0,0,0]
[null,null,null,null,null,null,null,null,null,null,0,0,0,0,0,0,0,0,0,0,{"$f":"COUNTIF($F30,\"*\"&U$5&\"*\")","v":0},0,0,0,0,0,0,0,0,0,0,0,0,0,0,0,0,0,0,0]
[null,null,null,null,null,null,null,null,null,null,0,0,{"$f":"COUNTIF($F31,\"*\"&M$5&\"*\")","v":0},0,0,0,0,0,0,0,0,0,0,0,0,0,0,0,0,{"$f":"COUNTIF($F31,\"*\"&AD$5&\"*\")","v":0},0,0,0,0,0,0,0,0,0,0]
[null,null,null,null,null,null,null,null,null,null,0,0,0,0,0,0,0,0,0,0,0,0,0,0,0,0,0,0,0,0,0,0,0,0,0,0,0,0,0,0]
[null,null,null,null,null,null,null,null,null,null,0,0,0,0,0,0,0,0,0,0,0,0,0,0,0,0,0,0,0,0,0,0,0,0,0,0,0,0,0,0]
[null,null,null,null,null,null,null,null,null,null,0,0,0,0,0,0,0,0,0,0,0,0,0,0,0,0,0,0,0,0,0,0,0,0,0,0,0,0,0,0]
[null,null,null,null,null,null,null,null,null,null,0,0,0,0,0,0,0,0,0,0,0,0,0,0,0,0,0,0,0,0,0,0,0,0,0,0,0,0,0,0]
[null,null,null,null,null,null,null,null,null,null,0,0,0,0,0,0,0,0,0,0,0,0,0,0,0,0,0,0,0,0,0,0,0,0,0,0,0,0,0,0]
[null,null,null,null,null,null,null,null,null,null,0,0,0,0,0,0,0,0,0,0,0,0,0,0,0,0,0,0,0,0,0,0,0,0,0,0,0,0,0,0]
[null,null,null,null,null,null,null,null,null,null,0,0,0,0,0,0,0,0,0,0,0,0,0,0,0,0,0,0,0,0,0,0,0,0,0,0,0,0,0,0]
[null,null,null,null,null,null,null,null,null,null,0,0,0,0,0,0,0,0,0,0,0,0,0,0,0,0,0,0,0,0,0,0,0,0,0,0,0,0,0,0]
[null,null,null,null,null,null,null,null,null,null,0,0,0,0,0,0,0,0,0,0,0,0,0,0,0,0,0,0,0,0,0,0,0,0,0,0,0,0,0,0]
[null,null,null,null,null,null,null,null,null,null,0,0,0,0,0,0,0,0,0,0,0,0,0,0,0,0,0,0,0,0,0,0,0,0,0,0,0,0,0,0]
[null,null,null,null,null,null,null,null,null,null,0,0,0,0,0,0,0,0,0,0,0,0,0,0,0,0,0,0,0,0,0,0,0,0,0,0,0,0,0,0]
["コンタミネーション","なし",null,null,null,null,null,null,null,null,{"$f":"IF(OR($B43=\"\",$B43=\"なし\"),0,LEN($B43)-LEN(SUBSTITUTE($B43, \"、\", \"\"))+1)","v":0},0,{"$f":"COUNTIF($B43,\"*\"&M$5&\"*\")","v":0},{"$f":"COUNTIF($B43,\"*\"&N$5&\"*\")","v":0},0,0,0,0,0,0,0,0,0,0,0,0,0,0,0,0,{"$f":"COUNTIF($B43,\"*\"&AE$5&\"*\")","v":0},0,0,0,0,0,0,0,0,0]
[null,null,null,null,null,null,null,null,null,null,0,0,{"$f":"COUNTIF($B44,\"*\"&M$5&\"*\")","v":0},0,0,0,0,0,0,0,0,0,0,0,0,0,0,0,0,0,0,0,0,0,0,0,0,0,0,0]
[null,null,null,null,null,null,null,null,null,null,0,0,0,0,0,0,0,0,0,0,0,0,0,0,0,0,0,0,0,0,0,0,0,0,0,0,0,0,0,0]
["特記事項","状況により仕入れ先が異なります。"]
[]
[]
[null,"●　商品の終売・リニューアルの場合は成分等が変更になる場合があります。ご了承ください。"]
["製造元","―"]
[]
[{"$f":"一覧!$A$41","v":"オーエンス泉岳自然ふれあい館"}]

{"sheet":"にんじん","index":9,"n_rows":52,"n_cols":40,"rows_kept":52,"cut":false,"hidden":false,"merged":[[2,0,3,0],[2,1,3,7],[1,1,1,8],[4,0,41,0],[4,1,4,4],[4,5,4,8],[5,1,5,4],[5,5,5,8],[6,1,6,4],[6,5,6,8],[7,1,7,4],[7,5,7,8],[8,1,8,4],[8,5,8,8],[9,1,9,4],[9,5,9,8],[10,1,10,4],[10,5,10,8],[11,1,11,4],[11,5,11,8],[12,1,12,4],[12,5,12,8],[13,1,13,4],[13,5,13,8],[14,1,14,4],[14,5,14,8],[15,1,15,4],[15,5,15,8],[16,1,16,4],[16,5,16,8],[17,1,17,4],[17,5,17,8],[18,1,18,4],[18,5,18,8],[19,1,19,4],[19,5,19,8],[20,1,20,4],[20,5,20,8],[21,1,21,4],[21,5,21,8],[22,1,22,4],[22,5,22,8],[23,1,23,4],[23,5,23,8],[24,1,24,4],[24,5,24,8],[25,1,25,4],[25,5,25,8],[26,1,26,4],[26,5,26,8],[27,1,27,4],[27,5,27,8],[28,1,28,4],[28,5,28,8],[29,1,29,4],[29,5,29,8],[30,1,30,4],[30,5,30,8],[31,1,31,4],[31,5,31,8],[32,1,32,4],[32,5,32,8],[33,1,33,4],[33,5,33,8],[34,1,34,4],[34,5,34,8],[35,1,35,4],[35,5,35,8],[36,1,36,4],[36,5,36,8],[37,1,37,4],[37,5,37,8],[38,1,38,4],[38,5,38,8],[39,1,39,4],[39,5,39,8],[40,1,40,4],[40,5,40,8],[41,1,41,4],[41,5,41,8],[42,0,44,0],[42,1,42,8],[43,1,43,8],[44,1,44,8],[51,0,51,8],[45,0,48,0],[45,1,45,8],[46,1,46,8],[47,1,47,8],[48,1,48,8],[49,0,50,0],[49,1,50,8]]}
["一覧へ"," "]
["シート名",{"$f":"RIGHT(CELL(\"filename\",A1),LEN(CELL(\"filename\",A1))-FIND(\"]\",CELL(\"filename\",A1)))","v":"にんじん"}]
["商品名","にんじん",null,null,null,null,null,null,"作成日"]
[null,null,null,null,null,null,null,null,{"$f":"一覧!$D$1","v":"2023-03-01"}]
["原材料","原材料名",null,null,null,"28品目アレルゲン",null,null,null,null,"個数①","計",{"$f":"一覧!D5","v":"小麦"},{"$f":"一覧!E5","v":"卵"},{"$f":"一覧!F5","v":"乳"},{"$f":"一覧!G5","v":"そば"},{"$f":"一覧!H5","v":"落花生"},{"$f":"一覧!I5","v":"えび"},{"$f":"一覧!J5","v":"かに"},{"$f":"一覧!K5","v":"ごま"},{"$f":"一覧!L5","v":"くるみ"},{"$f":"一覧!M5","v":"カシュ"},{"$f":"一覧!N5","v":"アーモンド"},{"$f":"一覧!O5","v":"キウイ"},{"$f":"一覧!P5","v":"もも"},{"$f":"一覧!Q5","v":"リンゴ"},{"$f":"一覧!R5","v":"バナナ"},{"$f":"一覧!S5","v":"オレンジ"},{"$f":"一覧!T5","v":"いか"},{"$f":"一覧!U5","v":"いくら"},{"$f":"一覧!V5","v":"さけ"},{"$f":"一覧!W5","v":"さば"},{"$f":"一覧!X5","v":"大豆"},{"$f":"一覧!Y5","v":"鶏肉"},{"$f":"一覧!Z5","v":"豚肉"},{"$f":"一覧!AA5","v":"牛肉"},{"$f":"一覧!AB5","v":"まつたけ"},{"$f":"一覧!AC5","v":"やまいも"},{"$f":"一覧!AD5","v":"ゼラチン"},{"$f":"一覧!AE5","v":"あわび"}]
[null,"にんじん",null,null,null,null,null,null,null,null,{"$f":"IF(F6=\"\",0,LEN(F6)-LEN(SUBSTITUTE(F6, \"、\", \"\"))+1)","v":0},{"$f":"SUM(M6:AN6)","v":0},{"$f":"COUNTIF($F6,\"*\"&M$5&\"*\")","v":0},{"$f":"COUNTIF($F6,\"*\"&N$5&\"*\")","v":0},0,0,0,0,0,0,0,0,0,0,0,0,0,0,0,0,0,0,0,0,0,0,0,0,0,0]
[null,null,null,null,null,null,null,null,null,null,{"$f":"IF(F7=\"\",0,LEN(F7)-LEN(SUBSTITUTE(F7, \"、\", \"\"))+1)","v":0},{"$f":"SUM(M7:AN7)","v":0},{"$f":"COUNTIF($F7,\"*\"&M$5&\"*\")","v":0},0,0,0,0,0,0,0,0,0,0,0,0,0,0,0,0,0,0,0,0,0,0,0,0,0,0,0]
[null,null,null,null,null,null,null,null,null,null,0,0,0,0,0,0,0,0,0,0,0,0,0,0,0,0,0,0,0,0,0,0,0,0,0,0,0,0,0,0]
[null,null,null,null,null,null,null,null,null,null,0,0,0,0,0,0,0,0,0,0,0,0,0,0,0,0,0,0,0,0,0,0,0,0,0,0,0,0,0,0]
[null,null,null,null,null,null,null,null,null,null,0,0,0,0,0,0,0,0,0,0,0,0,0,0,0,0,0,0,0,0,0,0,0,0,0,0,0,0,0,0]
[null,null,null,null,null,null,null,null,null,null,0,0,0,0,0,0,0,0,0,0,0,0,0,0,0,0,0,0,0,0,0,0,0,0,0,0,0,0,0,0]
[null,null,null,null,null,null,null,null,null,null,0,0,0,0,0,0,0,0,0,0,0,0,0,0,0,0,0,0,0,0,0,0,0,0,0,0,0,0,0,0]
[null,null,null,null,null,null,null,null,null,null,0,0,0,0,0,0,0,0,0,0,0,0,0,0,0,0,0,0,0,0,0,0,0,0,0,0,0,0,0,0]
[null,null,null,null,null,null,null,null,null,null,0,0,0,0,0,0,0,0,0,0,0,0,0,0,0,0,0,0,0,0,0,0,0,0,0,0,0,0,0,0]
[null,null,null,null,null,null,null,null,null,null,0,0,0,0,0,0,0,0,0,0,0,0,0,0,0,{"$f":"COUNTIF($F15,\"*\"&Z$5&\"*\")","v":0},0,0,0,0,0,0,0,0,0,0,0,0,0,0]
[null,null,null,null,null,null,null,null,null,null,0,0,0,0,0,0,0,0,0,0,0,0,0,0,0,0,0,0,0,0,0,0,0,0,0,0,0,0,0,0]
[null,null,null,null,null,null,null,null,null,null,0,0,0,0,0,0,0,0,0,0,0,0,0,0,0,0,0,0,0,0,0,0,0,0,0,0,0,0,0,0]
[null,null,null,null,null,null,null,null,null,null,0,0,0,0,0,0,0,0,0,0,0,0,0,0,0,0,0,0,0,0,0,0,0,0,0,0,0,0,0,0]
[null,null,null,null,null,null,null,null,null,null,0,0,0,0,0,0,0,0,0,0,0,0,0,0,0,0,0,0,0,0,0,0,0,0,0,0,0,0,0,0]
[null,null,null,null,null,null,null,null,null,null,0,0,0,0,0,0,0,0,0,0,0,0,0,0,0,0,0,0,0,0,0,0,0,0,0,0,0,0,0,0]
[null,null,null,null,null,null,null,null,null,null,0,0,0,0,0,0,0,0,0,0,0,0,0,0,0,0,0,0,0,0,0,0,0,0,0,0,0,0,0,0]
[null,null,null,null,null,null,null,null,null,null,0,0,0,0,0,0,0,0,0,0,0,0,0,0,0,0,0,0,0,0,0,0,0,0,0,0,0,0,0,0]
[null,null,null,null,null,null,null,null,null,null,0,0,0,0,0,0,0,0,0,0,0,0,0,0,0,0,0,0,0,0,0,0,0,0,0,0,0,0,0,0]
[null,null,null,null,null,null,null,null,null,null,0,0,0,0,0,0,0,0,0,0,0,0,0,0,0,0,0,0,0,0,0,0,0,0,0,0,0,0,0,0]
[null,null,null,null,null,null,null,null,null,null,0,0,0,0,0,0,0,0,0,0,0,0,0,0,0,0,0,0,0,0,0,0,0,0,0,0,0,0,0,0]
[null,null,null,null,null,null,null,null,null,null,0,0,0,0,0,0,0,0,0,0,0,0,0,0,0,0,0,0,0,0,0,0,0,0,0,0,0,0,0,0]
[null,null,null,null,null,null,null,null,null,null,0,0,0,0,0,0,0,0,0,0,0,0,0,0,0,0,0,0,0,0,0,0,0,0,0,0,0,0,0,0]
[null,null,null,null,null,null,null,null,null,null,0,0,0,0,0,0,0,0,0,0,0,0,0,0,0,0,0,0,0,0,0,0,0,0,0,0,0,0,0,0]
[null,null,null,null,null,null,null,null,null,null,0,0,0,0,0,0,0,0,0,0,0,0,0,0,0,0,0,0,0,0,0,0,0,0,0,0,0,0,0,0]
[null,null,null,null,null,null,null,null,null,null,0,0,0,0,0,0,0,0,0,0,{"$f":"COUNTIF($F30,\"*\"&U$5&\"*\")","v":0},0,0,0,0,0,0,0,0,0,0,0,0,0,0,0,0,0,0,0]
[null,null,null,null,null,null,null,null,null,null,0,0,{"$f":"COUNTIF($F31,\"*\"&M$5&\"*\")","v":0},0,0,0,0,0,0,0,0,0,0,0,0,0,0,0,0,{"$f":"COUNTIF($F31,\"*\"&AD$5&\"*\")","v":0},0,0,0,0,0,0,0,0,0,0]
[null,null,null,null,null,null,null,null,null,null,0,0,0,0,0,0,0,0,0,0,0,0,0,0,0,0,0,0,0,0,0,0,0,0,0,0,0,0,0,0]
[null,null,null,null,null,null,null,null,null,null,0,0,0,0,0,0,0,0,0,0,0,0,0,0,0,0,0,0,0,0,0,0,0,0,0,0,0,0,0,0]
[null,null,null,null,null,null,null,null,null,null,0,0,0,0,0,0,0,0,0,0,0,0,0,0,0,0,0,0,0,0,0,0,0,0,0,0,0,0,0,0]
[null,null,null,null,null,null,null,null,null,null,0,0,0,0,0,0,0,0,0,0,0,0,0,0,0,0,0,0,0,0,0,0,0,0,0,0,0,0,0,0]
[null,null,null,null,null,null,null,null,null,null,0,0,0,0,0,0,0,0,0,0,0,0,0,0,0,0,0,0,0,0,0,0,0,0,0,0,0,0,0,0]
[null,null,null,null,null,null,null,null,null,null,0,0,0,0,0,0,0,0,0,0,0,0,0,0,0,0,0,0,0,0,0,0,0,0,0,0,0,0,0,0]
[null,null,null,null,null,null,null,null,null,null,0,0,0,0,0,0,0,0,0,0,0,0,0,0,0,0,0,0,0,0,0,0,0,0,0,0,0,0,0,0]
[null,null,null,null,null,null,null,null,null,null,0,0,0,0,0,0,0,0,0,0,0,0,0,0,0,0,0,0,0,0,0,0,0,0,0,0,0,0,0,0]
[null,null,null,null,null,null,null,null,null,null,0,0,0,0,0,0,0,0,0,0,0,0,0,0,0,0,0,0,0,0,0,0,0,0,0,0,0,0,0,0]
[null,null,null,null,null,null,null,null,null,null,0,0,0,0,0,0,0,0,0,0,0,0,0,0,0,0,0,0,0,0,0,0,0,0,0,0,0,0,0,0]
[null,null,null,null,null,null,null,null,null,null,0,0,0,0,0,0,0,0,0,0,0,0,0,0,0,0,0,0,0,0,0,0,0,0,0,0,0,0,0,0]
["コンタミネーション","なし",null,null,null,null,null,null,null,null,{"$f":"IF(OR($B43=\"\",$B43=\"なし\"),0,LEN($B43)-LEN(SUBSTITUTE($B43, \"、\", \"\"))+1)","v":0},0,{"$f":"COUNTIF($B43,\"*\"&M$5&\"*\")","v":0},{"$f":"COUNTIF($B43,\"*\"&N$5&\"*\")","v":0},0,0,0,0,0,0,0,0,0,0,0,0,0,0,0,0,{"$f":"COUNTIF($B43,\"*\"&AE$5&\"*\")","v":0},0,0,0,0,0,0,0,0,0]
[null,null,null,null,null,null,null,null,null,null,0,0,{"$f":"COUNTIF($B44,\"*\"&M$5&\"*\")","v":0},0,0,0,0,0,0,0,0,0,0,0,0,0,0,0,0,0,0,0,0,0,0,0,0,0,0,0]
[null,null,null,null,null,null,null,null,null,null,0,0,0,0,0,0,0,0,0,0,0,0,0,0,0,0,0,0,0,0,0,0,0,0,0,0,0,0,0,0]
["特記事項","状況により仕入れ先が異なります。"]
[]
[]
[null,"●　商品の終売・リニューアルの場合は成分等が変更になる場合があります。ご了承ください。"]
["製造元","―"]
[]
[{"$f":"一覧!$A$41","v":"オーエンス泉岳自然ふれあい館"}]

{"sheet":"冷凍油揚げ","index":10,"n_rows":52,"n_cols":40,"rows_kept":52,"cut":false,"hidden":false,"merged":[[1,1,1,8],[2,0,3,0],[2,1,3,7],[4,0,41,0],[4,1,4,4],[4,5,4,8],[5,1,5,4],[5,5,5,8],[6,1,6,4],[6,5,6,8],[7,1,7,4],[7,5,7,8],[8,1,8,4],[8,5,8,8],[9,1,9,4],[9,5,9,8],[10,1,10,4],[10,5,10,8],[11,1,11,4],[11,5,11,8],[12,1,12,4],[12,5,12,8],[13,1,13,4],[13,5,13,8],[14,1,14,4],[14,5,14,8],[15,1,15,4],[15,5,15,8],[16,1,16,4],[16,5,16,8],[17,1,17,4],[17,5,17,8],[18,1,18,4],[18,5,18,8],[19,1,19,4],[19,5,19,8],[20,1,20,4],[20,5,20,8],[21,1,21,4],[21,5,21,8],[22,1,22,4],[22,5,22,8],[23,1,23,4],[23,5,23,8],[24,1,24,4],[24,5,24,8],[25,1,25,4],[25,5,25,8],[26,1,26,4],[26,5,26,8],[27,1,27,4],[27,5,27,8],[28,1,28,4],[28,5,28,8],[29,1,29,4],[29,5,29,8],[30,1,30,4],[30,5,30,8],[31,1,31,4],[31,5,31,8],[32,1,32,4],[32,5,32,8],[33,1,33,4],[33,5,33,8],[34,1,34,4],[34,5,34,8],[35,1,35,4],[35,5,35,8],[36,1,36,4],[36,5,36,8],[37,1,37,4],[37,5,37,8],[38,1,38,4],[38,5,38,8],[39,1,39,4],[39,5,39,8],[40,1,40,4],[40,5,40,8],[41,1,41,4],[41,5,41,8],[42,0,44,0],[42,1,42,8],[43,1,43,8],[44,1,44,8],[51,0,51,8],[45,0,48,0],[45,1,45,8],[46,1,46,8],[47,1,47,8],[48,1,48,8],[49,0,50,0],[49,1,50,8]]}
["一覧へ","　"]
["シート名",{"$f":"RIGHT(CELL(\"filename\",A1),LEN(CELL(\"filename\",A1))-FIND(\"]\",CELL(\"filename\",A1)))","v":"冷凍油揚げ"}]
["商品名","刻みあげＨＧ",null,null,null,null,null,null,"作成日"]
[null,null,null,null,null,null,null,null,{"$f":"一覧!$D$1","v":"2023-03-01"}]
["原材料","原材料名",null,null,null,"28品目アレルゲン",null,null,null,null,"個数①","計",{"$f":"一覧!D5","v":"小麦"},{"$f":"一覧!E5","v":"卵"},{"$f":"一覧!F5","v":"乳"},{"$f":"一覧!G5","v":"そば"},{"$f":"一覧!H5","v":"落花生"},{"$f":"一覧!I5","v":"えび"},{"$f":"一覧!J5","v":"かに"},{"$f":"一覧!K5","v":"ごま"},{"$f":"一覧!L5","v":"くるみ"},{"$f":"一覧!M5","v":"カシュ"},{"$f":"一覧!N5","v":"アーモンド"},{"$f":"一覧!O5","v":"キウイ"},{"$f":"一覧!P5","v":"もも"},{"$f":"一覧!Q5","v":"リンゴ"},{"$f":"一覧!R5","v":"バナナ"},{"$f":"一覧!S5","v":"オレンジ"},{"$f":"一覧!T5","v":"いか"},{"$f":"一覧!U5","v":"いくら"},{"$f":"一覧!V5","v":"さけ"},{"$f":"一覧!W5","v":"さば"},{"$f":"一覧!X5","v":"大豆"},{"$f":"一覧!Y5","v":"鶏肉"},{"$f":"一覧!Z5","v":"豚肉"},{"$f":"一覧!AA5","v":"牛肉"},{"$f":"一覧!AB5","v":"まつたけ"},{"$f":"一覧!AC5","v":"やまいも"},{"$f":"一覧!AD5","v":"ゼラチン"},{"$f":"一覧!AE5","v":"あわび"}]
[null,"大豆",null,null,null,"大豆",null,null,null,null,{"$f":"IF(F6=\"\",0,LEN(F6)-LEN(SUBSTITUTE(F6, \"、\", \"\"))+1)","v":1},{"$f":"SUM(M6:AN6)","v":1},{"$f":"COUNTIF($F6,\"*\"&M$5&\"*\")","v":0},{"$f":"COUNTIF($F6,\"*\"&N$5&\"*\")","v":0},0,0,0,0,0,0,0,0,0,0,0,0,0,0,0,0,0,0,1,0,0,0,0,0,0,0]
[null,"植物油",null,null,null,null,null,null,null,null,{"$f":"IF(F7=\"\",0,LEN(F7)-LEN(SUBSTITUTE(F7, \"、\", \"\"))+1)","v":0},{"$f":"SUM(M7:AN7)","v":0},{"$f":"COUNTIF($F7,\"*\"&M$5&\"*\")","v":0},0,0,0,0,0,0,0,0,0,0,0,0,0,0,0,0,0,0,0,0,0,0,0,0,0,0,0]
[null,"凝固剤(塩化カルシウム)",null,null,null,null,null,null,null,null,0,0,0,0,0,0,0,0,0,0,0,0,0,0,0,0,0,0,0,0,0,0,0,0,0,0,0,0,0,0]
[null,"消泡剤＜加工助液＞",null,null,null,"大豆",null,null,null,null,1,1,0,0,0,0,0,0,0,0,0,0,0,0,0,0,0,0,0,0,0,0,1,0,0,0,0,0,0,0]
[null,"　グリセリン脂肪酸エステル",null,null,null,null,null,null,null,null,0,0,0,0,0,0,0,0,0,0,0,0,0,0,0,0,0,0,0,0,0,0,0,0,0,0,0,0,0,0]
[null,"　炭酸カルシウム",null,null,null,null,null,null,null,null,0,0,0,0,0,0,0,0,0,0,0,0,0,0,0,0,0,0,0,0,0,0,0,0,0,0,0,0,0,0]
[null,"　炭酸マグネシウム",null,null,null,null,null,null,null,null,0,0,0,0,0,0,0,0,0,0,0,0,0,0,0,0,0,0,0,0,0,0,0,0,0,0,0,0,0,0]
[null,"　レシチン",null,null,null,null,null,null,null,null,0,0,0,0,0,0,0,0,0,0,0,0,0,0,0,0,0,0,0,0,0,0,0,0,0,0,0,0,0,0]
[null,null,null,null,null,null,null,null,null,null,0,0,0,0,0,0,0,0,0,0,0,0,0,0,0,0,0,0,0,0,0,0,0,0,0,0,0,0,0,0]
[null,null,null,null,null,null,null,null,null,null,0,0,0,0,0,0,0,0,0,0,0,0,0,0,0,{"$f":"COUNTIF($F15,\"*\"&Z$5&\"*\")","v":0},0,0,0,0,0,0,0,0,0,0,0,0,0,0]
[null,null,null,null,null,null,null,null,null,null,0,0,0,0,0,0,0,0,0,0,0,0,0,0,0,0,0,0,0,0,0,0,0,0,0,0,0,0,0,0]
[null,null,null,null,null,null,null,null,null,null,0,0,0,0,0,0,0,0,0,0,0,0,0,0,0,0,0,0,0,0,0,0,0,0,0,0,0,0,0,0]
[null,null,null,null,null,null,null,null,null,null,0,0,0,0,0,0,0,0,0,0,0,0,0,0,0,0,0,0,0,0,0,0,0,0,0,0,0,0,0,0]
[null,null,null,null,null,null,null,null,null,null,0,0,0,0,0,0,0,0,0,0,0,0,0,0,0,0,0,0,0,0,0,0,0,0,0,0,0,0,0,0]
[null,null,null,null,null,null,null,null,null,null,0,0,0,0,0,0,0,0,0,0,0,0,0,0,0,0,0,0,0,0,0,0,0,0,0,0,0,0,0,0]
[null,null,null,null,null,null,null,null,null,null,0,0,0,0,0,0,0,0,0,0,0,0,0,0,0,0,0,0,0,0,0,0,0,0,0,0,0,0,0,0]
[null,null,null,null,null,null,null,null,null,null,0,0,0,0,0,0,0,0,0,0,0,0,0,0,0,0,0,0,0,0,0,0,0,0,0,0,0,0,0,0]
[null,null,null,null,null,null,null,null,null,null,0,0,0,0,0,0,0,0,0,0,0,0,0,0,0,0,0,0,0,0,0,0,0,0,0,0,0,0,0,0]
[null,null,null,null,null,null,null,null,null,null,0,0,0,0,0,0,0,0,0,0,0,0,0,0,0,0,0,0,0,0,0,0,0,0,0,0,0,0,0,0]
[null,null,null,null,null,null,null,null,null,null,0,0,0,0,0,0,0,0,0,0,0,0,0,0,0,0,0,0,0,0,0,0,0,0,0,0,0,0,0,0]
[null,null,null,null,null,null,null,null,null,null,0,0,0,0,0,0,0,0,0,0,0,0,0,0,0,0,0,0,0,0,0,0,0,0,0,0,0,0,0,0]
[null,null,null,null,null,null,null,null,null,null,0,0,0,0,0,0,0,0,0,0,0,0,0,0,0,0,0,0,0,0,0,0,0,0,0,0,0,0,0,0]
[null,null,null,null,null,null,null,null,null,null,0,0,0,0,0,0,0,0,0,0,0,0,0,0,0,0,0,0,0,0,0,0,0,0,0,0,0,0,0,0]
[null,null,null,null,null,null,null,null,null,null,0,0,0,0,0,0,0,0,0,0,0,0,0,0,0,0,0,0,0,0,0,0,0,0,0,0,0,0,0,0]
[null,null,null,null,null,null,null,null,null,null,0,0,0,0,0,0,0,0,0,0,{"$f":"COUNTIF($F30,\"*\"&U$5&\"*\")","v":0},0,0,0,0,0,0,0,0,0,0,0,0,0,0,0,0,0,0,0]
[null,null,null,null,null,null,null,null,null,null,0,0,{"$f":"COUNTIF($F31,\"*\"&M$5&\"*\")","v":0},0,0,0,0,0,0,0,0,0,0,0,0,0,0,0,0,{"$f":"COUNTIF($F31,\"*\"&AD$5&\"*\")","v":0},0,0,0,0,0,0,0,0,0,0]
[null,null,null,null,null,null,null,null,null,null,0,0,0,0,0,0,0,0,0,0,0,0,0,0,0,0,0,0,0,0,0,0,0,0,0,0,0,0,0,0]
[null,null,null,null,null,null,null,null,null,null,0,0,0,0,0,0,0,0,0,0,0,0,0,0,0,0,0,0,0,0,0,0,0,0,0,0,0,0,0,0]
[null,null,null,null,null,null,null,null,null,null,0,0,0,0,0,0,0,0,0,0,0,0,0,0,0,0,0,0,0,0,0,0,0,0,0,0,0,0,0,0]
[null,null,null,null,null,null,null,null,null,null,0,0,0,0,0,0,0,0,0,0,0,0,0,0,0,0,0,0,0,0,0,0,0,0,0,0,0,0,0,0]
[null,null,null,null,null,null,null,null,null,null,0,0,0,0,0,0,0,0,0,0,0,0,0,0,0,0,0,0,0,0,0,0,0,0,0,0,0,0,0,0]
[null,null,null,null,null,null,null,null,null,null,0,0,0,0,0,0,0,0,0,0,0,0,0,0,0,0,0,0,0,0,0,0,0,0,0,0,0,0,0,0]
[null,null,null,null,null,null,null,null,null,null,0,0,0,0,0,0,0,0,0,0,0,0,0,0,0,0,0,0,0,0,0,0,0,0,0,0,0,0,0,0]
[null,null,null,null,null,null,null,null,null,null,0,0,0,0,0,0,0,0,0,0,0,0,0,0,0,0,0,0,0,0,0,0,0,0,0,0,0,0,0,0]
[null,null,null,null,null,null,null,null,null,null,0,0,0,0,0,0,0,0,0,0,0,0,0,0,0,0,0,0,0,0,0,0,0,0,0,0,0,0,0,0]
[null,null,null,null,null,null,null,null,null,null,0,0,0,0,0,0,0,0,0,0,0,0,0,0,0,0,0,0,0,0,0,0,0,0,0,0,0,0,0,0]
[null,null,null,null,null,null,null,null,null,null,0,0,0,0,0,0,0,0,0,0,0,0,0,0,0,0,0,0,0,0,0,0,0,0,0,0,0,0,0,0]
["コンタミネーション","なし",null,null,null,null,null,null,null,null,{"$f":"IF(OR($B43=\"\",$B43=\"なし\"),0,LEN($B43)-LEN(SUBSTITUTE($B43, \"、\", \"\"))+1)","v":0},0,{"$f":"COUNTIF($B43,\"*\"&M$5&\"*\")","v":0},{"$f":"COUNTIF($B43,\"*\"&N$5&\"*\")","v":0},0,0,0,0,0,0,0,0,0,0,0,0,0,0,0,0,{"$f":"COUNTIF($B43,\"*\"&AE$5&\"*\")","v":0},0,0,0,0,0,0,0,0,0]
[null,null,null,null,null,null,null,null,null,null,0,0,{"$f":"COUNTIF($B44,\"*\"&M$5&\"*\")","v":0},0,0,0,0,0,0,0,0,0,0,0,0,0,0,0,0,0,0,0,0,0,0,0,0,0,0,0]
[null,null,null,null,null,null,null,null,null,null,0,0,0,0,0,0,0,0,0,0,0,0,0,0,0,0,0,0,0,0,0,0,0,0,0,0,0,0,0,0]
["特記事項"]
[]
[]
[null,"●　商品の終売・リニューアルの場合は成分等が変更になる場合があります。ご了承ください。"]
["製造元","オーケー食品工業株式会社"]
[]
[{"$f":"一覧!$A$41","v":"オーエンス泉岳自然ふれあい館"}]

{"sheet":"干し椎茸","index":11,"n_rows":52,"n_cols":40,"rows_kept":52,"cut":false,"hidden":false,"merged":[[1,1,1,8],[2,0,3,0],[2,1,3,7],[4,0,41,0],[4,1,4,4],[4,5,4,8],[5,1,5,4],[5,5,5,8],[6,1,6,4],[6,5,6,8],[7,1,7,4],[7,5,7,8],[8,1,8,4],[8,5,8,8],[9,1,9,4],[9,5,9,8],[10,1,10,4],[10,5,10,8],[11,1,11,4],[11,5,11,8],[12,1,12,4],[12,5,12,8],[13,1,13,4],[13,5,13,8],[14,1,14,4],[14,5,14,8],[15,1,15,4],[15,5,15,8],[16,1,16,4],[16,5,16,8],[17,1,17,4],[17,5,17,8],[18,1,18,4],[18,5,18,8],[19,1,19,4],[19,5,19,8],[20,1,20,4],[20,5,20,8],[21,1,21,4],[21,5,21,8],[22,1,22,4],[22,5,22,8],[23,1,23,4],[23,5,23,8],[24,1,24,4],[24,5,24,8],[25,1,25,4],[25,5,25,8],[26,1,26,4],[26,5,26,8],[27,1,27,4],[27,5,27,8],[28,1,28,4],[28,5,28,8],[29,1,29,4],[29,5,29,8],[30,1,30,4],[30,5,30,8],[31,1,31,4],[31,5,31,8],[32,1,32,4],[32,5,32,8],[33,1,33,4],[33,5,33,8],[34,1,34,4],[34,5,34,8],[35,1,35,4],[35,5,35,8],[36,1,36,4],[36,5,36,8],[37,1,37,4],[37,5,37,8],[38,1,38,4],[38,5,38,8],[39,1,39,4],[39,5,39,8],[40,1,40,4],[40,5,40,8],[41,1,41,4],[41,5,41,8],[42,0,44,0],[42,1,42,8],[43,1,43,8],[44,1,44,8],[51,0,51,8],[45,0,48,0],[45,1,45,8],[46,1,46,8],[47,1,47,8],[48,1,48,8],[49,0,50,0],[49,1,50,8]]}
["一覧へ","　"]
["シート名",{"$f":"RIGHT(CELL(\"filename\",A1),LEN(CELL(\"filename\",A1))-FIND(\"]\",CELL(\"filename\",A1)))","v":"干し椎茸"}]
["商品名","椎茸スライス国産５ｍｍ",null,null,null,null,null,null,"作成日"]
[null,null,null,null,null,null,null,null,{"$f":"一覧!$D$1","v":"2023-03-01"}]
["原材料","原材料名",null,null,null,"28品目アレルゲン",null,null,null,null,"個数①","計","小麦","卵","乳","そば","落花生","えび","かに","ごま","くるみ","カシュ","アーモンド","キウイ","もも","リンゴ","バナナ","オレンジ","いか","いくら","さけ","さば","大豆","鶏肉","豚肉","牛肉","まつたけ","やまいも","ゼラチン","あわび"]
[null,"干し椎茸",null,null,null,null,null,null,null,null,{"$f":"IF(F6=\"\",0,LEN(F6)-LEN(SUBSTITUTE(F6, \"、\", \"\"))+1)","v":0},{"$f":"SUM(M6:AN6)","v":0},{"$f":"COUNTIF($F6,\"*\"&M$5&\"*\")","v":0},{"$f":"COUNTIF($F6,\"*\"&N$5&\"*\")","v":0},0,0,0,0,0,0,0,0,0,0,0,0,0,0,0,0,0,0,0,0,0,0,0,0,0,0]
[null,null,null,null,null,null,null,null,null,null,{"$f":"IF(F7=\"\",0,LEN(F7)-LEN(SUBSTITUTE(F7, \"、\", \"\"))+1)","v":0},{"$f":"SUM(M7:AN7)","v":0},{"$f":"COUNTIF($F7,\"*\"&M$5&\"*\")","v":0},0,0,0,0,0,0,0,0,0,0,0,0,0,0,0,0,0,0,0,0,0,0,0,0,0,0,0]
[null,null,null,null,null,null,null,null,null,null,0,0,0,0,0,0,0,0,0,0,0,0,0,0,0,0,0,0,0,0,0,0,0,0,0,0,0,0,0,0]
[null,null,null,null,null,null,null,null,null,null,0,0,0,0,0,0,0,0,0,0,0,0,0,0,0,0,0,0,0,0,0,0,0,0,0,0,0,0,0,0]
[null,null,null,null,null,null,null,null,null,null,0,0,0,0,0,0,0,0,0,0,0,0,0,0,0,0,0,0,0,0,0,0,0,0,0,0,0,0,0,0]
[null,null,null,null,null,null,null,null,null,null,0,0,0,0,0,0,0,0,0,0,0,0,0,0,0,0,0,0,0,0,0,0,0,0,0,0,0,0,0,0]
[null,null,null,null,null,null,null,null,null,null,0,0,0,0,0,0,0,0,0,0,0,0,0,0,0,0,0,0,0,0,0,0,0,0,0,0,0,0,0,0]
[null,null,null,null,null,null,null,null,null,null,0,0,0,0,0,0,0,0,0,0,0,0,0,0,0,0,0,0,0,0,0,0,0,0,0,0,0,0,0,0]
[null,null,null,null,null,null,null,null,null,null,0,0,0,0,0,0,0,0,0,0,0,0,0,0,0,0,0,0,0,0,0,0,0,0,0,0,0,0,0,0]
[null,null,null,null,null,null,null,null,null,null,0,0,0,0,0,0,0,0,0,0,0,0,0,0,0,{"$f":"COUNTIF($F15,\"*\"&Z$5&\"*\")","v":0},0,0,0,0,0,0,0,0,0,0,0,0,0,0]
[null,null,null,null,null,null,null,null,null,null,0,0,0,0,0,0,0,0,0,0,0,0,0,0,0,0,0,0,0,0,0,0,0,0,0,0,0,0,0,0]
[null,null,null,null,null,null,null,null,null,null,0,0,0,0,0,0,0,0,0,0,0,0,0,0,0,0,0,0,0,0,0,0,0,0,0,0,0,0,0,0]
[null,null,null,null,null,null,null,null,null,null,0,0,0,0,0,0,0,0,0,0,0,0,0,0,0,0,0,0,0,0,0,0,0,0,0,0,0,0,0,0]
[null,null,null,null,null,null,null,null,null,null,0,0,0,0,0,0,0,0,0,0,0,0,0,0,0,0,0,0,0,0,0,0,0,0,0,0,0,0,0,0]
[null,null,null,null,null,null,null,null,null,null,0,0,0,0,0,0,0,0,0,0,0,0,0,0,0,0,0,0,0,0,0,0,0,0,0,0,0,0,0,0]
[null,null,null,null,null,null,null,null,null,null,0,0,0,0,0,0,0,0,0,0,0,0,0,0,0,0,0,0,0,0,0,0,0,0,0,0,0,0,0,0]
[null,null,null,null,null,null,null,null,null,null,0,0,0,0,0,0,0,0,0,0,0,0,0,0,0,0,0,0,0,0,0,0,0,0,0,0,0,0,0,0]
[null,null,null,null,null,null,null,null,null,null,0,0,0,0,0,0,0,0,0,0,0,0,0,0,0,0,0,0,0,0,0,0,0,0,0,0,0,0,0,0]
[null,null,null,null,null,null,null,null,null,null,0,0,0,0,0,0,0,0,0,0,0,0,0,0,0,0,0,0,0,0,0,0,0,0,0,0,0,0,0,0]
[null,null,null,null,null,null,null,null,null,null,0,0,0,0,0,0,0,0,0,0,0,0,0,0,0,0,0,0,0,0,0,0,0,0,0,0,0,0,0,0]
[null,null,null,null,null,null,null,null,null,null,0,0,0,0,0,0,0,0,0,0,0,0,0,0,0,0,0,0,0,0,0,0,0,0,0,0,0,0,0,0]
[null,null,null,null,null,null,null,null,null,null,0,0,0,0,0,0,0,0,0,0,0,0,0,0,0,0,0,0,0,0,0,0,0,0,0,0,0,0,0,0]
[null,null,null,null,null,null,null,null,null,null,0,0,0,0,0,0,0,0,0,0,0,0,0,0,0,0,0,0,0,0,0,0,0,0,0,0,0,0,0,0]
[null,null,null,null,null,null,null,null,null,null,0,0,0,0,0,0,0,0,0,0,0,0,0,0,0,0,0,0,0,0,0,0,0,0,0,0,0,0,0,0]
[null,null,null,null,null,null,null,null,null,null,0,0,0,0,0,0,0,0,0,0,{"$f":"COUNTIF($F30,\"*\"&U$5&\"*\")","v":0},0,0,0,0,0,0,0,0,0,0,0,0,0,0,0,0,0,0,0]
[null,null,null,null,null,null,null,null,null,null,0,0,{"$f":"COUNTIF($F31,\"*\"&M$5&\"*\")","v":0},0,0,0,0,0,0,0,0,0,0,0,0,0,0,0,0,{"$f":"COUNTIF($F31,\"*\"&AD$5&\"*\")","v":0},0,0,0,0,0,0,0,0,0,0]
[null,null,null,null,null,null,null,null,null,null,0,0,0,0,0,0,0,0,0,0,0,0,0,0,0,0,0,0,0,0,0,0,0,0,0,0,0,0,0,0]
[null,null,null,null,null,null,null,null,null,null,0,0,0,0,0,0,0,0,0,0,0,0,0,0,0,0,0,0,0,0,0,0,0,0,0,0,0,0,0,0]
[null,null,null,null,null,null,null,null,null,null,0,0,0,0,0,0,0,0,0,0,0,0,0,0,0,0,0,0,0,0,0,0,0,0,0,0,0,0,0,0]
[null,null,null,null,null,null,null,null,null,null,0,0,0,0,0,0,0,0,0,0,0,0,0,0,0,0,0,0,0,0,0,0,0,0,0,0,0,0,0,0]
[null,null,null,null,null,null,null,null,null,null,0,0,0,0,0,0,0,0,0,0,0,0,0,0,0,0,0,0,0,0,0,0,0,0,0,0,0,0,0,0]
[null,null,null,null,null,null,null,null,null,null,0,0,0,0,0,0,0,0,0,0,0,0,0,0,0,0,0,0,0,0,0,0,0,0,0,0,0,0,0,0]
[null,null,null,null,null,null,null,null,null,null,0,0,0,0,0,0,0,0,0,0,0,0,0,0,0,0,0,0,0,0,0,0,0,0,0,0,0,0,0,0]
[null,null,null,null,null,null,null,null,null,null,0,0,0,0,0,0,0,0,0,0,0,0,0,0,0,0,0,0,0,0,0,0,0,0,0,0,0,0,0,0]
[null,null,null,null,null,null,null,null,null,null,0,0,0,0,0,0,0,0,0,0,0,0,0,0,0,0,0,0,0,0,0,0,0,0,0,0,0,0,0,0]
[null,null,null,null,null,null,null,null,null,null,0,0,0,0,0,0,0,0,0,0,0,0,0,0,0,0,0,0,0,0,0,0,0,0,0,0,0,0,0,0]
[null,null,null,null,null,null,null,null,null,null,0,0,0,0,0,0,0,0,0,0,0,0,0,0,0,0,0,0,0,0,0,0,0,0,0,0,0,0,0,0]
["コンタミネーション","なし",null,null,null,null,null,null,null,null,{"$f":"IF(OR($B43=\"\",$B43=\"なし\"),0,LEN($B43)-LEN(SUBSTITUTE($B43, \"、\", \"\"))+1)","v":0},0,{"$f":"COUNTIF($B43,\"*\"&M$5&\"*\")","v":0},{"$f":"COUNTIF($B43,\"*\"&N$5&\"*\")","v":0},0,0,0,0,0,0,0,0,0,0,0,0,0,0,0,0,{"$f":"COUNTIF($B43,\"*\"&AE$5&\"*\")","v":0},0,0,0,0,0,0,0,0,0]
[null,null,null,null,null,null,null,null,null,null,0,0,{"$f":"COUNTIF($B44,\"*\"&M$5&\"*\")","v":0},0,0,0,0,0,0,0,0,0,0,0,0,0,0,0,0,0,0,0,0,0,0,0,0,0,0,0]
[null,null,null,null,null,null,null,null,null,null,0,0,0,0,0,0,0,0,0,0,0,0,0,0,0,0,0,0,0,0,0,0,0,0,0,0,0,0,0,0]
["特記事項"]
[]
[]
[null,"●　商品の終売・リニューアルの場合は成分等が変更になる場合があります。ご了承ください。"]
["製造元","株式会社及川商店"]
[]
[{"$f":"一覧!$A$41","v":"オーエンス泉岳自然ふれあい館"}]

{"sheet":"酒","index":12,"n_rows":52,"n_cols":40,"rows_kept":52,"cut":false,"hidden":false,"merged":[[1,1,1,8],[2,0,3,0],[2,1,3,7],[4,0,41,0],[4,1,4,4],[4,5,4,8],[5,1,5,4],[5,5,5,8],[6,1,6,4],[6,5,6,8],[7,1,7,4],[7,5,7,8],[8,1,8,4],[8,5,8,8],[9,1,9,4],[9,5,9,8],[10,1,10,4],[10,5,10,8],[11,1,11,4],[11,5,11,8],[12,1,12,4],[12,5,12,8],[13,1,13,4],[13,5,13,8],[14,1,14,4],[14,5,14,8],[15,1,15,4],[15,5,15,8],[16,1,16,4],[16,5,16,8],[17,1,17,4],[17,5,17,8],[18,1,18,4],[18,5,18,8],[19,1,19,4],[19,5,19,8],[20,1,20,4],[20,5,20,8],[21,1,21,4],[21,5,21,8],[22,1,22,4],[22,5,22,8],[23,1,23,4],[23,5,23,8],[24,1,24,4],[24,5,24,8],[25,1,25,4],[25,5,25,8],[26,1,26,4],[26,5,26,8],[27,1,27,4],[27,5,27,8],[28,1,28,4],[28,5,28,8],[29,1,29,4],[29,5,29,8],[30,1,30,4],[30,5,30,8],[31,1,31,4],[31,5,31,8],[32,1,32,4],[32,5,32,8],[33,1,33,4],[33,5,33,8],[34,1,34,4],[34,5,34,8],[35,1,35,4],[35,5,35,8],[36,1,36,4],[36,5,36,8],[37,1,37,4],[37,5,37,8],[38,1,38,4],[38,5,38,8],[39,1,39,4],[39,5,39,8],[40,1,40,4],[40,5,40,8],[41,1,41,4],[41,5,41,8],[42,0,44,0],[42,1,42,8],[43,1,43,8],[44,1,44,8],[51,0,51,8],[45,0,48,0],[45,1,45,8],[46,1,46,8],[47,1,47,8],[48,1,48,8],[49,0,50,0],[49,1,50,8]]}
["一覧へ"]
["シート名",{"$f":"RIGHT(CELL(\"filename\",A1),LEN(CELL(\"filename\",A1))-FIND(\"]\",CELL(\"filename\",A1)))","v":"酒"}]
["商品名","ベストシェフ　料理酒",null,null,null,null,null,null,"作成日"]
[null,null,null,null,null,null,null,null,{"$f":"一覧!$D$1","v":"2023-03-01"}]
["原材料","原材料名",null,null,null,"28品目アレルゲン",null,null,null,null,"個数①","計",{"$f":"一覧!D5","v":"小麦"},{"$f":"一覧!E5","v":"卵"},{"$f":"一覧!F5","v":"乳"},{"$f":"一覧!G5","v":"そば"},{"$f":"一覧!H5","v":"落花生"},{"$f":"一覧!I5","v":"えび"},{"$f":"一覧!J5","v":"かに"},{"$f":"一覧!K5","v":"ごま"},{"$f":"一覧!L5","v":"くるみ"},{"$f":"一覧!M5","v":"カシュ"},{"$f":"一覧!N5","v":"アーモンド"},{"$f":"一覧!O5","v":"キウイ"},{"$f":"一覧!P5","v":"もも"},{"$f":"一覧!Q5","v":"リンゴ"},{"$f":"一覧!R5","v":"バナナ"},{"$f":"一覧!S5","v":"オレンジ"},{"$f":"一覧!T5","v":"いか"},{"$f":"一覧!U5","v":"いくら"},{"$f":"一覧!V5","v":"さけ"},{"$f":"一覧!W5","v":"さば"},{"$f":"一覧!X5","v":"大豆"},{"$f":"一覧!Y5","v":"鶏肉"},{"$f":"一覧!Z5","v":"豚肉"},{"$f":"一覧!AA5","v":"牛肉"},{"$f":"一覧!AB5","v":"まつたけ"},{"$f":"一覧!AC5","v":"やまいも"},{"$f":"一覧!AD5","v":"ゼラチン"},{"$f":"一覧!AE5","v":"あわび"}]
[null,"米",null,null,null,null,null,null,null,null,{"$f":"IF(F6=\"\",0,LEN(F6)-LEN(SUBSTITUTE(F6, \"、\", \"\"))+1)","v":0},{"$f":"SUM(M6:AN6)","v":0},{"$f":"COUNTIF($F6,\"*\"&M$5&\"*\")","v":0},{"$f":"COUNTIF($F6,\"*\"&N$5&\"*\")","v":0},0,0,0,0,0,0,0,0,0,0,0,0,0,0,0,0,0,0,0,0,0,0,0,0,0,0]
[null,"水あめ",null,null,null,null,null,null,null,null,{"$f":"IF(F7=\"\",0,LEN(F7)-LEN(SUBSTITUTE(F7, \"、\", \"\"))+1)","v":0},{"$f":"SUM(M7:AN7)","v":0},{"$f":"COUNTIF($F7,\"*\"&M$5&\"*\")","v":0},0,0,0,0,0,0,0,0,0,0,0,0,0,0,0,0,0,0,0,0,0,0,0,0,0,0,0]
[null,"アルコール",null,null,null,null,null,null,null,null,0,0,0,0,0,0,0,0,0,0,0,0,0,0,0,0,0,0,0,0,0,0,0,0,0,0,0,0,0,0]
[null,"食塩",null,null,null,null,null,null,null,null,0,0,0,0,0,0,0,0,0,0,0,0,0,0,0,0,0,0,0,0,0,0,0,0,0,0,0,0,0,0]
[null,"米こうじ",null,null,null,null,null,null,null,null,0,0,0,0,0,0,0,0,0,0,0,0,0,0,0,0,0,0,0,0,0,0,0,0,0,0,0,0,0,0]
[null,"クエン酸（pH調整剤）",null,null,null,null,null,null,null,null,0,0,0,0,0,0,0,0,0,0,0,0,0,0,0,0,0,0,0,0,0,0,0,0,0,0,0,0,0,0]
[null,"（水）",null,null,null,null,null,null,null,null,0,0,0,0,0,0,0,0,0,0,0,0,0,0,0,0,0,0,0,0,0,0,0,0,0,0,0,0,0,0]
[null,null,null,null,null,null,null,null,null,null,0,0,0,0,0,0,0,0,0,0,0,0,0,0,0,0,0,0,0,0,0,0,0,0,0,0,0,0,0,0]
[null,null,null,null,null,null,null,null,null,null,0,0,0,0,0,0,0,0,0,0,0,0,0,0,0,0,0,0,0,0,0,0,0,0,0,0,0,0,0,0]
[null,null,null,null,null,null,null,null,null,null,0,0,0,0,0,0,0,0,0,0,0,0,0,0,0,{"$f":"COUNTIF($F15,\"*\"&Z$5&\"*\")","v":0},0,0,0,0,0,0,0,0,0,0,0,0,0,0]
[null,null,null,null,null,null,null,null,null,null,0,0,0,0,0,0,0,0,0,0,0,0,0,0,0,0,0,0,0,0,0,0,0,0,0,0,0,0,0,0]
[null,null,null,null,null,null,null,null,null,null,0,0,0,0,0,0,0,0,0,0,0,0,0,0,0,0,0,0,0,0,0,0,0,0,0,0,0,0,0,0]
[null,null,null,null,null,null,null,null,null,null,0,0,0,0,0,0,0,0,0,0,0,0,0,0,0,0,0,0,0,0,0,0,0,0,0,0,0,0,0,0]
[null,null,null,null,null,null,null,null,null,null,0,0,0,0,0,0,0,0,0,0,0,0,0,0,0,0,0,0,0,0,0,0,0,0,0,0,0,0,0,0]
[null,null,null,null,null,null,null,null,null,null,0,0,0,0,0,0,0,0,0,0,0,0,0,0,0,0,0,0,0,0,0,0,0,0,0,0,0,0,0,0]
[null,null,null,null,null,null,null,null,null,null,0,0,0,0,0,0,0,0,0,0,0,0,0,0,0,0,0,0,0,0,0,0,0,0,0,0,0,0,0,0]
[null,null,null,null,null,null,null,null,null,null,0,0,0,0,0,0,0,0,0,0,0,0,0,0,0,0,0,0,0,0,0,0,0,0,0,0,0,0,0,0]
[null,null,null,null,null,null,null,null,null,null,0,0,0,0,0,0,0,0,0,0,0,0,0,0,0,0,0,0,0,0,0,0,0,0,0,0,0,0,0,0]
[null,null,null,null,null,null,null,null,null,null,0,0,0,0,0,0,0,0,0,0,0,0,0,0,0,0,0,0,0,0,0,0,0,0,0,0,0,0,0,0]
[null,null,null,null,null,null,null,null,null,null,0,0,0,0,0,0,0,0,0,0,0,0,0,0,0,0,0,0,0,0,0,0,0,0,0,0,0,0,0,0]
[null,null,null,null,null,null,null,null,null,null,0,0,0,0,0,0,0,0,0,0,0,0,0,0,0,0,0,0,0,0,0,0,0,0,0,0,0,0,0,0]
[null,null,null,null,null,null,null,null,null,null,0,0,0,0,0,0,0,0,0,0,0,0,0,0,0,0,0,0,0,0,0,0,0,0,0,0,0,0,0,0]
[null,null,null,null,null,null,null,null,null,null,0,0,0,0,0,0,0,0,0,0,0,0,0,0,0,0,0,0,0,0,0,0,0,0,0,0,0,0,0,0]
[null,null,null,null,null,null,null,null,null,null,0,0,0,0,0,0,0,0,0,0,0,0,0,0,0,0,0,0,0,0,0,0,0,0,0,0,0,0,0,0]
[null,null,null,null,null,null,null,null,null,null,0,0,0,0,0,0,0,0,0,0,{"$f":"COUNTIF($F30,\"*\"&U$5&\"*\")","v":0},0,0,0,0,0,0,0,0,0,0,0,0,0,0,0,0,0,0,0]
[null,null,null,null,null,null,null,null,null,null,0,0,{"$f":"COUNTIF($F31,\"*\"&M$5&\"*\")","v":0},0,0,0,0,0,0,0,0,0,0,0,0,0,0,0,0,{"$f":"COUNTIF($F31,\"*\"&AD$5&\"*\")","v":0},0,0,0,0,0,0,0,0,0,0]
[null,null,null,null,null,null,null,null,null,null,0,0,0,0,0,0,0,0,0,0,0,0,0,0,0,0,0,0,0,0,0,0,0,0,0,0,0,0,0,0]
[null,null,null,null,null,null,null,null,null,null,0,0,0,0,0,0,0,0,0,0,0,0,0,0,0,0,0,0,0,0,0,0,0,0,0,0,0,0,0,0]
[null,null,null,null,null,null,null,null,null,null,0,0,0,0,0,0,0,0,0,0,0,0,0,0,0,0,0,0,0,0,0,0,0,0,0,0,0,0,0,0]
[null,null,null,null,null,null,null,null,null,null,0,0,0,0,0,0,0,0,0,0,0,0,0,0,0,0,0,0,0,0,0,0,0,0,0,0,0,0,0,0]
[null,null,null,null,null,null,null,null,null,null,0,0,0,0,0,0,0,0,0,0,0,0,0,0,0,0,0,0,0,0,0,0,0,0,0,0,0,0,0,0]
[null,null,null,null,null,null,null,null,null,null,0,0,0,0,0,0,0,0,0,0,0,0,0,0,0,0,0,0,0,0,0,0,0,0,0,0,0,0,0,0]
[null,null,null,null,null,null,null,null,null,null,0,0,0,0,0,0,0,0,0,0,0,0,0,0,0,0,0,0,0,0,0,0,0,0,0,0,0,0,0,0]
[null,null,null,null,null,null,null,null,null,null,0,0,0,0,0,0,0,0,0,0,0,0,0,0,0,0,0,0,0,0,0,0,0,0,0,0,0,0,0,0]
[null,null,null,null,null,null,null,null,null,null,0,0,0,0,0,0,0,0,0,0,0,0,0,0,0,0,0,0,0,0,0,0,0,0,0,0,0,0,0,0]
[null,null,null,null,null,null,null,null,null,null,0,0,0,0,0,0,0,0,0,0,0,0,0,0,0,0,0,0,0,0,0,0,0,0,0,0,0,0,0,0]
[null,null,null,null,null,null,null,null,null,null,0,0,0,0,0,0,0,0,0,0,0,0,0,0,0,0,0,0,0,0,0,0,0,0,0,0,0,0,0,0]
["コンタミネーション","なし",null,null,null,null,null,null,null,null,{"$f":"IF(OR($B43=\"\",$B43=\"なし\"),0,LEN($B43)-LEN(SUBSTITUTE($B43, \"、\", \"\"))+1)","v":0},0,{"$f":"COUNTIF($B43,\"*\"&M$5&\"*\")","v":0},{"$f":"COUNTIF($B43,\"*\"&N$5&\"*\")","v":0},0,0,0,0,0,0,0,0,0,0,0,0,0,0,0,0,{"$f":"COUNTIF($B43,\"*\"&AE$5&\"*\")","v":0},0,0,0,0,0,0,0,0,0]
[null,null,null,null,null,null,null,null,null,null,0,0,{"$f":"COUNTIF($B44,\"*\"&M$5&\"*\")","v":0},0,0,0,0,0,0,0,0,0,0,0,0,0,0,0,0,0,0,0,0,0,0,0,0,0,0,0]
[null,null,null,null,null,null,null,null,null,null,0,0,0,0,0,0,0,0,0,0,0,0,0,0,0,0,0,0,0,0,0,0,0,0,0,0,0,0,0,0]
["特記事項"]
[]
[]
[null,"●　商品の終売・リニューアルの場合は成分等が変更になる場合があります。ご了承ください。"]
["製造元","髙瀬物産株式会社"]
[]
[{"$f":"一覧!$A$41","v":"オーエンス泉岳自然ふれあい館"}]

{"sheet":"鶏肉","index":13,"n_rows":52,"n_cols":40,"rows_kept":52,"cut":false,"hidden":false,"merged":[[1,1,1,8],[2,0,3,0],[2,1,3,7],[4,0,41,0],[4,1,4,4],[4,5,4,8],[5,1,5,4],[5,5,5,8],[6,1,6,4],[6,5,6,8],[7,1,7,4],[7,5,7,8],[8,1,8,4],[8,5,8,8],[9,1,9,4],[9,5,9,8],[10,1,10,4],[10,5,10,8],[11,1,11,4],[11,5,11,8],[12,1,12,4],[12,5,12,8],[13,1,13,4],[13,5,13,8],[14,1,14,4],[14,5,14,8],[15,1,15,4],[15,5,15,8],[16,1,16,4],[16,5,16,8],[17,1,17,4],[17,5,17,8],[18,1,18,4],[18,5,18,8],[19,1,19,4],[19,5,19,8],[20,1,20,4],[20,5,20,8],[21,1,21,4],[21,5,21,8],[22,1,22,4],[22,5,22,8],[23,1,23,4],[23,5,23,8],[24,1,24,4],[24,5,24,8],[25,1,25,4],[25,5,25,8],[26,1,26,4],[26,5,26,8],[27,1,27,4],[27,5,27,8],[28,1,28,4],[28,5,28,8],[29,1,29,4],[29,5,29,8],[30,1,30,4],[30,5,30,8],[31,1,31,4],[31,5,31,8],[32,1,32,4],[32,5,32,8],[33,1,33,4],[33,5,33,8],[34,1,34,4],[34,5,34,8],[35,1,35,4],[35,5,35,8],[36,1,36,4],[36,5,36,8],[37,1,37,4],[37,5,37,8],[38,1,38,4],[38,5,38,8],[39,1,39,4],[39,5,39,8],[40,1,40,4],[40,5,40,8],[41,1,41,4],[41,5,41,8],[42,0,44,0],[42,1,42,8],[43,1,43,8],[44,1,44,8],[51,0,51,8],[45,0,48,0],[45,1,45,8],[46,1,46,8],[47,1,47,8],[48,1,48,8],[49,0,50,0],[49,1,50,8]]}
["一覧へ","　"]
["シート名",{"$f":"RIGHT(CELL(\"filename\",A1),LEN(CELL(\"filename\",A1))-FIND(\"]\",CELL(\"filename\",A1)))","v":"鶏肉"}]
["商品名","鶏皮なしもも小間(輸入)２ｃｍ角",null,null,null,null,null,null,"作成日"]
[null,null,null,null,null,null,null,null,{"$f":"一覧!$D$1","v":"2023-03-01"}]
["原材料","原材料名",null,null,null,"28品目アレルゲン",null,null,null,null,"個数①","計","小麦","卵","乳","そば","落花生","えび","かに","ごま","くるみ","カシュ","アーモンド","キウイ","もも","リンゴ","バナナ","オレンジ","いか","いくら","さけ","さば","大豆","鶏肉","豚肉","牛肉","まつたけ","やまいも","ゼラチン","あわび"]
[null,"鶏皮なしモモ肉",null,null,null,"鶏肉",null,null,null,null,{"$f":"IF(F6=\"\",0,LEN(F6)-LEN(SUBSTITUTE(F6, \"、\", \"\"))+1)","v":1},{"$f":"SUM(M6:AN6)","v":1},{"$f":"COUNTIF($F6,\"*\"&M$5&\"*\")","v":0},{"$f":"COUNTIF($F6,\"*\"&N$5&\"*\")","v":0},0,0,0,0,0,0,0,0,0,0,0,0,0,0,0,0,0,0,0,1,0,0,0,0,0,0]
[null,null,null,null,null,null,null,null,null,null,{"$f":"IF(F7=\"\",0,LEN(F7)-LEN(SUBSTITUTE(F7, \"、\", \"\"))+1)","v":0},{"$f":"SUM(M7:AN7)","v":0},{"$f":"COUNTIF($F7,\"*\"&M$5&\"*\")","v":0},0,0,0,0,0,0,0,0,0,0,0,0,0,0,0,0,0,0,0,0,0,0,0,0,0,0,0]
[null,null,null,null,null,null,null,null,null,null,0,0,0,0,0,0,0,0,0,0,0,0,0,0,0,0,0,0,0,0,0,0,0,0,0,0,0,0,0,0]
[null,null,null,null,null,null,null,null,null,null,0,0,0,0,0,0,0,0,0,0,0,0,0,0,0,0,0,0,0,0,0,0,0,0,0,0,0,0,0,0]
[null,null,null,null,null,null,null,null,null,null,0,0,0,0,0,0,0,0,0,0,0,0,0,0,0,0,0,0,0,0,0,0,0,0,0,0,0,0,0,0]
[null,null,null,null,null,null,null,null,null,null,0,0,0,0,0,0,0,0,0,0,0,0,0,0,0,0,0,0,0,0,0,0,0,0,0,0,0,0,0,0]
[null,null,null,null,null,null,null,null,null,null,0,0,0,0,0,0,0,0,0,0,0,0,0,0,0,0,0,0,0,0,0,0,0,0,0,0,0,0,0,0]
[null,null,null,null,null,null,null,null,null,null,0,0,0,0,0,0,0,0,0,0,0,0,0,0,0,0,0,0,0,0,0,0,0,0,0,0,0,0,0,0]
[null,null,null,null,null,null,null,null,null,null,0,0,0,0,0,0,0,0,0,0,0,0,0,0,0,0,0,0,0,0,0,0,0,0,0,0,0,0,0,0]
[null,null,null,null,null,null,null,null,null,null,0,0,0,0,0,0,0,0,0,0,0,0,0,0,0,{"$f":"COUNTIF($F15,\"*\"&Z$5&\"*\")","v":0},0,0,0,0,0,0,0,0,0,0,0,0,0,0]
[null,null,null,null,null,null,null,null,null,null,0,0,0,0,0,0,0,0,0,0,0,0,0,0,0,0,0,0,0,0,0,0,0,0,0,0,0,0,0,0]
[null,null,null,null,null,null,null,null,null,null,0,0,0,0,0,0,0,0,0,0,0,0,0,0,0,0,0,0,0,0,0,0,0,0,0,0,0,0,0,0]
[null,null,null,null,null,null,null,null,null,null,0,0,0,0,0,0,0,0,0,0,0,0,0,0,0,0,0,0,0,0,0,0,0,0,0,0,0,0,0,0]
[null,null,null,null,null,null,null,null,null,null,0,0,0,0,0,0,0,0,0,0,0,0,0,0,0,0,0,0,0,0,0,0,0,0,0,0,0,0,0,0]
[null,null,null,null,null,null,null,null,null,null,0,0,0,0,0,0,0,0,0,0,0,0,0,0,0,0,0,0,0,0,0,0,0,0,0,0,0,0,0,0]
[null,null,null,null,null,null,null,null,null,null,0,0,0,0,0,0,0,0,0,0,0,0,0,0,0,0,0,0,0,0,0,0,0,0,0,0,0,0,0,0]
[null,null,null,null,null,null,null,null,null,null,0,0,0,0,0,0,0,0,0,0,0,0,0,0,0,0,0,0,0,0,0,0,0,0,0,0,0,0,0,0]
[null,null,null,null,null,null,null,null,null,null,0,0,0,0,0,0,0,0,0,0,0,0,0,0,0,0,0,0,0,0,0,0,0,0,0,0,0,0,0,0]
[null,null,null,null,null,null,null,null,null,null,0,0,0,0,0,0,0,0,0,0,0,0,0,0,0,0,0,0,0,0,0,0,0,0,0,0,0,0,0,0]
[null,null,null,null,null,null,null,null,null,null,0,0,0,0,0,0,0,0,0,0,0,0,0,0,0,0,0,0,0,0,0,0,0,0,0,0,0,0,0,0]
[null,null,null,null,null,null,null,null,null,null,0,0,0,0,0,0,0,0,0,0,0,0,0,0,0,0,0,0,0,0,0,0,0,0,0,0,0,0,0,0]
[null,null,null,null,null,null,null,null,null,null,0,0,0,0,0,0,0,0,0,0,0,0,0,0,0,0,0,0,0,0,0,0,0,0,0,0,0,0,0,0]
[null,null,null,null,null,null,null,null,null,null,0,0,0,0,0,0,0,0,0,0,0,0,0,0,0,0,0,0,0,0,0,0,0,0,0,0,0,0,0,0]
[null,null,null,null,null,null,null,null,null,null,0,0,0,0,0,0,0,0,0,0,0,0,0,0,0,0,0,0,0,0,0,0,0,0,0,0,0,0,0,0]
[null,null,null,null,null,null,null,null,null,null,0,0,0,0,0,0,0,0,0,0,{"$f":"COUNTIF($F30,\"*\"&U$5&\"*\")","v":0},0,0,0,0,0,0,0,0,0,0,0,0,0,0,0,0,0,0,0]
[null,null,null,null,null,null,null,null,null,null,0,0,{"$f":"COUNTIF($F31,\"*\"&M$5&\"*\")","v":0},0,0,0,0,0,0,0,0,0,0,0,0,0,0,0,0,{"$f":"COUNTIF($F31,\"*\"&AD$5&\"*\")","v":0},0,0,0,0,0,0,0,0,0,0]
[null,null,null,null,null,null,null,null,null,null,0,0,0,0,0,0,0,0,0,0,0,0,0,0,0,0,0,0,0,0,0,0,0,0,0,0,0,0,0,0]
[null,null,null,null,null,null,null,null,null,null,0,0,0,0,0,0,0,0,0,0,0,0,0,0,0,0,0,0,0,0,0,0,0,0,0,0,0,0,0,0]
[null,null,null,null,null,null,null,null,null,null,0,0,0,0,0,0,0,0,0,0,0,0,0,0,0,0,0,0,0,0,0,0,0,0,0,0,0,0,0,0]
[null,null,null,null,null,null,null,null,null,null,0,0,0,0,0,0,0,0,0,0,0,0,0,0,0,0,0,0,0,0,0,0,0,0,0,0,0,0,0,0]
[null,null,null,null,null,null,null,null,null,null,0,0,0,0,0,0,0,0,0,0,0,0,0,0,0,0,0,0,0,0,0,0,0,0,0,0,0,0,0,0]
[null,null,null,null,null,null,null,null,null,null,0,0,0,0,0,0,0,0,0,0,0,0,0,0,0,0,0,0,0,0,0,0,0,0,0,0,0,0,0,0]
[null,null,null,null,null,null,null,null,null,null,0,0,0,0,0,0,0,0,0,0,0,0,0,0,0,0,0,0,0,0,0,0,0,0,0,0,0,0,0,0]
[null,null,null,null,null,null,null,null,null,null,0,0,0,0,0,0,0,0,0,0,0,0,0,0,0,0,0,0,0,0,0,0,0,0,0,0,0,0,0,0]
[null,null,null,null,null,null,null,null,null,null,0,0,0,0,0,0,0,0,0,0,0,0,0,0,0,0,0,0,0,0,0,0,0,0,0,0,0,0,0,0]
[null,null,null,null,null,null,null,null,null,null,0,0,0,0,0,0,0,0,0,0,0,0,0,0,0,0,0,0,0,0,0,0,0,0,0,0,0,0,0,0]
[null,null,null,null,null,null,null,null,null,null,0,0,0,0,0,0,0,0,0,0,0,0,0,0,0,0,0,0,0,0,0,0,0,0,0,0,0,0,0,0]
["コンタミネーション","なし",null,null,null,null,null,null,null,null,{"$f":"IF(OR($B43=\"\",$B43=\"なし\"),0,LEN($B43)-LEN(SUBSTITUTE($B43, \"、\", \"\"))+1)","v":0},0,{"$f":"COUNTIF($B43,\"*\"&M$5&\"*\")","v":0},{"$f":"COUNTIF($B43,\"*\"&N$5&\"*\")","v":0},0,0,0,0,0,0,0,0,0,0,0,0,0,0,0,0,{"$f":"COUNTIF($B43,\"*\"&AE$5&\"*\")","v":0},0,0,0,0,0,0,0,0,0]
[null,null,null,null,null,null,null,null,null,null,0,0,{"$f":"COUNTIF($B44,\"*\"&M$5&\"*\")","v":0},0,0,0,0,0,0,0,0,0,0,0,0,0,0,0,0,0,0,0,0,0,0,0,0,0,0,0]
[null,null,null,null,null,null,null,null,null,null,0,0,0,0,0,0,0,0,0,0,0,0,0,0,0,0,0,0,0,0,0,0,0,0,0,0,0,0,0,0]
["特記事項"]
[]
[]
[null,"●　商品の終売・リニューアルの場合は成分等が変更になる場合があります。ご了承ください。"]
["製造元","株式会社サトー食肉サービス"]
[]
[{"$f":"一覧!$A$41","v":"オーエンス泉岳自然ふれあい館"}]

{"sheet":"濃口醤油","index":14,"n_rows":52,"n_cols":40,"rows_kept":52,"cut":false,"hidden":false,"merged":[[1,1,1,8],[2,0,3,0],[2,1,3,7],[4,0,41,0],[4,1,4,4],[4,5,4,8],[5,1,5,4],[5,5,5,8],[6,1,6,4],[6,5,6,8],[7,1,7,4],[7,5,7,8],[8,1,8,4],[8,5,8,8],[9,1,9,4],[9,5,9,8],[10,1,10,4],[10,5,10,8],[11,1,11,4],[11,5,11,8],[12,1,12,4],[12,5,12,8],[13,1,13,4],[13,5,13,8],[14,1,14,4],[14,5,14,8],[15,1,15,4],[15,5,15,8],[16,1,16,4],[16,5,16,8],[17,1,17,4],[17,5,17,8],[18,1,18,4],[18,5,18,8],[19,1,19,4],[19,5,19,8],[20,1,20,4],[20,5,20,8],[21,1,21,4],[21,5,21,8],[22,1,22,4],[22,5,22,8],[23,1,23,4],[23,5,23,8],[24,1,24,4],[24,5,24,8],[25,1,25,4],[25,5,25,8],[26,1,26,4],[26,5,26,8],[27,1,27,4],[27,5,27,8],[28,1,28,4],[28,5,28,8],[29,1,29,4],[29,5,29,8],[30,1,30,4],[30,5,30,8],[31,1,31,4],[31,5,31,8],[32,1,32,4],[32,5,32,8],[33,1,33,4],[33,5,33,8],[34,1,34,4],[34,5,34,8],[35,1,35,4],[35,5,35,8],[36,1,36,4],[36,5,36,8],[37,1,37,4],[37,5,37,8],[38,1,38,4],[38,5,38,8],[39,1,39,4],[39,5,39,8],[40,1,40,4],[40,5,40,8],[41,1,41,4],[41,5,41,8],[42,0,44,0],[42,1,42,8],[43,1,43,8],[44,1,44,8],[51,0,51,8],[45,0,48,0],[45,1,45,8],[46,1,46,8],[47,1,47,8],[48,1,48,8],[49,0,50,0],[49,1,50,8]]}
["一覧へ"]
["シート名",{"$f":"RIGHT(CELL(\"filename\",A1),LEN(CELL(\"filename\",A1))-FIND(\"]\",CELL(\"filename\",A1)))","v":"濃口醤油"}]
["商品名","ベストシェフ　濃口本醸造醤油",null,null,null,null,null,null,"作成日"]
[null,null,null,null,null,null,null,null,{"$f":"一覧!$D$1","v":"2023-03-01"}]
["原材料","原材料名",null,null,null,"28品目アレルゲン",null,null,null,null,"個数①","計",{"$f":"一覧!D5","v":"小麦"},{"$f":"一覧!E5","v":"卵"},{"$f":"一覧!F5","v":"乳"},{"$f":"一覧!G5","v":"そば"},{"$f":"一覧!H5","v":"落花生"},{"$f":"一覧!I5","v":"えび"},{"$f":"一覧!J5","v":"かに"},{"$f":"一覧!K5","v":"ごま"},{"$f":"一覧!L5","v":"くるみ"},{"$f":"一覧!M5","v":"カシュ"},{"$f":"一覧!N5","v":"アーモンド"},{"$f":"一覧!O5","v":"キウイ"},{"$f":"一覧!P5","v":"もも"},{"$f":"一覧!Q5","v":"リンゴ"},{"$f":"一覧!R5","v":"バナナ"},{"$f":"一覧!S5","v":"オレンジ"},{"$f":"一覧!T5","v":"いか"},{"$f":"一覧!U5","v":"いくら"},{"$f":"一覧!V5","v":"さけ"},{"$f":"一覧!W5","v":"さば"},{"$f":"一覧!X5","v":"大豆"},{"$f":"一覧!Y5","v":"鶏肉"},{"$f":"一覧!Z5","v":"豚肉"},{"$f":"一覧!AA5","v":"牛肉"},{"$f":"一覧!AB5","v":"まつたけ"},{"$f":"一覧!AC5","v":"やまいも"},{"$f":"一覧!AD5","v":"ゼラチン"},{"$f":"一覧!AE5","v":"あわび"}]
[null,"食塩",null,null,null,null,null,null,null,null,{"$f":"IF(F6=\"\",0,LEN(F6)-LEN(SUBSTITUTE(F6, \"、\", \"\"))+1)","v":0},{"$f":"SUM(M6:AN6)","v":0},{"$f":"COUNTIF($F6,\"*\"&M$5&\"*\")","v":0},{"$f":"COUNTIF($F6,\"*\"&N$5&\"*\")","v":0},0,0,0,0,0,0,0,0,0,0,0,0,0,0,0,0,0,0,0,0,0,0,0,0,0,0]
[null,"脱脂加工大豆",null,null,null,"大豆",null,null,null,null,{"$f":"IF(F7=\"\",0,LEN(F7)-LEN(SUBSTITUTE(F7, \"、\", \"\"))+1)","v":1},{"$f":"SUM(M7:AN7)","v":1},{"$f":"COUNTIF($F7,\"*\"&M$5&\"*\")","v":0},0,0,0,0,0,0,0,0,0,0,0,0,0,0,0,0,0,0,0,1,0,0,0,0,0,0,0]
[null,"小麦",null,null,null,"小麦",null,null,null,null,1,1,1,0,0,0,0,0,0,0,0,0,0,0,0,0,0,0,0,0,0,0,0,0,0,0,0,0,0,0]
[null,"大豆",null,null,null,"大豆",null,null,null,null,1,1,0,0,0,0,0,0,0,0,0,0,0,0,0,0,0,0,0,0,0,0,1,0,0,0,0,0,0,0]
[null,"アルコール",null,null,null,null,null,null,null,null,0,0,0,0,0,0,0,0,0,0,0,0,0,0,0,0,0,0,0,0,0,0,0,0,0,0,0,0,0,0]
[null,null,null,null,null,null,null,null,null,null,0,0,0,0,0,0,0,0,0,0,0,0,0,0,0,0,0,0,0,0,0,0,0,0,0,0,0,0,0,0]
[null,null,null,null,null,null,null,null,null,null,0,0,0,0,0,0,0,0,0,0,0,0,0,0,0,0,0,0,0,0,0,0,0,0,0,0,0,0,0,0]
[null,null,null,null,null,null,null,null,null,null,0,0,0,0,0,0,0,0,0,0,0,0,0,0,0,0,0,0,0,0,0,0,0,0,0,0,0,0,0,0]
[null,null,null,null,null,null,null,null,null,null,0,0,0,0,0,0,0,0,0,0,0,0,0,0,0,0,0,0,0,0,0,0,0,0,0,0,0,0,0,0]
[null,null,null,null,null,null,null,null,null,null,0,0,0,0,0,0,0,0,0,0,0,0,0,0,0,{"$f":"COUNTIF($F15,\"*\"&Z$5&\"*\")","v":0},0,0,0,0,0,0,0,0,0,0,0,0,0,0]
[null,null,null,null,null,null,null,null,null,null,0,0,0,0,0,0,0,0,0,0,0,0,0,0,0,0,0,0,0,0,0,0,0,0,0,0,0,0,0,0]
[null,null,null,null,null,null,null,null,null,null,0,0,0,0,0,0,0,0,0,0,0,0,0,0,0,0,0,0,0,0,0,0,0,0,0,0,0,0,0,0]
[null,null,null,null,null,null,null,null,null,null,0,0,0,0,0,0,0,0,0,0,0,0,0,0,0,0,0,0,0,0,0,0,0,0,0,0,0,0,0,0]
[null,null,null,null,null,null,null,null,null,null,0,0,0,0,0,0,0,0,0,0,0,0,0,0,0,0,0,0,0,0,0,0,0,0,0,0,0,0,0,0]
[null,null,null,null,null,null,null,null,null,null,0,0,0,0,0,0,0,0,0,0,0,0,0,0,0,0,0,0,0,0,0,0,0,0,0,0,0,0,0,0]
[null,null,null,null,null,null,null,null,null,null,0,0,0,0,0,0,0,0,0,0,0,0,0,0,0,0,0,0,0,0,0,0,0,0,0,0,0,0,0,0]
[null,null,null,null,null,null,null,null,null,null,0,0,0,0,0,0,0,0,0,0,0,0,0,0,0,0,0,0,0,0,0,0,0,0,0,0,0,0,0,0]
[null,null,null,null,null,null,null,null,null,null,0,0,0,0,0,0,0,0,0,0,0,0,0,0,0,0,0,0,0,0,0,0,0,0,0,0,0,0,0,0]
[null,null,null,null,null,null,null,null,null,null,0,0,0,0,0,0,0,0,0,0,0,0,0,0,0,0,0,0,0,0,0,0,0,0,0,0,0,0,0,0]
[null,null,null,null,null,null,null,null,null,null,0,0,0,0,0,0,0,0,0,0,0,0,0,0,0,0,0,0,0,0,0,0,0,0,0,0,0,0,0,0]
[null,null,null,null,null,null,null,null,null,null,0,0,0,0,0,0,0,0,0,0,0,0,0,0,0,0,0,0,0,0,0,0,0,0,0,0,0,0,0,0]
[null,null,null,null,null,null,null,null,null,null,0,0,0,0,0,0,0,0,0,0,0,0,0,0,0,0,0,0,0,0,0,0,0,0,0,0,0,0,0,0]
[null,null,null,null,null,null,null,null,null,null,0,0,0,0,0,0,0,0,0,0,0,0,0,0,0,0,0,0,0,0,0,0,0,0,0,0,0,0,0,0]
[null,null,null,null,null,null,null,null,null,null,0,0,0,0,0,0,0,0,0,0,0,0,0,0,0,0,0,0,0,0,0,0,0,0,0,0,0,0,0,0]
[null,null,null,null,null,null,null,null,null,null,0,0,0,0,0,0,0,0,0,0,{"$f":"COUNTIF($F30,\"*\"&U$5&\"*\")","v":0},0,0,0,0,0,0,0,0,0,0,0,0,0,0,0,0,0,0,0]
[null,null,null,null,null,null,null,null,null,null,0,0,{"$f":"COUNTIF($F31,\"*\"&M$5&\"*\")","v":0},0,0,0,0,0,0,0,0,0,0,0,0,0,0,0,0,{"$f":"COUNTIF($F31,\"*\"&AD$5&\"*\")","v":0},0,0,0,0,0,0,0,0,0,0]
[null,null,null,null,null,null,null,null,null,null,0,0,0,0,0,0,0,0,0,0,0,0,0,0,0,0,0,0,0,0,0,0,0,0,0,0,0,0,0,0]
[null,null,null,null,null,null,null,null,null,null,0,0,0,0,0,0,0,0,0,0,0,0,0,0,0,0,0,0,0,0,0,0,0,0,0,0,0,0,0,0]
[null,null,null,null,null,null,null,null,null,null,0,0,0,0,0,0,0,0,0,0,0,0,0,0,0,0,0,0,0,0,0,0,0,0,0,0,0,0,0,0]
[null,null,null,null,null,null,null,null,null,null,0,0,0,0,0,0,0,0,0,0,0,0,0,0,0,0,0,0,0,0,0,0,0,0,0,0,0,0,0,0]
[null,null,null,null,null,null,null,null,null,null,0,0,0,0,0,0,0,0,0,0,0,0,0,0,0,0,0,0,0,0,0,0,0,0,0,0,0,0,0,0]
[null,null,null,null,null,null,null,null,null,null,0,0,0,0,0,0,0,0,0,0,0,0,0,0,0,0,0,0,0,0,0,0,0,0,0,0,0,0,0,0]
[null,null,null,null,null,null,null,null,null,null,0,0,0,0,0,0,0,0,0,0,0,0,0,0,0,0,0,0,0,0,0,0,0,0,0,0,0,0,0,0]
[null,null,null,null,null,null,null,null,null,null,0,0,0,0,0,0,0,0,0,0,0,0,0,0,0,0,0,0,0,0,0,0,0,0,0,0,0,0,0,0]
[null,null,null,null,null,null,null,null,null,null,0,0,0,0,0,0,0,0,0,0,0,0,0,0,0,0,0,0,0,0,0,0,0,0,0,0,0,0,0,0]
[null,null,null,null,null,null,null,null,null,null,0,0,0,0,0,0,0,0,0,0,0,0,0,0,0,0,0,0,0,0,0,0,0,0,0,0,0,0,0,0]
[null,null,null,null,null,null,null,null,null,null,0,0,0,0,0,0,0,0,0,0,0,0,0,0,0,0,0,0,0,0,0,0,0,0,0,0,0,0,0,0]
["コンタミネーション","なし",null,null,null,null,null,null,null,null,{"$f":"IF(OR($B43=\"\",$B43=\"なし\"),0,LEN($B43)-LEN(SUBSTITUTE($B43, \"、\", \"\"))+1)","v":0},0,{"$f":"COUNTIF($B43,\"*\"&M$5&\"*\")","v":0},{"$f":"COUNTIF($B43,\"*\"&N$5&\"*\")","v":0},0,0,0,0,0,0,0,0,0,0,0,0,0,0,0,0,{"$f":"COUNTIF($B43,\"*\"&AE$5&\"*\")","v":0},0,0,0,0,0,0,0,0,0]
[null,null,null,null,null,null,null,null,null,null,0,0,{"$f":"COUNTIF($B44,\"*\"&M$5&\"*\")","v":0},0,0,0,0,0,0,0,0,0,0,0,0,0,0,0,0,0,0,0,0,0,0,0,0,0,0,0]
[null,null,null,null,null,null,null,null,null,null,0,0,0,0,0,0,0,0,0,0,0,0,0,0,0,0,0,0,0,0,0,0,0,0,0,0,0,0,0,0]
["特記事項"]
[]
[]
[null,"●　商品の終売・リニューアルの場合は成分等が変更になる場合があります。ご了承ください。"]
["製造元","髙瀬物産株式会社"]
[]
[{"$f":"一覧!$A$41","v":"オーエンス泉岳自然ふれあい館"}]

{"sheet":"薄口醤油","index":15,"n_rows":52,"n_cols":40,"rows_kept":52,"cut":false,"hidden":false,"merged":[[1,1,1,8],[2,0,3,0],[2,1,3,7],[4,0,41,0],[4,1,4,4],[4,5,4,8],[5,1,5,4],[5,5,5,8],[6,1,6,4],[6,5,6,8],[7,1,7,4],[7,5,7,8],[8,1,8,4],[8,5,8,8],[9,1,9,4],[9,5,9,8],[10,1,10,4],[10,5,10,8],[11,1,11,4],[11,5,11,8],[12,1,12,4],[12,5,12,8],[13,1,13,4],[13,5,13,8],[14,1,14,4],[14,5,14,8],[15,1,15,4],[15,5,15,8],[16,1,16,4],[16,5,16,8],[17,1,17,4],[17,5,17,8],[18,1,18,4],[18,5,18,8],[19,1,19,4],[19,5,19,8],[20,1,20,4],[20,5,20,8],[21,1,21,4],[21,5,21,8],[22,1,22,4],[22,5,22,8],[23,1,23,4],[23,5,23,8],[24,1,24,4],[24,5,24,8],[25,1,25,4],[25,5,25,8],[26,1,26,4],[26,5,26,8],[27,1,27,4],[27,5,27,8],[28,1,28,4],[28,5,28,8],[29,1,29,4],[29,5,29,8],[30,1,30,4],[30,5,30,8],[31,1,31,4],[31,5,31,8],[32,1,32,4],[32,5,32,8],[33,1,33,4],[33,5,33,8],[34,1,34,4],[34,5,34,8],[35,1,35,4],[35,5,35,8],[36,1,36,4],[36,5,36,8],[37,1,37,4],[37,5,37,8],[38,1,38,4],[38,5,38,8],[39,1,39,4],[39,5,39,8],[40,1,40,4],[40,5,40,8],[41,1,41,4],[41,5,41,8],[42,0,44,0],[42,1,42,8],[43,1,43,8],[44,1,44,8],[51,0,51,8],[45,0,48,0],[45,1,45,8],[46,1,46,8],[47,1,47,8],[48,1,48,8],[49,0,50,0],[49,1,50,8]]}
["一覧へ"," "]
["シート名",{"$f":"RIGHT(CELL(\"filename\",A1),LEN(CELL(\"filename\",A1))-FIND(\"]\",CELL(\"filename\",A1)))","v":"薄口醤油"}]
["商品名","うすくちしょうゆ(本醸造)",null,null,null,null,null,null,"作成日"]
[null,null,null,null,null,null,null,null,{"$f":"一覧!$D$1","v":"2023-03-01"}]
["原材料","原材料名",null,null,null,"28品目アレルゲン",null,null,null,null,"個数①","計",{"$f":"一覧!D5","v":"小麦"},{"$f":"一覧!E5","v":"卵"},{"$f":"一覧!F5","v":"乳"},{"$f":"一覧!G5","v":"そば"},{"$f":"一覧!H5","v":"落花生"},{"$f":"一覧!I5","v":"えび"},{"$f":"一覧!J5","v":"かに"},{"$f":"一覧!K5","v":"ごま"},{"$f":"一覧!L5","v":"くるみ"},{"$f":"一覧!M5","v":"カシュ"},{"$f":"一覧!N5","v":"アーモンド"},{"$f":"一覧!O5","v":"キウイ"},{"$f":"一覧!P5","v":"もも"},{"$f":"一覧!Q5","v":"リンゴ"},{"$f":"一覧!R5","v":"バナナ"},{"$f":"一覧!S5","v":"オレンジ"},{"$f":"一覧!T5","v":"いか"},{"$f":"一覧!U5","v":"いくら"},{"$f":"一覧!V5","v":"さけ"},{"$f":"一覧!W5","v":"さば"},{"$f":"一覧!X5","v":"大豆"},{"$f":"一覧!Y5","v":"鶏肉"},{"$f":"一覧!Z5","v":"豚肉"},{"$f":"一覧!AA5","v":"牛肉"},{"$f":"一覧!AB5","v":"まつたけ"},{"$f":"一覧!AC5","v":"やまいも"},{"$f":"一覧!AD5","v":"ゼラチン"},{"$f":"一覧!AE5","v":"あわび"}]
[null,"食塩",null,null,null,null,null,null,null,null,{"$f":"IF(F6=\"\",0,LEN(F6)-LEN(SUBSTITUTE(F6, \"、\", \"\"))+1)","v":0},{"$f":"SUM(M6:AN6)","v":0},{"$f":"COUNTIF($F6,\"*\"&M$5&\"*\")","v":0},{"$f":"COUNTIF($F6,\"*\"&N$5&\"*\")","v":0},0,0,0,0,0,0,0,0,0,0,0,0,0,0,0,0,0,0,0,0,0,0,0,0,0,0]
[null,"脱脂加工大豆（遺伝子組み換えでない）",null,null,null,"大豆",null,null,null,null,{"$f":"IF(F7=\"\",0,LEN(F7)-LEN(SUBSTITUTE(F7, \"、\", \"\"))+1)","v":1},{"$f":"SUM(M7:AN7)","v":1},{"$f":"COUNTIF($F7,\"*\"&M$5&\"*\")","v":0},0,0,0,0,0,0,0,0,0,0,0,0,0,0,0,0,0,0,0,1,0,0,0,0,0,0,0]
[null,"小麦",null,null,null,"小麦",null,null,null,null,1,1,1,0,0,0,0,0,0,0,0,0,0,0,0,0,0,0,0,0,0,0,0,0,0,0,0,0,0,0]
[null,"ぶどう糖",null,null,null,null,null,null,null,null,0,0,0,0,0,0,0,0,0,0,0,0,0,0,0,0,0,0,0,0,0,0,0,0,0,0,0,0,0,0]
[null,"アルコール",null,null,null,null,null,null,null,null,0,0,0,0,0,0,0,0,0,0,0,0,0,0,0,0,0,0,0,0,0,0,0,0,0,0,0,0,0,0]
[null,"調味料（アミノ酸等）",null,null,null,null,null,null,null,null,0,0,0,0,0,0,0,0,0,0,0,0,0,0,0,0,0,0,0,0,0,0,0,0,0,0,0,0,0,0]
[null,"甘味料（甘草）",null,null,null,null,null,null,null,null,0,0,0,0,0,0,0,0,0,0,0,0,0,0,0,0,0,0,0,0,0,0,0,0,0,0,0,0,0,0]
[null,null,null,null,null,null,null,null,null,null,0,0,0,0,0,0,0,0,0,0,0,0,0,0,0,0,0,0,0,0,0,0,0,0,0,0,0,0,0,0]
[null,null,null,null,null,null,null,null,null,null,0,0,0,0,0,0,0,0,0,0,0,0,0,0,0,0,0,0,0,0,0,0,0,0,0,0,0,0,0,0]
[null,null,null,null,null,null,null,null,null,null,0,0,0,0,0,0,0,0,0,0,0,0,0,0,0,{"$f":"COUNTIF($F15,\"*\"&Z$5&\"*\")","v":0},0,0,0,0,0,0,0,0,0,0,0,0,0,0]
[null,null,null,null,null,null,null,null,null,null,0,0,0,0,0,0,0,0,0,0,0,0,0,0,0,0,0,0,0,0,0,0,0,0,0,0,0,0,0,0]
[null,null,null,null,null,null,null,null,null,null,0,0,0,0,0,0,0,0,0,0,0,0,0,0,0,0,0,0,0,0,0,0,0,0,0,0,0,0,0,0]
[null,null,null,null,null,null,null,null,null,null,0,0,0,0,0,0,0,0,0,0,0,0,0,0,0,0,0,0,0,0,0,0,0,0,0,0,0,0,0,0]
[null,null,null,null,null,null,null,null,null,null,0,0,0,0,0,0,0,0,0,0,0,0,0,0,0,0,0,0,0,0,0,0,0,0,0,0,0,0,0,0]
[null,null,null,null,null,null,null,null,null,null,0,0,0,0,0,0,0,0,0,0,0,0,0,0,0,0,0,0,0,0,0,0,0,0,0,0,0,0,0,0]
[null,null,null,null,null,null,null,null,null,null,0,0,0,0,0,0,0,0,0,0,0,0,0,0,0,0,0,0,0,0,0,0,0,0,0,0,0,0,0,0]
[null,null,null,null,null,null,null,null,null,null,0,0,0,0,0,0,0,0,0,0,0,0,0,0,0,0,0,0,0,0,0,0,0,0,0,0,0,0,0,0]
[null,null,null,null,null,null,null,null,null,null,0,0,0,0,0,0,0,0,0,0,0,0,0,0,0,0,0,0,0,0,0,0,0,0,0,0,0,0,0,0]
[null,null,null,null,null,null,null,null,null,null,0,0,0,0,0,0,0,0,0,0,0,0,0,0,0,0,0,0,0,0,0,0,0,0,0,0,0,0,0,0]
[null,null,null,null,null,null,null,null,null,null,0,0,0,0,0,0,0,0,0,0,0,0,0,0,0,0,0,0,0,0,0,0,0,0,0,0,0,0,0,0]
[null,null,null,null,null,null,null,null,null,null,0,0,0,0,0,0,0,0,0,0,0,0,0,0,0,0,0,0,0,0,0,0,0,0,0,0,0,0,0,0]
[null,null,null,null,null,null,null,null,null,null,0,0,0,0,0,0,0,0,0,0,0,0,0,0,0,0,0,0,0,0,0,0,0,0,0,0,0,0,0,0]
[null,null,null,null,null,null,null,null,null,null,0,0,0,0,0,0,0,0,0,0,0,0,0,0,0,0,0,0,0,0,0,0,0,0,0,0,0,0,0,0]
[null,null,null,null,null,null,null,null,null,null,0,0,0,0,0,0,0,0,0,0,0,0,0,0,0,0,0,0,0,0,0,0,0,0,0,0,0,0,0,0]
[null,null,null,null,null,null,null,null,null,null,0,0,0,0,0,0,0,0,0,0,{"$f":"COUNTIF($F30,\"*\"&U$5&\"*\")","v":0},0,0,0,0,0,0,0,0,0,0,0,0,0,0,0,0,0,0,0]
[null,null,null,null,null,null,null,null,null,null,0,0,{"$f":"COUNTIF($F31,\"*\"&M$5&\"*\")","v":0},0,0,0,0,0,0,0,0,0,0,0,0,0,0,0,0,{"$f":"COUNTIF($F31,\"*\"&AD$5&\"*\")","v":0},0,0,0,0,0,0,0,0,0,0]
[null,null,null,null,null,null,null,null,null,null,0,0,0,0,0,0,0,0,0,0,0,0,0,0,0,0,0,0,0,0,0,0,0,0,0,0,0,0,0,0]
[null,null,null,null,null,null,null,null,null,null,0,0,0,0,0,0,0,0,0,0,0,0,0,0,0,0,0,0,0,0,0,0,0,0,0,0,0,0,0,0]
[null,null,null,null,null,null,null,null,null,null,0,0,0,0,0,0,0,0,0,0,0,0,0,0,0,0,0,0,0,0,0,0,0,0,0,0,0,0,0,0]
[null,null,null,null,null,null,null,null,null,null,0,0,0,0,0,0,0,0,0,0,0,0,0,0,0,0,0,0,0,0,0,0,0,0,0,0,0,0,0,0]
[null,null,null,null,null,null,null,null,null,null,0,0,0,0,0,0,0,0,0,0,0,0,0,0,0,0,0,0,0,0,0,0,0,0,0,0,0,0,0,0]
[null,null,null,null,null,null,null,null,null,null,0,0,0,0,0,0,0,0,0,0,0,0,0,0,0,0,0,0,0,0,0,0,0,0,0,0,0,0,0,0]
[null,null,null,null,null,null,null,null,null,null,0,0,0,0,0,0,0,0,0,0,0,0,0,0,0,0,0,0,0,0,0,0,0,0,0,0,0,0,0,0]
[null,null,null,null,null,null,null,null,null,null,0,0,0,0,0,0,0,0,0,0,0,0,0,0,0,0,0,0,0,0,0,0,0,0,0,0,0,0,0,0]
[null,null,null,null,null,null,null,null,null,null,0,0,0,0,0,0,0,0,0,0,0,0,0,0,0,0,0,0,0,0,0,0,0,0,0,0,0,0,0,0]
[null,null,null,null,null,null,null,null,null,null,0,0,0,0,0,0,0,0,0,0,0,0,0,0,0,0,0,0,0,0,0,0,0,0,0,0,0,0,0,0]
[null,null,null,null,null,null,null,null,null,null,0,0,0,0,0,0,0,0,0,0,0,0,0,0,0,0,0,0,0,0,0,0,0,0,0,0,0,0,0,0]
["コンタミネーション","なし",null,null,null,null,null,null,null,null,{"$f":"IF(OR($B43=\"\",$B43=\"なし\"),0,LEN($B43)-LEN(SUBSTITUTE($B43, \"、\", \"\"))+1)","v":0},0,{"$f":"COUNTIF($B43,\"*\"&M$5&\"*\")","v":0},{"$f":"COUNTIF($B43,\"*\"&N$5&\"*\")","v":0},0,0,0,0,0,0,0,0,0,0,0,0,0,0,0,0,{"$f":"COUNTIF($B43,\"*\"&AE$5&\"*\")","v":0},0,0,0,0,0,0,0,0,0]
[null,null,null,null,null,null,null,null,null,null,0,0,{"$f":"COUNTIF($B44,\"*\"&M$5&\"*\")","v":0},0,0,0,0,0,0,0,0,0,0,0,0,0,0,0,0,0,0,0,0,0,0,0,0,0,0,0]
[null,null,null,null,null,null,null,null,null,null,0,0,0,0,0,0,0,0,0,0,0,0,0,0,0,0,0,0,0,0,0,0,0,0,0,0,0,0,0,0]
["特記事項"]
[]
[]
[null,"●　商品の終売・リニューアルの場合は成分等が変更になる場合があります。ご了承ください。"]
["製造元","ワダカン株式会社"]
[]
[{"$f":"一覧!$A$41","v":"オーエンス泉岳自然ふれあい館"}]

{"sheet":"食塩","index":16,"n_rows":52,"n_cols":40,"rows_kept":52,"cut":false,"hidden":false,"merged":[[1,1,1,8],[2,0,3,0],[2,1,3,7],[4,0,41,0],[4,1,4,4],[4,5,4,8],[5,1,5,4],[5,5,5,8],[6,1,6,4],[6,5,6,8],[7,1,7,4],[7,5,7,8],[8,1,8,4],[8,5,8,8],[9,1,9,4],[9,5,9,8],[10,1,10,4],[10,5,10,8],[11,1,11,4],[11,5,11,8],[12,1,12,4],[12,5,12,8],[13,1,13,4],[13,5,13,8],[14,1,14,4],[14,5,14,8],[15,1,15,4],[15,5,15,8],[16,1,16,4],[16,5,16,8],[17,1,17,4],[17,5,17,8],[18,1,18,4],[18,5,18,8],[19,1,19,4],[19,5,19,8],[20,1,20,4],[20,5,20,8],[21,1,21,4],[21,5,21,8],[22,1,22,4],[22,5,22,8],[23,1,23,4],[23,5,23,8],[24,1,24,4],[24,5,24,8],[25,1,25,4],[25,5,25,8],[26,1,26,4],[26,5,26,8],[27,1,27,4],[27,5,27,8],[28,1,28,4],[28,5,28,8],[29,1,29,4],[29,5,29,8],[30,1,30,4],[30,5,30,8],[31,1,31,4],[31,5,31,8],[32,1,32,4],[32,5,32,8],[33,1,33,4],[33,5,33,8],[34,1,34,4],[34,5,34,8],[35,1,35,4],[35,5,35,8],[36,1,36,4],[36,5,36,8],[37,1,37,4],[37,5,37,8],[38,1,38,4],[38,5,38,8],[39,1,39,4],[39,5,39,8],[40,1,40,4],[40,5,40,8],[41,1,41,4],[41,5,41,8],[42,0,44,0],[42,1,42,8],[43,1,43,8],[44,1,44,8],[51,0,51,8],[45,0,48,0],[45,1,45,8],[46,1,46,8],[47,1,47,8],[48,1,48,8],[49,0,50,0],[49,1,50,8]]}
["一覧へ"]
["シート名",{"$f":"RIGHT(CELL(\"filename\",A1),LEN(CELL(\"filename\",A1))-FIND(\"]\",CELL(\"filename\",A1)))","v":"食塩"}]
["商品名","ベストシェフ　特精塩",null,null,null,null,null,null,"作成日"]
[null,null,null,null,null,null,null,null,{"$f":"一覧!$D$1","v":"2023-03-01"}]
["原材料","原材料名",null,null,null,"28品目アレルゲン",null,null,null,null,"個数①","計","小麦","卵","乳","そば","落花生","えび","かに","ごま","くるみ","カシュ","アーモンド","キウイ","もも","リンゴ","バナナ","オレンジ","いか","いくら","さけ","さば","大豆","鶏肉","豚肉","牛肉","まつたけ","やまいも","ゼラチン","あわび"]
[null,"天日塩",null,null,null,null,null,null,null,null,{"$f":"IF(F6=\"\",0,LEN(F6)-LEN(SUBSTITUTE(F6, \"、\", \"\"))+1)","v":0},{"$f":"SUM(M6:AN6)","v":0},{"$f":"COUNTIF($F6,\"*\"&M$5&\"*\")","v":0},{"$f":"COUNTIF($F6,\"*\"&N$5&\"*\")","v":0},0,0,0,0,0,0,0,0,0,0,0,0,0,0,0,0,0,0,0,0,0,0,0,0,0,0]
[null,"リン酸カルシウム",null,null,null,null,null,null,null,null,{"$f":"IF(F7=\"\",0,LEN(F7)-LEN(SUBSTITUTE(F7, \"、\", \"\"))+1)","v":0},{"$f":"SUM(M7:AN7)","v":0},{"$f":"COUNTIF($F7,\"*\"&M$5&\"*\")","v":0},0,0,0,0,0,0,0,0,0,0,0,0,0,0,0,0,0,0,0,0,0,0,0,0,0,0,0]
[null,null,null,null,null,null,null,null,null,null,0,0,0,0,0,0,0,0,0,0,0,0,0,0,0,0,0,0,0,0,0,0,0,0,0,0,0,0,0,0]
[null,null,null,null,null,null,null,null,null,null,0,0,0,0,0,0,0,0,0,0,0,0,0,0,0,0,0,0,0,0,0,0,0,0,0,0,0,0,0,0]
[null,null,null,null,null,null,null,null,null,null,0,0,0,0,0,0,0,0,0,0,0,0,0,0,0,0,0,0,0,0,0,0,0,0,0,0,0,0,0,0]
[null,null,null,null,null,null,null,null,null,null,0,0,0,0,0,0,0,0,0,0,0,0,0,0,0,0,0,0,0,0,0,0,0,0,0,0,0,0,0,0]
[null,null,null,null,null,null,null,null,null,null,0,0,0,0,0,0,0,0,0,0,0,0,0,0,0,0,0,0,0,0,0,0,0,0,0,0,0,0,0,0]
[null,null,null,null,null,null,null,null,null,null,0,0,0,0,0,0,0,0,0,0,0,0,0,0,0,0,0,0,0,0,0,0,0,0,0,0,0,0,0,0]
[null,null,null,null,null,null,null,null,null,null,0,0,0,0,0,0,0,0,0,0,0,0,0,0,0,0,0,0,0,0,0,0,0,0,0,0,0,0,0,0]
[null,null,null,null,null,null,null,null,null,null,0,0,0,0,0,0,0,0,0,0,0,0,0,0,0,{"$f":"COUNTIF($F15,\"*\"&Z$5&\"*\")","v":0},0,0,0,0,0,0,0,0,0,0,0,0,0,0]
[null,null,null,null,null,null,null,null,null,null,0,0,0,0,0,0,0,0,0,0,0,0,0,0,0,0,0,0,0,0,0,0,0,0,0,0,0,0,0,0]
[null,null,null,null,null,null,null,null,null,null,0,0,0,0,0,0,0,0,0,0,0,0,0,0,0,0,0,0,0,0,0,0,0,0,0,0,0,0,0,0]
[null,null,null,null,null,null,null,null,null,null,0,0,0,0,0,0,0,0,0,0,0,0,0,0,0,0,0,0,0,0,0,0,0,0,0,0,0,0,0,0]
[null,null,null,null,null,null,null,null,null,null,0,0,0,0,0,0,0,0,0,0,0,0,0,0,0,0,0,0,0,0,0,0,0,0,0,0,0,0,0,0]
[null,null,null,null,null,null,null,null,null,null,0,0,0,0,0,0,0,0,0,0,0,0,0,0,0,0,0,0,0,0,0,0,0,0,0,0,0,0,0,0]
[null,null,null,null,null,null,null,null,null,null,0,0,0,0,0,0,0,0,0,0,0,0,0,0,0,0,0,0,0,0,0,0,0,0,0,0,0,0,0,0]
[null,null,null,null,null,null,null,null,null,null,0,0,0,0,0,0,0,0,0,0,0,0,0,0,0,0,0,0,0,0,0,0,0,0,0,0,0,0,0,0]
[null,null,null,null,null,null,null,null,null,null,0,0,0,0,0,0,0,0,0,0,0,0,0,0,0,0,0,0,0,0,0,0,0,0,0,0,0,0,0,0]
[null,null,null,null,null,null,null,null,null,null,0,0,0,0,0,0,0,0,0,0,0,0,0,0,0,0,0,0,0,0,0,0,0,0,0,0,0,0,0,0]
[null,null,null,null,null,null,null,null,null,null,0,0,0,0,0,0,0,0,0,0,0,0,0,0,0,0,0,0,0,0,0,0,0,0,0,0,0,0,0,0]
[null,null,null,null,null,null,null,null,null,null,0,0,0,0,0,0,0,0,0,0,0,0,0,0,0,0,0,0,0,0,0,0,0,0,0,0,0,0,0,0]
[null,null,null,null,null,null,null,null,null,null,0,0,0,0,0,0,0,0,0,0,0,0,0,0,0,0,0,0,0,0,0,0,0,0,0,0,0,0,0,0]
[null,null,null,null,null,null,null,null,null,null,0,0,0,0,0,0,0,0,0,0,0,0,0,0,0,0,0,0,0,0,0,0,0,0,0,0,0,0,0,0]
[null,null,null,null,null,null,null,null,null,null,0,0,0,0,0,0,0,0,0,0,0,0,0,0,0,0,0,0,0,0,0,0,0,0,0,0,0,0,0,0]
[null,null,null,null,null,null,null,null,null,null,0,0,0,0,0,0,0,0,0,0,{"$f":"COUNTIF($F30,\"*\"&U$5&\"*\")","v":0},0,0,0,0,0,0,0,0,0,0,0,0,0,0,0,0,0,0,0]
[null,null,null,null,null,null,null,null,null,null,0,0,{"$f":"COUNTIF($F31,\"*\"&M$5&\"*\")","v":0},0,0,0,0,0,0,0,0,0,0,0,0,0,0,0,0,{"$f":"COUNTIF($F31,\"*\"&AD$5&\"*\")","v":0},0,0,0,0,0,0,0,0,0,0]
[null,null,null,null,null,null,null,null,null,null,0,0,0,0,0,0,0,0,0,0,0,0,0,0,0,0,0,0,0,0,0,0,0,0,0,0,0,0,0,0]
[null,null,null,null,null,null,null,null,null,null,0,0,0,0,0,0,0,0,0,0,0,0,0,0,0,0,0,0,0,0,0,0,0,0,0,0,0,0,0,0]
[null,null,null,null,null,null,null,null,null,null,0,0,0,0,0,0,0,0,0,0,0,0,0,0,0,0,0,0,0,0,0,0,0,0,0,0,0,0,0,0]
[null,null,null,null,null,null,null,null,null,null,0,0,0,0,0,0,0,0,0,0,0,0,0,0,0,0,0,0,0,0,0,0,0,0,0,0,0,0,0,0]
[null,null,null,null,null,null,null,null,null,null,0,0,0,0,0,0,0,0,0,0,0,0,0,0,0,0,0,0,0,0,0,0,0,0,0,0,0,0,0,0]
[null,null,null,null,null,null,null,null,null,null,0,0,0,0,0,0,0,0,0,0,0,0,0,0,0,0,0,0,0,0,0,0,0,0,0,0,0,0,0,0]
[null,null,null,null,null,null,null,null,null,null,0,0,0,0,0,0,0,0,0,0,0,0,0,0,0,0,0,0,0,0,0,0,0,0,0,0,0,0,0,0]
[null,null,null,null,null,null,null,null,null,null,0,0,0,0,0,0,0,0,0,0,0,0,0,0,0,0,0,0,0,0,0,0,0,0,0,0,0,0,0,0]
[null,null,null,null,null,null,null,null,null,null,0,0,0,0,0,0,0,0,0,0,0,0,0,0,0,0,0,0,0,0,0,0,0,0,0,0,0,0,0,0]
[null,null,null,null,null,null,null,null,null,null,0,0,0,0,0,0,0,0,0,0,0,0,0,0,0,0,0,0,0,0,0,0,0,0,0,0,0,0,0,0]
[null,null,null,null,null,null,null,null,null,null,0,0,0,0,0,0,0,0,0,0,0,0,0,0,0,0,0,0,0,0,0,0,0,0,0,0,0,0,0,0]
["コンタミネーション","なし",null,null,null,null,null,null,null,null,{"$f":"IF(OR($B43=\"\",$B43=\"なし\"),0,LEN($B43)-LEN(SUBSTITUTE($B43, \"、\", \"\"))+1)","v":0},0,{"$f":"COUNTIF($B43,\"*\"&M$5&\"*\")","v":0},{"$f":"COUNTIF($B43,\"*\"&N$5&\"*\")","v":0},0,0,0,0,0,0,0,0,0,0,0,0,0,0,0,0,{"$f":"COUNTIF($B43,\"*\"&AE$5&\"*\")","v":0},0,0,0,0,0,0,0,0,0]
[null,null,null,null,null,null,null,null,null,null,{"$f":"IF(OR($B44=\"\",$B44=\"なし\"),0,LEN($B44)-LEN(SUBSTITUTE($B44, \"、\", \"\"))+1)","v":0},0,{"$f":"COUNTIF($B44,\"*\"&M$5&\"*\")","v":0},0,0,0,0,0,0,0,0,0,0,0,0,0,0,0,0,0,0,0,0,0,0,0,0,0,0,0]
[null,null,null,null,null,null,null,null,null,null,0,0,0,0,0,0,0,0,0,0,0,0,0,0,0,0,0,0,0,0,0,0,0,0,0,0,0,0,0,0]
["特記事項"]
[]
[]
[null,"●　商品の終売・リニューアルの場合は成分等が変更になる場合があります。ご了承ください。"]
["製造元","髙瀬物産株式会社"]
[]
[{"$f":"一覧!$A$41","v":"オーエンス泉岳自然ふれあい館"}]

{"sheet":"顆粒だし","index":17,"n_rows":52,"n_cols":40,"rows_kept":52,"cut":false,"hidden":false,"merged":[[2,0,3,0],[2,1,3,7],[1,1,1,8],[4,0,41,0],[4,1,4,4],[4,5,4,8],[5,1,5,4],[5,5,5,8],[6,1,6,4],[6,5,6,8],[7,1,7,4],[7,5,7,8],[8,1,8,4],[8,5,8,8],[9,1,9,4],[9,5,9,8],[10,1,10,4],[10,5,10,8],[11,1,11,4],[11,5,11,8],[12,1,12,4],[12,5,12,8],[13,1,13,4],[13,5,13,8],[14,1,14,4],[14,5,14,8],[15,1,15,4],[15,5,15,8],[16,1,16,4],[16,5,16,8],[17,1,17,4],[17,5,17,8],[18,1,18,4],[18,5,18,8],[19,1,19,4],[19,5,19,8],[20,1,20,4],[20,5,20,8],[21,1,21,4],[21,5,21,8],[22,1,22,4],[22,5,22,8],[23,1,23,4],[23,5,23,8],[24,1,24,4],[24,5,24,8],[25,1,25,4],[25,5,25,8],[26,1,26,4],[26,5,26,8],[27,1,27,4],[27,5,27,8],[28,1,28,4],[28,5,28,8],[29,1,29,4],[29,5,29,8],[30,1,30,4],[30,5,30,8],[31,1,31,4],[31,5,31,8],[32,1,32,4],[32,5,32,8],[33,1,33,4],[33,5,33,8],[34,1,34,4],[34,5,34,8],[35,1,35,4],[35,5,35,8],[36,1,36,4],[36,5,36,8],[37,1,37,4],[37,5,37,8],[38,1,38,4],[38,5,38,8],[39,1,39,4],[39,5,39,8],[40,1,40,4],[40,5,40,8],[41,1,41,4],[41,5,41,8],[42,0,44,0],[42,1,42,8],[43,1,43,8],[44,1,44,8],[51,0,51,8],[45,0,48,0],[45,1,45,8],[46,1,46,8],[47,1,47,8],[48,1,48,8],[49,0,50,0],[49,1,50,8]]}
["一覧へ"]
["シート名",{"$f":"RIGHT(CELL(\"filename\",A1),LEN(CELL(\"filename\",A1))-FIND(\"]\",CELL(\"filename\",A1)))","v":"顆粒だし"}]
["商品名","和風だし",null,null,null,null,null,null,"作成日"]
[null,null,null,null,null,null,null,null,{"$f":"一覧!$D$1","v":"2023-03-01"}]
["原材料","原材料名",null,null,null,"28品目アレルゲン",null,null,null,null,"個数①","計",{"$f":"一覧!D5","v":"小麦"},{"$f":"一覧!E5","v":"卵"},{"$f":"一覧!F5","v":"乳"},{"$f":"一覧!G5","v":"そば"},{"$f":"一覧!H5","v":"落花生"},{"$f":"一覧!I5","v":"えび"},{"$f":"一覧!J5","v":"かに"},{"$f":"一覧!K5","v":"ごま"},{"$f":"一覧!L5","v":"くるみ"},{"$f":"一覧!M5","v":"カシュ"},{"$f":"一覧!N5","v":"アーモンド"},{"$f":"一覧!O5","v":"キウイ"},{"$f":"一覧!P5","v":"もも"},{"$f":"一覧!Q5","v":"リンゴ"},{"$f":"一覧!R5","v":"バナナ"},{"$f":"一覧!S5","v":"オレンジ"},{"$f":"一覧!T5","v":"いか"},{"$f":"一覧!U5","v":"いくら"},{"$f":"一覧!V5","v":"さけ"},{"$f":"一覧!W5","v":"さば"},{"$f":"一覧!X5","v":"大豆"},{"$f":"一覧!Y5","v":"鶏肉"},{"$f":"一覧!Z5","v":"豚肉"},{"$f":"一覧!AA5","v":"牛肉"},{"$f":"一覧!AB5","v":"まつたけ"},{"$f":"一覧!AC5","v":"やまいも"},{"$f":"一覧!AD5","v":"ゼラチン"},{"$f":"一覧!AE5","v":"あわび"}]
[null,"食塩",null,null,null,null,null,null,null,null,{"$f":"IF(F6=\"\",0,LEN(F6)-LEN(SUBSTITUTE(F6, \"、\", \"\"))+1)","v":0},{"$f":"SUM(M6:AN6)","v":0},{"$f":"COUNTIF($F6,\"*\"&M$5&\"*\")","v":0},{"$f":"COUNTIF($F6,\"*\"&N$5&\"*\")","v":0},0,0,0,0,0,0,0,0,0,0,0,0,0,0,0,0,0,0,0,0,0,0,0,0,0,0]
[null,"砂糖",null,null,null,null,null,null,null,null,{"$f":"IF(F7=\"\",0,LEN(F7)-LEN(SUBSTITUTE(F7, \"、\", \"\"))+1)","v":0},{"$f":"SUM(M7:AN7)","v":0},{"$f":"COUNTIF($F7,\"*\"&M$5&\"*\")","v":0},0,0,0,0,0,0,0,0,0,0,0,0,0,0,0,0,0,0,0,0,0,0,0,0,0,0,0]
[null,"風味原料（かつお節粉末、かつおエキス）",null,null,null,null,null,null,null,null,0,0,0,0,0,0,0,0,0,0,0,0,0,0,0,0,0,0,0,0,0,0,0,0,0,0,0,0,0,0]
[null,"調味料（アミノ酸等）",null,null,null,null,null,null,null,null,0,0,0,0,0,0,0,0,0,0,0,0,0,0,0,0,0,0,0,0,0,0,0,0,0,0,0,0,0,0]
[null,null,null,null,null,null,null,null,null,null,0,0,0,0,0,0,0,0,0,0,0,0,0,0,0,0,0,0,0,0,0,0,0,0,0,0,0,0,0,0]
[null,null,null,null,null,null,null,null,null,null,0,0,0,0,0,0,0,0,0,0,0,0,0,0,0,0,0,0,0,0,0,0,0,0,0,0,0,0,0,0]
[null,null,null,null,null,null,null,null,null,null,0,0,0,0,0,0,0,0,0,0,0,0,0,0,0,0,0,0,0,0,0,0,0,0,0,0,0,0,0,0]
[null,null,null,null,null,null,null,null,null,null,0,0,0,0,0,0,0,0,0,0,0,0,0,0,0,0,0,0,0,0,0,0,0,0,0,0,0,0,0,0]
[null,null,null,null,null,null,null,null,null,null,0,0,0,0,0,0,0,0,0,0,0,0,0,0,0,0,0,0,0,0,0,0,0,0,0,0,0,0,0,0]
[null,null,null,null,null,null,null,null,null,null,0,0,0,0,0,0,0,0,0,0,0,0,0,0,0,{"$f":"COUNTIF($F15,\"*\"&Z$5&\"*\")","v":0},0,0,0,0,0,0,0,0,0,0,0,0,0,0]
[null,null,null,null,null,null,null,null,null,null,0,0,0,0,0,0,0,0,0,0,0,0,0,0,0,0,0,0,0,0,0,0,0,0,0,0,0,0,0,0]
[null,null,null,null,null,null,null,null,null,null,0,0,0,0,0,0,0,0,0,0,0,0,0,0,0,0,0,0,0,0,0,0,0,0,0,0,0,0,0,0]
[null,null,null,null,null,null,null,null,null,null,0,0,0,0,0,0,0,0,0,0,0,0,0,0,0,0,0,0,0,0,0,0,0,0,0,0,0,0,0,0]
[null,null,null,null,null,null,null,null,null,null,0,0,0,0,0,0,0,0,0,0,0,0,0,0,0,0,0,0,0,0,0,0,0,0,0,0,0,0,0,0]
[null,null,null,null,null,null,null,null,null,null,0,0,0,0,0,0,0,0,0,0,0,0,0,0,0,0,0,0,0,0,0,0,0,0,0,0,0,0,0,0]
[null,null,null,null,null,null,null,null,null,null,0,0,0,0,0,0,0,0,0,0,0,0,0,0,0,0,0,0,0,0,0,0,0,0,0,0,0,0,0,0]
[null,null,null,null,null,null,null,null,null,null,0,0,0,0,0,0,0,0,0,0,0,0,0,0,0,0,0,0,0,0,0,0,0,0,0,0,0,0,0,0]
[null,null,null,null,null,null,null,null,null,null,0,0,0,0,0,0,0,0,0,0,0,0,0,0,0,0,0,0,0,0,0,0,0,0,0,0,0,0,0,0]
[null,null,null,null,null,null,null,null,null,null,0,0,0,0,0,0,0,0,0,0,0,0,0,0,0,0,0,0,0,0,0,0,0,0,0,0,0,0,0,0]
[null,null,null,null,null,null,null,null,null,null,0,0,0,0,0,0,0,0,0,0,0,0,0,0,0,0,0,0,0,0,0,0,0,0,0,0,0,0,0,0]
[null,null,null,null,null,null,null,null,null,null,0,0,0,0,0,0,0,0,0,0,0,0,0,0,0,0,0,0,0,0,0,0,0,0,0,0,0,0,0,0]
[null,null,null,null,null,null,null,null,null,null,0,0,0,0,0,0,0,0,0,0,0,0,0,0,0,0,0,0,0,0,0,0,0,0,0,0,0,0,0,0]
[null,null,null,null,null,null,null,null,null,null,0,0,0,0,0,0,0,0,0,0,0,0,0,0,0,0,0,0,0,0,0,0,0,0,0,0,0,0,0,0]
[null,null,null,null,null,null,null,null,null,null,0,0,0,0,0,0,0,0,0,0,0,0,0,0,0,0,0,0,0,0,0,0,0,0,0,0,0,0,0,0]
[null,null,null,null,null,null,null,null,null,null,0,0,0,0,0,0,0,0,0,0,{"$f":"COUNTIF($F30,\"*\"&U$5&\"*\")","v":0},0,0,0,0,0,0,0,0,0,0,0,0,0,0,0,0,0,0,0]
[null,null,null,null,null,null,null,null,null,null,0,0,{"$f":"COUNTIF($F31,\"*\"&M$5&\"*\")","v":0},0,0,0,0,0,0,0,0,0,0,0,0,0,0,0,0,{"$f":"COUNTIF($F31,\"*\"&AD$5&\"*\")","v":0},0,0,0,0,0,0,0,0,0,0]
[null,null,null,null,null,null,null,null,null,null,0,0,0,0,0,0,0,0,0,0,0,0,0,0,0,0,0,0,0,0,0,0,0,0,0,0,0,0,0,0]
[null,null,null,null,null,null,null,null,null,null,0,0,0,0,0,0,0,0,0,0,0,0,0,0,0,0,0,0,0,0,0,0,0,0,0,0,0,0,0,0]
[null,null,null,null,null,null,null,null,null,null,0,0,0,0,0,0,0,0,0,0,0,0,0,0,0,0,0,0,0,0,0,0,0,0,0,0,0,0,0,0]
[null,null,null,null,null,null,null,null,null,null,0,0,0,0,0,0,0,0,0,0,0,0,0,0,0,0,0,0,0,0,0,0,0,0,0,0,0,0,0,0]
[null,null,null,null,null,null,null,null,null,null,0,0,0,0,0,0,0,0,0,0,0,0,0,0,0,0,0,0,0,0,0,0,0,0,0,0,0,0,0,0]
[null,null,null,null,null,null,null,null,null,null,0,0,0,0,0,0,0,0,0,0,0,0,0,0,0,0,0,0,0,0,0,0,0,0,0,0,0,0,0,0]
[null,null,null,null,null,null,null,null,null,null,0,0,0,0,0,0,0,0,0,0,0,0,0,0,0,0,0,0,0,0,0,0,0,0,0,0,0,0,0,0]
[null,null,null,null,null,null,null,null,null,null,0,0,0,0,0,0,0,0,0,0,0,0,0,0,0,0,0,0,0,0,0,0,0,0,0,0,0,0,0,0]
[null,null,null,null,null,null,null,null,null,null,0,0,0,0,0,0,0,0,0,0,0,0,0,0,0,0,0,0,0,0,0,0,0,0,0,0,0,0,0,0]
[null,null,null,null,null,null,null,null,null,null,0,0,0,0,0,0,0,0,0,0,0,0,0,0,0,0,0,0,0,0,0,0,0,0,0,0,0,0,0,0]
[null,null,null,null,null,null,null,null,null,null,0,0,0,0,0,0,0,0,0,0,0,0,0,0,0,0,0,0,0,0,0,0,0,0,0,0,0,0,0,0]
["コンタミネーション","なし",null,null,null,null,null,null,null,null,{"$f":"IF(OR($B43=\"\",$B43=\"なし\"),0,LEN($B43)-LEN(SUBSTITUTE($B43, \"、\", \"\"))+1)","v":0},0,{"$f":"COUNTIF($B43,\"*\"&M$5&\"*\")","v":0},{"$f":"COUNTIF($B43,\"*\"&N$5&\"*\")","v":0},0,0,0,0,0,0,0,0,0,0,0,0,0,0,0,0,{"$f":"COUNTIF($B43,\"*\"&AE$5&\"*\")","v":0},0,0,0,0,0,0,0,0,0]
[null,null,null,null,null,null,null,null,null,null,0,0,{"$f":"COUNTIF($B44,\"*\"&M$5&\"*\")","v":0},0,0,0,0,0,0,0,0,0,0,0,0,0,0,0,0,0,0,0,0,0,0,0,0,0,0,0]
[null,null,null,null,null,null,null,null,null,null,0,0,0,0,0,0,0,0,0,0,0,0,0,0,0,0,0,0,0,0,0,0,0,0,0,0,0,0,0,0]
["特記事項"]
[]
[]
[null,"●　商品の終売・リニューアルの場合は成分等が変更になる場合があります。ご了承ください。"]
["製造元","理研ビタミン株式会社"]
[]
[{"$f":"一覧!$A$41","v":"オーエンス泉岳自然ふれあい館"}]

{"sheet":"片栗粉","index":18,"n_rows":52,"n_cols":40,"rows_kept":52,"cut":false,"hidden":false,"merged":[[1,1,1,8],[2,0,3,0],[2,1,3,7],[4,0,41,0],[4,1,4,4],[4,5,4,8],[5,1,5,4],[5,5,5,8],[6,1,6,4],[6,5,6,8],[7,1,7,4],[7,5,7,8],[8,1,8,4],[8,5,8,8],[9,1,9,4],[9,5,9,8],[10,1,10,4],[10,5,10,8],[11,1,11,4],[11,5,11,8],[12,1,12,4],[12,5,12,8],[13,1,13,4],[13,5,13,8],[14,1,14,4],[14,5,14,8],[15,1,15,4],[15,5,15,8],[16,1,16,4],[16,5,16,8],[17,1,17,4],[17,5,17,8],[18,1,18,4],[18,5,18,8],[19,1,19,4],[19,5,19,8],[20,1,20,4],[20,5,20,8],[21,1,21,4],[21,5,21,8],[22,1,22,4],[22,5,22,8],[23,1,23,4],[23,5,23,8],[24,1,24,4],[24,5,24,8],[25,1,25,4],[25,5,25,8],[26,1,26,4],[26,5,26,8],[27,1,27,4],[27,5,27,8],[28,1,28,4],[28,5,28,8],[29,1,29,4],[29,5,29,8],[30,1,30,4],[30,5,30,8],[31,1,31,4],[31,5,31,8],[32,1,32,4],[32,5,32,8],[33,1,33,4],[33,5,33,8],[34,1,34,4],[34,5,34,8],[35,1,35,4],[35,5,35,8],[36,1,36,4],[36,5,36,8],[37,1,37,4],[37,5,37,8],[38,1,38,4],[38,5,38,8],[39,1,39,4],[39,5,39,8],[40,1,40,4],[40,5,40,8],[41,1,41,4],[41,5,41,8],[42,0,44,0],[42,1,42,8],[43,1,43,8],[44,1,44,8],[51,0,51,8],[45,0,48,0],[45,1,45,8],[46,1,46,8],[47,1,47,8],[48,1,48,8],[49,0,50,0],[49,1,50,8]]}
["一覧へ","　"]
["シート名",{"$f":"RIGHT(CELL(\"filename\",A1),LEN(CELL(\"filename\",A1))-FIND(\"]\",CELL(\"filename\",A1)))","v":"片栗粉"}]
["商品名","ベストシェフ　片栗粉(北海道産)",null,null,null,null,null,null,"作成日"]
[null,null,null,null,null,null,null,null,{"$f":"一覧!$D$1","v":"2023-03-01"}]
["原材料","原材料名",null,null,null,"28品目アレルゲン",null,null,null,null,"個数①","計",{"$f":"一覧!D5","v":"小麦"},{"$f":"一覧!E5","v":"卵"},{"$f":"一覧!F5","v":"乳"},{"$f":"一覧!G5","v":"そば"},{"$f":"一覧!H5","v":"落花生"},{"$f":"一覧!I5","v":"えび"},{"$f":"一覧!J5","v":"かに"},{"$f":"一覧!K5","v":"ごま"},{"$f":"一覧!L5","v":"くるみ"},{"$f":"一覧!M5","v":"カシュ"},{"$f":"一覧!N5","v":"アーモンド"},{"$f":"一覧!O5","v":"キウイ"},{"$f":"一覧!P5","v":"もも"},{"$f":"一覧!Q5","v":"リンゴ"},{"$f":"一覧!R5","v":"バナナ"},{"$f":"一覧!S5","v":"オレンジ"},{"$f":"一覧!T5","v":"いか"},{"$f":"一覧!U5","v":"いくら"},{"$f":"一覧!V5","v":"さけ"},{"$f":"一覧!W5","v":"さば"},{"$f":"一覧!X5","v":"大豆"},{"$f":"一覧!Y5","v":"鶏肉"},{"$f":"一覧!Z5","v":"豚肉"},{"$f":"一覧!AA5","v":"牛肉"},{"$f":"一覧!AB5","v":"まつたけ"},{"$f":"一覧!AC5","v":"やまいも"},{"$f":"一覧!AD5","v":"ゼラチン"},{"$f":"一覧!AE5","v":"あわび"}]
[null,"馬鈴しょでん粉",null,null,null,null,null,null,null,null,{"$f":"IF(F6=\"\",0,LEN(F6)-LEN(SUBSTITUTE(F6, \"、\", \"\"))+1)","v":0},{"$f":"SUM(M6:AN6)","v":0},{"$f":"COUNTIF($F6,\"*\"&M$5&\"*\")","v":0},{"$f":"COUNTIF($F6,\"*\"&N$5&\"*\")","v":0},0,0,0,0,0,0,0,0,0,0,0,0,0,0,0,0,0,0,0,0,0,0,0,0,0,0]
[null,null,null,null,null,null,null,null,null,null,{"$f":"IF(F7=\"\",0,LEN(F7)-LEN(SUBSTITUTE(F7, \"、\", \"\"))+1)","v":0},{"$f":"SUM(M7:AN7)","v":0},{"$f":"COUNTIF($F7,\"*\"&M$5&\"*\")","v":0},0,0,0,0,0,0,0,0,0,0,0,0,0,0,0,0,0,0,0,0,0,0,0,0,0,0,0]
[null,null,null,null,null,null,null,null,null,null,0,0,0,0,0,0,0,0,0,0,0,0,0,0,0,0,0,0,0,0,0,0,0,0,0,0,0,0,0,0]
[null,null,null,null,null,null,null,null,null,null,0,0,0,0,0,0,0,0,0,0,0,0,0,0,0,0,0,0,0,0,0,0,0,0,0,0,0,0,0,0]
[null,null,null,null,null,null,null,null,null,null,0,0,0,0,0,0,0,0,0,0,0,0,0,0,0,0,0,0,0,0,0,0,0,0,0,0,0,0,0,0]
[null,null,null,null,null,null,null,null,null,null,0,0,0,0,0,0,0,0,0,0,0,0,0,0,0,0,0,0,0,0,0,0,0,0,0,0,0,0,0,0]
[null,null,null,null,null,null,null,null,null,null,0,0,0,0,0,0,0,0,0,0,0,0,0,0,0,0,0,0,0,0,0,0,0,0,0,0,0,0,0,0]
[null,null,null,null,null,null,null,null,null,null,0,0,0,0,0,0,0,0,0,0,0,0,0,0,0,0,0,0,0,0,0,0,0,0,0,0,0,0,0,0]
[null,null,null,null,null,null,null,null,null,null,0,0,0,0,0,0,0,0,0,0,0,0,0,0,0,0,0,0,0,0,0,0,0,0,0,0,0,0,0,0]
[null,null,null,null,null,null,null,null,null,null,0,0,0,0,0,0,0,0,0,0,0,0,0,0,0,{"$f":"COUNTIF($F15,\"*\"&Z$5&\"*\")","v":0},0,0,0,0,0,0,0,0,0,0,0,0,0,0]
[null,null,null,null,null,null,null,null,null,null,0,0,0,0,0,0,0,0,0,0,0,0,0,0,0,0,0,0,0,0,0,0,0,0,0,0,0,0,0,0]
[null,null,null,null,null,null,null,null,null,null,0,0,0,0,0,0,0,0,0,0,0,0,0,0,0,0,0,0,0,0,0,0,0,0,0,0,0,0,0,0]
[null,null,null,null,null,null,null,null,null,null,0,0,0,0,0,0,0,0,0,0,0,0,0,0,0,0,0,0,0,0,0,0,0,0,0,0,0,0,0,0]
[null,null,null,null,null,null,null,null,null,null,0,0,0,0,0,0,0,0,0,0,0,0,0,0,0,0,0,0,0,0,0,0,0,0,0,0,0,0,0,0]
[null,null,null,null,null,null,null,null,null,null,0,0,0,0,0,0,0,0,0,0,0,0,0,0,0,0,0,0,0,0,0,0,0,0,0,0,0,0,0,0]
[null,null,null,null,null,null,null,null,null,null,0,0,0,0,0,0,0,0,0,0,0,0,0,0,0,0,0,0,0,0,0,0,0,0,0,0,0,0,0,0]
[null,null,null,null,null,null,null,null,null,null,0,0,0,0,0,0,0,0,0,0,0,0,0,0,0,0,0,0,0,0,0,0,0,0,0,0,0,0,0,0]
[null,null,null,null,null,null,null,null,null,null,0,0,0,0,0,0,0,0,0,0,0,0,0,0,0,0,0,0,0,0,0,0,0,0,0,0,0,0,0,0]
[null,null,null,null,null,null,null,null,null,null,0,0,0,0,0,0,0,0,0,0,0,0,0,0,0,0,0,0,0,0,0,0,0,0,0,0,0,0,0,0]
[null,null,null,null,null,null,null,null,null,null,0,0,0,0,0,0,0,0,0,0,0,0,0,0,0,0,0,0,0,0,0,0,0,0,0,0,0,0,0,0]
[null,null,null,null,null,null,null,null,null,null,0,0,0,0,0,0,0,0,0,0,0,0,0,0,0,0,0,0,0,0,0,0,0,0,0,0,0,0,0,0]
[null,null,null,null,null,null,null,null,null,null,0,0,0,0,0,0,0,0,0,0,0,0,0,0,0,0,0,0,0,0,0,0,0,0,0,0,0,0,0,0]
[null,null,null,null,null,null,null,null,null,null,0,0,0,0,0,0,0,0,0,0,0,0,0,0,0,0,0,0,0,0,0,0,0,0,0,0,0,0,0,0]
[null,null,null,null,null,null,null,null,null,null,0,0,0,0,0,0,0,0,0,0,0,0,0,0,0,0,0,0,0,0,0,0,0,0,0,0,0,0,0,0]
[null,null,null,null,null,null,null,null,null,null,0,0,0,0,0,0,0,0,0,0,{"$f":"COUNTIF($F30,\"*\"&U$5&\"*\")","v":0},0,0,0,0,0,0,0,0,0,0,0,0,0,0,0,0,0,0,0]
[null,null,null,null,null,null,null,null,null,null,0,0,{"$f":"COUNTIF($F31,\"*\"&M$5&\"*\")","v":0},0,0,0,0,0,0,0,0,0,0,0,0,0,0,0,0,{"$f":"COUNTIF($F31,\"*\"&AD$5&\"*\")","v":0},0,0,0,0,0,0,0,0,0,0]
[null,null,null,null,null,null,null,null,null,null,0,0,0,0,0,0,0,0,0,0,0,0,0,0,0,0,0,0,0,0,0,0,0,0,0,0,0,0,0,0]
[null,null,null,null,null,null,null,null,null,null,0,0,0,0,0,0,0,0,0,0,0,0,0,0,0,0,0,0,0,0,0,0,0,0,0,0,0,0,0,0]
[null,null,null,null,null,null,null,null,null,null,0,0,0,0,0,0,0,0,0,0,0,0,0,0,0,0,0,0,0,0,0,0,0,0,0,0,0,0,0,0]
[null,null,null,null,null,null,null,null,null,null,0,0,0,0,0,0,0,0,0,0,0,0,0,0,0,0,0,0,0,0,0,0,0,0,0,0,0,0,0,0]
[null,null,null,null,null,null,null,null,null,null,0,0,0,0,0,0,0,0,0,0,0,0,0,0,0,0,0,0,0,0,0,0,0,0,0,0,0,0,0,0]
[null,null,null,null,null,null,null,null,null,null,0,0,0,0,0,0,0,0,0,0,0,0,0,0,0,0,0,0,0,0,0,0,0,0,0,0,0,0,0,0]
[null,null,null,null,null,null,null,null,null,null,0,0,0,0,0,0,0,0,0,0,0,0,0,0,0,0,0,0,0,0,0,0,0,0,0,0,0,0,0,0]
[null,null,null,null,null,null,null,null,null,null,0,0,0,0,0,0,0,0,0,0,0,0,0,0,0,0,0,0,0,0,0,0,0,0,0,0,0,0,0,0]
[null,null,null,null,null,null,null,null,null,null,0,0,0,0,0,0,0,0,0,0,0,0,0,0,0,0,0,0,0,0,0,0,0,0,0,0,0,0,0,0]
[null,null,null,null,null,null,null,null,null,null,0,0,0,0,0,0,0,0,0,0,0,0,0,0,0,0,0,0,0,0,0,0,0,0,0,0,0,0,0,0]
[null,null,null,null,null,null,null,null,null,null,0,0,0,0,0,0,0,0,0,0,0,0,0,0,0,0,0,0,0,0,0,0,0,0,0,0,0,0,0,0]
["コンタミネーション","なし",null,null,null,null,null,null,null,null,{"$f":"IF(OR($B43=\"\",$B43=\"なし\"),0,LEN($B43)-LEN(SUBSTITUTE($B43, \"、\", \"\"))+1)","v":0},0,{"$f":"COUNTIF($B43,\"*\"&M$5&\"*\")","v":0},{"$f":"COUNTIF($B43,\"*\"&N$5&\"*\")","v":0},0,0,0,0,0,0,0,0,0,0,0,0,0,0,0,0,{"$f":"COUNTIF($B43,\"*\"&AE$5&\"*\")","v":0},0,0,0,0,0,0,0,0,0]
[null,null,null,null,null,null,null,null,null,null,0,0,{"$f":"COUNTIF($B44,\"*\"&M$5&\"*\")","v":0},0,0,0,0,0,0,0,0,0,0,0,0,0,0,0,0,0,0,0,0,0,0,0,0,0,0,0]
[null,null,null,null,null,null,null,null,null,null,0,0,0,0,0,0,0,0,0,0,0,0,0,0,0,0,0,0,0,0,0,0,0,0,0,0,0,0,0,0]
["特記事項"]
[]
[]
[null,"●　商品の終売・リニューアルの場合は成分等が変更になる場合があります。ご了承ください。"]
["製造元","髙瀬物産株式会社"]
[]
[{"$f":"一覧!$A$41","v":"オーエンス泉岳自然ふれあい館"}]

{"sheet":"うす口ハンバーグ","index":19,"n_rows":52,"n_cols":40,"rows_kept":52,"cut":false,"hidden":false,"merged":[[1,1,1,8],[2,0,3,0],[2,1,3,7],[4,0,41,0],[4,1,4,4],[4,5,4,8],[5,1,5,4],[5,5,5,8],[6,1,6,4],[6,5,6,8],[7,1,7,4],[7,5,7,8],[8,1,8,4],[8,5,8,8],[9,1,9,4],[9,5,9,8],[10,1,10,4],[10,5,10,8],[11,1,11,4],[11,5,11,8],[12,1,12,4],[12,5,12,8],[13,1,13,4],[13,5,13,8],[14,1,14,4],[14,5,14,8],[15,1,15,4],[15,5,15,8],[16,1,16,4],[16,5,16,8],[17,1,17,4],[17,5,17,8],[18,1,18,4],[18,5,18,8],[19,1,19,4],[19,5,19,8],[20,1,20,4],[20,5,20,8],[21,1,21,4],[21,5,21,8],[22,1,22,4],[22,5,22,8],[23,1,23,4],[23,5,23,8],[24,1,24,4],[24,5,24,8],[25,1,25,4],[25,5,25,8],[26,1,26,4],[26,5,26,8],[27,1,27,4],[27,5,27,8],[28,1,28,4],[28,5,28,8],[29,1,29,4],[29,5,29,8],[30,1,30,4],[30,5,30,8],[31,1,31,4],[31,5,31,8],[32,1,32,4],[32,5,32,8],[33,1,33,4],[33,5,33,8],[34,1,34,4],[34,5,34,8],[35,1,35,4],[35,5,35,8],[36,1,36,4],[36,5,36,8],[37,1,37,4],[37,5,37,8],[38,1,38,4],[38,5,38,8],[39,1,39,4],[39,5,39,8],[40,1,40,4],[40,5,40,8],[41,1,41,4],[41,5,41,8],[42,0,44,0],[42,1,42,8],[43,1,43,8],[44,1,44,8],[51,0,51,8],[45,0,48,0],[45,1,45,8],[46,1,46,8],[47,1,47,8],[48,1,48,8],[49,0,50,0],[49,1,50,8]]}
["一覧へ","　"]
["シート名",{"$f":"RIGHT(CELL(\"filename\",A1),LEN(CELL(\"filename\",A1))-FIND(\"]\",CELL(\"filename\",A1)))","v":"うす口ハンバーグ"}]
["商品名","FMうす味国産鶏豚使用のハンバーグ（80）",null,null,null,null,null,null,"作成日"]
[null,null,null,null,null,null,null,null,{"$f":"一覧!$D$1","v":"2023-03-01"}]
["原材料","原材料名",null,null,null,"28品目アレルゲン",null,null,null,null,"個数①","計",{"$f":"一覧!D5","v":"小麦"},{"$f":"一覧!E5","v":"卵"},{"$f":"一覧!F5","v":"乳"},{"$f":"一覧!G5","v":"そば"},{"$f":"一覧!H5","v":"落花生"},{"$f":"一覧!I5","v":"えび"},{"$f":"一覧!J5","v":"かに"},{"$f":"一覧!K5","v":"ごま"},{"$f":"一覧!L5","v":"くるみ"},{"$f":"一覧!M5","v":"カシュ"},{"$f":"一覧!N5","v":"アーモンド"},{"$f":"一覧!O5","v":"キウイ"},{"$f":"一覧!P5","v":"もも"},{"$f":"一覧!Q5","v":"リンゴ"},{"$f":"一覧!R5","v":"バナナ"},{"$f":"一覧!S5","v":"オレンジ"},{"$f":"一覧!T5","v":"いか"},{"$f":"一覧!U5","v":"いくら"},{"$f":"一覧!V5","v":"さけ"},{"$f":"一覧!W5","v":"さば"},{"$f":"一覧!X5","v":"大豆"},{"$f":"一覧!Y5","v":"鶏肉"},{"$f":"一覧!Z5","v":"豚肉"},{"$f":"一覧!AA5","v":"牛肉"},{"$f":"一覧!AB5","v":"まつたけ"},{"$f":"一覧!AC5","v":"やまいも"},{"$f":"一覧!AD5","v":"ゼラチン"},{"$f":"一覧!AE5","v":"あわび"}]
[null,"鶏肉（国産）",null,null,null,"鶏肉",null,null,null,null,{"$f":"IF(F6=\"\",0,LEN(F6)-LEN(SUBSTITUTE(F6, \"、\", \"\"))+1)","v":1},{"$f":"SUM(M6:AN6)","v":1},{"$f":"COUNTIF($F6,\"*\"&M$5&\"*\")","v":0},{"$f":"COUNTIF($F6,\"*\"&N$5&\"*\")","v":0},0,0,0,0,0,0,0,0,0,0,0,0,0,0,0,0,0,0,0,1,0,0,0,0,0,0]
[null,"たまねぎ",null,null,null,null,null,null,null,null,{"$f":"IF(F7=\"\",0,LEN(F7)-LEN(SUBSTITUTE(F7, \"、\", \"\"))+1)","v":0},{"$f":"SUM(M7:AN7)","v":0},{"$f":"COUNTIF($F7,\"*\"&M$5&\"*\")","v":0},0,0,0,0,0,0,0,0,0,0,0,0,0,0,0,0,0,0,0,0,0,0,0,0,0,0,0]
[null,"豚脂",null,null,null,"豚肉",null,null,null,null,1,1,0,0,0,0,0,0,0,0,0,0,0,0,0,0,0,0,0,0,0,0,0,0,1,0,0,0,0,0]
[null,"粒状植物性たん白",null,null,null,"大豆",null,null,null,null,1,1,0,0,0,0,0,0,0,0,0,0,0,0,0,0,0,0,0,0,0,0,1,0,0,0,0,0,0,0]
[null,"豚肉",null,null,null,"豚肉",null,null,null,null,1,1,0,0,0,0,0,0,0,0,0,0,0,0,0,0,0,0,0,0,0,0,0,0,1,0,0,0,0,0]
[null,"水溶性食物繊維",null,null,null,null,null,null,null,null,0,0,0,0,0,0,0,0,0,0,0,0,0,0,0,0,0,0,0,0,0,0,0,0,0,0,0,0,0,0]
[null,"粉末状植物性たん白",null,null,null,"大豆",null,null,null,null,1,1,0,0,0,0,0,0,0,0,0,0,0,0,0,0,0,0,0,0,0,0,1,0,0,0,0,0,0,0]
[null,"砂糖",null,null,null,null,null,null,null,null,0,0,0,0,0,0,0,0,0,0,0,0,0,0,0,0,0,0,0,0,0,0,0,0,0,0,0,0,0,0]
[null,"ぶどう糖",null,null,null,null,null,null,null,null,0,0,0,0,0,0,0,0,0,0,0,0,0,0,0,0,0,0,0,0,0,0,0,0,0,0,0,0,0,0]
[null,"食塩",null,null,null,null,null,null,null,null,0,0,0,0,0,0,0,0,0,0,0,0,0,0,0,{"$f":"COUNTIF($F15,\"*\"&Z$5&\"*\")","v":0},0,0,0,0,0,0,0,0,0,0,0,0,0,0]
[null,"酵母エキス",null,null,null,null,null,null,null,null,0,0,0,0,0,0,0,0,0,0,0,0,0,0,0,0,0,0,0,0,0,0,0,0,0,0,0,0,0,0]
[null,"にんにくペースト",null,null,null,null,null,null,null,null,0,0,0,0,0,0,0,0,0,0,0,0,0,0,0,0,0,0,0,0,0,0,0,0,0,0,0,0,0,0]
[null,"香辛料",null,null,null,null,null,null,null,null,0,0,0,0,0,0,0,0,0,0,0,0,0,0,0,0,0,0,0,0,0,0,0,0,0,0,0,0,0,0]
[null,"しょうがペースト",null,null,null,null,null,null,null,null,0,0,0,0,0,0,0,0,0,0,0,0,0,0,0,0,0,0,0,0,0,0,0,0,0,0,0,0,0,0]
[null,"水",null,null,null,null,null,null,null,null,0,0,0,0,0,0,0,0,0,0,0,0,0,0,0,0,0,0,0,0,0,0,0,0,0,0,0,0,0,0]
[null,"（使用添加物）",null,null,null,null,null,null,null,null,0,0,0,0,0,0,0,0,0,0,0,0,0,0,0,0,0,0,0,0,0,0,0,0,0,0,0,0,0,0]
[null,"加工デンプン",null,null,null,null,null,null,null,null,0,0,0,0,0,0,0,0,0,0,0,0,0,0,0,0,0,0,0,0,0,0,0,0,0,0,0,0,0,0]
[null,"セルロース",null,null,null,null,null,null,null,null,0,0,0,0,0,0,0,0,0,0,0,0,0,0,0,0,0,0,0,0,0,0,0,0,0,0,0,0,0,0]
[null,"炭酸Ca",null,null,null,null,null,null,null,null,0,0,0,0,0,0,0,0,0,0,0,0,0,0,0,0,0,0,0,0,0,0,0,0,0,0,0,0,0,0]
[null,"ピロリン酸第二鉄",null,null,null,null,null,null,null,null,0,0,0,0,0,0,0,0,0,0,0,0,0,0,0,0,0,0,0,0,0,0,0,0,0,0,0,0,0,0]
[null,null,null,null,null,null,null,null,null,null,0,0,0,0,0,0,0,0,0,0,0,0,0,0,0,0,0,0,0,0,0,0,0,0,0,0,0,0,0,0]
[null,null,null,null,null,null,null,null,null,null,0,0,0,0,0,0,0,0,0,0,0,0,0,0,0,0,0,0,0,0,0,0,0,0,0,0,0,0,0,0]
[null,null,null,null,null,null,null,null,null,null,0,0,0,0,0,0,0,0,0,0,0,0,0,0,0,0,0,0,0,0,0,0,0,0,0,0,0,0,0,0]
[null,null,null,null,null,null,null,null,null,null,0,0,0,0,0,0,0,0,0,0,0,0,0,0,0,0,0,0,0,0,0,0,0,0,0,0,0,0,0,0]
[null,null,null,null,null,null,null,null,null,null,0,0,0,0,0,0,0,0,0,0,{"$f":"COUNTIF($F30,\"*\"&U$5&\"*\")","v":0},0,0,0,0,0,0,0,0,0,0,0,0,0,0,0,0,0,0,0]
[null,null,null,null,null,null,null,null,null,null,0,0,{"$f":"COUNTIF($F31,\"*\"&M$5&\"*\")","v":0},0,0,0,0,0,0,0,0,0,0,0,0,0,0,0,0,{"$f":"COUNTIF($F31,\"*\"&AD$5&\"*\")","v":0},0,0,0,0,0,0,0,0,0,0]
[null,null,null,null,null,null,null,null,null,null,0,0,0,0,0,0,0,0,0,0,0,0,0,0,0,0,0,0,0,0,0,0,0,0,0,0,0,0,0,0]
[null,null,null,null,null,null,null,null,null,null,0,0,0,0,0,0,0,0,0,0,0,0,0,0,0,0,0,0,0,0,0,0,0,0,0,0,0,0,0,0]
[null,null,null,null,null,null,null,null,null,null,0,0,0,0,0,0,0,0,0,0,0,0,0,0,0,0,0,0,0,0,0,0,0,0,0,0,0,0,0,0]
[null,null,null,null,null,null,null,null,null,null,0,0,0,0,0,0,0,0,0,0,0,0,0,0,0,0,0,0,0,0,0,0,0,0,0,0,0,0,0,0]
[null,null,null,null,null,null,null,null,null,null,0,0,0,0,0,0,0,0,0,0,0,0,0,0,0,0,0,0,0,0,0,0,0,0,0,0,0,0,0,0]
[null,null,null,null,null,null,null,null,null,null,0,0,0,0,0,0,0,0,0,0,0,0,0,0,0,0,0,0,0,0,0,0,0,0,0,0,0,0,0,0]
[null,null,null,null,null,null,null,null,null,null,0,0,0,0,0,0,0,0,0,0,0,0,0,0,0,0,0,0,0,0,0,0,0,0,0,0,0,0,0,0]
[null,null,null,null,null,null,null,null,null,null,0,0,0,0,0,0,0,0,0,0,0,0,0,0,0,0,0,0,0,0,0,0,0,0,0,0,0,0,0,0]
[null,null,null,null,null,null,null,null,null,null,0,0,0,0,0,0,0,0,0,0,0,0,0,0,0,0,0,0,0,0,0,0,0,0,0,0,0,0,0,0]
[null,null,null,null,null,null,null,null,null,null,0,0,0,0,0,0,0,0,0,0,0,0,0,0,0,0,0,0,0,0,0,0,0,0,0,0,0,0,0,0]
[null,null,null,null,null,null,null,null,null,null,0,0,0,0,0,0,0,0,0,0,0,0,0,0,0,0,0,0,0,0,0,0,0,0,0,0,0,0,0,0]
["コンタミネーション","同施設で大豆、牛肉、鶏肉、豚肉、リンゴ、ゼラチン、ごまを含む製品を製造しています。",null,null,null,null,null,null,null,null,{"$f":"IF(OR($B43=\"\",$B43=\"なし\"),0,LEN($B43)-LEN(SUBSTITUTE($B43, \"、\", \"\"))+1)","v":7},7,{"$f":"COUNTIF($B43,\"*\"&M$5&\"*\")","v":0},{"$f":"COUNTIF($B43,\"*\"&N$5&\"*\")","v":0},0,0,0,0,0,1,0,0,0,0,0,1,0,0,0,0,{"$f":"COUNTIF($B43,\"*\"&AE$5&\"*\")","v":0},0,1,1,1,1,0,0,1,0]
[null,null,null,null,null,null,null,null,null,null,0,0,{"$f":"COUNTIF($B44,\"*\"&M$5&\"*\")","v":0},0,0,0,0,0,0,0,0,0,0,0,0,0,0,0,0,0,0,0,0,0,0,0,0,0,0,0]
[null,null,null,null,null,null,null,null,null,null,0,0,0,0,0,0,0,0,0,0,0,0,0,0,0,0,0,0,0,0,0,0,0,0,0,0,0,0,0,0]
["特記事項"]
[]
[]
[null,"●　商品の終売・リニューアルの場合は成分等が変更になる場合があります。ご了承ください。"]
["製造元","九州ベストフーズ株式会社"]
[]
[{"$f":"一覧!$A$41","v":"オーエンス泉岳自然ふれあい館"}]

{"sheet":"トマトケチャップ","index":20,"n_rows":52,"n_cols":40,"rows_kept":52,"cut":false,"hidden":false,"merged":[[1,1,1,8],[2,0,3,0],[2,1,3,7],[4,0,41,0],[4,1,4,4],[4,5,4,8],[5,1,5,4],[5,5,5,8],[6,1,6,4],[6,5,6,8],[7,1,7,4],[7,5,7,8],[8,1,8,4],[8,5,8,8],[9,1,9,4],[9,5,9,8],[10,1,10,4],[10,5,10,8],[11,1,11,4],[11,5,11,8],[12,1,12,4],[12,5,12,8],[13,1,13,4],[13,5,13,8],[14,1,14,4],[14,5,14,8],[15,1,15,4],[15,5,15,8],[16,1,16,4],[16,5,16,8],[17,1,17,4],[17,5,17,8],[18,1,18,4],[18,5,18,8],[19,1,19,4],[19,5,19,8],[20,1,20,4],[20,5,20,8],[21,1,21,4],[21,5,21,8],[22,1,22,4],[22,5,22,8],[23,1,23,4],[23,5,23,8],[24,1,24,4],[24,5,24,8],[25,1,25,4],[25,5,25,8],[26,1,26,4],[26,5,26,8],[27,1,27,4],[27,5,27,8],[28,1,28,4],[28,5,28,8],[29,1,29,4],[29,5,29,8],[30,1,30,4],[30,5,30,8],[31,1,31,4],[31,5,31,8],[32,1,32,4],[32,5,32,8],[33,1,33,4],[33,5,33,8],[34,1,34,4],[34,5,34,8],[35,1,35,4],[35,5,35,8],[36,1,36,4],[36,5,36,8],[37,1,37,4],[37,5,37,8],[38,1,38,4],[38,5,38,8],[39,1,39,4],[39,5,39,8],[40,1,40,4],[40,5,40,8],[41,1,41,4],[41,5,41,8],[42,0,44,0],[42,1,42,8],[43,1,43,8],[44,1,44,8],[51,0,51,8],[45,0,48,0],[45,1,45,8],[46,1,46,8],[47,1,47,8],[48,1,48,8],[49,0,50,0],[49,1,50,8]]}
["一覧へ"]
["シート名",{"$f":"RIGHT(CELL(\"filename\",A1),LEN(CELL(\"filename\",A1))-FIND(\"]\",CELL(\"filename\",A1)))","v":"トマトケチャップ"}]
["商品名","ベストシェフ　ﾄﾏﾄケチャップ　チューブ",null,null,null,null,null,null,"作成日"]
[null,null,null,null,null,null,null,null,{"$f":"一覧!$D$1","v":"2023-03-01"}]
["原材料","原材料名",null,null,null,"28品目アレルゲン",null,null,null,null,"個数①","計",{"$f":"一覧!D5","v":"小麦"},{"$f":"一覧!E5","v":"卵"},{"$f":"一覧!F5","v":"乳"},{"$f":"一覧!G5","v":"そば"},{"$f":"一覧!H5","v":"落花生"},{"$f":"一覧!I5","v":"えび"},{"$f":"一覧!J5","v":"かに"},{"$f":"一覧!K5","v":"ごま"},{"$f":"一覧!L5","v":"くるみ"},{"$f":"一覧!M5","v":"カシュ"},{"$f":"一覧!N5","v":"アーモンド"},{"$f":"一覧!O5","v":"キウイ"},{"$f":"一覧!P5","v":"もも"},{"$f":"一覧!Q5","v":"リンゴ"},{"$f":"一覧!R5","v":"バナナ"},{"$f":"一覧!S5","v":"オレンジ"},{"$f":"一覧!T5","v":"いか"},{"$f":"一覧!U5","v":"いくら"},{"$f":"一覧!V5","v":"さけ"},{"$f":"一覧!W5","v":"さば"},{"$f":"一覧!X5","v":"大豆"},{"$f":"一覧!Y5","v":"鶏肉"},{"$f":"一覧!Z5","v":"豚肉"},{"$f":"一覧!AA5","v":"牛肉"},{"$f":"一覧!AB5","v":"まつたけ"},{"$f":"一覧!AC5","v":"やまいも"},{"$f":"一覧!AD5","v":"ゼラチン"},{"$f":"一覧!AE5","v":"あわび"}]
[null,"トマト",null,null,null,null,null,null,null,null,{"$f":"IF(F6=\"\",0,LEN(F6)-LEN(SUBSTITUTE(F6, \"、\", \"\"))+1)","v":0},{"$f":"SUM(M6:AN6)","v":0},{"$f":"COUNTIF($F6,\"*\"&M$5&\"*\")","v":0},{"$f":"COUNTIF($F6,\"*\"&N$5&\"*\")","v":0},0,0,0,0,0,0,0,0,0,0,0,0,0,0,0,0,0,0,0,0,0,0,0,0,0,0]
[null,"砂糖・ぶどう糖果糖液糖",null,null,null,null,null,null,null,null,{"$f":"IF(F7=\"\",0,LEN(F7)-LEN(SUBSTITUTE(F7, \"、\", \"\"))+1)","v":0},{"$f":"SUM(M7:AN7)","v":0},{"$f":"COUNTIF($F7,\"*\"&M$5&\"*\")","v":0},0,0,0,0,0,0,0,0,0,0,0,0,0,0,0,0,0,0,0,0,0,0,0,0,0,0,0]
[null,"醸造酢",null,null,null,null,null,null,null,null,0,0,0,0,0,0,0,0,0,0,0,0,0,0,0,0,0,0,0,0,0,0,0,0,0,0,0,0,0,0]
[null,"食塩",null,null,null,null,null,null,null,null,0,0,0,0,0,0,0,0,0,0,0,0,0,0,0,0,0,0,0,0,0,0,0,0,0,0,0,0,0,0]
[null,"たまねぎ",null,null,null,null,null,null,null,null,0,0,0,0,0,0,0,0,0,0,0,0,0,0,0,0,0,0,0,0,0,0,0,0,0,0,0,0,0,0]
[null,"香辛料",null,null,null,null,null,null,null,null,0,0,0,0,0,0,0,0,0,0,0,0,0,0,0,0,0,0,0,0,0,0,0,0,0,0,0,0,0,0]
[null,null,null,null,null,null,null,null,null,null,0,0,0,0,0,0,0,0,0,0,0,0,0,0,0,0,0,0,0,0,0,0,0,0,0,0,0,0,0,0]
[null,null,null,null,null,null,null,null,null,null,0,0,0,0,0,0,0,0,0,0,0,0,0,0,0,0,0,0,0,0,0,0,0,0,0,0,0,0,0,0]
[null,null,null,null,null,null,null,null,null,null,0,0,0,0,0,0,0,0,0,0,0,0,0,0,0,0,0,0,0,0,0,0,0,0,0,0,0,0,0,0]
[null,null,null,null,null,null,null,null,null,null,0,0,0,0,0,0,0,0,0,0,0,0,0,0,0,{"$f":"COUNTIF($F15,\"*\"&Z$5&\"*\")","v":0},0,0,0,0,0,0,0,0,0,0,0,0,0,0]
[null,null,null,null,null,null,null,null,null,null,0,0,0,0,0,0,0,0,0,0,0,0,0,0,0,0,0,0,0,0,0,0,0,0,0,0,0,0,0,0]
[null,null,null,null,null,null,null,null,null,null,0,0,0,0,0,0,0,0,0,0,0,0,0,0,0,0,0,0,0,0,0,0,0,0,0,0,0,0,0,0]
[null,null,null,null,null,null,null,null,null,null,0,0,0,0,0,0,0,0,0,0,0,0,0,0,0,0,0,0,0,0,0,0,0,0,0,0,0,0,0,0]
[null,null,null,null,null,null,null,null,null,null,0,0,0,0,0,0,0,0,0,0,0,0,0,0,0,0,0,0,0,0,0,0,0,0,0,0,0,0,0,0]
[null,null,null,null,null,null,null,null,null,null,0,0,0,0,0,0,0,0,0,0,0,0,0,0,0,0,0,0,0,0,0,0,0,0,0,0,0,0,0,0]
[null,null,null,null,null,null,null,null,null,null,0,0,0,0,0,0,0,0,0,0,0,0,0,0,0,0,0,0,0,0,0,0,0,0,0,0,0,0,0,0]
[null,null,null,null,null,null,null,null,null,null,0,0,0,0,0,0,0,0,0,0,0,0,0,0,0,0,0,0,0,0,0,0,0,0,0,0,0,0,0,0]
[null,null,null,null,null,null,null,null,null,null,0,0,0,0,0,0,0,0,0,0,0,0,0,0,0,0,0,0,0,0,0,0,0,0,0,0,0,0,0,0]
[null,null,null,null,null,null,null,null,null,null,0,0,0,0,0,0,0,0,0,0,0,0,0,0,0,0,0,0,0,0,0,0,0,0,0,0,0,0,0,0]
[null,null,null,null,null,null,null,null,null,null,0,0,0,0,0,0,0,0,0,0,0,0,0,0,0,0,0,0,0,0,0,0,0,0,0,0,0,0,0,0]
[null,null,null,null,null,null,null,null,null,null,0,0,0,0,0,0,0,0,0,0,0,0,0,0,0,0,0,0,0,0,0,0,0,0,0,0,0,0,0,0]
[null,null,null,null,null,null,null,null,null,null,0,0,0,0,0,0,0,0,0,0,0,0,0,0,0,0,0,0,0,0,0,0,0,0,0,0,0,0,0,0]
[null,null,null,null,null,null,null,null,null,null,0,0,0,0,0,0,0,0,0,0,0,0,0,0,0,0,0,0,0,0,0,0,0,0,0,0,0,0,0,0]
[null,null,null,null,null,null,null,null,null,null,0,0,0,0,0,0,0,0,0,0,0,0,0,0,0,0,0,0,0,0,0,0,0,0,0,0,0,0,0,0]
[null,null,null,null,null,null,null,null,null,null,0,0,0,0,0,0,0,0,0,0,{"$f":"COUNTIF($F30,\"*\"&U$5&\"*\")","v":0},0,0,0,0,0,0,0,0,0,0,0,0,0,0,0,0,0,0,0]
[null,null,null,null,null,null,null,null,null,null,0,0,{"$f":"COUNTIF($F31,\"*\"&M$5&\"*\")","v":0},0,0,0,0,0,0,0,0,0,0,0,0,0,0,0,0,{"$f":"COUNTIF($F31,\"*\"&AD$5&\"*\")","v":0},0,0,0,0,0,0,0,0,0,0]
[null,null,null,null,null,null,null,null,null,null,0,0,0,0,0,0,0,0,0,0,0,0,0,0,0,0,0,0,0,0,0,0,0,0,0,0,0,0,0,0]
[null,null,null,null,null,null,null,null,null,null,0,0,0,0,0,0,0,0,0,0,0,0,0,0,0,0,0,0,0,0,0,0,0,0,0,0,0,0,0,0]
[null,null,null,null,null,null,null,null,null,null,0,0,0,0,0,0,0,0,0,0,0,0,0,0,0,0,0,0,0,0,0,0,0,0,0,0,0,0,0,0]
[null,null,null,null,null,null,null,null,null,null,0,0,0,0,0,0,0,0,0,0,0,0,0,0,0,0,0,0,0,0,0,0,0,0,0,0,0,0,0,0]
[null,null,null,null,null,null,null,null,null,null,0,0,0,0,0,0,0,0,0,0,0,0,0,0,0,0,0,0,0,0,0,0,0,0,0,0,0,0,0,0]
[null,null,null,null,null,null,null,null,null,null,0,0,0,0,0,0,0,0,0,0,0,0,0,0,0,0,0,0,0,0,0,0,0,0,0,0,0,0,0,0]
[null,null,null,null,null,null,null,null,null,null,0,0,0,0,0,0,0,0,0,0,0,0,0,0,0,0,0,0,0,0,0,0,0,0,0,0,0,0,0,0]
[null,null,null,null,null,null,null,null,null,null,0,0,0,0,0,0,0,0,0,0,0,0,0,0,0,0,0,0,0,0,0,0,0,0,0,0,0,0,0,0]
[null,null,null,null,null,null,null,null,null,null,0,0,0,0,0,0,0,0,0,0,0,0,0,0,0,0,0,0,0,0,0,0,0,0,0,0,0,0,0,0]
[null,null,null,null,null,null,null,null,null,null,0,0,0,0,0,0,0,0,0,0,0,0,0,0,0,0,0,0,0,0,0,0,0,0,0,0,0,0,0,0]
[null,null,null,null,null,null,null,null,null,null,0,0,0,0,0,0,0,0,0,0,0,0,0,0,0,0,0,0,0,0,0,0,0,0,0,0,0,0,0,0]
["コンタミネーション","なし",null,null,null,null,null,null,null,null,{"$f":"IF(OR($B43=\"\",$B43=\"なし\"),0,LEN($B43)-LEN(SUBSTITUTE($B43, \"、\", \"\"))+1)","v":0},0,{"$f":"COUNTIF($B43,\"*\"&M$5&\"*\")","v":0},{"$f":"COUNTIF($B43,\"*\"&N$5&\"*\")","v":0},0,0,0,0,0,0,0,0,0,0,0,0,0,0,0,0,{"$f":"COUNTIF($B43,\"*\"&AE$5&\"*\")","v":0},0,0,0,0,0,0,0,0,0]
[null,null,null,null,null,null,null,null,null,null,{"$f":"IF(OR($B44=\"\",$B44=\"なし\"),0,LEN($B44)-LEN(SUBSTITUTE($B44, \"、\", \"\"))+1)","v":0},0,{"$f":"COUNTIF($B44,\"*\"&M$5&\"*\")","v":0},0,0,0,0,0,0,0,0,0,0,0,0,0,0,0,0,0,0,0,0,0,0,0,0,0,0,0]
[null,null,null,null,null,null,null,null,null,null,0,0,0,0,0,0,0,0,0,0,0,0,0,0,0,0,0,0,0,0,0,0,0,0,0,0,0,0,0,0]
["特記事項"]
[]
[]
[null,"●　商品の終売・リニューアルの場合は成分等が変更になる場合があります。ご了承ください。"]
["製造元","髙瀬物産株式会社"]
[]
[{"$f":"一覧!$A$41","v":"オーエンス泉岳自然ふれあい館"}]

{"sheet":"ソース","index":21,"n_rows":52,"n_cols":40,"rows_kept":52,"cut":false,"hidden":false,"merged":[[1,1,1,8],[2,0,3,0],[2,1,3,7],[4,0,41,0],[4,1,4,4],[4,5,4,8],[5,1,5,4],[5,5,5,8],[6,1,6,4],[6,5,6,8],[7,1,7,4],[7,5,7,8],[8,1,8,4],[8,5,8,8],[9,1,9,4],[9,5,9,8],[10,1,10,4],[10,5,10,8],[11,1,11,4],[11,5,11,8],[12,1,12,4],[12,5,12,8],[13,1,13,4],[13,5,13,8],[14,1,14,4],[14,5,14,8],[15,1,15,4],[15,5,15,8],[16,1,16,4],[16,5,16,8],[17,1,17,4],[17,5,17,8],[18,1,18,4],[18,5,18,8],[19,1,19,4],[19,5,19,8],[20,1,20,4],[20,5,20,8],[21,1,21,4],[21,5,21,8],[22,1,22,4],[22,5,22,8],[23,1,23,4],[23,5,23,8],[24,1,24,4],[24,5,24,8],[25,1,25,4],[25,5,25,8],[26,1,26,4],[26,5,26,8],[27,1,27,4],[27,5,27,8],[28,1,28,4],[28,5,28,8],[29,1,29,4],[29,5,29,8],[30,1,30,4],[30,5,30,8],[31,1,31,4],[31,5,31,8],[32,1,32,4],[32,5,32,8],[33,1,33,4],[33,5,33,8],[34,1,34,4],[34,5,34,8],[35,1,35,4],[35,5,35,8],[36,1,36,4],[36,5,36,8],[37,1,37,4],[37,5,37,8],[38,1,38,4],[38,5,38,8],[39,1,39,4],[39,5,39,8],[40,1,40,4],[40,5,40,8],[41,1,41,4],[41,5,41,8],[42,0,44,0],[42,1,42,8],[43,1,43,8],[44,1,44,8],[51,0,51,8],[45,0,48,0],[45,1,45,8],[46,1,46,8],[47,1,47,8],[48,1,48,8],[49,0,50,0],[49,1,50,8]]}
["一覧へ"]
["シート名",{"$f":"RIGHT(CELL(\"filename\",A1),LEN(CELL(\"filename\",A1))-FIND(\"]\",CELL(\"filename\",A1)))","v":"ソース"}]
["商品名","ベストシェフ　とんかつソース",null,null,null,null,null,null,"作成日"]
[null,null,null,null,null,null,null,null,{"$f":"一覧!$D$1","v":"2023-03-01"}]
["原材料","原材料名",null,null,null,"28品目アレルゲン",null,null,null,null,"個数①","計",{"$f":"一覧!D5","v":"小麦"},{"$f":"一覧!E5","v":"卵"},{"$f":"一覧!F5","v":"乳"},{"$f":"一覧!G5","v":"そば"},{"$f":"一覧!H5","v":"落花生"},{"$f":"一覧!I5","v":"えび"},{"$f":"一覧!J5","v":"かに"},{"$f":"一覧!K5","v":"ごま"},{"$f":"一覧!L5","v":"くるみ"},{"$f":"一覧!M5","v":"カシュ"},{"$f":"一覧!N5","v":"アーモンド"},{"$f":"一覧!O5","v":"キウイ"},{"$f":"一覧!P5","v":"もも"},{"$f":"一覧!Q5","v":"リンゴ"},{"$f":"一覧!R5","v":"バナナ"},{"$f":"一覧!S5","v":"オレンジ"},{"$f":"一覧!T5","v":"いか"},{"$f":"一覧!U5","v":"いくら"},{"$f":"一覧!V5","v":"さけ"},{"$f":"一覧!W5","v":"さば"},{"$f":"一覧!X5","v":"大豆"},{"$f":"一覧!Y5","v":"鶏肉"},{"$f":"一覧!Z5","v":"豚肉"},{"$f":"一覧!AA5","v":"牛肉"},{"$f":"一覧!AB5","v":"まつたけ"},{"$f":"一覧!AC5","v":"やまいも"},{"$f":"一覧!AD5","v":"ゼラチン"},{"$f":"一覧!AE5","v":"あわび"}]
[null,"醸造酢",null,null,null,null,null,null,null,null,{"$f":"IF(F6=\"\",0,LEN(F6)-LEN(SUBSTITUTE(F6, \"、\", \"\"))+1)","v":0},{"$f":"SUM(M6:AN6)","v":0},{"$f":"COUNTIF($F6,\"*\"&M$5&\"*\")","v":0},{"$f":"COUNTIF($F6,\"*\"&N$5&\"*\")","v":0},0,0,0,0,0,0,0,0,0,0,0,0,0,0,0,0,0,0,0,0,0,0,0,0,0,0]
[null,"砂糖",null,null,null,null,null,null,null,null,{"$f":"IF(F7=\"\",0,LEN(F7)-LEN(SUBSTITUTE(F7, \"、\", \"\"))+1)","v":0},{"$f":"SUM(M7:AN7)","v":0},{"$f":"COUNTIF($F7,\"*\"&M$5&\"*\")","v":0},0,0,0,0,0,0,0,0,0,0,0,0,0,0,0,0,0,0,0,0,0,0,0,0,0,0,0]
[null,"トマト",null,null,null,null,null,null,null,null,0,0,0,0,0,0,0,0,0,0,0,0,0,0,0,0,0,0,0,0,0,0,0,0,0,0,0,0,0,0]
[null,"りんご",null,null,null,"リンゴ",null,null,null,null,1,1,0,0,0,0,0,0,0,0,0,0,0,0,0,1,0,0,0,0,0,0,0,0,0,0,0,0,0,0]
[null,"たまねぎ",null,null,null,null,null,null,null,null,0,0,0,0,0,0,0,0,0,0,0,0,0,0,0,0,0,0,0,0,0,0,0,0,0,0,0,0,0,0]
[null,"キャベツ",null,null,null,null,null,null,null,null,0,0,0,0,0,0,0,0,0,0,0,0,0,0,0,0,0,0,0,0,0,0,0,0,0,0,0,0,0,0]
[null,"ブロッコリー",null,null,null,null,null,null,null,null,0,0,0,0,0,0,0,0,0,0,0,0,0,0,0,0,0,0,0,0,0,0,0,0,0,0,0,0,0,0]
[null,"ピーマン",null,null,null,null,null,null,null,null,0,0,0,0,0,0,0,0,0,0,0,0,0,0,0,0,0,0,0,0,0,0,0,0,0,0,0,0,0,0]
[null,"アスパラガス",null,null,null,null,null,null,null,null,0,0,0,0,0,0,0,0,0,0,0,0,0,0,0,0,0,0,0,0,0,0,0,0,0,0,0,0,0,0]
[null,"カリフラワー",null,null,null,null,null,null,null,null,0,0,0,0,0,0,0,0,0,0,0,0,0,0,0,0,0,0,0,0,0,0,0,0,0,0,0,0,0,0]
[null,"かぼちゃ",null,null,null,null,null,null,null,null,0,0,0,0,0,0,0,0,0,0,0,0,0,0,0,0,0,0,0,0,0,0,0,0,0,0,0,0,0,0]
[null,"にんにく",null,null,null,null,null,null,null,null,0,0,0,0,0,0,0,0,0,0,0,0,0,0,0,0,0,0,0,0,0,0,0,0,0,0,0,0,0,0]
[null,"食塩",null,null,null,null,null,null,null,null,0,0,0,0,0,0,0,0,0,0,0,0,0,0,0,0,0,0,0,0,0,0,0,0,0,0,0,0,0,0]
[null,"香辛料",null,null,null,null,null,null,null,null,0,0,0,0,0,0,0,0,0,0,0,0,0,0,0,0,0,0,0,0,0,0,0,0,0,0,0,0,0,0]
[null,"増粘剤（加工でん粉）",null,null,null,null,null,null,null,null,0,0,0,0,0,0,0,0,0,0,0,0,0,0,0,0,0,0,0,0,0,0,0,0,0,0,0,0,0,0]
[null,"増粘剤（キサンタン）",null,null,null,null,null,null,null,null,0,0,0,0,0,0,0,0,0,0,0,0,0,0,0,0,0,0,0,0,0,0,0,0,0,0,0,0,0,0]
[null,"調味料（アミノ酸等）",null,null,null,null,null,null,null,null,0,0,0,0,0,0,0,0,0,0,0,0,0,0,0,0,0,{"$f":"COUNTIF($F22,\"*\"&AB$5&\"*\")","v":0},0,0,0,0,0,0,0,0,0,0,0,0]
[null,"カラメル色素",null,null,null,null,null,null,null,null,0,0,{"$f":"COUNTIF($F23,\"*\"&M$5&\"*\")","v":0},0,0,0,0,0,0,0,0,0,0,0,0,0,0,0,0,0,0,0,0,0,0,0,0,0,0,0]
[null,"香辛料抽出物",null,null,null,null,null,null,null,null,0,0,0,0,0,0,0,0,0,0,0,0,0,0,0,0,0,0,0,0,0,0,0,0,0,0,0,0,0,0]
[null,null,null,null,null,null,null,null,null,null,0,0,0,0,0,0,0,0,0,0,0,0,0,0,0,0,0,0,0,0,0,0,0,0,0,0,0,0,0,0]
[null,null,null,null,null,null,null,null,null,null,0,0,0,0,0,0,0,0,0,0,0,0,0,0,0,0,0,0,0,0,0,0,0,0,0,0,0,0,0,0]
[null,null,null,null,null,null,null,null,null,null,0,0,0,0,0,0,0,0,0,0,0,0,0,0,0,0,0,0,0,0,0,0,0,0,0,0,0,0,0,0]
[null,null,null,null,null,null,null,null,null,null,0,0,0,0,0,0,0,0,0,0,0,0,0,0,0,0,0,0,0,0,0,0,0,0,0,0,0,0,0,0]
[null,null,null,null,null,null,null,null,null,null,0,0,0,0,0,0,0,0,0,0,0,0,0,0,0,0,0,0,0,0,0,0,0,0,0,0,0,0,0,0]
[null,null,null,null,null,null,null,null,null,null,0,0,0,0,0,0,0,0,0,0,0,0,0,0,0,0,0,0,0,0,0,0,0,0,0,0,0,0,0,0]
[null,null,null,null,null,null,null,null,null,null,0,0,0,0,0,0,0,0,0,0,0,0,0,0,0,0,0,0,0,0,0,0,0,0,0,0,0,0,0,0]
[null,null,null,null,null,null,null,null,null,null,0,0,0,0,0,0,0,0,0,0,0,0,0,0,0,0,0,0,0,0,0,0,0,0,0,0,0,0,0,0]
[null,null,null,null,null,null,null,null,null,null,0,0,0,0,0,0,0,0,0,0,0,0,0,0,0,0,0,0,0,0,0,0,0,0,0,0,0,0,0,0]
[null,null,null,null,null,null,null,null,null,null,0,0,0,0,0,0,0,0,0,0,0,0,0,0,0,0,0,0,0,0,0,0,0,0,0,0,0,0,0,0]
[null,null,null,null,null,null,null,null,null,null,0,0,0,0,0,0,0,0,0,0,0,0,0,0,0,0,0,0,0,0,0,0,0,0,0,0,0,0,0,0]
[null,null,null,null,null,null,null,null,null,null,0,0,0,0,0,0,0,0,0,0,0,0,0,0,0,0,0,0,0,0,0,0,0,0,0,0,0,0,0,0]
[null,null,null,null,null,null,null,null,null,null,0,0,0,0,0,0,0,0,0,0,0,0,0,0,0,0,0,0,0,0,0,0,0,0,0,0,0,0,0,0]
[null,null,null,null,null,null,null,null,null,null,0,0,0,0,0,0,0,0,0,0,0,0,0,0,0,0,0,{"$f":"COUNTIF($F38,\"*\"&AB$5&\"*\")","v":0},0,0,0,0,0,0,0,0,0,0,0,0]
[null,null,null,null,null,null,null,null,null,null,0,0,{"$f":"COUNTIF($F39,\"*\"&M$5&\"*\")","v":0},0,0,0,0,0,0,0,0,0,0,0,0,0,0,0,0,0,0,0,0,0,0,0,0,0,0,0]
[null,null,null,null,null,null,null,null,null,null,0,0,0,0,0,0,0,0,0,0,0,0,0,0,0,0,0,0,0,0,0,0,0,0,0,0,0,0,0,0]
[null,null,null,null,null,null,null,null,null,null,0,0,0,0,0,0,0,0,0,0,0,0,0,0,0,0,0,0,0,0,0,0,0,0,0,0,0,0,0,0]
[null,null,null,null,null,null,null,null,null,null,0,0,0,0,0,0,0,0,0,0,0,0,0,0,0,0,0,0,0,0,0,0,0,0,0,0,0,0,0,0]
["コンタミネーション","なし",null,null,null,null,null,null,null,null,{"$f":"IF(OR($B43=\"\",$B43=\"なし\"),0,LEN($B43)-LEN(SUBSTITUTE($B43, \"、\", \"\"))+1)","v":0},{"$f":"SUM(M43:AN43)","v":0},{"$f":"COUNTIF($B43,\"*\"&M$5&\"*\")","v":0},{"$f":"COUNTIF($B43,\"*\"&N$5&\"*\")","v":0},0,0,0,0,0,0,0,0,0,0,0,0,0,0,0,0,{"$f":"COUNTIF($B43,\"*\"&AE$5&\"*\")","v":0},0,0,0,0,0,0,0,0,0]
[null,null,null,null,null,null,null,null,null,null,{"$f":"IF(OR($B44=\"\",$B44=\"なし\"),0,LEN($B44)-LEN(SUBSTITUTE($B44, \"、\", \"\"))+1)","v":0},{"$f":"SUM(M44:AN44)","v":0},{"$f":"COUNTIF($B44,\"*\"&M$5&\"*\")","v":0},0,0,0,0,0,0,0,0,0,0,0,0,0,0,0,0,0,0,0,0,0,0,0,0,0,0,0]
[null,null,null,null,null,null,null,null,null,null,0,0,0,0,0,0,0,0,0,0,0,0,0,0,0,0,0,0,0,0,0,0,0,0,0,0,0,0,0,0]
["特記事項"]
[]
[]
[null,"●　商品の終売・リニューアルの場合は成分等が変更になる場合があります。ご了承ください。"]
["製造元","髙瀬物産株式会社"]
[]
[{"$f":"一覧!$A$41","v":"オーエンス泉岳自然ふれあい館"}]

{"sheet":"フライドポテト","index":22,"n_rows":52,"n_cols":40,"rows_kept":52,"cut":false,"hidden":false,"merged":[[51,0,51,8],[45,0,48,0],[45,1,45,8],[46,1,46,8],[47,1,47,8],[48,1,48,8],[49,0,50,0],[49,1,50,8],[40,1,40,4],[40,5,40,8],[41,1,41,4],[41,5,41,8],[42,0,44,0],[42,1,42,8],[43,1,43,8],[44,1,44,8],[37,1,37,4],[37,5,37,8],[38,1,38,4],[38,5,38,8],[39,1,39,4],[39,5,39,8],[34,1,34,4],[34,5,34,8],[35,1,35,4],[35,5,35,8],[36,1,36,4],[36,5,36,8],[31,1,31,4],[31,5,31,8],[32,1,32,4],[32,5,32,8],[33,1,33,4],[33,5,33,8],[28,1,28,4],[28,5,28,8],[29,1,29,4],[29,5,29,8],[30,1,30,4],[30,5,30,8],[25,1,25,4],[25,5,25,8],[26,1,26,4],[26,5,26,8],[27,1,27,4],[27,5,27,8],[22,1,22,4],[22,5,22,8],[23,1,23,4],[23,5,23,8],[24,1,24,4],[24,5,24,8],[19,1,19,4],[19,5,19,8],[20,1,20,4],[20,5,20,8],[21,1,21,4],[21,5,21,8],[16,1,16,4],[16,5,16,8],[17,1,17,4],[17,5,17,8],[18,1,18,4],[18,5,18,8],[13,1,13,4],[13,5,13,8],[14,1,14,4],[14,5,14,8],[15,1,15,4],[15,5,15,8],[10,1,10,4],[10,5,10,8],[11,1,11,4],[11,5,11,8],[12,1,12,4],[12,5,12,8],[1,1,1,8],[2,0,3,0],[2,1,3,7],[4,0,41,0],[4,1,4,4],[4,5,4,8],[5,1,5,4],[5,5,5,8],[6,1,6,4],[6,5,6,8],[7,1,7,4],[7,5,7,8],[8,1,8,4],[8,5,8,8],[9,1,9,4],[9,5,9,8]]}
["一覧へ"]
["シート名",{"$f":"RIGHT(CELL(\"filename\",A1),LEN(CELL(\"filename\",A1))-FIND(\"]\",CELL(\"filename\",A1)))","v":"フライドポテト"}]
["商品名","ナチュラルウエッジカットポテト　ヨーロッパ産",null,null,null,null,null,null,"作成日"]
[null,null,null,null,null,null,null,null,{"$f":"一覧!$D$1","v":"2023-03-01"}]
["原材料","原材料名",null,null,null,"28品目アレルゲン",null,null,null,null,"個数①","計",{"$f":"一覧!D5","v":"小麦"},{"$f":"一覧!E5","v":"卵"},{"$f":"一覧!F5","v":"乳"},{"$f":"一覧!G5","v":"そば"},{"$f":"一覧!H5","v":"落花生"},{"$f":"一覧!I5","v":"えび"},{"$f":"一覧!J5","v":"かに"},{"$f":"一覧!K5","v":"ごま"},{"$f":"一覧!L5","v":"くるみ"},{"$f":"一覧!M5","v":"カシュ"},{"$f":"一覧!N5","v":"アーモンド"},{"$f":"一覧!O5","v":"キウイ"},{"$f":"一覧!P5","v":"もも"},{"$f":"一覧!Q5","v":"リンゴ"},{"$f":"一覧!R5","v":"バナナ"},{"$f":"一覧!S5","v":"オレンジ"},{"$f":"一覧!T5","v":"いか"},{"$f":"一覧!U5","v":"いくら"},{"$f":"一覧!V5","v":"さけ"},{"$f":"一覧!W5","v":"さば"},{"$f":"一覧!X5","v":"大豆"},{"$f":"一覧!Y5","v":"鶏肉"},{"$f":"一覧!Z5","v":"豚肉"},{"$f":"一覧!AA5","v":"牛肉"},{"$f":"一覧!AB5","v":"まつたけ"},{"$f":"一覧!AC5","v":"やまいも"},{"$f":"一覧!AD5","v":"ゼラチン"},{"$f":"一覧!AE5","v":"あわび"}]
[null,"じゃがいも",null,null,null,null,null,null,null,null,{"$f":"IF(F6=\"\",0,LEN(F6)-LEN(SUBSTITUTE(F6, \"、\", \"\"))+1)","v":0},{"$f":"SUM(M6:AN6)","v":0},{"$f":"COUNTIF($F6,\"*\"&M$5&\"*\")","v":0},{"$f":"COUNTIF($F6,\"*\"&N$5&\"*\")","v":0},0,0,0,0,0,0,0,0,0,0,0,0,0,0,0,0,0,0,0,0,0,0,0,0,0,0]
[null,"食物油脂（ひまわり油）",null,null,null,null,null,null,null,null,{"$f":"IF(F7=\"\",0,LEN(F7)-LEN(SUBSTITUTE(F7, \"、\", \"\"))+1)","v":0},{"$f":"SUM(M7:AN7)","v":0},{"$f":"COUNTIF($F7,\"*\"&M$5&\"*\")","v":0},0,0,0,0,0,0,0,0,0,0,0,0,0,0,0,0,0,0,0,0,0,0,0,0,0,0,0]
[null,"食塩",null,null,null,null,null,null,null,null,0,0,0,0,0,0,0,0,0,0,0,0,0,0,0,0,0,0,0,0,0,0,0,0,0,0,0,0,0,0]
[null,"ぶどう糖",null,null,null,"小麦",null,null,null,null,1,1,1,0,0,0,0,0,0,0,0,0,0,0,0,0,0,0,0,0,0,0,0,0,0,0,0,0,0,0]
[null,"ピロリン酸ナトリウム",null,null,null,null,null,null,null,null,0,0,0,0,0,0,0,0,0,0,0,0,0,0,0,0,0,0,0,0,0,0,0,0,0,0,0,0,0,0]
[null,null,null,null,null,null,null,null,null,null,0,0,0,0,0,0,0,0,0,0,0,0,0,0,0,0,0,0,0,0,0,0,0,0,0,0,0,0,0,0]
[null,null,null,null,null,null,null,null,null,null,0,0,0,0,0,0,0,0,0,0,0,0,0,0,0,0,0,0,0,0,0,0,0,0,0,0,0,0,0,0]
[null,null,null,null,null,null,null,null,null,null,0,0,0,0,0,0,0,0,0,0,0,0,0,0,0,0,0,0,0,0,0,0,0,0,0,0,0,0,0,0]
[null,null,null,null,null,null,null,null,null,null,0,0,0,0,0,0,0,0,0,0,0,0,0,0,0,0,0,0,0,0,0,0,0,0,0,0,0,0,0,0]
[null,null,null,null,null,null,null,null,null,null,0,0,0,0,0,0,0,0,0,0,0,0,0,0,0,{"$f":"COUNTIF($F15,\"*\"&Z$5&\"*\")","v":0},0,0,0,0,0,0,0,0,0,0,0,0,0,0]
[null,null,null,null,null,null,null,null,null,null,0,0,0,0,0,0,0,0,0,0,0,0,0,0,0,0,0,0,0,0,0,0,0,0,0,0,0,0,0,0]
[null,null,null,null,null,null,null,null,null,null,0,0,0,0,0,0,0,0,0,0,0,0,0,0,0,0,0,0,0,0,0,0,0,0,0,0,0,0,0,0]
[null,null,null,null,null,null,null,null,null,null,0,0,0,0,0,0,0,0,0,0,0,0,0,0,0,0,0,0,0,0,0,0,0,0,0,0,0,0,0,0]
[null,null,null,null,null,null,null,null,null,null,0,0,0,0,0,0,0,0,0,0,0,0,0,0,0,0,0,0,0,0,0,0,0,0,0,0,0,0,0,0]
[null,null,null,null,null,null,null,null,null,null,0,0,0,0,0,0,0,0,0,0,0,0,0,0,0,0,0,0,0,0,0,0,0,0,0,0,0,0,0,0]
[null,null,null,null,null,null,null,null,null,null,0,0,0,0,0,0,0,0,0,0,0,0,0,0,0,0,0,0,0,0,0,0,0,0,0,0,0,0,0,0]
[null,null,null,null,null,null,null,null,null,null,0,0,0,0,0,0,0,0,0,0,0,0,0,0,0,0,0,0,0,0,0,0,0,0,0,0,0,0,0,0]
[null,null,null,null,null,null,null,null,null,null,0,0,0,0,0,0,0,0,0,0,0,0,0,0,0,0,0,0,0,0,0,0,0,0,0,0,0,0,0,0]
[null,null,null,null,null,null,null,null,null,null,0,0,0,0,0,0,0,0,0,0,0,0,0,0,0,0,0,0,0,0,0,0,0,0,0,0,0,0,0,0]
[null,null,null,null,null,null,null,null,null,null,0,0,0,0,0,0,0,0,0,0,0,0,0,0,0,0,0,0,0,0,0,0,0,0,0,0,0,0,0,0]
[null,null,null,null,null,null,null,null,null,null,0,0,0,0,0,0,0,0,0,0,0,0,0,0,0,0,0,0,0,0,0,0,0,0,0,0,0,0,0,0]
[null,null,null,null,null,null,null,null,null,null,0,0,0,0,0,0,0,0,0,0,0,0,0,0,0,0,0,0,0,0,0,0,0,0,0,0,0,0,0,0]
[null,null,null,null,null,null,null,null,null,null,0,0,0,0,0,0,0,0,0,0,0,0,0,0,0,0,0,0,0,0,0,0,0,0,0,0,0,0,0,0]
[null,null,null,null,null,null,null,null,null,null,0,0,0,0,0,0,0,0,0,0,0,0,0,0,0,0,0,0,0,0,0,0,0,0,0,0,0,0,0,0]
[null,null,null,null,null,null,null,null,null,null,0,0,0,0,0,0,0,0,0,0,{"$f":"COUNTIF($F30,\"*\"&U$5&\"*\")","v":0},0,0,0,0,0,0,0,0,0,0,0,0,0,0,0,0,0,0,0]
[null,null,null,null,null,null,null,null,null,null,0,0,{"$f":"COUNTIF($F31,\"*\"&M$5&\"*\")","v":0},0,0,0,0,0,0,0,0,0,0,0,0,0,0,0,0,{"$f":"COUNTIF($F31,\"*\"&AD$5&\"*\")","v":0},0,0,0,0,0,0,0,0,0,0]
[null,null,null,null,null,null,null,null,null,null,0,0,0,0,0,0,0,0,0,0,0,0,0,0,0,0,0,0,0,0,0,0,0,0,0,0,0,0,0,0]
[null,null,null,null,null,null,null,null,null,null,0,0,0,0,0,0,0,0,0,0,0,0,0,0,0,0,0,0,0,0,0,0,0,0,0,0,0,0,0,0]
[null,null,null,null,null,null,null,null,null,null,0,0,0,0,0,0,0,0,0,0,0,0,0,0,0,0,0,0,0,0,0,0,0,0,0,0,0,0,0,0]
[null,null,null,null,null,null,null,null,null,null,0,0,0,0,0,0,0,0,0,0,0,0,0,0,0,0,0,0,0,0,0,0,0,0,0,0,0,0,0,0]
[null,null,null,null,null,null,null,null,null,null,0,0,0,0,0,0,0,0,0,0,0,0,0,0,0,0,0,0,0,0,0,0,0,0,0,0,0,0,0,0]
[null,null,null,null,null,null,null,null,null,null,0,0,0,0,0,0,0,0,0,0,0,0,0,0,0,0,0,0,0,0,0,0,0,0,0,0,0,0,0,0]
[null,null,null,null,null,null,null,null,null,null,0,0,0,0,0,0,0,0,0,0,0,0,0,0,0,0,0,0,0,0,0,0,0,0,0,0,0,0,0,0]
[null,null,null,null,null,null,null,null,null,null,0,0,0,0,0,0,0,0,0,0,0,0,0,0,0,0,0,0,0,0,0,0,0,0,0,0,0,0,0,0]
[null,null,null,null,null,null,null,null,null,null,0,0,0,0,0,0,0,0,0,0,0,0,0,0,0,0,0,0,0,0,0,0,0,0,0,0,0,0,0,0]
[null,null,null,null,null,null,null,null,null,null,0,0,0,0,0,0,0,0,0,0,0,0,0,0,0,0,0,0,0,0,0,0,0,0,0,0,0,0,0,0]
[null,null,null,null,null,null,null,null,null,null,0,0,0,0,0,0,0,0,0,0,0,0,0,0,0,0,0,0,0,0,0,0,0,0,0,0,0,0,0,0]
["コンタミネーション","なし",null,null,null,null,null,null,null,null,{"$f":"IF(OR($B43=\"\",$B43=\"なし\"),0,LEN($B43)-LEN(SUBSTITUTE($B43, \"、\", \"\"))+1)","v":0},0,{"$f":"COUNTIF($B43,\"*\"&M$5&\"*\")","v":0},{"$f":"COUNTIF($B43,\"*\"&N$5&\"*\")","v":0},0,0,0,0,0,0,0,0,0,0,0,0,0,0,0,0,{"$f":"COUNTIF($B43,\"*\"&AE$5&\"*\")","v":0},0,0,0,0,0,0,0,0,0]
[null,null,null,null,null,null,null,null,null,null,0,0,{"$f":"COUNTIF($B44,\"*\"&M$5&\"*\")","v":0},0,0,0,0,0,0,0,0,0,0,0,0,0,0,0,0,0,0,0,0,0,0,0,0,0,0,0]
[null,null,null,null,null,null,null,null,null,null,0,0,0,0,0,0,0,0,0,0,0,0,0,0,0,0,0,0,0,0,0,0,0,0,0,0,0,0,0,0]
["特記事項"]
[]
[]
[null,"●　商品の終売・リニューアルの場合は成分等が変更になる場合があります。ご了承ください。"]
["製造元","Lamb　Weston　Meijer　Bergen op Zoom"]
[]
[{"$f":"一覧!$A$41","v":"オーエンス泉岳自然ふれあい館"}]

{"sheet":"食塩 ","index":23,"n_rows":52,"n_cols":40,"rows_kept":52,"cut":false,"hidden":false,"merged":[[51,0,51,8],[45,0,48,0],[45,1,45,8],[46,1,46,8],[47,1,47,8],[48,1,48,8],[49,0,50,0],[49,1,50,8],[40,1,40,4],[40,5,40,8],[41,1,41,4],[41,5,41,8],[42,0,44,0],[42,1,42,8],[43,1,43,8],[44,1,44,8],[37,1,37,4],[37,5,37,8],[38,1,38,4],[38,5,38,8],[39,1,39,4],[39,5,39,8],[34,1,34,4],[34,5,34,8],[35,1,35,4],[35,5,35,8],[36,1,36,4],[36,5,36,8],[31,1,31,4],[31,5,31,8],[32,1,32,4],[32,5,32,8],[33,1,33,4],[33,5,33,8],[28,1,28,4],[28,5,28,8],[29,1,29,4],[29,5,29,8],[30,1,30,4],[30,5,30,8],[25,1,25,4],[25,5,25,8],[26,1,26,4],[26,5,26,8],[27,1,27,4],[27,5,27,8],[22,1,22,4],[22,5,22,8],[23,1,23,4],[23,5,23,8],[24,1,24,4],[24,5,24,8],[19,1,19,4],[19,5,19,8],[20,1,20,4],[20,5,20,8],[21,1,21,4],[21,5,21,8],[16,1,16,4],[16,5,16,8],[17,1,17,4],[17,5,17,8],[18,1,18,4],[18,5,18,8],[13,1,13,4],[13,5,13,8],[14,1,14,4],[14,5,14,8],[15,1,15,4],[15,5,15,8],[10,1,10,4],[10,5,10,8],[11,1,11,4],[11,5,11,8],[12,1,12,4],[12,5,12,8],[1,1,1,8],[2,0,3,0],[2,1,3,7],[4,0,41,0],[4,1,4,4],[4,5,4,8],[5,1,5,4],[5,5,5,8],[6,1,6,4],[6,5,6,8],[7,1,7,4],[7,5,7,8],[8,1,8,4],[8,5,8,8],[9,1,9,4],[9,5,9,8]]}
["一覧へ"]
["シート名",{"$f":"RIGHT(CELL(\"filename\",A1),LEN(CELL(\"filename\",A1))-FIND(\"]\",CELL(\"filename\",A1)))","v":"食塩 "}]
["商品名","ベストシェフ　特精塩",null,null,null,null,null,null,"作成日"]
[null,null,null,null,null,null,null,null,{"$f":"一覧!$D$1","v":"2023-03-01"}]
["原材料","原材料名",null,null,null,"28品目アレルゲン",null,null,null,null,"個数①","計",{"$f":"一覧!D5","v":"小麦"},{"$f":"一覧!E5","v":"卵"},{"$f":"一覧!F5","v":"乳"},{"$f":"一覧!G5","v":"そば"},{"$f":"一覧!H5","v":"落花生"},{"$f":"一覧!I5","v":"えび"},{"$f":"一覧!J5","v":"かに"},{"$f":"一覧!K5","v":"ごま"},{"$f":"一覧!L5","v":"くるみ"},{"$f":"一覧!M5","v":"カシュ"},{"$f":"一覧!N5","v":"アーモンド"},{"$f":"一覧!O5","v":"キウイ"},{"$f":"一覧!P5","v":"もも"},{"$f":"一覧!Q5","v":"リンゴ"},{"$f":"一覧!R5","v":"バナナ"},{"$f":"一覧!S5","v":"オレンジ"},{"$f":"一覧!T5","v":"いか"},{"$f":"一覧!U5","v":"いくら"},{"$f":"一覧!V5","v":"さけ"},{"$f":"一覧!W5","v":"さば"},{"$f":"一覧!X5","v":"大豆"},{"$f":"一覧!Y5","v":"鶏肉"},{"$f":"一覧!Z5","v":"豚肉"},{"$f":"一覧!AA5","v":"牛肉"},{"$f":"一覧!AB5","v":"まつたけ"},{"$f":"一覧!AC5","v":"やまいも"},{"$f":"一覧!AD5","v":"ゼラチン"},{"$f":"一覧!AE5","v":"あわび"}]
[null,"天日塩",null,null,null,null,null,null,null,null,{"$f":"IF(F6=\"\",0,LEN(F6)-LEN(SUBSTITUTE(F6, \"、\", \"\"))+1)","v":0},{"$f":"SUM(M6:AN6)","v":0},{"$f":"COUNTIF($F6,\"*\"&M$5&\"*\")","v":0},{"$f":"COUNTIF($F6,\"*\"&N$5&\"*\")","v":0},0,0,0,0,0,0,0,0,0,0,0,0,0,0,0,0,0,0,0,0,0,0,0,0,0,0]
[null,"リン酸カルシウム",null,null,null,null,null,null,null,null,{"$f":"IF(F7=\"\",0,LEN(F7)-LEN(SUBSTITUTE(F7, \"、\", \"\"))+1)","v":0},{"$f":"SUM(M7:AN7)","v":0},{"$f":"COUNTIF($F7,\"*\"&M$5&\"*\")","v":0},0,0,0,0,0,0,0,0,0,0,0,0,0,0,0,0,0,0,0,0,0,0,0,0,0,0,0]
[null,null,null,null,null,null,null,null,null,null,0,0,0,0,0,0,0,0,0,0,0,0,0,0,0,0,0,0,0,0,0,0,0,0,0,0,0,0,0,0]
[null,null,null,null,null,null,null,null,null,null,0,0,0,0,0,0,0,0,0,0,0,0,0,0,0,0,0,0,0,0,0,0,0,0,0,0,0,0,0,0]
[null,null,null,null,null,null,null,null,null,null,0,0,0,0,0,0,0,0,0,0,0,0,0,0,0,0,0,0,0,0,0,0,0,0,0,0,0,0,0,0]
[null,null,null,null,null,null,null,null,null,null,0,0,0,0,0,0,0,0,0,0,0,0,0,0,0,0,0,0,0,0,0,0,0,0,0,0,0,0,0,0]
[null,null,null,null,null,null,null,null,null,null,0,0,0,0,0,0,0,0,0,0,0,0,0,0,0,0,0,0,0,0,0,0,0,0,0,0,0,0,0,0]
[null,null,null,null,null,null,null,null,null,null,0,0,0,0,0,0,0,0,0,0,0,0,0,0,0,0,0,0,0,0,0,0,0,0,0,0,0,0,0,0]
[null,null,null,null,null,null,null,null,null,null,0,0,0,0,0,0,0,0,0,0,0,0,0,0,0,0,0,0,0,0,0,0,0,0,0,0,0,0,0,0]
[null,null,null,null,null,null,null,null,null,null,0,0,0,0,0,0,0,0,0,0,0,0,0,0,0,{"$f":"COUNTIF($F15,\"*\"&Z$5&\"*\")","v":0},0,0,0,0,0,0,0,0,0,0,0,0,0,0]
[null,null,null,null,null,null,null,null,null,null,0,0,0,0,0,0,0,0,0,0,0,0,0,0,0,0,0,0,0,0,0,0,0,0,0,0,0,0,0,0]
[null,null,null,null,null,null,null,null,null,null,0,0,0,0,0,0,0,0,0,0,0,0,0,0,0,0,0,0,0,0,0,0,0,0,0,0,0,0,0,0]
[null,null,null,null,null,null,null,null,null,null,0,0,0,0,0,0,0,0,0,0,0,0,0,0,0,0,0,0,0,0,0,0,0,0,0,0,0,0,0,0]
[null,null,null,null,null,null,null,null,null,null,0,0,0,0,0,0,0,0,0,0,0,0,0,0,0,0,0,0,0,0,0,0,0,0,0,0,0,0,0,0]
[null,null,null,null,null,null,null,null,null,null,0,0,0,0,0,0,0,0,0,0,0,0,0,0,0,0,0,0,0,0,0,0,0,0,0,0,0,0,0,0]
[null,null,null,null,null,null,null,null,null,null,0,0,0,0,0,0,0,0,0,0,0,0,0,0,0,0,0,0,0,0,0,0,0,0,0,0,0,0,0,0]
[null,null,null,null,null,null,null,null,null,null,0,0,0,0,0,0,0,0,0,0,0,0,0,0,0,0,0,0,0,0,0,0,0,0,0,0,0,0,0,0]
[null,null,null,null,null,null,null,null,null,null,0,0,0,0,0,0,0,0,0,0,0,0,0,0,0,0,0,0,0,0,0,0,0,0,0,0,0,0,0,0]
[null,null,null,null,null,null,null,null,null,null,0,0,0,0,0,0,0,0,0,0,0,0,0,0,0,0,0,0,0,0,0,0,0,0,0,0,0,0,0,0]
[null,null,null,null,null,null,null,null,null,null,0,0,0,0,0,0,0,0,0,0,0,0,0,0,0,0,0,0,0,0,0,0,0,0,0,0,0,0,0,0]
[null,null,null,null,null,null,null,null,null,null,0,0,0,0,0,0,0,0,0,0,0,0,0,0,0,0,0,0,0,0,0,0,0,0,0,0,0,0,0,0]
[null,null,null,null,null,null,null,null,null,null,0,0,0,0,0,0,0,0,0,0,0,0,0,0,0,0,0,0,0,0,0,0,0,0,0,0,0,0,0,0]
[null,null,null,null,null,null,null,null,null,null,0,0,0,0,0,0,0,0,0,0,0,0,0,0,0,0,0,0,0,0,0,0,0,0,0,0,0,0,0,0]
[null,null,null,null,null,null,null,null,null,null,0,0,0,0,0,0,0,0,0,0,0,0,0,0,0,0,0,0,0,0,0,0,0,0,0,0,0,0,0,0]
[null,null,null,null,null,null,null,null,null,null,0,0,0,0,0,0,0,0,0,0,{"$f":"COUNTIF($F30,\"*\"&U$5&\"*\")","v":0},0,0,0,0,0,0,0,0,0,0,0,0,0,0,0,0,0,0,0]
[null,null,null,null,null,null,null,null,null,null,0,0,{"$f":"COUNTIF($F31,\"*\"&M$5&\"*\")","v":0},0,0,0,0,0,0,0,0,0,0,0,0,0,0,0,0,{"$f":"COUNTIF($F31,\"*\"&AD$5&\"*\")","v":0},0,0,0,0,0,0,0,0,0,0]
[null,null,null,null,null,null,null,null,null,null,0,0,0,0,0,0,0,0,0,0,0,0,0,0,0,0,0,0,0,0,0,0,0,0,0,0,0,0,0,0]
[null,null,null,null,null,null,null,null,null,null,0,0,0,0,0,0,0,0,0,0,0,0,0,0,0,0,0,0,0,0,0,0,0,0,0,0,0,0,0,0]
[null,null,null,null,null,null,null,null,null,null,0,0,0,0,0,0,0,0,0,0,0,0,0,0,0,0,0,0,0,0,0,0,0,0,0,0,0,0,0,0]
[null,null,null,null,null,null,null,null,null,null,0,0,0,0,0,0,0,0,0,0,0,0,0,0,0,0,0,0,0,0,0,0,0,0,0,0,0,0,0,0]
[null,null,null,null,null,null,null,null,null,null,0,0,0,0,0,0,0,0,0,0,0,0,0,0,0,0,0,0,0,0,0,0,0,0,0,0,0,0,0,0]
[null,null,null,null,null,null,null,null,null,null,0,0,0,0,0,0,0,0,0,0,0,0,0,0,0,0,0,0,0,0,0,0,0,0,0,0,0,0,0,0]
[null,null,null,null,null,null,null,null,null,null,0,0,0,0,0,0,0,0,0,0,0,0,0,0,0,0,0,0,0,0,0,0,0,0,0,0,0,0,0,0]
[null,null,null,null,null,null,null,null,null,null,0,0,0,0,0,0,0,0,0,0,0,0,0,0,0,0,0,0,0,0,0,0,0,0,0,0,0,0,0,0]
[null,null,null,null,null,null,null,null,null,null,0,0,0,0,0,0,0,0,0,0,0,0,0,0,0,0,0,0,0,0,0,0,0,0,0,0,0,0,0,0]
[null,null,null,null,null,null,null,null,null,null,0,0,0,0,0,0,0,0,0,0,0,0,0,0,0,0,0,0,0,0,0,0,0,0,0,0,0,0,0,0]
[null,null,null,null,null,null,null,null,null,null,0,0,0,0,0,0,0,0,0,0,0,0,0,0,0,0,0,0,0,0,0,0,0,0,0,0,0,0,0,0]
["コンタミネーション","なし",null,null,null,null,null,null,null,null,{"$f":"IF(OR($B43=\"\",$B43=\"なし\"),0,LEN($B43)-LEN(SUBSTITUTE($B43, \"、\", \"\"))+1)","v":0},0,{"$f":"COUNTIF($B43,\"*\"&M$5&\"*\")","v":0},{"$f":"COUNTIF($B43,\"*\"&N$5&\"*\")","v":0},0,0,0,0,0,0,0,0,0,0,0,0,0,0,0,0,{"$f":"COUNTIF($B43,\"*\"&AE$5&\"*\")","v":0},0,0,0,0,0,0,0,0,0]
[null,null,null,null,null,null,null,null,null,null,{"$f":"IF(OR($B44=\"\",$B44=\"なし\"),0,LEN($B44)-LEN(SUBSTITUTE($B44, \"、\", \"\"))+1)","v":0},0,{"$f":"COUNTIF($B44,\"*\"&M$5&\"*\")","v":0},0,0,0,0,0,0,0,0,0,0,0,0,0,0,0,0,0,0,0,0,0,0,0,0,0,0,0]
[null,null,null,null,null,null,null,null,null,null,0,0,0,0,0,0,0,0,0,0,0,0,0,0,0,0,0,0,0,0,0,0,0,0,0,0,0,0,0,0]
["特記事項"]
[]
[]
[null,"●　商品の終売・リニューアルの場合は成分等が変更になる場合があります。ご了承ください。"]
["製造元","髙瀬物産株式会社"]
[]
[{"$f":"一覧!$A$41","v":"オーエンス泉岳自然ふれあい館"}]

{"sheet":"キャノーラ油","index":24,"n_rows":52,"n_cols":40,"rows_kept":52,"cut":false,"hidden":false,"merged":[[1,1,1,8],[2,0,3,0],[2,1,3,7],[4,0,41,0],[4,1,4,4],[4,5,4,8],[5,1,5,4],[5,5,5,8],[6,1,6,4],[6,5,6,8],[7,1,7,4],[7,5,7,8],[8,1,8,4],[8,5,8,8],[9,1,9,4],[9,5,9,8],[10,1,10,4],[10,5,10,8],[11,1,11,4],[11,5,11,8],[12,1,12,4],[12,5,12,8],[13,1,13,4],[13,5,13,8],[14,1,14,4],[14,5,14,8],[15,1,15,4],[15,5,15,8],[16,1,16,4],[16,5,16,8],[17,1,17,4],[17,5,17,8],[18,1,18,4],[18,5,18,8],[19,1,19,4],[19,5,19,8],[20,1,20,4],[20,5,20,8],[21,1,21,4],[21,5,21,8],[22,1,22,4],[22,5,22,8],[23,1,23,4],[23,5,23,8],[24,1,24,4],[24,5,24,8],[25,1,25,4],[25,5,25,8],[26,1,26,4],[26,5,26,8],[27,1,27,4],[27,5,27,8],[28,1,28,4],[28,5,28,8],[29,1,29,4],[29,5,29,8],[30,1,30,4],[30,5,30,8],[31,1,31,4],[31,5,31,8],[32,1,32,4],[32,5,32,8],[33,1,33,4],[33,5,33,8],[34,1,34,4],[34,5,34,8],[35,1,35,4],[35,5,35,8],[36,1,36,4],[36,5,36,8],[37,1,37,4],[37,5,37,8],[38,1,38,4],[38,5,38,8],[39,1,39,4],[39,5,39,8],[40,1,40,4],[40,5,40,8],[41,1,41,4],[41,5,41,8],[42,0,44,0],[42,1,42,8],[43,1,43,8],[44,1,44,8],[51,0,51,8],[45,0,48,0],[45,1,45,8],[46,1,46,8],[47,1,47,8],[48,1,48,8],[49,0,50,0],[49,1,50,8]]}
["一覧へ"]
["シート名",{"$f":"RIGHT(CELL(\"filename\",A1),LEN(CELL(\"filename\",A1))-FIND(\"]\",CELL(\"filename\",A1)))","v":"キャノーラ油"}]
["商品名","ベストシェフ　キャノーラ油",null,null,null,null,null,null,"作成日"]
[null,null,null,null,null,null,null,null,{"$f":"一覧!$D$1","v":"2023-03-01"}]
["原材料","原材料名",null,null,null,"28品目アレルゲン",null,null,null,null,"個数①","計",{"$f":"一覧!D5","v":"小麦"},{"$f":"一覧!E5","v":"卵"},{"$f":"一覧!F5","v":"乳"},{"$f":"一覧!G5","v":"そば"},{"$f":"一覧!H5","v":"落花生"},{"$f":"一覧!I5","v":"えび"},{"$f":"一覧!J5","v":"かに"},{"$f":"一覧!K5","v":"ごま"},{"$f":"一覧!L5","v":"くるみ"},{"$f":"一覧!M5","v":"カシュ"},{"$f":"一覧!N5","v":"アーモンド"},{"$f":"一覧!O5","v":"キウイ"},{"$f":"一覧!P5","v":"もも"},{"$f":"一覧!Q5","v":"リンゴ"},{"$f":"一覧!R5","v":"バナナ"},{"$f":"一覧!S5","v":"オレンジ"},{"$f":"一覧!T5","v":"いか"},{"$f":"一覧!U5","v":"いくら"},{"$f":"一覧!V5","v":"さけ"},{"$f":"一覧!W5","v":"さば"},{"$f":"一覧!X5","v":"大豆"},{"$f":"一覧!Y5","v":"鶏肉"},{"$f":"一覧!Z5","v":"豚肉"},{"$f":"一覧!AA5","v":"牛肉"},{"$f":"一覧!AB5","v":"まつたけ"},{"$f":"一覧!AC5","v":"やまいも"},{"$f":"一覧!AD5","v":"ゼラチン"},{"$f":"一覧!AE5","v":"あわび"}]
[null,"食用なたね油",null,null,null,null,null,null,null,null,{"$f":"IF(F6=\"\",0,LEN(F6)-LEN(SUBSTITUTE(F6, \"、\", \"\"))+1)","v":0},{"$f":"SUM(M6:AN6)","v":0},{"$f":"COUNTIF($F6,\"*\"&M$5&\"*\")","v":0},{"$f":"COUNTIF($F6,\"*\"&N$5&\"*\")","v":0},0,0,0,0,0,0,0,0,0,0,0,0,0,0,0,0,0,0,0,0,0,0,0,0,0,0]
[null,"シリコーン",null,null,null,null,null,null,null,null,{"$f":"IF(F7=\"\",0,LEN(F7)-LEN(SUBSTITUTE(F7, \"、\", \"\"))+1)","v":0},{"$f":"SUM(M7:AN7)","v":0},{"$f":"COUNTIF($F7,\"*\"&M$5&\"*\")","v":0},0,0,0,0,0,0,0,0,0,0,0,0,0,0,0,0,0,0,0,0,0,0,0,0,0,0,0]
[null,null,null,null,null,null,null,null,null,null,0,0,0,0,0,0,0,0,0,0,0,0,0,0,0,0,0,0,0,0,0,0,0,0,0,0,0,0,0,0]
[null,null,null,null,null,null,null,null,null,null,0,0,0,0,0,0,0,0,0,0,0,0,0,0,0,0,0,0,0,0,0,0,0,0,0,0,0,0,0,0]
[null,null,null,null,null,null,null,null,null,null,0,0,0,0,0,0,0,0,0,0,0,0,0,0,0,0,0,0,0,0,0,0,0,0,0,0,0,0,0,0]
[null,null,null,null,null,null,null,null,null,null,0,0,0,0,0,0,0,0,0,0,0,0,0,0,0,0,0,0,0,0,0,0,0,0,0,0,0,0,0,0]
[null,null,null,null,null,null,null,null,null,null,0,0,0,0,0,0,0,0,0,0,0,0,0,0,0,0,0,0,0,0,0,0,0,0,0,0,0,0,0,0]
[null,null,null,null,null,null,null,null,null,null,0,0,0,0,0,0,0,0,0,0,0,0,0,0,0,0,0,0,0,0,0,0,0,0,0,0,0,0,0,0]
[null,null,null,null,null,null,null,null,null,null,0,0,0,0,0,0,0,0,0,0,0,0,0,0,0,0,0,0,0,0,0,0,0,0,0,0,0,0,0,0]
[null,null,null,null,null,null,null,null,null,null,0,0,0,0,0,0,0,0,0,0,0,0,0,0,0,{"$f":"COUNTIF($F15,\"*\"&Z$5&\"*\")","v":0},0,0,0,0,0,0,0,0,0,0,0,0,0,0]
[null,null,null,null,null,null,null,null,null,null,0,0,0,0,0,0,0,0,0,0,0,0,0,0,0,0,0,0,0,0,0,0,0,0,0,0,0,0,0,0]
[null,null,null,null,null,null,null,null,null,null,0,0,0,0,0,0,0,0,0,0,0,0,0,0,0,0,0,0,0,0,0,0,0,0,0,0,0,0,0,0]
[null,null,null,null,null,null,null,null,null,null,0,0,0,0,0,0,0,0,0,0,0,0,0,0,0,0,0,0,0,0,0,0,0,0,0,0,0,0,0,0]
[null,null,null,null,null,null,null,null,null,null,0,0,0,0,0,0,0,0,0,0,0,0,0,0,0,0,0,0,0,0,0,0,0,0,0,0,0,0,0,0]
[null,null,null,null,null,null,null,null,null,null,0,0,0,0,0,0,0,0,0,0,0,0,0,0,0,0,0,0,0,0,0,0,0,0,0,0,0,0,0,0]
[null,null,null,null,null,null,null,null,null,null,0,0,0,0,0,0,0,0,0,0,0,0,0,0,0,0,0,0,0,0,0,0,0,0,0,0,0,0,0,0]
[null,null,null,null,null,null,null,null,null,null,0,0,0,0,0,0,0,0,0,0,0,0,0,0,0,0,0,0,0,0,0,0,0,0,0,0,0,0,0,0]
[null,null,null,null,null,null,null,null,null,null,0,0,0,0,0,0,0,0,0,0,0,0,0,0,0,0,0,0,0,0,0,0,0,0,0,0,0,0,0,0]
[null,null,null,null,null,null,null,null,null,null,0,0,0,0,0,0,0,0,0,0,0,0,0,0,0,0,0,0,0,0,0,0,0,0,0,0,0,0,0,0]
[null,null,null,null,null,null,null,null,null,null,0,0,0,0,0,0,0,0,0,0,0,0,0,0,0,0,0,0,0,0,0,0,0,0,0,0,0,0,0,0]
[null,null,null,null,null,null,null,null,null,null,0,0,0,0,0,0,0,0,0,0,0,0,0,0,0,0,0,0,0,0,0,0,0,0,0,0,0,0,0,0]
[null,null,null,null,null,null,null,null,null,null,0,0,0,0,0,0,0,0,0,0,0,0,0,0,0,0,0,0,0,0,0,0,0,0,0,0,0,0,0,0]
[null,null,null,null,null,null,null,null,null,null,0,0,0,0,0,0,0,0,0,0,0,0,0,0,0,0,0,0,0,0,0,0,0,0,0,0,0,0,0,0]
[null,null,null,null,null,null,null,null,null,null,0,0,0,0,0,0,0,0,0,0,0,0,0,0,0,0,0,0,0,0,0,0,0,0,0,0,0,0,0,0]
[null,null,null,null,null,null,null,null,null,null,0,0,0,0,0,0,0,0,0,0,{"$f":"COUNTIF($F30,\"*\"&U$5&\"*\")","v":0},0,0,0,0,0,0,0,0,0,0,0,0,0,0,0,0,0,0,0]
[null,null,null,null,null,null,null,null,null,null,0,0,{"$f":"COUNTIF($F31,\"*\"&M$5&\"*\")","v":0},0,0,0,0,0,0,0,0,0,0,0,0,0,0,0,0,{"$f":"COUNTIF($F31,\"*\"&AD$5&\"*\")","v":0},0,0,0,0,0,0,0,0,0,0]
[null,null,null,null,null,null,null,null,null,null,0,0,0,0,0,0,0,0,0,0,0,0,0,0,0,0,0,0,0,0,0,0,0,0,0,0,0,0,0,0]
[null,null,null,null,null,null,null,null,null,null,0,0,0,0,0,0,0,0,0,0,0,0,0,0,0,0,0,0,0,0,0,0,0,0,0,0,0,0,0,0]
[null,null,null,null,null,null,null,null,null,null,0,0,0,0,0,0,0,0,0,0,0,0,0,0,0,0,0,0,0,0,0,0,0,0,0,0,0,0,0,0]
[null,null,null,null,null,null,null,null,null,null,0,0,0,0,0,0,0,0,0,0,0,0,0,0,0,0,0,0,0,0,0,0,0,0,0,0,0,0,0,0]
[null,null,null,null,null,null,null,null,null,null,0,0,0,0,0,0,0,0,0,0,0,0,0,0,0,0,0,0,0,0,0,0,0,0,0,0,0,0,0,0]
[null,null,null,null,null,null,null,null,null,null,0,0,0,0,0,0,0,0,0,0,0,0,0,0,0,0,0,0,0,0,0,0,0,0,0,0,0,0,0,0]
[null,null,null,null,null,null,null,null,null,null,0,0,0,0,0,0,0,0,0,0,0,0,0,0,0,0,0,0,0,0,0,0,0,0,0,0,0,0,0,0]
[null,null,null,null,null,null,null,null,null,null,0,0,0,0,0,0,0,0,0,0,0,0,0,0,0,0,0,0,0,0,0,0,0,0,0,0,0,0,0,0]
[null,null,null,null,null,null,null,null,null,null,0,0,0,0,0,0,0,0,0,0,0,0,0,0,0,0,0,0,0,0,0,0,0,0,0,0,0,0,0,0]
[null,null,null,null,null,null,null,null,null,null,0,0,0,0,0,0,0,0,0,0,0,0,0,0,0,0,0,0,0,0,0,0,0,0,0,0,0,0,0,0]
[null,null,null,null,null,null,null,null,null,null,0,0,0,0,0,0,0,0,0,0,0,0,0,0,0,0,0,0,0,0,0,0,0,0,0,0,0,0,0,0]
["コンタミネーション","なし",null,null,null,null,null,null,null,null,{"$f":"IF(OR($B43=\"\",$B43=\"なし\"),0,LEN($B43)-LEN(SUBSTITUTE($B43, \"、\", \"\"))+1)","v":0},0,{"$f":"COUNTIF($B43,\"*\"&M$5&\"*\")","v":0},{"$f":"COUNTIF($B43,\"*\"&N$5&\"*\")","v":0},0,0,0,0,0,0,0,0,0,0,0,0,0,0,0,0,{"$f":"COUNTIF($B43,\"*\"&AE$5&\"*\")","v":0},0,0,0,0,0,0,0,0,0]
[null,null,null,null,null,null,null,null,null,null,0,0,{"$f":"COUNTIF($B44,\"*\"&M$5&\"*\")","v":0},0,0,0,0,0,0,0,0,0,0,0,0,0,0,0,0,0,0,0,0,0,0,0,0,0,0,0]
[null,null,null,null,null,null,null,null,null,null,0,0,0,0,0,0,0,0,0,0,0,0,0,0,0,0,0,0,0,0,0,0,0,0,0,0,0,0,0,0]
["特記事項"]
[]
[]
[null,"●　商品の終売・リニューアルの場合は成分等が変更になる場合があります。ご了承ください。"]
["製造元","髙瀬物産株式会社"]
[]
[{"$f":"一覧!$A$41","v":"オーエンス泉岳自然ふれあい館"}]

{"sheet":"ミニグラタン","index":25,"n_rows":52,"n_cols":40,"rows_kept":52,"cut":false,"hidden":false,"merged":[[1,1,1,8],[2,0,3,0],[2,1,3,7],[4,0,41,0],[4,1,4,4],[4,5,4,8],[5,1,5,4],[5,5,5,8],[6,1,6,4],[6,5,6,8],[7,1,7,4],[7,5,7,8],[8,1,8,4],[8,5,8,8],[9,1,9,4],[9,5,9,8],[10,1,10,4],[10,5,10,8],[11,1,11,4],[11,5,11,8],[12,1,12,4],[12,5,12,8],[13,1,13,4],[13,5,13,8],[14,1,14,4],[14,5,14,8],[15,1,15,4],[15,5,15,8],[16,1,16,4],[16,5,16,8],[17,1,17,4],[17,5,17,8],[18,1,18,4],[18,5,18,8],[19,1,19,4],[19,5,19,8],[20,1,20,4],[20,5,20,8],[21,1,21,4],[21,5,21,8],[22,1,22,4],[22,5,22,8],[23,1,23,4],[23,5,23,8],[24,1,24,4],[24,5,24,8],[25,1,25,4],[25,5,25,8],[26,1,26,4],[26,5,26,8],[27,1,27,4],[27,5,27,8],[28,1,28,4],[28,5,28,8],[29,1,29,4],[29,5,29,8],[30,1,30,4],[30,5,30,8],[31,1,31,4],[31,5,31,8],[32,1,32,4],[32,5,32,8],[33,1,33,4],[33,5,33,8],[34,1,34,4],[34,5,34,8],[35,1,35,4],[35,5,35,8],[36,1,36,4],[36,5,36,8],[37,1,37,4],[37,5,37,8],[38,1,38,4],[38,5,38,8],[39,1,39,4],[39,5,39,8],[40,1,40,4],[40,5,40,8],[41,1,41,4],[41,5,41,8],[42,0,44,0],[42,1,42,8],[43,1,43,8],[44,1,44,8],[51,0,51,8],[45,0,48,0],[45,1,45,8],[46,1,46,8],[47,1,47,8],[48,1,48,8],[49,0,50,0],[49,1,50,8]]}
["一覧へ"," "]
["シート名",{"$f":"RIGHT(CELL(\"filename\",A1),LEN(CELL(\"filename\",A1))-FIND(\"]\",CELL(\"filename\",A1)))","v":"ミニグラタン"}]
["商品名","フラワーグラタン（ほうれん草&ベーコン）",null,null,null,null,null,null,"作成日"]
[null,null,null,null,null,null,null,null,{"$f":"一覧!$D$1","v":"2023-03-01"}]
["原材料","原材料名",null,null,null,"28品目アレルゲン",null,null,null,null,"個数①","計",{"$f":"一覧!D5","v":"小麦"},{"$f":"一覧!E5","v":"卵"},{"$f":"一覧!F5","v":"乳"},{"$f":"一覧!G5","v":"そば"},{"$f":"一覧!H5","v":"落花生"},{"$f":"一覧!I5","v":"えび"},{"$f":"一覧!J5","v":"かに"},{"$f":"一覧!K5","v":"ごま"},{"$f":"一覧!L5","v":"くるみ"},{"$f":"一覧!M5","v":"カシュ"},{"$f":"一覧!N5","v":"アーモンド"},{"$f":"一覧!O5","v":"キウイ"},{"$f":"一覧!P5","v":"もも"},{"$f":"一覧!Q5","v":"リンゴ"},{"$f":"一覧!R5","v":"バナナ"},{"$f":"一覧!S5","v":"オレンジ"},{"$f":"一覧!T5","v":"いか"},{"$f":"一覧!U5","v":"いくら"},{"$f":"一覧!V5","v":"さけ"},{"$f":"一覧!W5","v":"さば"},{"$f":"一覧!X5","v":"大豆"},{"$f":"一覧!Y5","v":"鶏肉"},{"$f":"一覧!Z5","v":"豚肉"},{"$f":"一覧!AA5","v":"牛肉"},{"$f":"一覧!AB5","v":"まつたけ"},{"$f":"一覧!AC5","v":"やまいも"},{"$f":"一覧!AD5","v":"ゼラチン"},{"$f":"一覧!AE5","v":"あわび"}]
[null,"脱脂粉乳",null,null,null,"乳",null,null,null,null,{"$f":"IF(F6=\"\",0,LEN(F6)-LEN(SUBSTITUTE(F6, \"、\", \"\"))+1)","v":1},{"$f":"SUM(M6:AN6)","v":1},{"$f":"COUNTIF($F6,\"*\"&M$5&\"*\")","v":0},{"$f":"COUNTIF($F6,\"*\"&N$5&\"*\")","v":0},1,0,0,0,0,0,0,0,0,0,0,0,0,0,0,0,0,0,0,0,0,0,0,0,0,0]
[null,"ベシャメルソース",null,null,null,"乳、小麦",null,null,null,null,{"$f":"IF(F7=\"\",0,LEN(F7)-LEN(SUBSTITUTE(F7, \"、\", \"\"))+1)","v":2},{"$f":"SUM(M7:AN7)","v":2},{"$f":"COUNTIF($F7,\"*\"&M$5&\"*\")","v":1},0,1,0,0,0,0,0,0,0,0,0,0,0,0,0,0,0,0,0,0,0,0,0,0,0,0,0]
[null,"（小麦粉、食物油脂、バター）",null,null,null,null,null,null,null,null,0,0,0,0,0,0,0,0,0,0,0,0,0,0,0,0,0,0,0,0,0,0,0,0,0,0,0,0,0,0]
[null,"マカロニ（乾）",null,null,null,"小麦",null,null,null,null,1,1,1,0,0,0,0,0,0,0,0,0,0,0,0,0,0,0,0,0,0,0,0,0,0,0,0,0,0,0]
[null,"ほうれんそう",null,null,null,null,null,null,null,null,0,0,0,0,0,0,0,0,0,0,0,0,0,0,0,0,0,0,0,0,0,0,0,0,0,0,0,0,0,0]
[null,"無塩せきベーコン",null,null,null,"豚肉",null,null,null,null,1,1,0,0,0,0,0,0,0,0,0,0,0,0,0,0,0,0,0,0,0,0,0,0,1,0,0,0,0,0]
[null,"たまねぎ",null,null,null,null,null,null,null,null,0,0,0,0,0,0,0,0,0,0,0,0,0,0,0,0,0,0,0,0,0,0,0,0,0,0,0,0,0,0]
[null,"スイートコーン",null,null,null,null,null,null,null,null,0,0,0,0,0,0,0,0,0,0,0,0,0,0,0,0,0,0,0,0,0,0,0,0,0,0,0,0,0,0]
[null,"マッシュポテト",null,null,null,null,null,null,null,null,0,0,0,0,0,0,0,0,0,0,0,0,0,0,0,0,0,0,0,0,0,0,0,0,0,0,0,0,0,0]
[null,"マーガリン",null,null,null,"大豆",null,null,null,null,1,1,0,0,0,0,0,0,0,0,0,0,0,0,0,{"$f":"COUNTIF($F15,\"*\"&Z$5&\"*\")","v":0},0,0,0,0,0,0,1,0,0,0,0,0,0,0]
[null,"食塩",null,null,null,null,null,null,null,null,0,0,0,0,0,0,0,0,0,0,0,0,0,0,0,0,0,0,0,0,0,0,0,0,0,0,0,0,0,0]
[null,"バター",null,null,null,"乳",null,null,null,null,1,1,0,0,1,0,0,0,0,0,0,0,0,0,0,0,0,0,0,0,0,0,0,0,0,0,0,0,0,0]
[null,"酵母エキス",null,null,null,null,null,null,null,null,0,0,0,0,0,0,0,0,0,0,0,0,0,0,0,0,0,0,0,0,0,0,0,0,0,0,0,0,0,0]
[null,"香辛料",null,null,null,null,null,null,null,null,0,0,0,0,0,0,0,0,0,0,0,0,0,0,0,0,0,0,0,0,0,0,0,0,0,0,0,0,0,0]
[null,"水",null,null,null,null,null,null,null,null,0,0,0,0,0,0,0,0,0,0,0,0,0,0,0,0,0,0,0,0,0,0,0,0,0,0,0,0,0,0]
[null,"（使用添加物）",null,null,null,null,null,null,null,null,0,0,0,0,0,0,0,0,0,0,0,0,0,0,0,0,0,0,0,0,0,0,0,0,0,0,0,0,0,0]
[null,"増粘剤（加工デンプン）",null,null,null,null,null,null,null,null,0,0,0,0,0,0,0,0,0,0,0,0,0,0,0,0,0,0,0,0,0,0,0,0,0,0,0,0,0,0]
[null,"紅麴色素",null,null,null,null,null,null,null,null,0,0,0,0,0,0,0,0,0,0,0,0,0,0,0,0,0,0,0,0,0,0,0,0,0,0,0,0,0,0]
[null,null,null,null,null,null,null,null,null,null,0,0,0,0,0,0,0,0,0,0,0,0,0,0,0,0,0,0,0,0,0,0,0,0,0,0,0,0,0,0]
[null,null,null,null,null,null,null,null,null,null,0,0,0,0,0,0,0,0,0,0,0,0,0,0,0,0,0,0,0,0,0,0,0,0,0,0,0,0,0,0]
[null,null,null,null,null,null,null,null,null,null,0,0,0,0,0,0,0,0,0,0,0,0,0,0,0,0,0,0,0,0,0,0,0,0,0,0,0,0,0,0]
[null,null,null,null,null,null,null,null,null,null,0,0,0,0,0,0,0,0,0,0,0,0,0,0,0,0,0,0,0,0,0,0,0,0,0,0,0,0,0,0]
[null,null,null,null,null,null,null,null,null,null,0,0,0,0,0,0,0,0,0,0,0,0,0,0,0,0,0,0,0,0,0,0,0,0,0,0,0,0,0,0]
[null,null,null,null,null,null,null,null,null,null,0,0,0,0,0,0,0,0,0,0,0,0,0,0,0,0,0,0,0,0,0,0,0,0,0,0,0,0,0,0]
[null,null,null,null,null,null,null,null,null,null,0,0,0,0,0,0,0,0,0,0,{"$f":"COUNTIF($F30,\"*\"&U$5&\"*\")","v":0},0,0,0,0,0,0,0,0,0,0,0,0,0,0,0,0,0,0,0]
[null,null,null,null,null,null,null,null,null,null,0,0,{"$f":"COUNTIF($F31,\"*\"&M$5&\"*\")","v":0},0,0,0,0,0,0,0,0,0,0,0,0,0,0,0,0,{"$f":"COUNTIF($F31,\"*\"&AD$5&\"*\")","v":0},0,0,0,0,0,0,0,0,0,0]
[null,null,null,null,null,null,null,null,null,null,0,0,0,0,0,0,0,0,0,0,0,0,0,0,0,0,0,0,0,0,0,0,0,0,0,0,0,0,0,0]
[null,null,null,null,null,null,null,null,null,null,0,0,0,0,0,0,0,0,0,0,0,0,0,0,0,0,0,0,0,0,0,0,0,0,0,0,0,0,0,0]
[null,null,null,null,null,null,null,null,null,null,0,0,0,0,0,0,0,0,0,0,0,0,0,0,0,0,0,0,0,0,0,0,0,0,0,0,0,0,0,0]
[null,null,null,null,null,null,null,null,null,null,0,0,0,0,0,0,0,0,0,0,0,0,0,0,0,0,0,0,0,0,0,0,0,0,0,0,0,0,0,0]
[null,null,null,null,null,null,null,null,null,null,0,0,0,0,0,0,0,0,0,0,0,0,0,0,0,0,0,0,0,0,0,0,0,0,0,0,0,0,0,0]
[null,null,null,null,null,null,null,null,null,null,0,0,0,0,0,0,0,0,0,0,0,0,0,0,0,0,0,0,0,0,0,0,0,0,0,0,0,0,0,0]
[null,null,null,null,null,null,null,null,null,null,0,0,0,0,0,0,0,0,0,0,0,0,0,0,0,0,0,0,0,0,0,0,0,0,0,0,0,0,0,0]
[null,null,null,null,null,null,null,null,null,null,0,0,0,0,0,0,0,0,0,0,0,0,0,0,0,0,0,0,0,0,0,0,0,0,0,0,0,0,0,0]
[null,null,null,null,null,null,null,null,null,null,0,0,0,0,0,0,0,0,0,0,0,0,0,0,0,0,0,0,0,0,0,0,0,0,0,0,0,0,0,0]
[null,null,null,null,null,null,null,null,null,null,0,0,0,0,0,0,0,0,0,0,0,0,0,0,0,0,0,0,0,0,0,0,0,0,0,0,0,0,0,0]
[null,null,null,null,null,null,null,null,null,null,0,0,0,0,0,0,0,0,0,0,0,0,0,0,0,0,0,0,0,0,0,0,0,0,0,0,0,0,0,0]
["コンタミネーション","なし",null,null,null,null,null,null,null,null,{"$f":"IF(OR($B43=\"\",$B43=\"なし\"),0,LEN($B43)-LEN(SUBSTITUTE($B43, \"、\", \"\"))+1)","v":0},0,{"$f":"COUNTIF($B43,\"*\"&M$5&\"*\")","v":0},{"$f":"COUNTIF($B43,\"*\"&N$5&\"*\")","v":0},0,0,0,0,0,0,0,0,0,0,0,0,0,0,0,0,{"$f":"COUNTIF($B43,\"*\"&AE$5&\"*\")","v":0},0,0,0,0,0,0,0,0,0]
[null,null,null,null,null,null,null,null,null,null,0,0,{"$f":"COUNTIF($B44,\"*\"&M$5&\"*\")","v":0},0,0,0,0,0,0,0,0,0,0,0,0,0,0,0,0,0,0,0,0,0,0,0,0,0,0,0]
[null,null,null,null,null,null,null,null,null,null,0,0,0,0,0,0,0,0,0,0,0,0,0,0,0,0,0,0,0,0,0,0,0,0,0,0,0,0,0,0]
["特記事項"]
[]
[]
[null,"●　商品の終売・リニューアルの場合は成分等が変更になる場合があります。ご了承ください。"]
["製造元","宮澤食品株式会社"]
[]
[{"$f":"一覧!$A$41","v":"オーエンス泉岳自然ふれあい館"}]

{"sheet":"ブロッコリー","index":26,"n_rows":52,"n_cols":40,"rows_kept":52,"cut":false,"hidden":false,"merged":[[51,0,51,8],[45,0,48,0],[45,1,45,8],[46,1,46,8],[47,1,47,8],[48,1,48,8],[49,0,50,0],[49,1,50,8],[40,1,40,4],[40,5,40,8],[41,1,41,4],[41,5,41,8],[42,0,44,0],[42,1,42,8],[43,1,43,8],[44,1,44,8],[37,1,37,4],[37,5,37,8],[38,1,38,4],[38,5,38,8],[39,1,39,4],[39,5,39,8],[34,1,34,4],[34,5,34,8],[35,1,35,4],[35,5,35,8],[36,1,36,4],[36,5,36,8],[31,1,31,4],[31,5,31,8],[32,1,32,4],[32,5,32,8],[33,1,33,4],[33,5,33,8],[28,1,28,4],[28,5,28,8],[29,1,29,4],[29,5,29,8],[30,1,30,4],[30,5,30,8],[25,1,25,4],[25,5,25,8],[26,1,26,4],[26,5,26,8],[27,1,27,4],[27,5,27,8],[22,1,22,4],[22,5,22,8],[23,1,23,4],[23,5,23,8],[24,1,24,4],[24,5,24,8],[19,1,19,4],[19,5,19,8],[20,1,20,4],[20,5,20,8],[21,1,21,4],[21,5,21,8],[16,1,16,4],[16,5,16,8],[17,1,17,4],[17,5,17,8],[18,1,18,4],[18,5,18,8],[13,1,13,4],[13,5,13,8],[14,1,14,4],[14,5,14,8],[15,1,15,4],[15,5,15,8],[10,1,10,4],[10,5,10,8],[11,1,11,4],[11,5,11,8],[12,1,12,4],[12,5,12,8],[1,1,1,8],[2,0,3,0],[2,1,3,7],[4,0,41,0],[4,1,4,4],[4,5,4,8],[5,1,5,4],[5,5,5,8],[6,1,6,4],[6,5,6,8],[7,1,7,4],[7,5,7,8],[8,1,8,4],[8,5,8,8],[9,1,9,4],[9,5,9,8]]}
["一覧へ"]
["シート名",{"$f":"RIGHT(CELL(\"filename\",A1),LEN(CELL(\"filename\",A1))-FIND(\"]\",CELL(\"filename\",A1)))","v":"ブロッコリー"}]
["商品名","そのまま使えるブロッコリー(エクアドル産)",null,null,null,null,null,null,"作成日"]
[null,null,null,null,null,null,null,null,{"$f":"一覧!$D$1","v":"2023-03-01"}]
["原材料","原材料名",null,null,null,"28品目アレルゲン",null,null,null,null,"個数①","計",{"$f":"一覧!D5","v":"小麦"},{"$f":"一覧!E5","v":"卵"},{"$f":"一覧!F5","v":"乳"},{"$f":"一覧!G5","v":"そば"},{"$f":"一覧!H5","v":"落花生"},{"$f":"一覧!I5","v":"えび"},{"$f":"一覧!J5","v":"かに"},{"$f":"一覧!K5","v":"ごま"},{"$f":"一覧!L5","v":"くるみ"},{"$f":"一覧!M5","v":"カシュ"},{"$f":"一覧!N5","v":"アーモンド"},{"$f":"一覧!O5","v":"キウイ"},{"$f":"一覧!P5","v":"もも"},{"$f":"一覧!Q5","v":"リンゴ"},{"$f":"一覧!R5","v":"バナナ"},{"$f":"一覧!S5","v":"オレンジ"},{"$f":"一覧!T5","v":"いか"},{"$f":"一覧!U5","v":"いくら"},{"$f":"一覧!V5","v":"さけ"},{"$f":"一覧!W5","v":"さば"},{"$f":"一覧!X5","v":"大豆"},{"$f":"一覧!Y5","v":"鶏肉"},{"$f":"一覧!Z5","v":"豚肉"},{"$f":"一覧!AA5","v":"牛肉"},{"$f":"一覧!AB5","v":"まつたけ"},{"$f":"一覧!AC5","v":"やまいも"},{"$f":"一覧!AD5","v":"ゼラチン"},{"$f":"一覧!AE5","v":"あわび"}]
[null,"ブロッコリー",null,null,null,null,null,null,null,null,{"$f":"IF(F6=\"\",0,LEN(F6)-LEN(SUBSTITUTE(F6, \"、\", \"\"))+1)","v":0},{"$f":"SUM(M6:AN6)","v":0},{"$f":"COUNTIF($F6,\"*\"&M$5&\"*\")","v":0},{"$f":"COUNTIF($F6,\"*\"&N$5&\"*\")","v":0},0,0,0,0,0,0,0,0,0,0,0,0,0,0,0,0,0,0,0,0,0,0,0,0,0,0]
[null,null,null,null,null,null,null,null,null,null,{"$f":"IF(F7=\"\",0,LEN(F7)-LEN(SUBSTITUTE(F7, \"、\", \"\"))+1)","v":0},{"$f":"SUM(M7:AN7)","v":0},{"$f":"COUNTIF($F7,\"*\"&M$5&\"*\")","v":0},0,0,0,0,0,0,0,0,0,0,0,0,0,0,0,0,0,0,0,0,0,0,0,0,0,0,0]
[null,null,null,null,null,null,null,null,null,null,0,0,0,0,0,0,0,0,0,0,0,0,0,0,0,0,0,0,0,0,0,0,0,0,0,0,0,0,0,0]
[null,null,null,null,null,null,null,null,null,null,0,0,0,0,0,0,0,0,0,0,0,0,0,0,0,0,0,0,0,0,0,0,0,0,0,0,0,0,0,0]
[null,null,null,null,null,null,null,null,null,null,0,0,0,0,0,0,0,0,0,0,0,0,0,0,0,0,0,0,0,0,0,0,0,0,0,0,0,0,0,0]
[null,null,null,null,null,null,null,null,null,null,0,0,0,0,0,0,0,0,0,0,0,0,0,0,0,0,0,0,0,0,0,0,0,0,0,0,0,0,0,0]
[null,null,null,null,null,null,null,null,null,null,0,0,0,0,0,0,0,0,0,0,0,0,0,0,0,0,0,0,0,0,0,0,0,0,0,0,0,0,0,0]
[null,null,null,null,null,null,null,null,null,null,0,0,0,0,0,0,0,0,0,0,0,0,0,0,0,0,0,0,0,0,0,0,0,0,0,0,0,0,0,0]
[null,null,null,null,null,null,null,null,null,null,0,0,0,0,0,0,0,0,0,0,0,0,0,0,0,0,0,0,0,0,0,0,0,0,0,0,0,0,0,0]
[null,null,null,null,null,null,null,null,null,null,0,0,0,0,0,0,0,0,0,0,0,0,0,0,0,{"$f":"COUNTIF($F15,\"*\"&Z$5&\"*\")","v":0},0,0,0,0,0,0,0,0,0,0,0,0,0,0]
[null,null,null,null,null,null,null,null,null,null,0,0,0,0,0,0,0,0,0,0,0,0,0,0,0,0,0,0,0,0,0,0,0,0,0,0,0,0,0,0]
[null,null,null,null,null,null,null,null,null,null,0,0,0,0,0,0,0,0,0,0,0,0,0,0,0,0,0,0,0,0,0,0,0,0,0,0,0,0,0,0]
[null,null,null,null,null,null,null,null,null,null,0,0,0,0,0,0,0,0,0,0,0,0,0,0,0,0,0,0,0,0,0,0,0,0,0,0,0,0,0,0]
[null,null,null,null,null,null,null,null,null,null,0,0,0,0,0,0,0,0,0,0,0,0,0,0,0,0,0,0,0,0,0,0,0,0,0,0,0,0,0,0]
[null,null,null,null,null,null,null,null,null,null,0,0,0,0,0,0,0,0,0,0,0,0,0,0,0,0,0,0,0,0,0,0,0,0,0,0,0,0,0,0]
[null,null,null,null,null,null,null,null,null,null,0,0,0,0,0,0,0,0,0,0,0,0,0,0,0,0,0,0,0,0,0,0,0,0,0,0,0,0,0,0]
[null,null,null,null,null,null,null,null,null,null,0,0,0,0,0,0,0,0,0,0,0,0,0,0,0,0,0,0,0,0,0,0,0,0,0,0,0,0,0,0]
[null,null,null,null,null,null,null,null,null,null,0,0,0,0,0,0,0,0,0,0,0,0,0,0,0,0,0,0,0,0,0,0,0,0,0,0,0,0,0,0]
[null,null,null,null,null,null,null,null,null,null,0,0,0,0,0,0,0,0,0,0,0,0,0,0,0,0,0,0,0,0,0,0,0,0,0,0,0,0,0,0]
[null,null,null,null,null,null,null,null,null,null,0,0,0,0,0,0,0,0,0,0,0,0,0,0,0,0,0,0,0,0,0,0,0,0,0,0,0,0,0,0]
[null,null,null,null,null,null,null,null,null,null,0,0,0,0,0,0,0,0,0,0,0,0,0,0,0,0,0,0,0,0,0,0,0,0,0,0,0,0,0,0]
[null,null,null,null,null,null,null,null,null,null,0,0,0,0,0,0,0,0,0,0,0,0,0,0,0,0,0,0,0,0,0,0,0,0,0,0,0,0,0,0]
[null,null,null,null,null,null,null,null,null,null,0,0,0,0,0,0,0,0,0,0,0,0,0,0,0,0,0,0,0,0,0,0,0,0,0,0,0,0,0,0]
[null,null,null,null,null,null,null,null,null,null,0,0,0,0,0,0,0,0,0,0,0,0,0,0,0,0,0,0,0,0,0,0,0,0,0,0,0,0,0,0]
[null,null,null,null,null,null,null,null,null,null,0,0,0,0,0,0,0,0,0,0,{"$f":"COUNTIF($F30,\"*\"&U$5&\"*\")","v":0},0,0,0,0,0,0,0,0,0,0,0,0,0,0,0,0,0,0,0]
[null,null,null,null,null,null,null,null,null,null,0,0,{"$f":"COUNTIF($F31,\"*\"&M$5&\"*\")","v":0},0,0,0,0,0,0,0,0,0,0,0,0,0,0,0,0,{"$f":"COUNTIF($F31,\"*\"&AD$5&\"*\")","v":0},0,0,0,0,0,0,0,0,0,0]
[null,null,null,null,null,null,null,null,null,null,0,0,0,0,0,0,0,0,0,0,0,0,0,0,0,0,0,0,0,0,0,0,0,0,0,0,0,0,0,0]
[null,null,null,null,null,null,null,null,null,null,0,0,0,0,0,0,0,0,0,0,0,0,0,0,0,0,0,0,0,0,0,0,0,0,0,0,0,0,0,0]
[null,null,null,null,null,null,null,null,null,null,0,0,0,0,0,0,0,0,0,0,0,0,0,0,0,0,0,0,0,0,0,0,0,0,0,0,0,0,0,0]
[null,null,null,null,null,null,null,null,null,null,0,0,0,0,0,0,0,0,0,0,0,0,0,0,0,0,0,0,0,0,0,0,0,0,0,0,0,0,0,0]
[null,null,null,null,null,null,null,null,null,null,0,0,0,0,0,0,0,0,0,0,0,0,0,0,0,0,0,0,0,0,0,0,0,0,0,0,0,0,0,0]
[null,null,null,null,null,null,null,null,null,null,0,0,0,0,0,0,0,0,0,0,0,0,0,0,0,0,0,0,0,0,0,0,0,0,0,0,0,0,0,0]
[null,null,null,null,null,null,null,null,null,null,0,0,0,0,0,0,0,0,0,0,0,0,0,0,0,0,0,0,0,0,0,0,0,0,0,0,0,0,0,0]
[null,null,null,null,null,null,null,null,null,null,0,0,0,0,0,0,0,0,0,0,0,0,0,0,0,0,0,0,0,0,0,0,0,0,0,0,0,0,0,0]
[null,null,null,null,null,null,null,null,null,null,0,0,0,0,0,0,0,0,0,0,0,0,0,0,0,0,0,0,0,0,0,0,0,0,0,0,0,0,0,0]
[null,null,null,null,null,null,null,null,null,null,0,0,0,0,0,0,0,0,0,0,0,0,0,0,0,0,0,0,0,0,0,0,0,0,0,0,0,0,0,0]
[null,null,null,null,null,null,null,null,null,null,0,0,0,0,0,0,0,0,0,0,0,0,0,0,0,0,0,0,0,0,0,0,0,0,0,0,0,0,0,0]
["コンタミネーション","なし",null,null,null,null,null,null,null,null,{"$f":"IF(OR($B43=\"\",$B43=\"なし\"),0,LEN($B43)-LEN(SUBSTITUTE($B43, \"、\", \"\"))+1)","v":0},0,{"$f":"COUNTIF($B43,\"*\"&M$5&\"*\")","v":0},{"$f":"COUNTIF($B43,\"*\"&N$5&\"*\")","v":0},0,0,0,0,0,0,0,0,0,0,0,0,0,0,0,0,{"$f":"COUNTIF($B43,\"*\"&AE$5&\"*\")","v":0},0,0,0,0,0,0,0,0,0]
[null,null,null,null,null,null,null,null,null,null,0,0,{"$f":"COUNTIF($B44,\"*\"&M$5&\"*\")","v":0},0,0,0,0,0,0,0,0,0,0,0,0,0,0,0,0,0,0,0,0,0,0,0,0,0,0,0]
[null,null,null,null,null,null,null,null,null,null,0,0,0,0,0,0,0,0,0,0,0,0,0,0,0,0,0,0,0,0,0,0,0,0,0,0,0,0,0,0]
["特記事項"]
[]
[]
[null,"●　商品の終売・リニューアルの場合は成分等が変更になる場合があります。ご了承ください。"]
["製造元","株式会社ニチレイフーズ"]
[]
[{"$f":"一覧!$A$41","v":"オーエンス泉岳自然ふれあい館"}]

{"sheet":"豆乳プリン","index":27,"n_rows":52,"n_cols":40,"rows_kept":52,"cut":false,"hidden":false,"merged":[[51,0,51,8],[45,0,48,0],[45,1,45,8],[46,1,46,8],[47,1,47,8],[48,1,48,8],[49,0,50,0],[49,1,50,8],[40,1,40,4],[40,5,40,8],[41,1,41,4],[41,5,41,8],[42,0,44,0],[42,1,42,8],[43,1,43,8],[44,1,44,8],[37,1,37,4],[37,5,37,8],[38,1,38,4],[38,5,38,8],[39,1,39,4],[39,5,39,8],[34,1,34,4],[34,5,34,8],[35,1,35,4],[35,5,35,8],[36,1,36,4],[36,5,36,8],[31,1,31,4],[31,5,31,8],[32,1,32,4],[32,5,32,8],[33,1,33,4],[33,5,33,8],[28,1,28,4],[28,5,28,8],[29,1,29,4],[29,5,29,8],[30,1,30,4],[30,5,30,8],[25,1,25,4],[25,5,25,8],[26,1,26,4],[26,5,26,8],[27,1,27,4],[27,5,27,8],[22,1,22,4],[22,5,22,8],[23,1,23,4],[23,5,23,8],[24,1,24,4],[24,5,24,8],[19,1,19,4],[19,5,19,8],[20,1,20,4],[20,5,20,8],[21,1,21,4],[21,5,21,8],[16,1,16,4],[16,5,16,8],[17,1,17,4],[17,5,17,8],[18,1,18,4],[18,5,18,8],[13,1,13,4],[13,5,13,8],[14,1,14,4],[14,5,14,8],[15,1,15,4],[15,5,15,8],[10,1,10,4],[10,5,10,8],[11,1,11,4],[11,5,11,8],[12,1,12,4],[12,5,12,8],[1,1,1,8],[2,0,3,0],[2,1,3,7],[4,0,41,0],[4,1,4,4],[4,5,4,8],[5,1,5,4],[5,5,5,8],[6,1,6,4],[6,5,6,8],[7,1,7,4],[7,5,7,8],[8,1,8,4],[8,5,8,8],[9,1,9,4],[9,5,9,8]]}
["一覧へ"," "]
["シート名",{"$f":"RIGHT(CELL(\"filename\",A1),LEN(CELL(\"filename\",A1))-FIND(\"]\",CELL(\"filename\",A1)))","v":"豆乳プリン"}]
["商品名","ミニデザート(豆乳プリン)",null,null,null,null,null,null,"作成日"]
[null,null,null,null,null,null,null,null,{"$f":"一覧!$D$1","v":"2023-03-01"}]
["原材料","原材料名",null,null,null,"28品目アレルゲン",null,null,null,null,"個数①","計",{"$f":"一覧!D5","v":"小麦"},{"$f":"一覧!E5","v":"卵"},{"$f":"一覧!F5","v":"乳"},{"$f":"一覧!G5","v":"そば"},{"$f":"一覧!H5","v":"落花生"},{"$f":"一覧!I5","v":"えび"},{"$f":"一覧!J5","v":"かに"},{"$f":"一覧!K5","v":"ごま"},{"$f":"一覧!L5","v":"くるみ"},{"$f":"一覧!M5","v":"カシュ"},{"$f":"一覧!N5","v":"アーモンド"},{"$f":"一覧!O5","v":"キウイ"},{"$f":"一覧!P5","v":"もも"},{"$f":"一覧!Q5","v":"リンゴ"},{"$f":"一覧!R5","v":"バナナ"},{"$f":"一覧!S5","v":"オレンジ"},{"$f":"一覧!T5","v":"いか"},{"$f":"一覧!U5","v":"いくら"},{"$f":"一覧!V5","v":"さけ"},{"$f":"一覧!W5","v":"さば"},{"$f":"一覧!X5","v":"大豆"},{"$f":"一覧!Y5","v":"鶏肉"},{"$f":"一覧!Z5","v":"豚肉"},{"$f":"一覧!AA5","v":"牛肉"},{"$f":"一覧!AB5","v":"まつたけ"},{"$f":"一覧!AC5","v":"やまいも"},{"$f":"一覧!AD5","v":"ゼラチン"},{"$f":"一覧!AE5","v":"あわび"}]
[null,"(乳・卵抜きプリン)",null,null,null,null,null,null,null,null,{"$f":"IF(F6=\"\",0,LEN(F6)-LEN(SUBSTITUTE(F6, \"、\", \"\"))+1)","v":0},{"$f":"SUM(M6:AN6)","v":0},{"$f":"COUNTIF($F6,\"*\"&M$5&\"*\")","v":0},{"$f":"COUNTIF($F6,\"*\"&N$5&\"*\")","v":0},0,0,0,0,0,0,0,0,0,0,0,0,0,0,0,0,0,0,0,0,0,0,0,0,0,0]
[null,"砂糖",null,null,null,null,null,null,null,null,{"$f":"IF(F7=\"\",0,LEN(F7)-LEN(SUBSTITUTE(F7, \"、\", \"\"))+1)","v":0},{"$f":"SUM(M7:AN7)","v":0},{"$f":"COUNTIF($F7,\"*\"&M$5&\"*\")","v":0},0,0,0,0,0,0,0,0,0,0,0,0,0,0,0,0,0,0,0,0,0,0,0,0,0,0,0]
[null,"水あめ",null,null,null,null,null,null,null,null,0,0,0,0,0,0,0,0,0,0,0,0,0,0,0,0,0,0,0,0,0,0,0,0,0,0,0,0,0,0]
[null,"豆乳",null,null,null,"大豆",null,null,null,null,1,1,0,0,0,0,0,0,0,0,0,0,0,0,0,0,0,0,0,0,0,0,1,0,0,0,0,0,0,0]
[null,"粉末油脂",null,null,null,null,null,null,null,null,0,0,0,0,0,0,0,0,0,0,0,0,0,0,0,0,0,0,0,0,0,0,0,0,0,0,0,0,0,0]
[null,"砂糖・ぶどう糖果糖液糖",null,null,null,null,null,null,null,null,0,0,0,0,0,0,0,0,0,0,0,0,0,0,0,0,0,0,0,0,0,0,0,0,0,0,0,0,0,0]
[null,"食塩",null,null,null,null,null,null,null,null,0,0,0,0,0,0,0,0,0,0,0,0,0,0,0,0,0,0,0,0,0,0,0,0,0,0,0,0,0,0]
[null,"水",null,null,null,null,null,null,null,null,0,0,0,0,0,0,0,0,0,0,0,0,0,0,0,0,0,0,0,0,0,0,0,0,0,0,0,0,0,0]
[null,"(使用添加物)",null,null,null,null,null,null,null,null,0,0,0,0,0,0,0,0,0,0,0,0,0,0,0,0,0,0,0,0,0,0,0,0,0,0,0,0,0,0]
[null,"ゲル化剤(加工デンプン、増粘多糖類)",null,null,null,null,null,null,null,null,0,0,0,0,0,0,0,0,0,0,0,0,0,0,0,{"$f":"COUNTIF($F15,\"*\"&Z$5&\"*\")","v":0},0,0,0,0,0,0,0,0,0,0,0,0,0,0]
[null,"貝カルシウム",null,null,null,null,null,null,null,null,0,0,0,0,0,0,0,0,0,0,0,0,0,0,0,0,0,0,0,0,0,0,0,0,0,0,0,0,0,0]
[null,"香料",null,null,null,null,null,null,null,null,0,0,0,0,0,0,0,0,0,0,0,0,0,0,0,0,0,0,0,0,0,0,0,0,0,0,0,0,0,0]
[null,"ピロリン酸第二鉄",null,null,null,null,null,null,null,null,0,0,0,0,0,0,0,0,0,0,0,0,0,0,0,0,0,0,0,0,0,0,0,0,0,0,0,0,0,0]
[null,"カロチノイド色素",null,null,null,null,null,null,null,null,0,0,0,0,0,0,0,0,0,0,0,0,0,0,0,0,0,0,0,0,0,0,0,0,0,0,0,0,0,0]
[null,"(カラメルソース)",null,null,null,null,null,null,null,null,0,0,0,0,0,0,0,0,0,0,0,0,0,0,0,0,0,0,0,0,0,0,0,0,0,0,0,0,0,0]
[null,"水あめ",null,null,null,null,null,null,null,null,0,0,0,0,0,0,0,0,0,0,0,0,0,0,0,0,0,0,0,0,0,0,0,0,0,0,0,0,0,0]
[null,"砂糖",null,null,null,null,null,null,null,null,0,0,0,0,0,0,0,0,0,0,0,0,0,0,0,0,0,0,0,0,0,0,0,0,0,0,0,0,0,0]
[null,"デキストリン",null,null,null,null,null,null,null,null,0,0,0,0,0,0,0,0,0,0,0,0,0,0,0,0,0,0,0,0,0,0,0,0,0,0,0,0,0,0]
[null,"水",null,null,null,null,null,null,null,null,0,0,0,0,0,0,0,0,0,0,0,0,0,0,0,0,0,0,0,0,0,0,0,0,0,0,0,0,0,0]
[null,"(使用添加物)",null,null,null,null,null,null,null,null,0,0,0,0,0,0,0,0,0,0,0,0,0,0,0,0,0,0,0,0,0,0,0,0,0,0,0,0,0,0]
[null,"カラメル色素",null,null,null,null,null,null,null,null,0,0,0,0,0,0,0,0,0,0,0,0,0,0,0,0,0,0,0,0,0,0,0,0,0,0,0,0,0,0]
[null,"ゲル化剤(加工デンプン、増粘多糖類)",null,null,null,null,null,null,null,null,0,0,0,0,0,0,0,0,0,0,0,0,0,0,0,0,0,0,0,0,0,0,0,0,0,0,0,0,0,0]
[null,"香料",null,null,null,null,null,null,null,null,0,0,0,0,0,0,0,0,0,0,0,0,0,0,0,0,0,0,0,0,0,0,0,0,0,0,0,0,0,0]
[null,null,null,null,null,null,null,null,null,null,0,0,0,0,0,0,0,0,0,0,0,0,0,0,0,0,0,0,0,0,0,0,0,0,0,0,0,0,0,0]
[null,null,null,null,null,null,null,null,null,null,0,0,0,0,0,0,0,0,0,0,{"$f":"COUNTIF($F30,\"*\"&U$5&\"*\")","v":0},0,0,0,0,0,0,0,0,0,0,0,0,0,0,0,0,0,0,0]
[null,null,null,null,null,null,null,null,null,null,0,0,{"$f":"COUNTIF($F31,\"*\"&M$5&\"*\")","v":0},0,0,0,0,0,0,0,0,0,0,0,0,0,0,0,0,{"$f":"COUNTIF($F31,\"*\"&AD$5&\"*\")","v":0},0,0,0,0,0,0,0,0,0,0]
[null,null,null,null,null,null,null,null,null,null,0,0,0,0,0,0,0,0,0,0,0,0,0,0,0,0,0,0,0,0,0,0,0,0,0,0,0,0,0,0]
[null,null,null,null,null,null,null,null,null,null,0,0,0,0,0,0,0,0,0,0,0,0,0,0,0,0,0,0,0,0,0,0,0,0,0,0,0,0,0,0]
[null,null,null,null,null,null,null,null,null,null,0,0,0,0,0,0,0,0,0,0,0,0,0,0,0,0,0,0,0,0,0,0,0,0,0,0,0,0,0,0]
[null,null,null,null,null,null,null,null,null,null,0,0,0,0,0,0,0,0,0,0,0,0,0,0,0,0,0,0,0,0,0,0,0,0,0,0,0,0,0,0]
[null,null,null,null,null,null,null,null,null,null,0,0,0,0,0,0,0,0,0,0,0,0,0,0,0,0,0,0,0,0,0,0,0,0,0,0,0,0,0,0]
[null,null,null,null,null,null,null,null,null,null,0,0,0,0,0,0,0,0,0,0,0,0,0,0,0,0,0,0,0,0,0,0,0,0,0,0,0,0,0,0]
[null,null,null,null,null,null,null,null,null,null,0,0,0,0,0,0,0,0,0,0,0,0,0,0,0,0,0,0,0,0,0,0,0,0,0,0,0,0,0,0]
[null,null,null,null,null,null,null,null,null,null,0,0,0,0,0,0,0,0,0,0,0,0,0,0,0,0,0,0,0,0,0,0,0,0,0,0,0,0,0,0]
[null,null,null,null,null,null,null,null,null,null,0,0,0,0,0,0,0,0,0,0,0,0,0,0,0,0,0,0,0,0,0,0,0,0,0,0,0,0,0,0]
[null,null,null,null,null,null,null,null,null,null,0,0,0,0,0,0,0,0,0,0,0,0,0,0,0,0,0,0,0,0,0,0,0,0,0,0,0,0,0,0]
[null,null,null,null,null,null,null,null,null,null,0,0,0,0,0,0,0,0,0,0,0,0,0,0,0,0,0,0,0,0,0,0,0,0,0,0,0,0,0,0]
["コンタミネーション","アーモンド",null,null,null,null,null,null,null,null,{"$f":"IF(OR($B43=\"\",$B43=\"なし\"),0,LEN($B43)-LEN(SUBSTITUTE($B43, \"、\", \"\"))+1)","v":1},1,{"$f":"COUNTIF($B43,\"*\"&M$5&\"*\")","v":0},{"$f":"COUNTIF($B43,\"*\"&N$5&\"*\")","v":0},0,0,0,0,0,0,0,0,1,0,0,0,0,0,0,0,{"$f":"COUNTIF($B43,\"*\"&AE$5&\"*\")","v":0},0,0,0,0,0,0,0,0,0]
[null,null,null,null,null,null,null,null,null,null,0,0,{"$f":"COUNTIF($B44,\"*\"&M$5&\"*\")","v":0},0,0,0,0,0,0,0,0,0,0,0,0,0,0,0,0,0,0,0,0,0,0,0,0,0,0,0]
[null,null,null,null,null,null,null,null,null,null,0,0,0,0,0,0,0,0,0,0,0,0,0,0,0,0,0,0,0,0,0,0,0,0,0,0,0,0,0,0]
["特記事項"]
[]
[]
[null,"●　商品の終売・リニューアルの場合は成分等が変更になる場合があります。ご了承ください。"]
["製造元","日東ベスト株式会社"]
[]
[{"$f":"一覧!$A$41","v":"オーエンス泉岳自然ふれあい館"}]