{"text_format":"1","workbook":"xlsx","n_sheets":2,"sheets":["入力例","一覧"],"not_rendered":{"charts":0,"images":2,"macros":1,"external_links":0,"defined_names":2,"comments":0,"pivot_tables":0},"unopened":[],"bounds":{"document_bytes":16777216,"sheet_cells":100000,"rows_first":2000,"rows_last":500,"rows_between":2000,"halvings":0,"cell_chars":16384,"cell_head_chars":4096},"cells_cut":0,"cells_raw":0,"read":"whole","date_system":"1900"}

{"sheet":"入力例","index":0,"n_rows":52,"n_cols":42,"rows_kept":52,"cut":false,"hidden":true,"merged":[[7,34,7,37],[7,38,7,41],[37,2,37,31],[0,5,0,31],[1,2,2,4],[1,5,2,31],[3,2,4,2],[3,3,4,3],[3,4,4,4],[3,5,3,11],[3,12,3,31],[1,34,1,41],[2,34,2,40],[3,34,3,40],[4,34,4,37],[4,38,4,41],[5,34,5,37],[5,38,5,41],[6,34,6,37],[6,38,6,41],[11,34,11,37],[11,38,11,41],[12,34,12,37],[12,38,12,41],[13,34,13,37],[13,38,13,41],[8,34,8,37],[8,38,8,41],[9,34,9,37],[9,38,9,41],[10,34,10,37],[10,38,10,41],[17,34,17,37],[17,38,17,41],[18,34,18,37],[18,38,18,41],[19,34,19,37],[19,38,19,41],[14,34,14,37],[14,38,14,41],[15,34,15,37],[15,38,15,41],[16,34,16,37],[16,38,16,41],[23,34,23,37],[23,38,23,41],[24,34,24,37],[24,38,24,41],[25,34,25,37],[25,38,25,41],[20,34,20,37],[20,38,20,41],[21,34,21,37],[21,38,21,41],[22,34,22,37],[22,38,22,41],[29,34,29,37],[29,38,29,41],[30,34,30,37],[30,38,30,41],[31,34,31,37],[31,38,31,41],[26,34,26,37],[26,38,26,41],[27,34,27,37],[27,38,27,41],[28,34,28,37],[28,38,28,41],[36,38,36,41],[37,34,37,37],[37,38,37,41],[32,34,32,37],[32,38,32,41],[33,34,33,37],[33,38,33,41],[34,34,34,37],[34,38,34,41],[49,33,50,33],[49,34,50,41],[51,33,51,41],[45,33,48,33],[45,34,45,41],[46,34,46,41],[47,34,47,41],[48,34,48,41],[41,34,41,37],[41,38,41,41],[42,33,44,33],[42,34,42,41],[43,34,43,41],[44,34,44,41],[4,33,41,33],[38,34,38,37],[38,38,38,41],[39,34,39,37],[39,38,39,41],[40,34,40,37],[40,38,40,41],[35,34,35,37],[35,38,35,41],[36,34,36,37]]}
[null,null,null,null,null,{"$f":"一覧!B1","v":"2020-03-01"},null,null,null,null,null,null,null,null,null,null,null,null,null,null,null,null,null,null,null,null,null,null,null,null,null,null,null,"一覧へ"]
[null,null,"（見本）豚汁",null,null,"記号例…●：別添資料あり、○：アレルゲンあり、△：当該品目を含む製品の製造等でコンタミネーションの可能性があるもの\n※コンタミネーション…食品を製造する際に、原材料としては使用していないにもかかわらず、特定原材料等が意図せずして最終加工食品に混入してしまう場合のこと",null,null,null,null,null,null,null,null,null,null,null,null,null,null,null,null,null,null,null,null,null,null,null,null,null,null,null,"シート名",{"$f":"RIGHT(CELL(\"filename\",AH1),LEN(CELL(\"filename\",AH1))-FIND(\"]\",CELL(\"filename\",AH1)))","v":"入力例"}]
[null,null,null,null,null,null,null,null,null,null,null,null,null,null,null,null,null,null,null,null,null,null,null,null,null,null,null,null,null,null,null,null,null,"商品名","サイコロ1ｋｇ",null,null,null,null,null,null,"作成日"]
[null,null,"献立名","別添資料","使用食材","七大アレルゲン",null,null,null,null,null,null,"特定原材料に準ずるもの20品目",null,null,null,null,null,null,null,null,null,null,null,null,null,null,null,null,null,null,null,null,"規格","1ｋｇ",null,null,null,null,null,null,{"$f":"A25","v":"2020-03-01"}]
[null,null,null,null,null,{"$f":"一覧!B5","v":"小麦"},{"$f":"一覧!C5","v":"卵"},{"$f":"一覧!D5","v":"乳"},{"$f":"一覧!E5","v":"そば"},{"$f":"一覧!F5","v":"落花生"},{"$f":"一覧!G5","v":"えび"},{"$f":"一覧!H5","v":"かに"},{"$f":"一覧!I5","v":"ごま"},{"$f":"一覧!J5","v":"くるみ"},{"$f":"一覧!K5","v":"カシュ"},{"$f":"一覧!M5","v":"キウイ"},{"$f":"一覧!N5","v":"もも"},{"$f":"一覧!O5","v":"リンゴ"},{"$f":"一覧!P5","v":"バナナ"},{"$f":"一覧!Q5","v":"オレンジ"},{"$f":"一覧!R5","v":"いか"},{"$f":"一覧!S5","v":"いくら"},{"$f":"一覧!T5","v":"さけ"},{"$f":"一覧!U5","v":"さば"},{"$f":"一覧!V5","v":"大豆"},{"$f":"一覧!W5","v":"鶏肉"},{"$f":"一覧!X5","v":"豚肉"},{"$f":"一覧!Y5","v":"牛肉"},{"$f":"一覧!Z5","v":"まつたけ"},{"$f":"一覧!AA5","v":"やまいも"},{"$f":"一覧!AB5","v":"ゼラチン"},{"$f":"一覧!AC5","v":"あわび"},null,"原材料","原材料名",null,null,null,"27品目アレルゲン"]
[null,null,{"$f":"IF(一覧!A6=\"\",\"\",一覧!A6)","v":"直巻おにぎり（梅）"},{"$f":"IF(一覧!#REF!=\"\",\"\",一覧!#REF!)","v":{"$error":"#REF!"}},{"$f":"IF(一覧!#REF!=\"\",\"\",一覧!#REF!)","v":{"$error":"#REF!"}},{"$f":"IFERROR(IF(COUNTIF(INDIRECT($E6&\"!F5:I42\"),\"*\"&F$5&\"*\")>0,\"○\",IF(COUNTIF(INDIRECT($E6&\"!B43:I45\"),\"*\"&F$5&\"*\")>0,\"△\",\"\")),\"\")","v":""},{"$f":"IFERROR(IF(COUNTIF(INDIRECT($E6&\"!F5:I42\"),\"*\"&G$5&\"*\")>0,\"○\",IF(COUNTIF(INDIRECT($E6&\"!B43:I45\"),\"*\"&G$5&\"*\")>0,\"△\",\"\")),\"\")","v":""},"","","","","","","","","","","","","","","",{"$f":"IFERROR(IF(COUNTIF(INDIRECT($E6&\"!F5:I42\"),\"*\"&W$5&\"*\")>0,\"○\",IF(COUNTIF(INDIRECT($E6&\"!B43:I45\"),\"*\"&W$5&\"*\")>0,\"△\",\"\")),\"\")","v":""},"","","","","","","","","",null,null,"豆乳　　　　大豆",null,null,null,"大豆"]
[null,null,{"$f":"IF(一覧!A7=\"\",\"\",一覧!A7)","v":"直巻おにぎり（鮭）"},{"$f":"IF(一覧!#REF!=\"\",\"\",一覧!#REF!)","v":{"$error":"#REF!"}},{"$f":"IF(一覧!#REF!=\"\",\"\",一覧!#REF!)","v":{"$error":"#REF!"}},"","","","","","","","","","","","","","","","","","","","","","","","","","","",null,null,"　　　　　　　水（水道水）"]
[null,null,{"$f":"IF(一覧!A8=\"\",\"\",一覧!A8)","v":"鶏唐揚げ"},{"$f":"IF(一覧!#REF!=\"\",\"\",一覧!#REF!)","v":{"$error":"#REF!"}},{"$f":"IF(一覧!#REF!=\"\",\"\",一覧!#REF!)","v":{"$error":"#REF!"}},"","","","","","","","","","","","","","","","","","","","","","","","","","","",null,null,"澱粉　　　　コーンスターチ"]
[null,null,{"$f":"IF(一覧!A9=\"\",\"\",一覧!A9)","v":"つぼ漬け"},{"$f":"IF(一覧!#REF!=\"\",\"\",一覧!#REF!)","v":{"$error":"#REF!"}},{"$f":"IF(一覧!#REF!=\"\",\"\",一覧!#REF!)","v":{"$error":"#REF!"}},"","","","","","","","","","","","","","","","","","","","","","","","","","","",null,null,"加工澱粉  アセチル化アジピン酸架橋デンプン"]
[null,null,{"$f":"IF(一覧!A10=\"\",\"\",一覧!A10)","v":""},{"$f":"IF(一覧!#REF!=\"\",\"\",一覧!#REF!)","v":{"$error":"#REF!"}},{"$f":"IF(一覧!#REF!=\"\",\"\",一覧!#REF!)","v":{"$error":"#REF!"}},"","","","","","","","","","","","","","","","","","","","","","","","","","","",null,null,"塩化マグネシウム"]
[null,null,{"$f":"IF(一覧!A11=\"\",\"\",一覧!A11)","v":""},{"$f":"IF(一覧!#REF!=\"\",\"\",一覧!#REF!)","v":{"$error":"#REF!"}},{"$f":"IF(一覧!#REF!=\"\",\"\",一覧!#REF!)","v":{"$error":"#REF!"}},"","","","","","","","","","","","","","","","","","","","","","","","","","","",null,null,"水"]
[null,null,{"$f":"IF(一覧!A12=\"\",\"\",一覧!A12)","v":""},{"$f":"IF(一覧!#REF!=\"\",\"\",一覧!#REF!)","v":{"$error":"#REF!"}},{"$f":"IF(一覧!#REF!=\"\",\"\",一覧!#REF!)","v":{"$error":"#REF!"}},"","","","","","","","","","","","","","","","","","","","","","","","","","",""]
[null,null,{"$f":"IF(一覧!A13=\"\",\"\",一覧!A13)","v":""},{"$f":"IF(一覧!#REF!=\"\",\"\",一覧!#REF!)","v":{"$error":"#REF!"}},{"$f":"IF(一覧!#REF!=\"\",\"\",一覧!#REF!)","v":{"$error":"#REF!"}},"","","","","","","","","","","","","","","","","","","","","","","","","","",""]
[null,null,{"$f":"IF(一覧!A14=\"\",\"\",一覧!A14)","v":""},{"$f":"IF(一覧!#REF!=\"\",\"\",一覧!#REF!)","v":{"$error":"#REF!"}},{"$f":"IF(一覧!#REF!=\"\",\"\",一覧!#REF!)","v":{"$error":"#REF!"}},"","","","","","","","","","","","","","","","","","","","","","","","","","",""]
[null,null,{"$f":"IF(一覧!A15=\"\",\"\",一覧!A15)","v":""},{"$f":"IF(一覧!#REF!=\"\",\"\",一覧!#REF!)","v":{"$error":"#REF!"}},{"$f":"IF(一覧!#REF!=\"\",\"\",一覧!#REF!)","v":{"$error":"#REF!"}},"","","","","","","","","","","","","","","","","","","","","","","","","","",""]
[null,null,{"$f":"IF(一覧!A16=\"\",\"\",一覧!A16)","v":""},{"$f":"IF(一覧!#REF!=\"\",\"\",一覧!#REF!)","v":{"$error":"#REF!"}},{"$f":"IF(一覧!#REF!=\"\",\"\",一覧!#REF!)","v":{"$error":"#REF!"}},"","","","","","","","","","","","","","","","","","","","","","","","","","",""]
[null,null,{"$f":"IF(一覧!A17=\"\",\"\",一覧!A17)","v":""},{"$f":"IF(一覧!#REF!=\"\",\"\",一覧!#REF!)","v":{"$error":"#REF!"}},{"$f":"IF(一覧!#REF!=\"\",\"\",一覧!#REF!)","v":{"$error":"#REF!"}},"","","","","","","","","","","","","","","","","","","","","","","","","","",""]
[null,null,{"$f":"IF(一覧!A18=\"\",\"\",一覧!A18)","v":""},{"$f":"IF(一覧!#REF!=\"\",\"\",一覧!#REF!)","v":{"$error":"#REF!"}},{"$f":"IF(一覧!#REF!=\"\",\"\",一覧!#REF!)","v":{"$error":"#REF!"}},"","","","","","","","","","","","","","","","","","","","","","","","","","",""]
[null,null,{"$f":"IF(一覧!A19=\"\",\"\",一覧!A19)","v":""},{"$f":"IF(一覧!#REF!=\"\",\"\",一覧!#REF!)","v":{"$error":"#REF!"}},{"$f":"IF(一覧!#REF!=\"\",\"\",一覧!#REF!)","v":{"$error":"#REF!"}},"","","","","","","","","","","","","","","","","","","","","","","","","","",""]
[null,null,{"$f":"IF(一覧!A20=\"\",\"\",一覧!A20)","v":""},{"$f":"IF(一覧!#REF!=\"\",\"\",一覧!#REF!)","v":{"$error":"#REF!"}},{"$f":"IF(一覧!#REF!=\"\",\"\",一覧!#REF!)","v":{"$error":"#REF!"}},"","","","","","","","","","","","","","","","","","","","","","","","","","",""]
["施設名称",null,{"$f":"IF(一覧!A21=\"\",\"\",一覧!A21)","v":""},{"$f":"IF(一覧!#REF!=\"\",\"\",一覧!#REF!)","v":{"$error":"#REF!"}},{"$f":"IF(一覧!#REF!=\"\",\"\",一覧!#REF!)","v":{"$error":"#REF!"}},"","","","","","","","","","","","","","","","",{"$f":"IFERROR(IF(COUNTIF(INDIRECT($E21&\"!F5:I42\"),\"*\"&V$5&\"*\")>0,\"○\",IF(COUNTIF(INDIRECT($E21&\"!B43:I45\"),\"*\"&V$5&\"*\")>0,\"△\",\"\")),\"\")","v":""},"","","","","","","","","",""]
["オーエンス泉岳自然ふれあい館",null,{"$f":"IF(一覧!A22=\"\",\"\",一覧!A22)","v":""},{"$f":"IF(一覧!#REF!=\"\",\"\",一覧!#REF!)","v":{"$error":"#REF!"}},{"$f":"IF(一覧!#REF!=\"\",\"\",一覧!#REF!)","v":{"$error":"#REF!"}},"",{"$f":"IFERROR(IF(COUNTIF(INDIRECT($E22&\"!F5:I42\"),\"*\"&G$5&\"*\")>0,\"○\",IF(COUNTIF(INDIRECT($E22&\"!B43:I45\"),\"*\"&G$5&\"*\")>0,\"△\",\"\")),\"\")","v":""},"","","","","","","","","","","","","","","","","","","","","","","","",""]
[null,null,{"$f":"IF(一覧!A23=\"\",\"\",一覧!A23)","v":""},{"$f":"IF(一覧!#REF!=\"\",\"\",一覧!#REF!)","v":{"$error":"#REF!"}},{"$f":"IF(一覧!#REF!=\"\",\"\",一覧!#REF!)","v":{"$error":"#REF!"}},{"$f":"IFERROR(IF(COUNTIF(INDIRECT($E23&\"!F5:I42\"),\"*\"&F$5&\"*\")>0,\"○\",IF(COUNTIF(INDIRECT($E23&\"!B43:I45\"),\"*\"&F$5&\"*\")>0,\"△\",\"\")),\"\")","v":""},"","","","","","","","","","","","","","","","","","","","","","","","","",""]
["更新日",null,{"$f":"IF(一覧!A24=\"\",\"\",一覧!A24)","v":""},{"$f":"IF(一覧!#REF!=\"\",\"\",一覧!#REF!)","v":{"$error":"#REF!"}},{"$f":"IF(一覧!#REF!=\"\",\"\",一覧!#REF!)","v":{"$error":"#REF!"}},"","","","","","","","","","","","","","","","","","","","","","","","","","",""]
["2020-03-01",null,{"$f":"IF(一覧!A25=\"\",\"\",一覧!A25)","v":""},{"$f":"IF(一覧!#REF!=\"\",\"\",一覧!#REF!)","v":{"$error":"#REF!"}},{"$f":"IF(一覧!#REF!=\"\",\"\",一覧!#REF!)","v":{"$error":"#REF!"}},"","","","","","","","","","","","","","","","","","","","","","","","","","",""]
[null,null,{"$f":"IF(一覧!A26=\"\",\"\",一覧!A26)","v":""},{"$f":"IF(一覧!#REF!=\"\",\"\",一覧!#REF!)","v":{"$error":"#REF!"}},{"$f":"IF(一覧!#REF!=\"\",\"\",一覧!#REF!)","v":{"$error":"#REF!"}},"","","","","","","","","","","","","","","","","","","","","","","","","","",""]
[null,null,{"$f":"IF(一覧!A27=\"\",\"\",一覧!A27)","v":""},{"$f":"IF(一覧!#REF!=\"\",\"\",一覧!#REF!)","v":{"$error":"#REF!"}},{"$f":"IF(一覧!#REF!=\"\",\"\",一覧!#REF!)","v":{"$error":"#REF!"}},"","","","","","","","","","","","","","","","","","","","","","","","","","",""]
[null,null,{"$f":"IF(一覧!A28=\"\",\"\",一覧!A28)","v":""},{"$f":"IF(一覧!#REF!=\"\",\"\",一覧!#REF!)","v":{"$error":"#REF!"}},{"$f":"IF(一覧!#REF!=\"\",\"\",一覧!#REF!)","v":{"$error":"#REF!"}},"","","","","","","","","","","","","","","","","","","","","","","","","","",""]
[null,null,{"$f":"IF(一覧!A29=\"\",\"\",一覧!A29)","v":""},{"$f":"IF(一覧!#REF!=\"\",\"\",一覧!#REF!)","v":{"$error":"#REF!"}},{"$f":"IF(一覧!#REF!=\"\",\"\",一覧!#REF!)","v":{"$error":"#REF!"}},"","","","","","","","","","","","","","","","","","","","","","","","","","",""]
[null,null,{"$f":"IF(一覧!A30=\"\",\"\",一覧!A30)","v":""},{"$f":"IF(一覧!#REF!=\"\",\"\",一覧!#REF!)","v":{"$error":"#REF!"}},{"$f":"IF(一覧!#REF!=\"\",\"\",一覧!#REF!)","v":{"$error":"#REF!"}},"","","","","","","","","","","","","","","","","","","","","","","","","","",""]
[null,null,{"$f":"IF(一覧!A31=\"\",\"\",一覧!A31)","v":""},{"$f":"IF(一覧!#REF!=\"\",\"\",一覧!#REF!)","v":{"$error":"#REF!"}},{"$f":"IF(一覧!#REF!=\"\",\"\",一覧!#REF!)","v":{"$error":"#REF!"}},"","","","","","","","","","","","","","","","","","","","","","","","","","",""]
[null,null,{"$f":"IF(一覧!A32=\"\",\"\",一覧!A32)","v":""},{"$f":"IF(一覧!#REF!=\"\",\"\",一覧!#REF!)","v":{"$error":"#REF!"}},{"$f":"IF(一覧!#REF!=\"\",\"\",一覧!#REF!)","v":{"$error":"#REF!"}},"","","","","","","","","","","","","","","","","","","","","","","","","","",""]
[null,null,{"$f":"IF(一覧!A33=\"\",\"\",一覧!A33)","v":""},{"$f":"IF(一覧!#REF!=\"\",\"\",一覧!#REF!)","v":{"$error":"#REF!"}},{"$f":"IF(一覧!#REF!=\"\",\"\",一覧!#REF!)","v":{"$error":"#REF!"}},"","","","","","","","","","","","","","","","","","","","","","","","","","",""]
[null,null,{"$f":"IF(一覧!A34=\"\",\"\",一覧!A34)","v":""},{"$f":"IF(一覧!#REF!=\"\",\"\",一覧!#REF!)","v":{"$error":"#REF!"}},{"$f":"IF(一覧!#REF!=\"\",\"\",一覧!#REF!)","v":{"$error":"#REF!"}},"","","","","","","","","","","","","","","","","","","","","","","","","","",""]
[null,null,{"$f":"IF(一覧!A36=\"\",\"\",一覧!A36)","v":""},{"$f":"IF(一覧!#REF!=\"\",\"\",一覧!#REF!)","v":{"$error":"#REF!"}},{"$f":"IF(一覧!#REF!=\"\",\"\",一覧!#REF!)","v":{"$error":"#REF!"}},"","","","","","","","","","","","","","","","","","","","","","","","","","",""]
[null,null,{"$f":"IF(一覧!#REF!=\"\",\"\",一覧!#REF!)","v":{"$error":"#REF!"}},{"$f":"IF(一覧!#REF!=\"\",\"\",一覧!#REF!)","v":{"$error":"#REF!"}},{"$f":"IF(一覧!#REF!=\"\",\"\",一覧!#REF!)","v":{"$error":"#REF!"}},"","","","","","","","","","","","","","","","","","","","","","","","","","",""]
[null,null,{"$f":"IF(一覧!A37=\"\",\"\",一覧!A37)","v":""},{"$f":"IF(一覧!#REF!=\"\",\"\",一覧!#REF!)","v":{"$error":"#REF!"}},{"$f":"IF(一覧!#REF!=\"\",\"\",一覧!#REF!)","v":{"$error":"#REF!"}},"","","","","","","","","","","","","","","","","","","","","","","","","","",""]
[null,null,"オーエンス泉岳自然ふれあい館"]
[]
[]
[]
[]
[null,null,null,null,null,null,null,null,null,null,null,null,null,null,null,null,null,null,null,null,null,null,null,null,null,null,null,null,null,null,null,null,null,"コンタミネーション"]
[]
[]
[null,null,null,null,null,null,null,null,null,null,null,null,null,null,null,null,null,null,null,null,null,null,null,null,null,null,null,null,null,null,null,null,null,"特記事項"]
[]
[]
[null,null,null,null,null,null,null,null,null,null,null,null,null,null,null,null,null,null,null,null,null,null,null,null,null,null,null,null,null,null,null,null,null,null,"●　商品の終売・リニューアルの場合は成分等が変更になる場合があります。ご了承ください。"]
[null,null,null,null,null,null,null,null,null,null,null,null,null,null,null,null,null,null,null,null,null,null,null,null,null,null,null,null,null,null,null,null,null,"製造元","株式会社マメックス"]
[]
[null,null,null,null,null,null,null,null,null,null,null,null,null,null,null,null,null,null,null,null,null,null,null,null,null,null,null,null,null,null,null,null,null,{"$f":"一覧!AG38","v":0}]

{"sheet":"一覧","index":1,"n_rows":38,"n_cols":29,"rows_kept":38,"cut":false,"hidden":false,"merged":[[37,0,37,28],[0,1,0,28],[3,1,3,7],[3,0,4,0],[3,8,3,28],[1,0,2,0],[1,1,2,28]]}
[null,{"$f":"入力例!A25","v":"2020-03-01"}]
["おにぎり弁当","記号例…●：別添資料あり、○：アレルゲンあり、△：当該品目を含む製品の製造等でコンタミネーションの可能性があるもの\n※コンタミネーション…食品を製造する際に、原材料としては使用していないにもかかわらず、特定原材料等が意図せずして最終加工食品に混入してしまう場合のこと"]
[]
["献立名","七大アレルゲン",null,null,null,null,null,null,"特定原材料に準ずるもの21品目"]
[null,"小麦","卵","乳","そば","落花生","えび","かに","ごま","くるみ","カシュ","アーモンド","キウイ","もも","リンゴ","バナナ","オレンジ","いか","いくら","さけ","さば","大豆","鶏肉","豚肉","牛肉","まつたけ","やまいも","ゼラチン","あわび"]
["直巻おにぎり（梅）"]
["直巻おにぎり（鮭）",null,null,null,null,null,null,null,null,null,null,null,null,null,null,null,null,null,null,"●",null,"●"]
["鶏唐揚げ","●","●","●",null,null,null,null,"●",null,null,null,null,null,null,null,null,null,null,null,null,"●","●"]
["つぼ漬け","●",null,null,null,null,null,null,null,null,null,null,null,null,null,null,null,null,null,null,null,"●"]
[]
[]
[]
[]
[]
[]
[]
[]
[]
[]
[]
[]
[]
[]
[]
[]
[]
[]
[]
[]
[]
[]
[]
[]
[]
[]
[]
[]
[{"$f":"入力例!A22","v":"オーエンス泉岳自然ふれあい館"}]