{"text_format":"1","workbook":"xlsx","n_sheets":22,"sheets":["入力例","別添マスター","一覧","豚肉","白菜","玉ねぎ","にんじん","干し椎茸","しょうが","油①","油②","ごま油","中華味","濃口醤油","食塩","こしょう","片栗粉","チキンコンソメ","冷凍コーン①","冷凍コーン②","ポテトサラダ","ぶどうゼリー"],"not_rendered":{"charts":0,"images":2,"macros":1,"external_links":1,"defined_names":2,"comments":0,"pivot_tables":0},"unopened":[],"bounds":{"document_bytes":16777216,"sheet_cells":100000,"rows_first":2000,"rows_last":500,"rows_between":2000,"halvings":0,"cell_chars":16384,"cell_head_chars":4096},"cells_cut":0,"cells_raw":0,"read":"whole","date_system":"1900"}

{"sheet":"入力例","index":0,"n_rows":52,"n_cols":42,"rows_kept":52,"cut":false,"hidden":true,"merged":[[7,34,7,37],[7,38,7,41],[37,2,37,31],[0,5,0,31],[1,2,2,4],[1,5,2,31],[3,2,4,2],[3,3,4,3],[3,4,4,4],[3,5,3,11],[3,12,3,31],[1,34,1,41],[2,34,2,40],[3,34,3,40],[4,34,4,37],[4,38,4,41],[5,34,5,37],[5,38,5,41],[6,34,6,37],[6,38,6,41],[11,34,11,37],[11,38,11,41],[12,34,12,37],[12,38,12,41],[13,34,13,37],[13,38,13,41],[8,34,8,37],[8,38,8,41],[9,34,9,37],[9,38,9,41],[10,34,10,37],[10,38,10,41],[17,34,17,37],[17,38,17,41],[18,34,18,37],[18,38,18,41],[19,34,19,37],[19,38,19,41],[14,34,14,37],[14,38,14,41],[15,34,15,37],[15,38,15,41],[16,34,16,37],[16,38,16,41],[23,34,23,37],[23,38,23,41],[24,34,24,37],[24,38,24,41],[25,34,25,37],[25,38,25,41],[20,34,20,37],[20,38,20,41],[21,34,21,37],[21,38,21,41],[22,34,22,37],[22,38,22,41],[29,34,29,37],[29,38,29,41],[30,34,30,37],[30,38,30,41],[31,34,31,37],[31,38,31,41],[26,34,26,37],[26,38,26,41],[27,34,27,37],[27,38,27,41],[28,34,28,37],[28,38,28,41],[36,38,36,41],[37,34,37,37],[37,38,37,41],[32,34,32,37],[32,38,32,41],[33,34,33,37],[33,38,33,41],[34,34,34,37],[34,38,34,41],[49,33,50,33],[49,34,50,41],[51,33,51,41],[45,33,48,33],[45,34,45,41],[46,34,46,41],[47,34,47,41],[48,34,48,41],[41,34,41,37],[41,38,41,41],[42,33,44,33],[42,34,42,41],[43,34,43,41],[44,34,44,41],[4,33,41,33],[38,34,38,37],[38,38,38,41],[39,34,39,37],[39,38,39,41],[40,34,40,37],[40,38,40,41],[35,34,35,37],[35,38,35,41],[36,34,36,37]]}
[null,null,null,null,null,{"$f":"一覧!D1","v":"2019-11-01"},null,null,null,null,null,null,null,null,null,null,null,null,null,null,null,null,null,null,null,null,null,null,null,null,null,null,null,"一覧へ"]
[null,null,"（見本）タイプ③朝食",null,null,"記号例…●：別添資料あり、○：アレルゲンあり、△：当該品目を含む製品の製造等でコンタミネーションの可能性があるもの\n※コンタミネーション…食品を製造する際に、原材料としては使用していないにもかかわらず、特定原材料等が意図せずして最終加工食品に混入してしまう場合のこと",null,null,null,null,null,null,null,null,null,null,null,null,null,null,null,null,null,null,null,null,null,null,null,null,null,null,null,"シート名",{"$f":"RIGHT(CELL(\"filename\",AH1),LEN(CELL(\"filename\",AH1))-FIND(\"]\",CELL(\"filename\",AH1)))","v":"入力例"}]
[null,null,null,null,null,null,null,null,null,null,null,null,null,null,null,null,null,null,null,null,null,null,null,null,null,null,null,null,null,null,null,null,null,"商品名","サイコロ1ｋｇ",null,null,null,null,null,null,"作成日"]
[null,null,"献立名","別添資料","使用食材","七大アレルゲン",null,null,null,null,null,null,"特定原材料に準ずるもの20品目",null,null,null,null,null,null,null,null,null,null,null,null,null,null,null,null,null,null,null,null,"規格","1ｋｇ",null,null,null,null,null,null,{"$f":"A25","v":"2019-11-01"}]
[null,null,null,null,null,{"$f":"一覧!D5","v":"小麦"},{"$f":"一覧!E5","v":"卵"},{"$f":"一覧!F5","v":"乳"},{"$f":"一覧!G5","v":"そば"},{"$f":"一覧!H5","v":"落花生"},{"$f":"一覧!I5","v":"えび"},{"$f":"一覧!J5","v":"かに"},{"$f":"一覧!K5","v":"ごま"},{"$f":"一覧!L5","v":"くるみ"},{"$f":"一覧!M5","v":"カシュ"},{"$f":"一覧!N5","v":"キウイ"},{"$f":"一覧!O5","v":"もも"},{"$f":"一覧!P5","v":"リンゴ"},{"$f":"一覧!Q5","v":"バナナ"},{"$f":"一覧!R5","v":"オレンジ"},{"$f":"一覧!S5","v":"いか"},{"$f":"一覧!T5","v":"いくら"},{"$f":"一覧!U5","v":"さけ"},{"$f":"一覧!V5","v":"さば"},{"$f":"一覧!W5","v":"大豆"},{"$f":"一覧!X5","v":"鶏肉"},{"$f":"一覧!Y5","v":"豚肉"},{"$f":"一覧!Z5","v":"牛肉"},{"$f":"一覧!AA5","v":"まつたけ"},{"$f":"一覧!AB5","v":"やまいも"},{"$f":"一覧!AC5","v":"ゼラチン"},{"$f":"一覧!AD5","v":"あわび"},null,"原材料","原材料名",null,null,null,"27品目アレルゲン"]
[null,null,{"$f":"IF(一覧!A6=\"\",\"\",一覧!A6)","v":"中華飯"},{"$f":"IF(一覧!B6=\"\",\"\",一覧!B6)","v":""},{"$f":"IF(一覧!C6=\"\",\"\",一覧!C6)","v":"精白米"},{"$f":"IFERROR(IF(COUNTIF(INDIRECT($E6&\"!F5:I42\"),\"*\"&F$5&\"*\")>0,\"○\",IF(COUNTIF(INDIRECT($E6&\"!B43:I45\"),\"*\"&F$5&\"*\")>0,\"△\",\"\")),\"\")","v":""},{"$f":"IFERROR(IF(COUNTIF(INDIRECT($E6&\"!F5:I42\"),\"*\"&G$5&\"*\")>0,\"○\",IF(COUNTIF(INDIRECT($E6&\"!B43:I45\"),\"*\"&G$5&\"*\")>0,\"△\",\"\")),\"\")","v":""},"","","","","","","","","","","","","","","",{"$f":"IFERROR(IF(COUNTIF(INDIRECT($E6&\"!F5:I42\"),\"*\"&W$5&\"*\")>0,\"○\",IF(COUNTIF(INDIRECT($E6&\"!B43:I45\"),\"*\"&W$5&\"*\")>0,\"△\",\"\")),\"\")","v":""},"","","","","","","","","",null,null,"豆乳　　　　大豆",null,null,null,"大豆"]
[null,null,{"$f":"IF(一覧!A7=\"\",\"\",一覧!A7)","v":""},{"$f":"IF(一覧!B7=\"\",\"\",一覧!B7)","v":"●"},{"$f":"IF(一覧!C7=\"\",\"\",一覧!C7)","v":"豚肉"},{"$f":"IFERROR(IF(COUNTIF(INDIRECT($E7&\"!F5:I42\"),\"*\"&F$5&\"*\")>0,\"○\",IF(COUNTIF(INDIRECT($E7&\"!B43:I45\"),\"*\"&F$5&\"*\")>0,\"△\",\"\")),\"\")","v":""},"","","","","","","","","","","","","","","","","","","","","○","","","","","",null,null,"　　　　　　　水（水道水）"]
[null,null,{"$f":"IF(一覧!A8=\"\",\"\",一覧!A8)","v":""},{"$f":"IF(一覧!B8=\"\",\"\",一覧!B8)","v":"●"},{"$f":"IF(一覧!C8=\"\",\"\",一覧!C8)","v":"白菜"},"","","","","","","","","","","","","","","","","","","","","","","","","","","",null,null,"澱粉　　　　コーンスターチ"]
[null,null,{"$f":"IF(一覧!A9=\"\",\"\",一覧!A9)","v":""},{"$f":"IF(一覧!B9=\"\",\"\",一覧!B9)","v":"●"},{"$f":"IF(一覧!C9=\"\",\"\",一覧!C9)","v":"玉ねぎ"},"","","","","","","","","","","","","","","","","","","","","","","","","","","",null,null,"加工澱粉  アセチル化アジピン酸架橋デンプン"]
[null,null,{"$f":"IF(一覧!A10=\"\",\"\",一覧!A10)","v":""},{"$f":"IF(一覧!B10=\"\",\"\",一覧!B10)","v":"●"},{"$f":"IF(一覧!C10=\"\",\"\",一覧!C10)","v":"にんじん"},"","","","","","","","","","","","","","","","","","","","","","","","","","","",null,null,"塩化マグネシウム"]
[null,null,{"$f":"IF(一覧!A11=\"\",\"\",一覧!A11)","v":""},{"$f":"IF(一覧!B11=\"\",\"\",一覧!B11)","v":"●"},{"$f":"IF(一覧!C11=\"\",\"\",一覧!C11)","v":"干し椎茸"},"","","","","","","","","","","","","","","","","","","","","","","","","","","",null,null,"水"]
[null,null,{"$f":"IF(一覧!A12=\"\",\"\",一覧!A12)","v":""},{"$f":"IF(一覧!B12=\"\",\"\",一覧!B12)","v":"●"},{"$f":"IF(一覧!C12=\"\",\"\",一覧!C12)","v":"しょうが"},"","","","","","","","","","","","","","","","","","","","","","","","","","",""]
[null,null,{"$f":"IF(一覧!A13=\"\",\"\",一覧!A13)","v":""},{"$f":"IF(一覧!B13=\"\",\"\",一覧!B13)","v":"●"},{"$f":"IF(一覧!C13=\"\",\"\",一覧!C13)","v":"油①"},"","","","","","","","","","","","","","","","","","","","○","","","","","","",""]
[null,null,{"$f":"IF(一覧!A14=\"\",\"\",一覧!A14)","v":""},{"$f":"IF(一覧!B14=\"\",\"\",一覧!B14)","v":"●"},{"$f":"IF(一覧!C14=\"\",\"\",一覧!C14)","v":"油②"},"","","","","","","","","","","","","","","","","","","","","","","","","","",""]
[null,null,{"$f":"IF(一覧!A15=\"\",\"\",一覧!A15)","v":""},{"$f":"IF(一覧!B15=\"\",\"\",一覧!B15)","v":"●"},{"$f":"IF(一覧!C15=\"\",\"\",一覧!C15)","v":"ごま油"},"","","","","","","","○","","","","","","","","","","","","","","","","","","",""]
[null,null,{"$f":"IF(一覧!A16=\"\",\"\",一覧!A16)","v":""},{"$f":"IF(一覧!B16=\"\",\"\",一覧!B16)","v":"●"},{"$f":"IF(一覧!C16=\"\",\"\",一覧!C16)","v":"中華味"},"","","","","","","","","","","","","","","","","","","","○","○","○","○","","","○",""]
[null,null,{"$f":"IF(一覧!A17=\"\",\"\",一覧!A17)","v":""},{"$f":"IF(一覧!B17=\"\",\"\",一覧!B17)","v":"●"},{"$f":"IF(一覧!C17=\"\",\"\",一覧!C17)","v":"濃口醤油"},"○","","","","","","","","","","","","","","","","","","","○","","","","","","",""]
[null,null,{"$f":"IF(一覧!A18=\"\",\"\",一覧!A18)","v":""},{"$f":"IF(一覧!B18=\"\",\"\",一覧!B18)","v":"●"},{"$f":"IF(一覧!C18=\"\",\"\",一覧!C18)","v":"食塩"},"","","","","","","","","","","","","","","","","","","","","","","","","","",""]
[null,null,{"$f":"IF(一覧!A19=\"\",\"\",一覧!A19)","v":""},{"$f":"IF(一覧!B19=\"\",\"\",一覧!B19)","v":"●"},{"$f":"IF(一覧!C19=\"\",\"\",一覧!C19)","v":"こしょう"},"","","","","","","","","","","","","","","","","","","","","","","","","","",""]
[null,null,{"$f":"IF(一覧!A20=\"\",\"\",一覧!A20)","v":""},{"$f":"IF(一覧!B20=\"\",\"\",一覧!B20)","v":"●"},{"$f":"IF(一覧!C20=\"\",\"\",一覧!C20)","v":"片栗粉"},"","","","","","","","","","","","","","","","","","","","","","","","","","",""]
["施設名称",null,{"$f":"IF(一覧!A21=\"\",\"\",一覧!A21)","v":"コンソメスープ"},{"$f":"IF(一覧!B21=\"\",\"\",一覧!B21)","v":"●"},{"$f":"IF(一覧!C21=\"\",\"\",一覧!C21)","v":"チキンコンソメ"},"○","","","","","","","","","","","","","","","",{"$f":"IFERROR(IF(COUNTIF(INDIRECT($E21&\"!F5:I42\"),\"*\"&V$5&\"*\")>0,\"○\",IF(COUNTIF(INDIRECT($E21&\"!B43:I45\"),\"*\"&V$5&\"*\")>0,\"△\",\"\")),\"\")","v":""},"","","○","○","","","","","",""]
["オーエンス泉岳自然ふれあい館",null,{"$f":"IF(一覧!A22=\"\",\"\",一覧!A22)","v":""},{"$f":"IF(一覧!B22=\"\",\"\",一覧!B22)","v":"●"},{"$f":"IF(一覧!C22=\"\",\"\",一覧!C22)","v":"食塩"},"","","","","","","","","","","","","","","","","","","","","","","","","","",""]
[null,null,{"$f":"IF(一覧!A23=\"\",\"\",一覧!A23)","v":""},{"$f":"IF(一覧!B23=\"\",\"\",一覧!B23)","v":"●"},{"$f":"IF(一覧!C23=\"\",\"\",一覧!C23)","v":"こしょう"},{"$f":"IFERROR(IF(COUNTIF(INDIRECT($E23&\"!F5:I42\"),\"*\"&F$5&\"*\")>0,\"○\",IF(COUNTIF(INDIRECT($E23&\"!B43:I45\"),\"*\"&F$5&\"*\")>0,\"△\",\"\")),\"\")","v":""},"","","","","","","","","","","","","","","","","","","","","","","","","",""]
["更新日",null,{"$f":"IF(一覧!A24=\"\",\"\",一覧!A24)","v":""},{"$f":"IF(一覧!B24=\"\",\"\",一覧!B24)","v":"●"},{"$f":"IF(一覧!C24=\"\",\"\",一覧!C24)","v":"玉ねぎ"},"","","","","","","","","","","","","","","","","","","","","","","","","","",""]
["2019-11-01",null,{"$f":"IF(一覧!A25=\"\",\"\",一覧!A25)","v":""},{"$f":"IF(一覧!B25=\"\",\"\",一覧!B25)","v":"●"},{"$f":"IF(一覧!C25=\"\",\"\",一覧!C25)","v":"冷凍コーン①"},"","","","","","","","","","","","","","","","","","","","","","","","","","",""]
[null,null,{"$f":"IF(一覧!A27=\"\",\"\",一覧!A27)","v":"ポテトサラダ"},{"$f":"IF(一覧!B27=\"\",\"\",一覧!B27)","v":"●"},{"$f":"IF(一覧!C27=\"\",\"\",一覧!C27)","v":"ポテトサラダ"},"○","○","○","","","","","","","","","","","","","","","","","○","○","","","","","○",""]
[null,null,{"$f":"IF(一覧!A28=\"\",\"\",一覧!A28)","v":"ぶどうゼリー"},{"$f":"IF(一覧!B28=\"\",\"\",一覧!B28)","v":"●"},{"$f":"IF(一覧!C28=\"\",\"\",一覧!C28)","v":"ぶどうゼリー"},"△","△","△","","","","","","","","","","","","","","","","","","","","","","","",""]
[null,null,{"$f":"IF(一覧!A29=\"\",\"\",一覧!A29)","v":""},{"$f":"IF(一覧!B29=\"\",\"\",一覧!B29)","v":""},{"$f":"IF(一覧!C29=\"\",\"\",一覧!C29)","v":""},"","","","","","","","","","","","","","","","","","","","","","","","","","",""]
[null,null,{"$f":"IF(一覧!A30=\"\",\"\",一覧!A30)","v":""},{"$f":"IF(一覧!B30=\"\",\"\",一覧!B30)","v":""},{"$f":"IF(一覧!C30=\"\",\"\",一覧!C30)","v":""},"","","","","","","","","","","","","","","","","","","","","","","","","","",""]
[null,null,{"$f":"IF(一覧!A26=\"\",\"\",一覧!A26)","v":""},{"$f":"IF(一覧!B26=\"\",\"\",一覧!B26)","v":"●"},{"$f":"IF(一覧!C26=\"\",\"\",一覧!C26)","v":"冷凍コーン②"},"","","","","","","","","","","","","","","","","","","","","","","","","","",""]
[null,null,{"$f":"IF(一覧!A31=\"\",\"\",一覧!A31)","v":""},{"$f":"IF(一覧!B31=\"\",\"\",一覧!B31)","v":""},{"$f":"IF(一覧!C31=\"\",\"\",一覧!C31)","v":""},"","","","","","","","","","","","","","","","","","","","","","","","","","",""]
[null,null,{"$f":"IF(一覧!A32=\"\",\"\",一覧!A32)","v":""},{"$f":"IF(一覧!B32=\"\",\"\",一覧!B32)","v":""},{"$f":"IF(一覧!C32=\"\",\"\",一覧!C32)","v":""},"","","","","","","","","","","","","","","","","","","","","","","","","","",""]
[null,null,{"$f":"IF(一覧!A33=\"\",\"\",一覧!A33)","v":""},{"$f":"IF(一覧!B33=\"\",\"\",一覧!B33)","v":""},{"$f":"IF(一覧!C33=\"\",\"\",一覧!C33)","v":""},"","","","","","","","","","","","","","","","","","","","","","","","","","",""]
[null,null,{"$f":"IF(一覧!A34=\"\",\"\",一覧!A34)","v":""},{"$f":"IF(一覧!B34=\"\",\"\",一覧!B34)","v":""},{"$f":"IF(一覧!C34=\"\",\"\",一覧!C34)","v":""},"","","","","","","","","","","","","","","","","","","","","","","","","","",""]
[null,null,{"$f":"IF(一覧!A35=\"\",\"\",一覧!A35)","v":""},{"$f":"IF(一覧!B35=\"\",\"\",一覧!B35)","v":""},{"$f":"IF(一覧!C35=\"\",\"\",一覧!C35)","v":""},"","","","","","","","","","","","","","","","","","","","","","","","","","",""]
[null,null,{"$f":"IF(一覧!A36=\"\",\"\",一覧!A36)","v":""},{"$f":"IF(一覧!B36=\"\",\"\",一覧!B36)","v":""},{"$f":"IF(一覧!C36=\"\",\"\",一覧!C36)","v":""},"","","","","","","","","","","","","","","","","","","","","","","","","","",""]
[null,null,{"$f":"IF(一覧!A37=\"\",\"\",一覧!A37)","v":""},{"$f":"IF(一覧!B37=\"\",\"\",一覧!B37)","v":""},{"$f":"IF(一覧!C37=\"\",\"\",一覧!C37)","v":""},"","","","","","","","","","","","","","","","","","","","","","","","","","",""]
[null,null,"オーエンス泉岳自然ふれあい館"]
[]
[]
[]
[]
[null,null,null,null,null,null,null,null,null,null,null,null,null,null,null,null,null,null,null,null,null,null,null,null,null,null,null,null,null,null,null,null,null,"コンタミネーション"]
[]
[]
[null,null,null,null,null,null,null,null,null,null,null,null,null,null,null,null,null,null,null,null,null,null,null,null,null,null,null,null,null,null,null,null,null,"特記事項"]
[]
[]
[null,null,null,null,null,null,null,null,null,null,null,null,null,null,null,null,null,null,null,null,null,null,null,null,null,null,null,null,null,null,null,null,null,null,"●　商品の終売・リニューアルの場合は成分等が変更になる場合があります。ご了承ください。"]
[null,null,null,null,null,null,null,null,null,null,null,null,null,null,null,null,null,null,null,null,null,null,null,null,null,null,null,null,null,null,null,null,null,"製造元","株式会社マメックス"]
[]
[null,null,null,null,null,null,null,null,null,null,null,null,null,null,null,null,null,null,null,null,null,null,null,null,null,null,null,null,null,null,null,null,null,{"$f":"一覧!AH38","v":0}]

{"sheet":"別添マスター","index":1,"n_rows":52,"n_cols":39,"rows_kept":52,"cut":false,"hidden":true,"merged":[[1,1,1,8],[2,1,2,7],[3,1,3,7],[4,0,41,0],[4,1,4,4],[4,5,4,8],[5,1,5,4],[5,5,5,8],[6,1,6,4],[6,5,6,8],[7,1,7,4],[7,5,7,8],[8,1,8,4],[8,5,8,8],[9,1,9,4],[9,5,9,8],[10,1,10,4],[10,5,10,8],[11,1,11,4],[11,5,11,8],[12,1,12,4],[12,5,12,8],[13,1,13,4],[13,5,13,8],[14,1,14,4],[14,5,14,8],[15,1,15,4],[15,5,15,8],[16,1,16,4],[16,5,16,8],[17,1,17,4],[17,5,17,8],[18,1,18,4],[18,5,18,8],[19,1,19,4],[19,5,19,8],[20,1,20,4],[20,5,20,8],[21,1,21,4],[21,5,21,8],[22,1,22,4],[22,5,22,8],[23,1,23,4],[23,5,23,8],[24,1,24,4],[24,5,24,8],[25,1,25,4],[25,5,25,8],[26,1,26,4],[26,5,26,8],[27,1,27,4],[27,5,27,8],[28,1,28,4],[28,5,28,8],[29,1,29,4],[29,5,29,8],[30,1,30,4],[30,5,30,8],[31,1,31,4],[31,5,31,8],[32,1,32,4],[32,5,32,8],[33,1,33,4],[33,5,33,8],[34,1,34,4],[34,5,34,8],[35,1,35,4],[35,5,35,8],[36,1,36,4],[36,5,36,8],[37,1,37,4],[37,5,37,8],[38,1,38,4],[38,5,38,8],[39,1,39,4],[39,5,39,8],[40,1,40,4],[40,5,40,8],[41,1,41,4],[41,5,41,8],[42,0,44,0],[42,1,42,8],[43,1,43,8],[44,1,44,8],[51,0,51,8],[45,0,48,0],[45,1,45,8],[46,1,46,8],[47,1,47,8],[48,1,48,8],[49,0,50,0],[49,1,50,8]]}
["一覧へ"]
["シート名",{"$f":"RIGHT(CELL(\"filename\",A1),LEN(CELL(\"filename\",A1))-FIND(\"]\",CELL(\"filename\",A1)))","v":"別添マスター"}]
["商品名",null,null,null,null,null,null,null,"作成日"]
["規格",null,null,null,null,null,null,null,{"$f":"一覧!D1","v":"2019-11-01"}]
["原材料","原材料名",null,null,null,"27品目アレルゲン",null,null,null,null,"個数①","計",{"$f":"一覧!D5","v":"小麦"},{"$f":"一覧!E5","v":"卵"},{"$f":"一覧!F5","v":"乳"},{"$f":"一覧!G5","v":"そば"},{"$f":"一覧!H5","v":"落花生"},{"$f":"一覧!I5","v":"えび"},{"$f":"一覧!J5","v":"かに"},{"$f":"一覧!K5","v":"ごま"},{"$f":"一覧!L5","v":"くるみ"},{"$f":"一覧!M5","v":"カシュ"},{"$f":"一覧!N5","v":"キウイ"},{"$f":"一覧!O5","v":"もも"},{"$f":"一覧!P5","v":"リンゴ"},{"$f":"一覧!Q5","v":"バナナ"},{"$f":"一覧!R5","v":"オレンジ"},{"$f":"一覧!S5","v":"いか"},{"$f":"一覧!T5","v":"いくら"},{"$f":"一覧!U5","v":"さけ"},{"$f":"一覧!V5","v":"さば"},{"$f":"一覧!W5","v":"大豆"},{"$f":"一覧!X5","v":"鶏肉"},{"$f":"一覧!Y5","v":"豚肉"},{"$f":"一覧!Z5","v":"牛肉"},{"$f":"一覧!AA5","v":"まつたけ"},{"$f":"一覧!AB5","v":"やまいも"},{"$f":"一覧!AC5","v":"ゼラチン"},{"$f":"一覧!AD5","v":"あわび"}]
[null,null,null,null,null,null,null,null,null,null,{"$f":"IF(F6=\"\",0,LEN(F6)-LEN(SUBSTITUTE(F6, \"、\", \"\"))+1)","v":0},{"$f":"SUM(M6:AM6)","v":0},{"$f":"COUNTIF($F6,\"*\"&M$5&\"*\")","v":0},{"$f":"COUNTIF($F6,\"*\"&N$5&\"*\")","v":0},0,0,0,0,0,0,0,0,0,0,0,0,0,0,0,0,0,0,0,0,0,0,0,0,0]
[null,null,null,null,null,null,null,null,null,null,{"$f":"IF(F7=\"\",0,LEN(F7)-LEN(SUBSTITUTE(F7, \"、\", \"\"))+1)","v":0},{"$f":"SUM(M7:AM7)","v":0},{"$f":"COUNTIF($F7,\"*\"&M$5&\"*\")","v":0},0,0,0,0,0,0,0,0,0,0,0,0,0,0,0,0,0,0,0,0,0,0,0,0,0,0]
[null,null,null,null,null,null,null,null,null,null,0,0,0,0,0,0,0,0,0,0,0,0,0,0,0,0,0,0,0,0,0,0,0,0,0,0,0,0,0]
[null,null,null,null,null,null,null,null,null,null,0,0,0,0,0,0,0,0,0,0,0,0,0,0,0,0,0,0,0,0,0,0,0,0,0,0,0,0,0]
[null,null,null,null,null,null,null,null,null,null,0,0,0,0,0,0,0,0,0,0,0,0,0,0,0,0,0,0,0,0,0,0,0,0,0,0,0,0,0]
[null,null,null,null,null,null,null,null,null,null,0,0,0,0,0,0,0,0,0,0,0,0,0,0,0,0,0,0,0,0,0,0,0,0,0,0,0,0,0]
[null,null,null,null,null,null,null,null,null,null,0,0,0,0,0,0,0,0,0,0,0,0,0,0,0,0,0,0,0,0,0,0,0,0,0,0,0,0,0]
[null,null,null,null,null,null,null,null,null,null,0,0,0,0,0,0,0,0,0,0,0,0,0,0,0,0,0,0,0,0,0,0,0,0,0,0,0,0,0]
[null,null,null,null,null,null,null,null,null,null,0,0,0,0,0,0,0,0,0,0,0,0,0,0,0,0,0,0,0,0,0,0,0,0,0,0,0,0,0]
[null,null,null,null,null,null,null,null,null,null,0,0,0,0,0,0,0,0,0,0,0,0,0,0,0,0,0,0,0,0,0,0,0,0,{"$f":"COUNTIF($F15,\"*\"&AI$5&\"*\")","v":0},0,0,0,0]
[null,null,null,null,null,null,null,null,null,null,0,0,0,0,0,0,0,0,0,0,0,0,0,0,0,0,0,0,{"$f":"COUNTIF($F16,\"*\"&AC$5&\"*\")","v":0},0,0,0,0,0,0,0,0,0,0]
[null,null,null,null,null,null,null,null,null,null,0,0,0,0,0,0,0,0,0,0,0,0,0,0,0,0,0,0,0,0,0,0,0,0,0,0,0,0,0]
[null,null,null,null,null,null,null,null,null,null,0,0,0,0,0,0,0,0,0,0,0,0,0,0,0,0,0,0,0,0,0,0,0,0,0,0,0,0,0]
[null,null,null,null,null,null,null,null,null,null,0,0,0,0,0,0,0,0,0,0,0,0,0,0,0,0,0,0,0,0,0,0,0,0,0,0,0,0,0]
[null,null,null,null,null,null,null,null,null,null,0,0,0,0,0,0,0,0,0,0,0,0,0,0,0,0,0,0,0,0,0,0,0,0,0,0,0,0,0]
[null,null,null,null,null,null,null,null,null,null,0,0,0,0,0,0,0,0,0,0,0,0,0,0,0,0,0,0,0,0,0,0,0,0,0,0,0,0,0]
[null,null,null,null,null,null,null,null,null,null,0,0,0,0,0,0,0,0,0,0,0,0,0,0,0,0,0,0,0,0,0,0,0,0,0,0,0,0,0]
[null,null,null,null,null,null,null,null,null,null,0,0,0,0,0,0,0,0,0,0,0,0,0,0,0,0,0,0,0,0,0,0,0,0,0,0,0,0,0]
[null,null,null,null,null,null,null,null,null,null,0,0,0,0,0,0,0,0,0,0,0,0,0,0,0,0,0,0,0,0,0,0,0,0,0,0,0,0,0]
[null,null,null,null,null,null,null,null,null,null,0,0,0,0,0,0,0,0,0,0,0,0,0,0,0,0,0,0,0,0,0,0,0,0,0,0,0,0,0]
[null,null,null,null,null,null,null,null,null,null,0,0,0,0,0,0,0,0,0,0,0,0,0,0,0,0,0,0,0,0,0,0,0,0,0,0,0,0,0]
[null,null,null,null,null,null,null,null,null,null,0,0,0,0,0,0,0,0,0,0,0,0,0,0,0,0,0,0,0,0,0,0,0,0,0,0,0,0,0]
[null,null,null,null,null,null,null,null,null,null,0,0,0,0,0,0,0,0,0,0,0,0,0,0,0,0,0,0,0,0,0,0,0,0,0,0,0,0,0]
[null,null,null,null,null,null,null,null,null,null,0,0,0,0,0,0,0,0,0,0,0,0,0,0,0,0,0,0,0,0,0,0,0,0,0,0,0,0,0]
[null,null,null,null,null,null,null,null,null,null,0,0,0,0,0,0,0,0,0,0,0,0,0,0,0,0,0,0,0,0,0,0,0,0,0,0,0,0,0]
[null,null,null,null,null,null,null,null,null,null,0,0,0,0,0,0,0,0,{"$f":"COUNTIF($F31,\"*\"&S$5&\"*\")","v":0},0,0,0,0,0,0,0,0,0,0,0,0,0,0,0,0,0,0,0,0]
[null,null,null,null,null,null,null,null,null,null,0,0,{"$f":"COUNTIF($F32,\"*\"&M$5&\"*\")","v":0},0,0,0,0,0,0,0,0,0,0,0,0,0,0,0,0,0,0,0,0,0,0,0,0,0,0]
[null,null,null,null,null,null,null,null,null,null,0,0,0,0,0,0,0,0,0,0,0,0,0,0,0,0,0,0,0,0,0,0,0,0,0,0,0,0,0]
[null,null,null,null,null,null,null,null,null,null,0,0,0,0,0,0,0,0,0,0,0,0,0,0,0,0,0,0,0,0,0,0,0,0,0,0,0,0,0]
[null,null,null,null,null,null,null,null,null,null,0,0,0,0,0,0,0,0,0,0,0,0,0,0,0,0,0,0,0,0,0,0,0,0,0,0,0,0,0]
[null,null,null,null,null,null,null,null,null,null,0,0,0,0,0,0,0,0,0,0,0,0,0,0,0,0,0,0,0,0,0,0,0,0,0,0,0,0,0]
[null,null,null,null,null,null,null,null,null,null,0,0,0,0,0,0,0,0,0,0,0,0,0,0,0,0,0,0,0,0,0,0,0,0,0,0,0,0,0]
[null,null,null,null,null,null,null,null,null,null,0,0,0,0,0,0,0,0,0,0,0,0,0,0,0,0,0,0,0,0,0,0,0,0,0,0,0,0,0]
[null,null,null,null,null,null,null,null,null,null,0,0,0,0,0,0,0,0,0,0,0,0,0,0,0,0,0,0,0,0,0,0,0,0,0,0,0,0,0]
[null,null,null,null,null,null,null,null,null,null,0,0,0,0,0,0,0,0,0,0,0,0,0,0,0,0,0,0,0,0,0,0,0,0,0,0,0,0,0]
[null,null,null,null,null,null,null,null,null,null,0,0,0,0,0,0,0,0,0,0,0,0,0,0,0,0,0,0,0,0,0,0,0,0,0,0,0,0,0]
[null,null,null,null,null,null,null,null,null,null,0,0,0,0,0,0,0,0,0,0,0,0,0,0,0,0,0,0,0,0,0,0,0,0,0,0,0,0,0]
["コンタミネーション",null,null,null,null,null,null,null,null,null,0,0,{"$f":"COUNTIF($B43,\"*\"&M$5&\"*\")","v":0},{"$f":"COUNTIF($B43,\"*\"&N$5&\"*\")","v":0},0,0,0,0,0,0,0,0,0,0,0,0,0,0,0,{"$f":"COUNTIF($B43,\"*\"&AD$5&\"*\")","v":0},0,0,0,0,0,0,0,0,0]
[null,null,null,null,null,null,null,null,null,null,0,0,{"$f":"COUNTIF($B44,\"*\"&M$5&\"*\")","v":0},0,0,0,0,0,0,0,0,0,0,0,0,0,0,0,0,0,0,0,0,0,0,0,0,0,0]
[null,null,null,null,null,null,null,null,null,null,0,0,0,0,0,0,0,0,0,0,0,0,0,0,0,0,0,0,0,0,0,0,0,0,0,0,0,0,0]
["特記事項"]
[]
[]
[null,"●　商品の終売・リニューアルの場合は成分等が変更になる場合があります。ご了承ください。"]
["製造元"]
[]
[{"$f":"一覧!A38","v":"オーエンス泉岳自然ふれあい館"}]

{"sheet":"一覧","index":2,"n_rows":38,"n_cols":30,"rows_kept":38,"cut":false,"hidden":false,"merged":[[37,0,37,29],[0,3,0,29],[3,3,3,9],[3,0,4,0],[3,2,4,2],[3,10,3,29],[3,1,4,1],[1,0,2,2],[1,3,2,29]]}
[null,null,null,{"$f":"入力例!A25","v":"2019-11-01"}]
["タイプ⑤昼食",null,null,"記号例…●：別添資料あり、○：アレルゲンあり、△：当該品目を含む製品の製造等でコンタミネーションの可能性があるもの\n※コンタミネーション…食品を製造する際に、原材料としては使用していないにもかかわらず、特定原材料等が意図せずして最終加工食品に混入してしまう場合のこと"]
[]
["献立名","別添資料","使用食材","七大アレルゲン",null,null,null,null,null,null,"特定原材料に準ずるもの20品目"]
[null,null,null,"小麦","卵","乳","そば","落花生","えび","かに","ごま","くるみ","カシュ","キウイ","もも","リンゴ","バナナ","オレンジ","いか","いくら","さけ","さば","大豆","鶏肉","豚肉","牛肉","まつたけ","やまいも","ゼラチン","あわび"]
["中華飯",null,"精白米",{"$f":"IFERROR(IF(COUNTIF(INDIRECT($C6&\"!F5:I42\"),\"*\"&D$5&\"*\")>0,\"○\",IF(COUNTIF(INDIRECT($C6&\"!B43:I45\"),\"*\"&D$5&\"*\")>0,\"△\",\"\")),\"\")","v":""},{"$f":"IFERROR(IF(COUNTIF(INDIRECT($C6&\"!F5:I42\"),\"*\"&E$5&\"*\")>0,\"○\",IF(COUNTIF(INDIRECT($C6&\"!B43:I45\"),\"*\"&E$5&\"*\")>0,\"△\",\"\")),\"\")","v":""},"","","","","","","","","","","","","","","",{"$f":"IFERROR(IF(COUNTIF(INDIRECT($C6&\"!F5:I42\"),\"*\"&U$5&\"*\")>0,\"○\",IF(COUNTIF(INDIRECT($C6&\"!B43:I45\"),\"*\"&U$5&\"*\")>0,\"△\",\"\")),\"\")","v":""},"","","","","","","","",""]
[null,"●","豚肉","","","","","","","","","","","","","","","","","","","","","","○","","","","",""]
[null,"●","白菜","","","","","","","","","","","","","","","","","","","","","","","","","","",""]
[null,"●","玉ねぎ","","","","","","","","","","","","","","","","","","","","","","","","","","",""]
[null,"●","にんじん","","","","","","","","","","","","","","","","","","","","","","","","","","",""]
[null,"●","干し椎茸","","","","","","","","","","","","","","","","","","","","","","","","","","",""]
[null,"●","しょうが","","","","","","","","","","","","","","","","","","","","","","","","","","",""]
[null,"●","油①","","","","","","","","","","","","","","","","","","","","○","","","","","","",""]
[null,"●","油②","","","","","","","","","","","","","","","","","","","","","","","","","","",""]
[null,"●","ごま油","","","","","","","","○","","","","","","","","","","","","","","","","","","",""]
[null,"●","中華味",{"$f":"IFERROR(IF(COUNTIF(INDIRECT($C16&\"!F5:I42\"),\"*\"&D$5&\"*\")>0,\"○\",IF(COUNTIF(INDIRECT($C16&\"!B43:I45\"),\"*\"&D$5&\"*\")>0,\"△\",\"\")),\"\")","v":""},"","","","","","","","","","","","","","","","","","","○","○","○","○","","","○",""]
[null,"●","濃口醤油","○","","","","","","","","","","","","","","","","","","","○","","","","","","",""]
[null,"●","食塩","","","","","","","","","","","","","","","","","","","","","","","","","","",""]
[null,"●","こしょう","","","","","","","","","","","","","","","","","","","","","","","","","","",""]
[null,"●","片栗粉","","","","","","","","","","","","","","","","","","","","","","","","","","",""]
["コンソメスープ","●","チキンコンソメ","○","","","","","","","","","","","","","","","",{"$f":"IFERROR(IF(COUNTIF(INDIRECT($C21&\"!F5:I42\"),\"*\"&T$5&\"*\")>0,\"○\",IF(COUNTIF(INDIRECT($C21&\"!B43:I45\"),\"*\"&T$5&\"*\")>0,\"△\",\"\")),\"\")","v":""},"","","○","○","","","","","",""]
[null,"●","食塩","","","","","","","","","","","","","","","","","","","","","","","","","","",""]
[null,"●","こしょう",{"$f":"IFERROR(IF(COUNTIF(INDIRECT($C23&\"!F5:I42\"),\"*\"&D$5&\"*\")>0,\"○\",IF(COUNTIF(INDIRECT($C23&\"!B43:I45\"),\"*\"&D$5&\"*\")>0,\"△\",\"\")),\"\")","v":""},"","","","","","","","","","","","","","","","","","","","","","","","","",""]
[null,"●","玉ねぎ","","","","","","","","","","","","","","","","","","","","","","","","","","",""]
[null,"●","冷凍コーン①","","","","","","","","","","","","","","","","","","","","","","","","","","",""]
[null,"●","冷凍コーン②",{"$f":"IFERROR(IF(COUNTIF(INDIRECT($C26&\"!F5:I42\"),\"*\"&D$5&\"*\")>0,\"○\",IF(COUNTIF(INDIRECT($C26&\"!B43:I45\"),\"*\"&D$5&\"*\")>0,\"△\",\"\")),\"\")","v":""},"","","","","","","","","","","","","","","","","","","","","","","","","",""]
["ポテトサラダ","●","ポテトサラダ","○","○","○","","","","","","","","","","","","","","","","","○","○","","","","","○",""]
["ぶどうゼリー","●","ぶどうゼリー","△","△","△","","","","","","","","","","","","","","","","","","","","","","","",""]
[null,null,null,"","","","","","","","","","","","","","","","","","","","","","","","","","",""]
[null,null,null,"","","","","","","","","","","","","","","","","","","","","","","","","","",""]
[null,null,null,{"$f":"IFERROR(IF(COUNTIF(INDIRECT($C31&\"!F5:I42\"),\"*\"&D$5&\"*\")>0,\"○\",IF(COUNTIF(INDIRECT($C31&\"!B43:I45\"),\"*\"&D$5&\"*\")>0,\"△\",\"\")),\"\")","v":""},"","","","","","","","","","","","","","","","","","","","","","","","","",""]
[null,null,null,"","","","","","","","","","","","","","","","","","","","","","","","","","",""]
[null,null,null,"","","","","","","","","","","","","","","","","","","","","","","","","","",""]
[null,null,null,"","","","","","","","","","","","","","","","","","","","","","","","","","",""]
[null,null,null,"","","","","","","","","","","","","","","","","","","","","","","","","","",""]
[null,null,null,"","","","","","","","","","","","","","","","","",{"$f":"IFERROR(IF(COUNTIF(INDIRECT($C36&\"!F5:I42\"),\"*\"&U$5&\"*\")>0,\"○\",IF(COUNTIF(INDIRECT($C36&\"!B43:I45\"),\"*\"&U$5&\"*\")>0,\"△\",\"\")),\"\")","v":""},"","","","","","","","",""]
[null,null,null,"","","","","","","","","","","","","","","","","","","","","","","","","","",""]
[{"$f":"入力例!A22","v":"オーエンス泉岳自然ふれあい館"}]

{"sheet":"豚肉","index":3,"n_rows":52,"n_cols":39,"rows_kept":52,"cut":false,"hidden":false,"merged":[[1,1,1,8],[2,1,2,7],[3,1,3,7],[4,0,41,0],[4,1,4,4],[4,5,4,8],[5,1,5,4],[5,5,5,8],[6,1,6,4],[6,5,6,8],[7,1,7,4],[7,5,7,8],[8,1,8,4],[8,5,8,8],[9,1,9,4],[9,5,9,8],[10,1,10,4],[10,5,10,8],[11,1,11,4],[11,5,11,8],[12,1,12,4],[12,5,12,8],[13,1,13,4],[13,5,13,8],[14,1,14,4],[14,5,14,8],[15,1,15,4],[15,5,15,8],[16,1,16,4],[16,5,16,8],[17,1,17,4],[17,5,17,8],[18,1,18,4],[18,5,18,8],[19,1,19,4],[19,5,19,8],[20,1,20,4],[20,5,20,8],[21,1,21,4],[21,5,21,8],[22,1,22,4],[22,5,22,8],[23,1,23,4],[23,5,23,8],[24,1,24,4],[24,5,24,8],[25,1,25,4],[25,5,25,8],[26,1,26,4],[26,5,26,8],[27,1,27,4],[27,5,27,8],[28,1,28,4],[28,5,28,8],[29,1,29,4],[29,5,29,8],[30,1,30,4],[30,5,30,8],[31,1,31,4],[31,5,31,8],[32,1,32,4],[32,5,32,8],[33,1,33,4],[33,5,33,8],[34,1,34,4],[34,5,34,8],[35,1,35,4],[35,5,35,8],[36,1,36,4],[36,5,36,8],[37,1,37,4],[37,5,37,8],[38,1,38,4],[38,5,38,8],[39,1,39,4],[39,5,39,8],[40,1,40,4],[40,5,40,8],[41,1,41,4],[41,5,41,8],[42,0,44,0],[42,1,42,8],[43,1,43,8],[44,1,44,8],[51,0,51,8],[45,0,48,0],[45,1,45,8],[46,1,46,8],[47,1,47,8],[48,1,48,8],[49,0,50,0],[49,1,50,8]]}
["一覧へ"]
["シート名",{"$f":"RIGHT(CELL(\"filename\",A1),LEN(CELL(\"filename\",A1))-FIND(\"]\",CELL(\"filename\",A1)))","v":"豚肉"}]
["商品名","ベストシェフ　豚小間スライス2ｍｍ",null,null,null,null,null,null,"作成日"]
["規格","500ｇ×20ＰＣ",null,null,null,null,null,null,{"$f":"一覧!D1","v":"2019-11-01"}]
["原材料","原材料名",null,null,null,"27品目アレルゲン",null,null,null,null,"個数①","計",{"$f":"[1]一覧!D5","v":"小麦"},{"$f":"[1]一覧!E5","v":"卵"},{"$f":"[1]一覧!F5","v":"乳"},{"$f":"[1]一覧!G5","v":"そば"},{"$f":"[1]一覧!H5","v":"落花生"},{"$f":"[1]一覧!I5","v":"えび"},{"$f":"[1]一覧!J5","v":"かに"},{"$f":"[1]一覧!K5","v":"ごま"},{"$f":"[1]一覧!L5","v":"くるみ"},{"$f":"[1]一覧!M5","v":"カシュ"},{"$f":"[1]一覧!N5","v":"キウイ"},{"$f":"[1]一覧!O5","v":"もも"},{"$f":"[1]一覧!P5","v":"リンゴ"},{"$f":"[1]一覧!Q5","v":"バナナ"},{"$f":"[1]一覧!R5","v":"オレンジ"},{"$f":"[1]一覧!S5","v":"いか"},{"$f":"[1]一覧!T5","v":"いくら"},{"$f":"[1]一覧!U5","v":"さけ"},{"$f":"[1]一覧!V5","v":"さば"},{"$f":"[1]一覧!W5","v":"大豆"},{"$f":"[1]一覧!X5","v":"鶏肉"},{"$f":"[1]一覧!Y5","v":"豚肉"},{"$f":"[1]一覧!Z5","v":"牛肉"},{"$f":"[1]一覧!AA5","v":"まつたけ"},{"$f":"[1]一覧!AB5","v":"やまいも"},{"$f":"[1]一覧!AC5","v":"ゼラチン"},{"$f":"[1]一覧!AD5","v":"あわび"}]
[null,"豚肉",null,null,null,"豚肉",null,null,null,null,{"$f":"IF(F6=\"\",0,LEN(F6)-LEN(SUBSTITUTE(F6, \"、\", \"\"))+1)","v":1},{"$f":"SUM(M6:AM6)","v":1},{"$f":"COUNTIF($F6,\"*\"&M$5&\"*\")","v":0},{"$f":"COUNTIF($F6,\"*\"&N$5&\"*\")","v":0},0,0,0,0,0,0,0,0,0,0,0,0,0,0,0,0,0,0,0,1,0,0,0,0,0]
[null,null,null,null,null,null,null,null,null,null,{"$f":"IF(F7=\"\",0,LEN(F7)-LEN(SUBSTITUTE(F7, \"、\", \"\"))+1)","v":0},{"$f":"SUM(M7:AM7)","v":0},{"$f":"COUNTIF($F7,\"*\"&M$5&\"*\")","v":0},0,0,0,0,0,0,0,0,0,0,0,0,0,0,0,0,0,0,0,0,0,0,0,0,0,0]
[null,null,null,null,null,null,null,null,null,null,0,0,0,0,0,0,0,0,0,0,0,0,0,0,0,0,0,0,0,0,0,0,0,0,0,0,0,0,0]
[null,null,null,null,null,null,null,null,null,null,0,0,0,0,0,0,0,0,0,0,0,0,0,0,0,0,0,0,0,0,0,0,0,0,0,0,0,0,0]
[null,null,null,null,null,null,null,null,null,null,0,0,0,0,0,0,0,0,0,0,0,0,0,0,0,0,0,0,0,0,0,0,0,0,0,0,0,0,0]
[null,null,null,null,null,null,null,null,null,null,0,0,0,0,0,0,0,0,0,0,0,0,0,0,0,0,0,0,0,0,0,0,0,0,0,0,0,0,0]
[null,null,null,null,null,null,null,null,null,null,0,0,0,0,0,0,0,0,0,0,0,0,0,0,0,0,0,0,0,0,0,0,0,0,0,0,0,0,0]
[null,null,null,null,null,null,null,null,null,null,0,0,0,0,0,0,0,0,0,0,0,0,0,0,0,0,0,0,0,0,0,0,0,0,0,0,0,0,0]
[null,null,null,null,null,null,null,null,null,null,0,0,0,0,0,0,0,0,0,0,0,0,0,0,0,0,0,0,0,0,0,0,0,0,0,0,0,0,0]
[null,null,null,null,null,null,null,null,null,null,0,0,0,0,0,0,0,0,0,0,0,0,0,0,0,0,0,0,0,0,0,0,0,0,{"$f":"COUNTIF($F15,\"*\"&AI$5&\"*\")","v":0},0,0,0,0]
[null,null,null,null,null,null,null,null,null,null,0,0,0,0,0,0,0,0,0,0,0,0,0,0,0,0,0,0,{"$f":"COUNTIF($F16,\"*\"&AC$5&\"*\")","v":0},0,0,0,0,0,0,0,0,0,0]
[null,null,null,null,null,null,null,null,null,null,0,0,0,0,0,0,0,0,0,0,0,0,0,0,0,0,0,0,0,0,0,0,0,0,0,0,0,0,0]
[null,null,null,null,null,null,null,null,null,null,0,0,0,0,0,0,0,0,0,0,0,0,0,0,0,0,0,0,0,0,0,0,0,0,0,0,0,0,0]
[null,null,null,null,null,null,null,null,null,null,0,0,0,0,0,0,0,0,0,0,0,0,0,0,0,0,0,0,0,0,0,0,0,0,0,0,0,0,0]
[null,null,null,null,null,null,null,null,null,null,0,0,0,0,0,0,0,0,0,0,0,0,0,0,0,0,0,0,0,0,0,0,0,0,0,0,0,0,0]
[null,null,null,null,null,null,null,null,null,null,0,0,0,0,0,0,0,0,0,0,0,0,0,0,0,0,0,0,0,0,0,0,0,0,0,0,0,0,0]
[null,null,null,null,null,null,null,null,null,null,0,0,0,0,0,0,0,0,0,0,0,0,0,0,0,0,0,0,0,0,0,0,0,0,0,0,0,0,0]
[null,null,null,null,null,null,null,null,null,null,0,0,0,0,0,0,0,0,0,0,0,0,0,0,0,0,0,0,0,0,0,0,0,0,0,0,0,0,0]
[null,null,null,null,null,null,null,null,null,null,0,0,0,0,0,0,0,0,0,0,0,0,0,0,0,0,0,0,0,0,0,0,0,0,0,0,0,0,0]
[null,null,null,null,null,null,null,null,null,null,0,0,0,0,0,0,0,0,0,0,0,0,0,0,0,0,0,0,0,0,0,0,0,0,0,0,0,0,0]
[null,null,null,null,null,null,null,null,null,null,0,0,0,0,0,0,0,0,0,0,0,0,0,0,0,0,0,0,0,0,0,0,0,0,0,0,0,0,0]
[null,null,null,null,null,null,null,null,null,null,0,0,0,0,0,0,0,0,0,0,0,0,0,0,0,0,0,0,0,0,0,0,0,0,0,0,0,0,0]
[null,null,null,null,null,null,null,null,null,null,0,0,0,0,0,0,0,0,0,0,0,0,0,0,0,0,0,0,0,0,0,0,0,0,0,0,0,0,0]
[null,null,null,null,null,null,null,null,null,null,0,0,0,0,0,0,0,0,0,0,0,0,0,0,0,0,0,0,0,0,0,0,0,0,0,0,0,0,0]
[null,null,null,null,null,null,null,null,null,null,0,0,0,0,0,0,0,0,0,0,0,0,0,0,0,0,0,0,0,0,0,0,0,0,0,0,0,0,0]
[null,null,null,null,null,null,null,null,null,null,0,0,0,0,0,0,0,0,{"$f":"COUNTIF($F31,\"*\"&S$5&\"*\")","v":0},0,0,0,0,0,0,0,0,0,0,0,0,0,0,0,0,0,0,0,0]
[null,null,null,null,null,null,null,null,null,null,0,0,{"$f":"COUNTIF($F32,\"*\"&M$5&\"*\")","v":0},0,0,0,0,0,0,0,0,0,0,0,0,0,0,0,0,0,0,0,0,0,0,0,0,0,0]
[null,null,null,null,null,null,null,null,null,null,0,0,0,0,0,0,0,0,0,0,0,0,0,0,0,0,0,0,0,0,0,0,0,0,0,0,0,0,0]
[null,null,null,null,null,null,null,null,null,null,0,0,0,0,0,0,0,0,0,0,0,0,0,0,0,0,0,0,0,0,0,0,0,0,0,0,0,0,0]
[null,null,null,null,null,null,null,null,null,null,0,0,0,0,0,0,0,0,0,0,0,0,0,0,0,0,0,0,0,0,0,0,0,0,0,0,0,0,0]
[null,null,null,null,null,null,null,null,null,null,0,0,0,0,0,0,0,0,0,0,0,0,0,0,0,0,0,0,0,0,0,0,0,0,0,0,0,0,0]
[null,null,null,null,null,null,null,null,null,null,0,0,0,0,0,0,0,0,0,0,0,0,0,0,0,0,0,0,0,0,0,0,0,0,0,0,0,0,0]
[null,null,null,null,null,null,null,null,null,null,0,0,0,0,0,0,0,0,0,0,0,0,0,0,0,0,0,0,0,0,0,0,0,0,0,0,0,0,0]
[null,null,null,null,null,null,null,null,null,null,0,0,0,0,0,0,0,0,0,0,0,0,0,0,0,0,0,0,0,0,0,0,0,0,0,0,0,0,0]
[null,null,null,null,null,null,null,null,null,null,0,0,0,0,0,0,0,0,0,0,0,0,0,0,0,0,0,0,0,0,0,0,0,0,0,0,0,0,0]
[null,null,null,null,null,null,null,null,null,null,0,0,0,0,0,0,0,0,0,0,0,0,0,0,0,0,0,0,0,0,0,0,0,0,0,0,0,0,0]
[null,null,null,null,null,null,null,null,null,null,0,0,0,0,0,0,0,0,0,0,0,0,0,0,0,0,0,0,0,0,0,0,0,0,0,0,0,0,0]
["コンタミネーション","なし",null,null,null,null,null,null,null,null,{"$f":"IF(B43=\"なし\",0,IF(B43=\"\",0,LEN(B43)-LEN(SUBSTITUTE(B43, \"、\", \"\"))+1))","v":0},0,{"$f":"COUNTIF($B43,\"*\"&M$5&\"*\")","v":0},{"$f":"COUNTIF($B43,\"*\"&N$5&\"*\")","v":0},0,0,0,0,0,0,0,0,0,0,0,0,0,0,0,{"$f":"COUNTIF($B43,\"*\"&AD$5&\"*\")","v":0},0,0,0,0,0,0,0,0,0]
[null,null,null,null,null,null,null,null,null,null,{"$f":"IF(B44=\"なし\",0,IF(B44=\"\",0,LEN(B44)-LEN(SUBSTITUTE(B44, \"、\", \"\"))+1))","v":0},0,{"$f":"COUNTIF($B44,\"*\"&M$5&\"*\")","v":0},0,0,0,0,0,0,0,0,0,0,0,0,0,0,0,0,0,0,0,0,0,0,0,0,0,0]
[null,null,null,null,null,null,null,null,null,null,0,0,0,0,0,0,0,0,0,0,0,0,0,0,0,0,0,0,0,0,0,0,0,0,0,0,0,0,0]
["特記事項"]
[]
[]
[null,"●　商品の終売・リニューアルの場合は成分等が変更になる場合があります。ご了承ください。"]
["製造元","高瀬物産株式会社"]
[]
[{"$f":"一覧!A38","v":"オーエンス泉岳自然ふれあい館"}]

{"sheet":"白菜","index":4,"n_rows":52,"n_cols":39,"rows_kept":52,"cut":false,"hidden":false,"merged":[[1,1,1,8],[2,1,2,7],[3,1,3,7],[4,0,41,0],[4,1,4,4],[4,5,4,8],[5,1,5,4],[5,5,5,8],[6,1,6,4],[6,5,6,8],[7,1,7,4],[7,5,7,8],[8,1,8,4],[8,5,8,8],[9,1,9,4],[9,5,9,8],[10,1,10,4],[10,5,10,8],[11,1,11,4],[11,5,11,8],[12,1,12,4],[12,5,12,8],[13,1,13,4],[13,5,13,8],[14,1,14,4],[14,5,14,8],[15,1,15,4],[15,5,15,8],[16,1,16,4],[16,5,16,8],[17,1,17,4],[17,5,17,8],[18,1,18,4],[18,5,18,8],[19,1,19,4],[19,5,19,8],[20,1,20,4],[20,5,20,8],[21,1,21,4],[21,5,21,8],[22,1,22,4],[22,5,22,8],[23,1,23,4],[23,5,23,8],[24,1,24,4],[24,5,24,8],[25,1,25,4],[25,5,25,8],[26,1,26,4],[26,5,26,8],[27,1,27,4],[27,5,27,8],[28,1,28,4],[28,5,28,8],[29,1,29,4],[29,5,29,8],[30,1,30,4],[30,5,30,8],[31,1,31,4],[31,5,31,8],[32,1,32,4],[32,5,32,8],[33,1,33,4],[33,5,33,8],[34,1,34,4],[34,5,34,8],[35,1,35,4],[35,5,35,8],[36,1,36,4],[36,5,36,8],[37,1,37,4],[37,5,37,8],[38,1,38,4],[38,5,38,8],[39,1,39,4],[39,5,39,8],[40,1,40,4],[40,5,40,8],[41,1,41,4],[41,5,41,8],[42,0,44,0],[42,1,42,8],[43,1,43,8],[44,1,44,8],[51,0,51,8],[45,0,48,0],[45,1,45,8],[46,1,46,8],[47,1,47,8],[48,1,48,8],[49,0,50,0],[49,1,50,8]]}
["一覧へ"]
["シート名",{"$f":"RIGHT(CELL(\"filename\",A1),LEN(CELL(\"filename\",A1))-FIND(\"]\",CELL(\"filename\",A1)))","v":"白菜"}]
["商品名","白菜",null,null,null,null,null,null,"作成日"]
["規格","-",null,null,null,null,null,null,{"$f":"一覧!D1","v":"2019-11-01"}]
["原材料","原材料名",null,null,null,"27品目アレルゲン",null,null,null,null,"個数①","計",{"$f":"[1]一覧!D5","v":"小麦"},{"$f":"[1]一覧!E5","v":"卵"},{"$f":"[1]一覧!F5","v":"乳"},{"$f":"[1]一覧!G5","v":"そば"},{"$f":"[1]一覧!H5","v":"落花生"},{"$f":"[1]一覧!I5","v":"えび"},{"$f":"[1]一覧!J5","v":"かに"},{"$f":"[1]一覧!K5","v":"ごま"},{"$f":"[1]一覧!L5","v":"くるみ"},{"$f":"[1]一覧!M5","v":"カシュ"},{"$f":"[1]一覧!N5","v":"キウイ"},{"$f":"[1]一覧!O5","v":"もも"},{"$f":"[1]一覧!P5","v":"リンゴ"},{"$f":"[1]一覧!Q5","v":"バナナ"},{"$f":"[1]一覧!R5","v":"オレンジ"},{"$f":"[1]一覧!S5","v":"いか"},{"$f":"[1]一覧!T5","v":"いくら"},{"$f":"[1]一覧!U5","v":"さけ"},{"$f":"[1]一覧!V5","v":"さば"},{"$f":"[1]一覧!W5","v":"大豆"},{"$f":"[1]一覧!X5","v":"鶏肉"},{"$f":"[1]一覧!Y5","v":"豚肉"},{"$f":"[1]一覧!Z5","v":"牛肉"},{"$f":"[1]一覧!AA5","v":"まつたけ"},{"$f":"[1]一覧!AB5","v":"やまいも"},{"$f":"[1]一覧!AC5","v":"ゼラチン"},{"$f":"[1]一覧!AD5","v":"あわび"}]
[null,"白菜",null,null,null,null,null,null,null,null,{"$f":"IF(F6=\"\",0,LEN(F6)-LEN(SUBSTITUTE(F6, \"、\", \"\"))+1)","v":0},{"$f":"SUM(M6:AM6)","v":0},{"$f":"COUNTIF($F6,\"*\"&M$5&\"*\")","v":0},{"$f":"COUNTIF($F6,\"*\"&N$5&\"*\")","v":0},0,0,0,0,0,0,0,0,0,0,0,0,0,0,0,0,0,0,0,0,0,0,0,0,0]
[null,null,null,null,null,null,null,null,null,null,{"$f":"IF(F7=\"\",0,LEN(F7)-LEN(SUBSTITUTE(F7, \"、\", \"\"))+1)","v":0},{"$f":"SUM(M7:AM7)","v":0},{"$f":"COUNTIF($F7,\"*\"&M$5&\"*\")","v":0},0,0,0,0,0,0,0,0,0,0,0,0,0,0,0,0,0,0,0,0,0,0,0,0,0,0]
[null,null,null,null,null,null,null,null,null,null,0,0,0,0,0,0,0,0,0,0,0,0,0,0,0,0,0,0,0,0,0,0,0,0,0,0,0,0,0]
[null,null,null,null,null,null,null,null,null,null,0,0,0,0,0,0,0,0,0,0,0,0,0,0,0,0,0,0,0,0,0,0,0,0,0,0,0,0,0]
[null,null,null,null,null,null,null,null,null,null,0,0,0,0,0,0,0,0,0,0,0,0,0,0,0,0,0,0,0,0,0,0,0,0,0,0,0,0,0]
[null,null,null,null,null,null,null,null,null,null,0,0,0,0,0,0,0,0,0,0,0,0,0,0,0,0,0,0,0,0,0,0,0,0,0,0,0,0,0]
[null,null,null,null,null,null,null,null,null,null,0,0,0,0,0,0,0,0,0,0,0,0,0,0,0,0,0,0,0,0,0,0,0,0,0,0,0,0,0]
[null,null,null,null,null,null,null,null,null,null,0,0,0,0,0,0,0,0,0,0,0,0,0,0,0,0,0,0,0,0,0,0,0,0,0,0,0,0,0]
[null,null,null,null,null,null,null,null,null,null,0,0,0,0,0,0,0,0,0,0,0,0,0,0,0,0,0,0,0,0,0,0,0,0,0,0,0,0,0]
[null,null,null,null,null,null,null,null,null,null,0,0,0,0,0,0,0,0,0,0,0,0,0,0,0,0,0,0,0,0,0,0,0,0,{"$f":"COUNTIF($F15,\"*\"&AI$5&\"*\")","v":0},0,0,0,0]
[null,null,null,null,null,null,null,null,null,null,0,0,0,0,0,0,0,0,0,0,0,0,0,0,0,0,0,0,{"$f":"COUNTIF($F16,\"*\"&AC$5&\"*\")","v":0},0,0,0,0,0,0,0,0,0,0]
[null,null,null,null,null,null,null,null,null,null,0,0,0,0,0,0,0,0,0,0,0,0,0,0,0,0,0,0,0,0,0,0,0,0,0,0,0,0,0]
[null,null,null,null,null,null,null,null,null,null,0,0,0,0,0,0,0,0,0,0,0,0,0,0,0,0,0,0,0,0,0,0,0,0,0,0,0,0,0]
[null,null,null,null,null,null,null,null,null,null,0,0,0,0,0,0,0,0,0,0,0,0,0,0,0,0,0,0,0,0,0,0,0,0,0,0,0,0,0]
[null,null,null,null,null,null,null,null,null,null,0,0,0,0,0,0,0,0,0,0,0,0,0,0,0,0,0,0,0,0,0,0,0,0,0,0,0,0,0]
[null,null,null,null,null,null,null,null,null,null,0,0,0,0,0,0,0,0,0,0,0,0,0,0,0,0,0,0,0,0,0,0,0,0,0,0,0,0,0]
[null,null,null,null,null,null,null,null,null,null,0,0,0,0,0,0,0,0,0,0,0,0,0,0,0,0,0,0,0,0,0,0,0,0,0,0,0,0,0]
[null,null,null,null,null,null,null,null,null,null,0,0,0,0,0,0,0,0,0,0,0,0,0,0,0,0,0,0,0,0,0,0,0,0,0,0,0,0,0]
[null,null,null,null,null,null,null,null,null,null,0,0,0,0,0,0,0,0,0,0,0,0,0,0,0,0,0,0,0,0,0,0,0,0,0,0,0,0,0]
[null,null,null,null,null,null,null,null,null,null,0,0,0,0,0,0,0,0,0,0,0,0,0,0,0,0,0,0,0,0,0,0,0,0,0,0,0,0,0]
[null,null,null,null,null,null,null,null,null,null,0,0,0,0,0,0,0,0,0,0,0,0,0,0,0,0,0,0,0,0,0,0,0,0,0,0,0,0,0]
[null,null,null,null,null,null,null,null,null,null,0,0,0,0,0,0,0,0,0,0,0,0,0,0,0,0,0,0,0,0,0,0,0,0,0,0,0,0,0]
[null,null,null,null,null,null,null,null,null,null,0,0,0,0,0,0,0,0,0,0,0,0,0,0,0,0,0,0,0,0,0,0,0,0,0,0,0,0,0]
[null,null,null,null,null,null,null,null,null,null,0,0,0,0,0,0,0,0,0,0,0,0,0,0,0,0,0,0,0,0,0,0,0,0,0,0,0,0,0]
[null,null,null,null,null,null,null,null,null,null,0,0,0,0,0,0,0,0,0,0,0,0,0,0,0,0,0,0,0,0,0,0,0,0,0,0,0,0,0]
[null,null,null,null,null,null,null,null,null,null,0,0,0,0,0,0,0,0,{"$f":"COUNTIF($F31,\"*\"&S$5&\"*\")","v":0},0,0,0,0,0,0,0,0,0,0,0,0,0,0,0,0,0,0,0,0]
[null,null,null,null,null,null,null,null,null,null,0,0,{"$f":"COUNTIF($F32,\"*\"&M$5&\"*\")","v":0},0,0,0,0,0,0,0,0,0,0,0,0,0,0,0,0,0,0,0,0,0,0,0,0,0,0]
[null,null,null,null,null,null,null,null,null,null,0,0,0,0,0,0,0,0,0,0,0,0,0,0,0,0,0,0,0,0,0,0,0,0,0,0,0,0,0]
[null,null,null,null,null,null,null,null,null,null,0,0,0,0,0,0,0,0,0,0,0,0,0,0,0,0,0,0,0,0,0,0,0,0,0,0,0,0,0]
[null,null,null,null,null,null,null,null,null,null,0,0,0,0,0,0,0,0,0,0,0,0,0,0,0,0,0,0,0,0,0,0,0,0,0,0,0,0,0]
[null,null,null,null,null,null,null,null,null,null,0,0,0,0,0,0,0,0,0,0,0,0,0,0,0,0,0,0,0,0,0,0,0,0,0,0,0,0,0]
[null,null,null,null,null,null,null,null,null,null,0,0,0,0,0,0,0,0,0,0,0,0,0,0,0,0,0,0,0,0,0,0,0,0,0,0,0,0,0]
[null,null,null,null,null,null,null,null,null,null,0,0,0,0,0,0,0,0,0,0,0,0,0,0,0,0,0,0,0,0,0,0,0,0,0,0,0,0,0]
[null,null,null,null,null,null,null,null,null,null,0,0,0,0,0,0,0,0,0,0,0,0,0,0,0,0,0,0,0,0,0,0,0,0,0,0,0,0,0]
[null,null,null,null,null,null,null,null,null,null,0,0,0,0,0,0,0,0,0,0,0,0,0,0,0,0,0,0,0,0,0,0,0,0,0,0,0,0,0]
[null,null,null,null,null,null,null,null,null,null,0,0,0,0,0,0,0,0,0,0,0,0,0,0,0,0,0,0,0,0,0,0,0,0,0,0,0,0,0]
[null,null,null,null,null,null,null,null,null,null,0,0,0,0,0,0,0,0,0,0,0,0,0,0,0,0,0,0,0,0,0,0,0,0,0,0,0,0,0]
["コンタミネーション","なし",null,null,null,null,null,null,null,null,{"$f":"IF(B43=\"なし\",0,IF(B43=\"\",0,LEN(B43)-LEN(SUBSTITUTE(B43, \"、\", \"\"))+1))","v":0},0,{"$f":"COUNTIF($B43,\"*\"&M$5&\"*\")","v":0},{"$f":"COUNTIF($B43,\"*\"&N$5&\"*\")","v":0},0,0,0,0,0,0,0,0,0,0,0,0,0,0,0,{"$f":"COUNTIF($B43,\"*\"&AD$5&\"*\")","v":0},0,0,0,0,0,0,0,0,0]
[null,null,null,null,null,null,null,null,null,null,{"$f":"IF(B44=\"なし\",0,IF(B44=\"\",0,LEN(B44)-LEN(SUBSTITUTE(B44, \"、\", \"\"))+1))","v":0},0,{"$f":"COUNTIF($B44,\"*\"&M$5&\"*\")","v":0},0,0,0,0,0,0,0,0,0,0,0,0,0,0,0,0,0,0,0,0,0,0,0,0,0,0]
[null,null,null,null,null,null,null,null,null,null,0,0,0,0,0,0,0,0,0,0,0,0,0,0,0,0,0,0,0,0,0,0,0,0,0,0,0,0,0]
["特記事項"]
[]
[]
[null,"●　商品の終売・リニューアルの場合は成分等が変更になる場合があります。ご了承ください。"]
["製造元","株式会社ジェイエイ仙台　農産物直売所たなばたけ高砂店"]
[]
[{"$f":"一覧!A38","v":"オーエンス泉岳自然ふれあい館"}]

{"sheet":"玉ねぎ","index":5,"n_rows":52,"n_cols":39,"rows_kept":52,"cut":false,"hidden":false,"merged":[[1,1,1,8],[2,1,2,7],[3,1,3,7],[4,0,41,0],[4,1,4,4],[4,5,4,8],[5,1,5,4],[5,5,5,8],[6,1,6,4],[6,5,6,8],[7,1,7,4],[7,5,7,8],[8,1,8,4],[8,5,8,8],[9,1,9,4],[9,5,9,8],[10,1,10,4],[10,5,10,8],[11,1,11,4],[11,5,11,8],[12,1,12,4],[12,5,12,8],[13,1,13,4],[13,5,13,8],[14,1,14,4],[14,5,14,8],[15,1,15,4],[15,5,15,8],[16,1,16,4],[16,5,16,8],[17,1,17,4],[17,5,17,8],[18,1,18,4],[18,5,18,8],[19,1,19,4],[19,5,19,8],[20,1,20,4],[20,5,20,8],[21,1,21,4],[21,5,21,8],[22,1,22,4],[22,5,22,8],[23,1,23,4],[23,5,23,8],[24,1,24,4],[24,5,24,8],[25,1,25,4],[25,5,25,8],[26,1,26,4],[26,5,26,8],[27,1,27,4],[27,5,27,8],[28,1,28,4],[28,5,28,8],[29,1,29,4],[29,5,29,8],[30,1,30,4],[30,5,30,8],[31,1,31,4],[31,5,31,8],[32,1,32,4],[32,5,32,8],[33,1,33,4],[33,5,33,8],[34,1,34,4],[34,5,34,8],[35,1,35,4],[35,5,35,8],[36,1,36,4],[36,5,36,8],[37,1,37,4],[37,5,37,8],[38,1,38,4],[38,5,38,8],[39,1,39,4],[39,5,39,8],[40,1,40,4],[40,5,40,8],[41,1,41,4],[41,5,41,8],[42,0,44,0],[42,1,42,8],[43,1,43,8],[44,1,44,8],[51,0,51,8],[45,0,48,0],[45,1,45,8],[46,1,46,8],[47,1,47,8],[48,1,48,8],[49,0,50,0],[49,1,50,8]]}
["一覧へ"]
["シート名",{"$f":"RIGHT(CELL(\"filename\",A1),LEN(CELL(\"filename\",A1))-FIND(\"]\",CELL(\"filename\",A1)))","v":"玉ねぎ"}]
["商品名","たまねぎ",null,null,null,null,null,null,"作成日"]
["規格","-",null,null,null,null,null,null,{"$f":"一覧!D1","v":"2019-11-01"}]
["原材料","原材料名",null,null,null,"27品目アレルゲン",null,null,null,null,"個数①","計",{"$f":"[1]一覧!D5","v":"小麦"},{"$f":"[1]一覧!E5","v":"卵"},{"$f":"[1]一覧!F5","v":"乳"},{"$f":"[1]一覧!G5","v":"そば"},{"$f":"[1]一覧!H5","v":"落花生"},{"$f":"[1]一覧!I5","v":"えび"},{"$f":"[1]一覧!J5","v":"かに"},{"$f":"[1]一覧!K5","v":"ごま"},{"$f":"[1]一覧!L5","v":"くるみ"},{"$f":"[1]一覧!M5","v":"カシュ"},{"$f":"[1]一覧!N5","v":"キウイ"},{"$f":"[1]一覧!O5","v":"もも"},{"$f":"[1]一覧!P5","v":"リンゴ"},{"$f":"[1]一覧!Q5","v":"バナナ"},{"$f":"[1]一覧!R5","v":"オレンジ"},{"$f":"[1]一覧!S5","v":"いか"},{"$f":"[1]一覧!T5","v":"いくら"},{"$f":"[1]一覧!U5","v":"さけ"},{"$f":"[1]一覧!V5","v":"さば"},{"$f":"[1]一覧!W5","v":"大豆"},{"$f":"[1]一覧!X5","v":"鶏肉"},{"$f":"[1]一覧!Y5","v":"豚肉"},{"$f":"[1]一覧!Z5","v":"牛肉"},{"$f":"[1]一覧!AA5","v":"まつたけ"},{"$f":"[1]一覧!AB5","v":"やまいも"},{"$f":"[1]一覧!AC5","v":"ゼラチン"},{"$f":"[1]一覧!AD5","v":"あわび"}]
[null,"たまねぎ",null,null,null,null,null,null,null,null,{"$f":"IF(F6=\"\",0,LEN(F6)-LEN(SUBSTITUTE(F6, \"、\", \"\"))+1)","v":0},{"$f":"SUM(M6:AM6)","v":0},{"$f":"COUNTIF($F6,\"*\"&M$5&\"*\")","v":0},{"$f":"COUNTIF($F6,\"*\"&N$5&\"*\")","v":0},0,0,0,0,0,0,0,0,0,0,0,0,0,0,0,0,0,0,0,0,0,0,0,0,0]
[null,null,null,null,null,null,null,null,null,null,{"$f":"IF(F7=\"\",0,LEN(F7)-LEN(SUBSTITUTE(F7, \"、\", \"\"))+1)","v":0},{"$f":"SUM(M7:AM7)","v":0},{"$f":"COUNTIF($F7,\"*\"&M$5&\"*\")","v":0},0,0,0,0,0,0,0,0,0,0,0,0,0,0,0,0,0,0,0,0,0,0,0,0,0,0]
[null,null,null,null,null,null,null,null,null,null,0,0,0,0,0,0,0,0,0,0,0,0,0,0,0,0,0,0,0,0,0,0,0,0,0,0,0,0,0]
[null,null,null,null,null,null,null,null,null,null,0,0,0,0,0,0,0,0,0,0,0,0,0,0,0,0,0,0,0,0,0,0,0,0,0,0,0,0,0]
[null,null,null,null,null,null,null,null,null,null,0,0,0,0,0,0,0,0,0,0,0,0,0,0,0,0,0,0,0,0,0,0,0,0,0,0,0,0,0]
[null,null,null,null,null,null,null,null,null,null,0,0,0,0,0,0,0,0,0,0,0,0,0,0,0,0,0,0,0,0,0,0,0,0,0,0,0,0,0]
[null,null,null,null,null,null,null,null,null,null,0,0,0,0,0,0,0,0,0,0,0,0,0,0,0,0,0,0,0,0,0,0,0,0,0,0,0,0,0]
[null,null,null,null,null,null,null,null,null,null,0,0,0,0,0,0,0,0,0,0,0,0,0,0,0,0,0,0,0,0,0,0,0,0,0,0,0,0,0]
[null,null,null,null,null,null,null,null,null,null,0,0,0,0,0,0,0,0,0,0,0,0,0,0,0,0,0,0,0,0,0,0,0,0,0,0,0,0,0]
[null,null,null,null,null,null,null,null,null,null,0,0,0,0,0,0,0,0,0,0,0,0,0,0,0,0,0,0,0,0,0,0,0,0,{"$f":"COUNTIF($F15,\"*\"&AI$5&\"*\")","v":0},0,0,0,0]
[null,null,null,null,null,null,null,null,null,null,0,0,0,0,0,0,0,0,0,0,0,0,0,0,0,0,0,0,{"$f":"COUNTIF($F16,\"*\"&AC$5&\"*\")","v":0},0,0,0,0,0,0,0,0,0,0]
[null,null,null,null,null,null,null,null,null,null,0,0,0,0,0,0,0,0,0,0,0,0,0,0,0,0,0,0,0,0,0,0,0,0,0,0,0,0,0]
[null,null,null,null,null,null,null,null,null,null,0,0,0,0,0,0,0,0,0,0,0,0,0,0,0,0,0,0,0,0,0,0,0,0,0,0,0,0,0]
[null,null,null,null,null,null,null,null,null,null,0,0,0,0,0,0,0,0,0,0,0,0,0,0,0,0,0,0,0,0,0,0,0,0,0,0,0,0,0]
[null,null,null,null,null,null,null,null,null,null,0,0,0,0,0,0,0,0,0,0,0,0,0,0,0,0,0,0,0,0,0,0,0,0,0,0,0,0,0]
[null,null,null,null,null,null,null,null,null,null,0,0,0,0,0,0,0,0,0,0,0,0,0,0,0,0,0,0,0,0,0,0,0,0,0,0,0,0,0]
[null,null,null,null,null,null,null,null,null,null,0,0,0,0,0,0,0,0,0,0,0,0,0,0,0,0,0,0,0,0,0,0,0,0,0,0,0,0,0]
[null,null,null,null,null,null,null,null,null,null,0,0,0,0,0,0,0,0,0,0,0,0,0,0,0,0,0,0,0,0,0,0,0,0,0,0,0,0,0]
[null,null,null,null,null,null,null,null,null,null,0,0,0,0,0,0,0,0,0,0,0,0,0,0,0,0,0,0,0,0,0,0,0,0,0,0,0,0,0]
[null,null,null,null,null,null,null,null,null,null,0,0,0,0,0,0,0,0,0,0,0,0,0,0,0,0,0,0,0,0,0,0,0,0,0,0,0,0,0]
[null,null,null,null,null,null,null,null,null,null,0,0,0,0,0,0,0,0,0,0,0,0,0,0,0,0,0,0,0,0,0,0,0,0,0,0,0,0,0]
[null,null,null,null,null,null,null,null,null,null,0,0,0,0,0,0,0,0,0,0,0,0,0,0,0,0,0,0,0,0,0,0,0,0,0,0,0,0,0]
[null,null,null,null,null,null,null,null,null,null,0,0,0,0,0,0,0,0,0,0,0,0,0,0,0,0,0,0,0,0,0,0,0,0,0,0,0,0,0]
[null,null,null,null,null,null,null,null,null,null,0,0,0,0,0,0,0,0,0,0,0,0,0,0,0,0,0,0,0,0,0,0,0,0,0,0,0,0,0]
[null,null,null,null,null,null,null,null,null,null,0,0,0,0,0,0,0,0,0,0,0,0,0,0,0,0,0,0,0,0,0,0,0,0,0,0,0,0,0]
[null,null,null,null,null,null,null,null,null,null,0,0,0,0,0,0,0,0,{"$f":"COUNTIF($F31,\"*\"&S$5&\"*\")","v":0},0,0,0,0,0,0,0,0,0,0,0,0,0,0,0,0,0,0,0,0]
[null,null,null,null,null,null,null,null,null,null,0,0,{"$f":"COUNTIF($F32,\"*\"&M$5&\"*\")","v":0},0,0,0,0,0,0,0,0,0,0,0,0,0,0,0,0,0,0,0,0,0,0,0,0,0,0]
[null,null,null,null,null,null,null,null,null,null,0,0,0,0,0,0,0,0,0,0,0,0,0,0,0,0,0,0,0,0,0,0,0,0,0,0,0,0,0]
[null,null,null,null,null,null,null,null,null,null,0,0,0,0,0,0,0,0,0,0,0,0,0,0,0,0,0,0,0,0,0,0,0,0,0,0,0,0,0]
[null,null,null,null,null,null,null,null,null,null,0,0,0,0,0,0,0,0,0,0,0,0,0,0,0,0,0,0,0,0,0,0,0,0,0,0,0,0,0]
[null,null,null,null,null,null,null,null,null,null,0,0,0,0,0,0,0,0,0,0,0,0,0,0,0,0,0,0,0,0,0,0,0,0,0,0,0,0,0]
[null,null,null,null,null,null,null,null,null,null,0,0,0,0,0,0,0,0,0,0,0,0,0,0,0,0,0,0,0,0,0,0,0,0,0,0,0,0,0]
[null,null,null,null,null,null,null,null,null,null,0,0,0,0,0,0,0,0,0,0,0,0,0,0,0,0,0,0,0,0,0,0,0,0,0,0,0,0,0]
[null,null,null,null,null,null,null,null,null,null,0,0,0,0,0,0,0,0,0,0,0,0,0,0,0,0,0,0,0,0,0,0,0,0,0,0,0,0,0]
[null,null,null,null,null,null,null,null,null,null,0,0,0,0,0,0,0,0,0,0,0,0,0,0,0,0,0,0,0,0,0,0,0,0,0,0,0,0,0]
[null,null,null,null,null,null,null,null,null,null,0,0,0,0,0,0,0,0,0,0,0,0,0,0,0,0,0,0,0,0,0,0,0,0,0,0,0,0,0]
[null,null,null,null,null,null,null,null,null,null,0,0,0,0,0,0,0,0,0,0,0,0,0,0,0,0,0,0,0,0,0,0,0,0,0,0,0,0,0]
["コンタミネーション","なし",null,null,null,null,null,null,null,null,{"$f":"IF(B43=\"なし\",0,IF(B43=\"\",0,LEN(B43)-LEN(SUBSTITUTE(B43, \"、\", \"\"))+1))","v":0},0,{"$f":"COUNTIF($B43,\"*\"&M$5&\"*\")","v":0},{"$f":"COUNTIF($B43,\"*\"&N$5&\"*\")","v":0},0,0,0,0,0,0,0,0,0,0,0,0,0,0,0,{"$f":"COUNTIF($B43,\"*\"&AD$5&\"*\")","v":0},0,0,0,0,0,0,0,0,0]
[null,null,null,null,null,null,null,null,null,null,{"$f":"IF(B44=\"なし\",0,IF(B44=\"\",0,LEN(B44)-LEN(SUBSTITUTE(B44, \"、\", \"\"))+1))","v":0},0,{"$f":"COUNTIF($B44,\"*\"&M$5&\"*\")","v":0},0,0,0,0,0,0,0,0,0,0,0,0,0,0,0,0,0,0,0,0,0,0,0,0,0,0]
[null,null,null,null,null,null,null,null,null,null,0,0,0,0,0,0,0,0,0,0,0,0,0,0,0,0,0,0,0,0,0,0,0,0,0,0,0,0,0]
["特記事項"]
[]
[]
[null,"●　商品の終売・リニューアルの場合は成分等が変更になる場合があります。ご了承ください。"]
["製造元","株式会社ジェイエイ仙台　農産物直売所たなばたけ高砂店"]
[]
[{"$f":"一覧!A38","v":"オーエンス泉岳自然ふれあい館"}]

{"sheet":"にんじん","index":6,"n_rows":52,"n_cols":39,"rows_kept":52,"cut":false,"hidden":false,"merged":[[51,0,51,8],[45,0,48,0],[45,1,45,8],[46,1,46,8],[47,1,47,8],[48,1,48,8],[49,0,50,0],[49,1,50,8],[40,1,40,4],[40,5,40,8],[41,1,41,4],[41,5,41,8],[42,0,44,0],[42,1,42,8],[43,1,43,8],[44,1,44,8],[37,1,37,4],[37,5,37,8],[38,1,38,4],[38,5,38,8],[39,1,39,4],[39,5,39,8],[34,1,34,4],[34,5,34,8],[35,1,35,4],[35,5,35,8],[36,1,36,4],[36,5,36,8],[31,1,31,4],[31,5,31,8],[32,1,32,4],[32,5,32,8],[33,1,33,4],[33,5,33,8],[28,1,28,4],[28,5,28,8],[29,1,29,4],[29,5,29,8],[30,1,30,4],[30,5,30,8],[25,1,25,4],[25,5,25,8],[26,1,26,4],[26,5,26,8],[27,1,27,4],[27,5,27,8],[22,1,22,4],[22,5,22,8],[23,1,23,4],[23,5,23,8],[24,1,24,4],[24,5,24,8],[19,1,19,4],[19,5,19,8],[20,1,20,4],[20,5,20,8],[21,1,21,4],[21,5,21,8],[16,1,16,4],[16,5,16,8],[17,1,17,4],[17,5,17,8],[18,1,18,4],[18,5,18,8],[13,1,13,4],[13,5,13,8],[14,1,14,4],[14,5,14,8],[15,1,15,4],[15,5,15,8],[10,1,10,4],[10,5,10,8],[11,1,11,4],[11,5,11,8],[12,1,12,4],[12,5,12,8],[1,1,1,8],[2,1,2,7],[3,1,3,7],[4,0,41,0],[4,1,4,4],[4,5,4,8],[5,1,5,4],[5,5,5,8],[6,1,6,4],[6,5,6,8],[7,1,7,4],[7,5,7,8],[8,1,8,4],[8,5,8,8],[9,1,9,4],[9,5,9,8]]}
["一覧へ"]
["シート名",{"$f":"RIGHT(CELL(\"filename\",A1),LEN(CELL(\"filename\",A1))-FIND(\"]\",CELL(\"filename\",A1)))","v":"にんじん"}]
["商品名","にんじん",null,null,null,null,null,null,"作成日"]
["規格","-",null,null,null,null,null,null,{"$f":"一覧!D1","v":"2019-11-01"}]
["原材料","原材料名",null,null,null,"27品目アレルゲン",null,null,null,null,"個数①","計",{"$f":"[1]一覧!D5","v":"小麦"},{"$f":"[1]一覧!E5","v":"卵"},{"$f":"[1]一覧!F5","v":"乳"},{"$f":"[1]一覧!G5","v":"そば"},{"$f":"[1]一覧!H5","v":"落花生"},{"$f":"[1]一覧!I5","v":"えび"},{"$f":"[1]一覧!J5","v":"かに"},{"$f":"[1]一覧!K5","v":"ごま"},{"$f":"[1]一覧!L5","v":"くるみ"},{"$f":"[1]一覧!M5","v":"カシュ"},{"$f":"[1]一覧!N5","v":"キウイ"},{"$f":"[1]一覧!O5","v":"もも"},{"$f":"[1]一覧!P5","v":"リンゴ"},{"$f":"[1]一覧!Q5","v":"バナナ"},{"$f":"[1]一覧!R5","v":"オレンジ"},{"$f":"[1]一覧!S5","v":"いか"},{"$f":"[1]一覧!T5","v":"いくら"},{"$f":"[1]一覧!U5","v":"さけ"},{"$f":"[1]一覧!V5","v":"さば"},{"$f":"[1]一覧!W5","v":"大豆"},{"$f":"[1]一覧!X5","v":"鶏肉"},{"$f":"[1]一覧!Y5","v":"豚肉"},{"$f":"[1]一覧!Z5","v":"牛肉"},{"$f":"[1]一覧!AA5","v":"まつたけ"},{"$f":"[1]一覧!AB5","v":"やまいも"},{"$f":"[1]一覧!AC5","v":"ゼラチン"},{"$f":"[1]一覧!AD5","v":"あわび"}]
[null,"にんじん",null,null,null,null,null,null,null,null,{"$f":"IF(F6=\"\",0,LEN(F6)-LEN(SUBSTITUTE(F6, \"、\", \"\"))+1)","v":0},{"$f":"SUM(M6:AM6)","v":0},{"$f":"COUNTIF($F6,\"*\"&M$5&\"*\")","v":0},{"$f":"COUNTIF($F6,\"*\"&N$5&\"*\")","v":0},0,0,0,0,0,0,0,0,0,0,0,0,0,0,0,0,0,0,0,0,0,0,0,0,0]
[null,null,null,null,null,null,null,null,null,null,{"$f":"IF(F7=\"\",0,LEN(F7)-LEN(SUBSTITUTE(F7, \"、\", \"\"))+1)","v":0},{"$f":"SUM(M7:AM7)","v":0},{"$f":"COUNTIF($F7,\"*\"&M$5&\"*\")","v":0},0,0,0,0,0,0,0,0,0,0,0,0,0,0,0,0,0,0,0,0,0,0,0,0,0,0]
[null,null,null,null,null,null,null,null,null,null,0,0,0,0,0,0,0,0,0,0,0,0,0,0,0,0,0,0,0,0,0,0,0,0,0,0,0,0,0]
[null,null,null,null,null,null,null,null,null,null,0,0,0,0,0,0,0,0,0,0,0,0,0,0,0,0,0,0,0,0,0,0,0,0,0,0,0,0,0]
[null,null,null,null,null,null,null,null,null,null,0,0,0,0,0,0,0,0,0,0,0,0,0,0,0,0,0,0,0,0,0,0,0,0,0,0,0,0,0]
[null,null,null,null,null,null,null,null,null,null,0,0,0,0,0,0,0,0,0,0,0,0,0,0,0,0,0,0,0,0,0,0,0,0,0,0,0,0,0]
[null,null,null,null,null,null,null,null,null,null,0,0,0,0,0,0,0,0,0,0,0,0,0,0,0,0,0,0,0,0,0,0,0,0,0,0,0,0,0]
[null,null,null,null,null,null,null,null,null,null,0,0,0,0,0,0,0,0,0,0,0,0,0,0,0,0,0,0,0,0,0,0,0,0,0,0,0,0,0]
[null,null,null,null,null,null,null,null,null,null,0,0,0,0,0,0,0,0,0,0,0,0,0,0,0,0,0,0,0,0,0,0,0,0,0,0,0,0,0]
[null,null,null,null,null,null,null,null,null,null,0,0,0,0,0,0,0,0,0,0,0,0,0,0,0,0,0,0,0,0,0,0,0,0,{"$f":"COUNTIF($F15,\"*\"&AI$5&\"*\")","v":0},0,0,0,0]
[null,null,null,null,null,null,null,null,null,null,0,0,0,0,0,0,0,0,0,0,0,0,0,0,0,0,0,0,{"$f":"COUNTIF($F16,\"*\"&AC$5&\"*\")","v":0},0,0,0,0,0,0,0,0,0,0]
[null,null,null,null,null,null,null,null,null,null,0,0,0,0,0,0,0,0,0,0,0,0,0,0,0,0,0,0,0,0,0,0,0,0,0,0,0,0,0]
[null,null,null,null,null,null,null,null,null,null,0,0,0,0,0,0,0,0,0,0,0,0,0,0,0,0,0,0,0,0,0,0,0,0,0,0,0,0,0]
[null,null,null,null,null,null,null,null,null,null,0,0,0,0,0,0,0,0,0,0,0,0,0,0,0,0,0,0,0,0,0,0,0,0,0,0,0,0,0]
[null,null,null,null,null,null,null,null,null,null,0,0,0,0,0,0,0,0,0,0,0,0,0,0,0,0,0,0,0,0,0,0,0,0,0,0,0,0,0]
[null,null,null,null,null,null,null,null,null,null,0,0,0,0,0,0,0,0,0,0,0,0,0,0,0,0,0,0,0,0,0,0,0,0,0,0,0,0,0]
[null,null,null,null,null,null,null,null,null,null,0,0,0,0,0,0,0,0,0,0,0,0,0,0,0,0,0,0,0,0,0,0,0,0,0,0,0,0,0]
[null,null,null,null,null,null,null,null,null,null,0,0,0,0,0,0,0,0,0,0,0,0,0,0,0,0,0,0,0,0,0,0,0,0,0,0,0,0,0]
[null,null,null,null,null,null,null,null,null,null,0,0,0,0,0,0,0,0,0,0,0,0,0,0,0,0,0,0,0,0,0,0,0,0,0,0,0,0,0]
[null,null,null,null,null,null,null,null,null,null,0,0,0,0,0,0,0,0,0,0,0,0,0,0,0,0,0,0,0,0,0,0,0,0,0,0,0,0,0]
[null,null,null,null,null,null,null,null,null,null,0,0,0,0,0,0,0,0,0,0,0,0,0,0,0,0,0,0,0,0,0,0,0,0,0,0,0,0,0]
[null,null,null,null,null,null,null,null,null,null,0,0,0,0,0,0,0,0,0,0,0,0,0,0,0,0,0,0,0,0,0,0,0,0,0,0,0,0,0]
[null,null,null,null,null,null,null,null,null,null,0,0,0,0,0,0,0,0,0,0,0,0,0,0,0,0,0,0,0,0,0,0,0,0,0,0,0,0,0]
[null,null,null,null,null,null,null,null,null,null,0,0,0,0,0,0,0,0,0,0,0,0,0,0,0,0,0,0,0,0,0,0,0,0,0,0,0,0,0]
[null,null,null,null,null,null,null,null,null,null,0,0,0,0,0,0,0,0,0,0,0,0,0,0,0,0,0,0,0,0,0,0,0,0,0,0,0,0,0]
[null,null,null,null,null,null,null,null,null,null,0,0,0,0,0,0,0,0,{"$f":"COUNTIF($F31,\"*\"&S$5&\"*\")","v":0},0,0,0,0,0,0,0,0,0,0,0,0,0,0,0,0,0,0,0,0]
[null,null,null,null,null,null,null,null,null,null,0,0,{"$f":"COUNTIF($F32,\"*\"&M$5&\"*\")","v":0},0,0,0,0,0,0,0,0,0,0,0,0,0,0,0,0,0,0,0,0,0,0,0,0,0,0]
[null,null,null,null,null,null,null,null,null,null,0,0,0,0,0,0,0,0,0,0,0,0,0,0,0,0,0,0,0,0,0,0,0,0,0,0,0,0,0]
[null,null,null,null,null,null,null,null,null,null,0,0,0,0,0,0,0,0,0,0,0,0,0,0,0,0,0,0,0,0,0,0,0,0,0,0,0,0,0]
[null,null,null,null,null,null,null,null,null,null,0,0,0,0,0,0,0,0,0,0,0,0,0,0,0,0,0,0,0,0,0,0,0,0,0,0,0,0,0]
[null,null,null,null,null,null,null,null,null,null,0,0,0,0,0,0,0,0,0,0,0,0,0,0,0,0,0,0,0,0,0,0,0,0,0,0,0,0,0]
[null,null,null,null,null,null,null,null,null,null,0,0,0,0,0,0,0,0,0,0,0,0,0,0,0,0,0,0,0,0,0,0,0,0,0,0,0,0,0]
[null,null,null,null,null,null,null,null,null,null,0,0,0,0,0,0,0,0,0,0,0,0,0,0,0,0,0,0,0,0,0,0,0,0,0,0,0,0,0]
[null,null,null,null,null,null,null,null,null,null,0,0,0,0,0,0,0,0,0,0,0,0,0,0,0,0,0,0,0,0,0,0,0,0,0,0,0,0,0]
[null,null,null,null,null,null,null,null,null,null,0,0,0,0,0,0,0,0,0,0,0,0,0,0,0,0,0,0,0,0,0,0,0,0,0,0,0,0,0]
[null,null,null,null,null,null,null,null,null,null,0,0,0,0,0,0,0,0,0,0,0,0,0,0,0,0,0,0,0,0,0,0,0,0,0,0,0,0,0]
[null,null,null,null,null,null,null,null,null,null,0,0,0,0,0,0,0,0,0,0,0,0,0,0,0,0,0,0,0,0,0,0,0,0,0,0,0,0,0]
["コンタミネーション","なし",null,null,null,null,null,null,null,null,{"$f":"IF(B43=\"なし\",0,IF(B43=\"\",0,LEN(B43)-LEN(SUBSTITUTE(B43, \"、\", \"\"))+1))","v":0},0,{"$f":"COUNTIF($B43,\"*\"&M$5&\"*\")","v":0},{"$f":"COUNTIF($B43,\"*\"&N$5&\"*\")","v":0},0,0,0,0,0,0,0,0,0,0,0,0,0,0,0,{"$f":"COUNTIF($B43,\"*\"&AD$5&\"*\")","v":0},0,0,0,0,0,0,0,0,0]
[null,null,null,null,null,null,null,null,null,null,{"$f":"IF(B44=\"なし\",0,IF(B44=\"\",0,LEN(B44)-LEN(SUBSTITUTE(B44, \"、\", \"\"))+1))","v":0},0,{"$f":"COUNTIF($B44,\"*\"&M$5&\"*\")","v":0},0,0,0,0,0,0,0,0,0,0,0,0,0,0,0,0,0,0,0,0,0,0,0,0,0,0]
[null,null,null,null,null,null,null,null,null,null,0,0,0,0,0,0,0,0,0,0,0,0,0,0,0,0,0,0,0,0,0,0,0,0,0,0,0,0,0]
["特記事項"]
[]
[]
[null,"●　商品の終売・リニューアルの場合は成分等が変更になる場合があります。ご了承ください。"]
["製造元","有限会社　阿部蔬菜加工センター"]
[]
[{"$f":"一覧!A38","v":"オーエンス泉岳自然ふれあい館"}]

{"sheet":"干し椎茸","index":7,"n_rows":52,"n_cols":39,"rows_kept":52,"cut":false,"hidden":false,"merged":[[51,0,51,8],[45,0,48,0],[45,1,45,8],[46,1,46,8],[47,1,47,8],[48,1,48,8],[49,0,50,0],[49,1,50,8],[40,1,40,4],[40,5,40,8],[41,1,41,4],[41,5,41,8],[42,0,44,0],[42,1,42,8],[43,1,43,8],[44,1,44,8],[37,1,37,4],[37,5,37,8],[38,1,38,4],[38,5,38,8],[39,1,39,4],[39,5,39,8],[34,1,34,4],[34,5,34,8],[35,1,35,4],[35,5,35,8],[36,1,36,4],[36,5,36,8],[31,1,31,4],[31,5,31,8],[32,1,32,4],[32,5,32,8],[33,1,33,4],[33,5,33,8],[28,1,28,4],[28,5,28,8],[29,1,29,4],[29,5,29,8],[30,1,30,4],[30,5,30,8],[25,1,25,4],[25,5,25,8],[26,1,26,4],[26,5,26,8],[27,1,27,4],[27,5,27,8],[22,1,22,4],[22,5,22,8],[23,1,23,4],[23,5,23,8],[24,1,24,4],[24,5,24,8],[19,1,19,4],[19,5,19,8],[20,1,20,4],[20,5,20,8],[21,1,21,4],[21,5,21,8],[16,1,16,4],[16,5,16,8],[17,1,17,4],[17,5,17,8],[18,1,18,4],[18,5,18,8],[13,1,13,4],[13,5,13,8],[14,1,14,4],[14,5,14,8],[15,1,15,4],[15,5,15,8],[10,1,10,4],[10,5,10,8],[11,1,11,4],[11,5,11,8],[12,1,12,4],[12,5,12,8],[1,1,1,8],[2,1,2,7],[3,1,3,7],[4,0,41,0],[4,1,4,4],[4,5,4,8],[5,1,5,4],[5,5,5,8],[6,1,6,4],[6,5,6,8],[7,1,7,4],[7,5,7,8],[8,1,8,4],[8,5,8,8],[9,1,9,4],[9,5,9,8]]}
["一覧へ"]
["シート名",{"$f":"RIGHT(CELL(\"filename\",A1),LEN(CELL(\"filename\",A1))-FIND(\"]\",CELL(\"filename\",A1)))","v":"干し椎茸"}]
["商品名","椎茸　スライス　国産　5ｍｍ",null,null,null,null,null,null,"作成日"]
["規格","500ｇ",null,null,null,null,null,null,{"$f":"一覧!D1","v":"2019-11-01"}]
["原材料","原材料名",null,null,null,"27品目アレルゲン",null,null,null,null,"個数①","計",{"$f":"[1]一覧!D5","v":"小麦"},{"$f":"[1]一覧!E5","v":"卵"},{"$f":"[1]一覧!F5","v":"乳"},{"$f":"[1]一覧!G5","v":"そば"},{"$f":"[1]一覧!H5","v":"落花生"},{"$f":"[1]一覧!I5","v":"えび"},{"$f":"[1]一覧!J5","v":"かに"},{"$f":"[1]一覧!K5","v":"ごま"},{"$f":"[1]一覧!L5","v":"くるみ"},{"$f":"[1]一覧!M5","v":"カシュ"},{"$f":"[1]一覧!N5","v":"キウイ"},{"$f":"[1]一覧!O5","v":"もも"},{"$f":"[1]一覧!P5","v":"リンゴ"},{"$f":"[1]一覧!Q5","v":"バナナ"},{"$f":"[1]一覧!R5","v":"オレンジ"},{"$f":"[1]一覧!S5","v":"いか"},{"$f":"[1]一覧!T5","v":"いくら"},{"$f":"[1]一覧!U5","v":"さけ"},{"$f":"[1]一覧!V5","v":"さば"},{"$f":"[1]一覧!W5","v":"大豆"},{"$f":"[1]一覧!X5","v":"鶏肉"},{"$f":"[1]一覧!Y5","v":"豚肉"},{"$f":"[1]一覧!Z5","v":"牛肉"},{"$f":"[1]一覧!AA5","v":"まつたけ"},{"$f":"[1]一覧!AB5","v":"やまいも"},{"$f":"[1]一覧!AC5","v":"ゼラチン"},{"$f":"[1]一覧!AD5","v":"あわび"}]
[null,"椎茸",null,null,null,null,null,null,null,null,{"$f":"IF(F6=\"\",0,LEN(F6)-LEN(SUBSTITUTE(F6, \"、\", \"\"))+1)","v":0},{"$f":"SUM(M6:AM6)","v":0},{"$f":"COUNTIF($F6,\"*\"&M$5&\"*\")","v":0},{"$f":"COUNTIF($F6,\"*\"&N$5&\"*\")","v":0},0,0,0,0,0,0,0,0,0,0,0,0,0,0,0,0,0,0,0,0,0,0,0,0,0]
[null,null,null,null,null,null,null,null,null,null,{"$f":"IF(F7=\"\",0,LEN(F7)-LEN(SUBSTITUTE(F7, \"、\", \"\"))+1)","v":0},{"$f":"SUM(M7:AM7)","v":0},{"$f":"COUNTIF($F7,\"*\"&M$5&\"*\")","v":0},0,0,0,0,0,0,0,0,0,0,0,0,0,0,0,0,0,0,0,0,0,0,0,0,0,0]
[null,null,null,null,null,null,null,null,null,null,0,0,0,0,0,0,0,0,0,0,0,0,0,0,0,0,0,0,0,0,0,0,0,0,0,0,0,0,0]
[null,null,null,null,null,null,null,null,null,null,0,0,0,0,0,0,0,0,0,0,0,0,0,0,0,0,0,0,0,0,0,0,0,0,0,0,0,0,0]
[null,null,null,null,null,null,null,null,null,null,0,0,0,0,0,0,0,0,0,0,0,0,0,0,0,0,0,0,0,0,0,0,0,0,0,0,0,0,0]
[null,null,null,null,null,null,null,null,null,null,0,0,0,0,0,0,0,0,0,0,0,0,0,0,0,0,0,0,0,0,0,0,0,0,0,0,0,0,0]
[null,null,null,null,null,null,null,null,null,null,0,0,0,0,0,0,0,0,0,0,0,0,0,0,0,0,0,0,0,0,0,0,0,0,0,0,0,0,0]
[null,null,null,null,null,null,null,null,null,null,0,0,0,0,0,0,0,0,0,0,0,0,0,0,0,0,0,0,0,0,0,0,0,0,0,0,0,0,0]
[null,null,null,null,null,null,null,null,null,null,0,0,0,0,0,0,0,0,0,0,0,0,0,0,0,0,0,0,0,0,0,0,0,0,0,0,0,0,0]
[null,null,null,null,null,null,null,null,null,null,0,0,0,0,0,0,0,0,0,0,0,0,0,0,0,0,0,0,0,0,0,0,0,0,{"$f":"COUNTIF($F15,\"*\"&AI$5&\"*\")","v":0},0,0,0,0]
[null,null,null,null,null,null,null,null,null,null,0,0,0,0,0,0,0,0,0,0,0,0,0,0,0,0,0,0,{"$f":"COUNTIF($F16,\"*\"&AC$5&\"*\")","v":0},0,0,0,0,0,0,0,0,0,0]
[null,null,null,null,null,null,null,null,null,null,0,0,0,0,0,0,0,0,0,0,0,0,0,0,0,0,0,0,0,0,0,0,0,0,0,0,0,0,0]
[null,null,null,null,null,null,null,null,null,null,0,0,0,0,0,0,0,0,0,0,0,0,0,0,0,0,0,0,0,0,0,0,0,0,0,0,0,0,0]
[null,null,null,null,null,null,null,null,null,null,0,0,0,0,0,0,0,0,0,0,0,0,0,0,0,0,0,0,0,0,0,0,0,0,0,0,0,0,0]
[null,null,null,null,null,null,null,null,null,null,0,0,0,0,0,0,0,0,0,0,0,0,0,0,0,0,0,0,0,0,0,0,0,0,0,0,0,0,0]
[null,null,null,null,null,null,null,null,null,null,0,0,0,0,0,0,0,0,0,0,0,0,0,0,0,0,0,0,0,0,0,0,0,0,0,0,0,0,0]
[null,null,null,null,null,null,null,null,null,null,0,0,0,0,0,0,0,0,0,0,0,0,0,0,0,0,0,0,0,0,0,0,0,0,0,0,0,0,0]
[null,null,null,null,null,null,null,null,null,null,0,0,0,0,0,0,0,0,0,0,0,0,0,0,0,0,0,0,0,0,0,0,0,0,0,0,0,0,0]
[null,null,null,null,null,null,null,null,null,null,0,0,0,0,0,0,0,0,0,0,0,0,0,0,0,0,0,0,0,0,0,0,0,0,0,0,0,0,0]
[null,null,null,null,null,null,null,null,null,null,0,0,0,0,0,0,0,0,0,0,0,0,0,0,0,0,0,0,0,0,0,0,0,0,0,0,0,0,0]
[null,null,null,null,null,null,null,null,null,null,0,0,0,0,0,0,0,0,0,0,0,0,0,0,0,0,0,0,0,0,0,0,0,0,0,0,0,0,0]
[null,null,null,null,null,null,null,null,null,null,0,0,0,0,0,0,0,0,0,0,0,0,0,0,0,0,0,0,0,0,0,0,0,0,0,0,0,0,0]
[null,null,null,null,null,null,null,null,null,null,0,0,0,0,0,0,0,0,0,0,0,0,0,0,0,0,0,0,0,0,0,0,0,0,0,0,0,0,0]
[null,null,null,null,null,null,null,null,null,null,0,0,0,0,0,0,0,0,0,0,0,0,0,0,0,0,0,0,0,0,0,0,0,0,0,0,0,0,0]
[null,null,null,null,null,null,null,null,null,null,0,0,0,0,0,0,0,0,0,0,0,0,0,0,0,0,0,0,0,0,0,0,0,0,0,0,0,0,0]
[null,null,null,null,null,null,null,null,null,null,0,0,0,0,0,0,0,0,{"$f":"COUNTIF($F31,\"*\"&S$5&\"*\")","v":0},0,0,0,0,0,0,0,0,0,0,0,0,0,0,0,0,0,0,0,0]
[null,null,null,null,null,null,null,null,null,null,0,0,{"$f":"COUNTIF($F32,\"*\"&M$5&\"*\")","v":0},0,0,0,0,0,0,0,0,0,0,0,0,0,0,0,0,0,0,0,0,0,0,0,0,0,0]
[null,null,null,null,null,null,null,null,null,null,0,0,0,0,0,0,0,0,0,0,0,0,0,0,0,0,0,0,0,0,0,0,0,0,0,0,0,0,0]
[null,null,null,null,null,null,null,null,null,null,0,0,0,0,0,0,0,0,0,0,0,0,0,0,0,0,0,0,0,0,0,0,0,0,0,0,0,0,0]
[null,null,null,null,null,null,null,null,null,null,0,0,0,0,0,0,0,0,0,0,0,0,0,0,0,0,0,0,0,0,0,0,0,0,0,0,0,0,0]
[null,null,null,null,null,null,null,null,null,null,0,0,0,0,0,0,0,0,0,0,0,0,0,0,0,0,0,0,0,0,0,0,0,0,0,0,0,0,0]
[null,null,null,null,null,null,null,null,null,null,0,0,0,0,0,0,0,0,0,0,0,0,0,0,0,0,0,0,0,0,0,0,0,0,0,0,0,0,0]
[null,null,null,null,null,null,null,null,null,null,0,0,0,0,0,0,0,0,0,0,0,0,0,0,0,0,0,0,0,0,0,0,0,0,0,0,0,0,0]
[null,null,null,null,null,null,null,null,null,null,0,0,0,0,0,0,0,0,0,0,0,0,0,0,0,0,0,0,0,0,0,0,0,0,0,0,0,0,0]
[null,null,null,null,null,null,null,null,null,null,0,0,0,0,0,0,0,0,0,0,0,0,0,0,0,0,0,0,0,0,0,0,0,0,0,0,0,0,0]
[null,null,null,null,null,null,null,null,null,null,0,0,0,0,0,0,0,0,0,0,0,0,0,0,0,0,0,0,0,0,0,0,0,0,0,0,0,0,0]
[null,null,null,null,null,null,null,null,null,null,0,0,0,0,0,0,0,0,0,0,0,0,0,0,0,0,0,0,0,0,0,0,0,0,0,0,0,0,0]
["コンタミネーション","なし",null,null,null,null,null,null,null,null,{"$f":"IF(B43=\"なし\",0,IF(B43=\"\",0,LEN(B43)-LEN(SUBSTITUTE(B43, \"、\", \"\"))+1))","v":0},0,{"$f":"COUNTIF($B43,\"*\"&M$5&\"*\")","v":0},{"$f":"COUNTIF($B43,\"*\"&N$5&\"*\")","v":0},0,0,0,0,0,0,0,0,0,0,0,0,0,0,0,{"$f":"COUNTIF($B43,\"*\"&AD$5&\"*\")","v":0},0,0,0,0,0,0,0,0,0]
[null,null,null,null,null,null,null,null,null,null,{"$f":"IF(B44=\"なし\",0,IF(B44=\"\",0,LEN(B44)-LEN(SUBSTITUTE(B44, \"、\", \"\"))+1))","v":0},0,{"$f":"COUNTIF($B44,\"*\"&M$5&\"*\")","v":0},0,0,0,0,0,0,0,0,0,0,0,0,0,0,0,0,0,0,0,0,0,0,0,0,0,0]
[null,null,null,null,null,null,null,null,null,null,0,0,0,0,0,0,0,0,0,0,0,0,0,0,0,0,0,0,0,0,0,0,0,0,0,0,0,0,0]
["特記事項"]
[]
[]
[null,"●　商品の終売・リニューアルの場合は成分等が変更になる場合があります。ご了承ください。"]
["製造元","株式会社　及川商店"]
[]
[{"$f":"一覧!A38","v":"オーエンス泉岳自然ふれあい館"}]

{"sheet":"しょうが","index":8,"n_rows":52,"n_cols":39,"rows_kept":52,"cut":false,"hidden":false,"merged":[[51,0,51,8],[45,0,48,0],[45,1,45,8],[46,1,46,8],[47,1,47,8],[48,1,48,8],[49,0,50,0],[49,1,50,8],[40,1,40,4],[40,5,40,8],[41,1,41,4],[41,5,41,8],[42,0,44,0],[42,1,42,8],[43,1,43,8],[44,1,44,8],[37,1,37,4],[37,5,37,8],[38,1,38,4],[38,5,38,8],[39,1,39,4],[39,5,39,8],[34,1,34,4],[34,5,34,8],[35,1,35,4],[35,5,35,8],[36,1,36,4],[36,5,36,8],[31,1,31,4],[31,5,31,8],[32,1,32,4],[32,5,32,8],[33,1,33,4],[33,5,33,8],[28,1,28,4],[28,5,28,8],[29,1,29,4],[29,5,29,8],[30,1,30,4],[30,5,30,8],[25,1,25,4],[25,5,25,8],[26,1,26,4],[26,5,26,8],[27,1,27,4],[27,5,27,8],[22,1,22,4],[22,5,22,8],[23,1,23,4],[23,5,23,8],[24,1,24,4],[24,5,24,8],[19,1,19,4],[19,5,19,8],[20,1,20,4],[20,5,20,8],[21,1,21,4],[21,5,21,8],[16,1,16,4],[16,5,16,8],[17,1,17,4],[17,5,17,8],[18,1,18,4],[18,5,18,8],[13,1,13,4],[13,5,13,8],[14,1,14,4],[14,5,14,8],[15,1,15,4],[15,5,15,8],[10,1,10,4],[10,5,10,8],[11,1,11,4],[11,5,11,8],[12,1,12,4],[12,5,12,8],[1,1,1,8],[2,1,2,7],[3,1,3,7],[4,0,41,0],[4,1,4,4],[4,5,4,8],[5,1,5,4],[5,5,5,8],[6,1,6,4],[6,5,6,8],[7,1,7,4],[7,5,7,8],[8,1,8,4],[8,5,8,8],[9,1,9,4],[9,5,9,8]]}
["一覧へ"]
["シート名",{"$f":"RIGHT(CELL(\"filename\",A1),LEN(CELL(\"filename\",A1))-FIND(\"]\",CELL(\"filename\",A1)))","v":"しょうが"}]
["商品名","ベストシェフ　特撰生おろししょうが1㎏",null,null,null,null,null,null,"作成日"]
["規格","1㎏×15",null,null,null,null,null,null,{"$f":"一覧!D1","v":"2019-11-01"}]
["原材料","原材料名",null,null,null,"27品目アレルゲン",null,null,null,null,"個数①","計",{"$f":"[1]一覧!D5","v":"小麦"},{"$f":"[1]一覧!E5","v":"卵"},{"$f":"[1]一覧!F5","v":"乳"},{"$f":"[1]一覧!G5","v":"そば"},{"$f":"[1]一覧!H5","v":"落花生"},{"$f":"[1]一覧!I5","v":"えび"},{"$f":"[1]一覧!J5","v":"かに"},{"$f":"[1]一覧!K5","v":"ごま"},{"$f":"[1]一覧!L5","v":"くるみ"},{"$f":"[1]一覧!M5","v":"カシュ"},{"$f":"[1]一覧!N5","v":"キウイ"},{"$f":"[1]一覧!O5","v":"もも"},{"$f":"[1]一覧!P5","v":"リンゴ"},{"$f":"[1]一覧!Q5","v":"バナナ"},{"$f":"[1]一覧!R5","v":"オレンジ"},{"$f":"[1]一覧!S5","v":"いか"},{"$f":"[1]一覧!T5","v":"いくら"},{"$f":"[1]一覧!U5","v":"さけ"},{"$f":"[1]一覧!V5","v":"さば"},{"$f":"[1]一覧!W5","v":"大豆"},{"$f":"[1]一覧!X5","v":"鶏肉"},{"$f":"[1]一覧!Y5","v":"豚肉"},{"$f":"[1]一覧!Z5","v":"牛肉"},{"$f":"[1]一覧!AA5","v":"まつたけ"},{"$f":"[1]一覧!AB5","v":"やまいも"},{"$f":"[1]一覧!AC5","v":"ゼラチン"},{"$f":"[1]一覧!AD5","v":"あわび"}]
[null,"しょうが",null,null,null,null,null,null,null,null,{"$f":"IF(F6=\"\",0,LEN(F6)-LEN(SUBSTITUTE(F6, \"、\", \"\"))+1)","v":0},{"$f":"SUM(M6:AM6)","v":0},{"$f":"COUNTIF($F6,\"*\"&M$5&\"*\")","v":0},{"$f":"COUNTIF($F6,\"*\"&N$5&\"*\")","v":0},0,0,0,0,0,0,0,0,0,0,0,0,0,0,0,0,0,0,0,0,0,0,0,0,0]
[null,"酸化防止剤（Ｖ.Ｃ）",null,null,null,null,null,null,null,null,{"$f":"IF(F7=\"\",0,LEN(F7)-LEN(SUBSTITUTE(F7, \"、\", \"\"))+1)","v":0},{"$f":"SUM(M7:AM7)","v":0},{"$f":"COUNTIF($F7,\"*\"&M$5&\"*\")","v":0},0,0,0,0,0,0,0,0,0,0,0,0,0,0,0,0,0,0,0,0,0,0,0,0,0,0]
[null,"ｐＨ調整剤",null,null,null,null,null,null,null,null,0,0,0,0,0,0,0,0,0,0,0,0,0,0,0,0,0,0,0,0,0,0,0,0,0,0,0,0,0]
[null,null,null,null,null,null,null,null,null,null,0,0,0,0,0,0,0,0,0,0,0,0,0,0,0,0,0,0,0,0,0,0,0,0,0,0,0,0,0]
[null,null,null,null,null,null,null,null,null,null,0,0,0,0,0,0,0,0,0,0,0,0,0,0,0,0,0,0,0,0,0,0,0,0,0,0,0,0,0]
[null,null,null,null,null,null,null,null,null,null,0,0,0,0,0,0,0,0,0,0,0,0,0,0,0,0,0,0,0,0,0,0,0,0,0,0,0,0,0]
[null,null,null,null,null,null,null,null,null,null,0,0,0,0,0,0,0,0,0,0,0,0,0,0,0,0,0,0,0,0,0,0,0,0,0,0,0,0,0]
[null,null,null,null,null,null,null,null,null,null,0,0,0,0,0,0,0,0,0,0,0,0,0,0,0,0,0,0,0,0,0,0,0,0,0,0,0,0,0]
[null,null,null,null,null,null,null,null,null,null,0,0,0,0,0,0,0,0,0,0,0,0,0,0,0,0,0,0,0,0,0,0,0,0,0,0,0,0,0]
[null,null,null,null,null,null,null,null,null,null,0,0,0,0,0,0,0,0,0,0,0,0,0,0,0,0,0,0,0,0,0,0,0,0,{"$f":"COUNTIF($F15,\"*\"&AI$5&\"*\")","v":0},0,0,0,0]
[null,null,null,null,null,null,null,null,null,null,0,0,0,0,0,0,0,0,0,0,0,0,0,0,0,0,0,0,{"$f":"COUNTIF($F16,\"*\"&AC$5&\"*\")","v":0},0,0,0,0,0,0,0,0,0,0]
[null,null,null,null,null,null,null,null,null,null,0,0,0,0,0,0,0,0,0,0,0,0,0,0,0,0,0,0,0,0,0,0,0,0,0,0,0,0,0]
[null,null,null,null,null,null,null,null,null,null,0,0,0,0,0,0,0,0,0,0,0,0,0,0,0,0,0,0,0,0,0,0,0,0,0,0,0,0,0]
[null,null,null,null,null,null,null,null,null,null,0,0,0,0,0,0,0,0,0,0,0,0,0,0,0,0,0,0,0,0,0,0,0,0,0,0,0,0,0]
[null,null,null,null,null,null,null,null,null,null,0,0,0,0,0,0,0,0,0,0,0,0,0,0,0,0,0,0,0,0,0,0,0,0,0,0,0,0,0]
[null,null,null,null,null,null,null,null,null,null,0,0,0,0,0,0,0,0,0,0,0,0,0,0,0,0,0,0,0,0,0,0,0,0,0,0,0,0,0]
[null,null,null,null,null,null,null,null,null,null,0,0,0,0,0,0,0,0,0,0,0,0,0,0,0,0,0,0,0,0,0,0,0,0,0,0,0,0,0]
[null,null,null,null,null,null,null,null,null,null,0,0,0,0,0,0,0,0,0,0,0,0,0,0,0,0,0,0,0,0,0,0,0,0,0,0,0,0,0]
[null,null,null,null,null,null,null,null,null,null,0,0,0,0,0,0,0,0,0,0,0,0,0,0,0,0,0,0,0,0,0,0,0,0,0,0,0,0,0]
[null,null,null,null,null,null,null,null,null,null,0,0,0,0,0,0,0,0,0,0,0,0,0,0,0,0,0,0,0,0,0,0,0,0,0,0,0,0,0]
[null,null,null,null,null,null,null,null,null,null,0,0,0,0,0,0,0,0,0,0,0,0,0,0,0,0,0,0,0,0,0,0,0,0,0,0,0,0,0]
[null,null,null,null,null,null,null,null,null,null,0,0,0,0,0,0,0,0,0,0,0,0,0,0,0,0,0,0,0,0,0,0,0,0,0,0,0,0,0]
[null,null,null,null,null,null,null,null,null,null,0,0,0,0,0,0,0,0,0,0,0,0,0,0,0,0,0,0,0,0,0,0,0,0,0,0,0,0,0]
[null,null,null,null,null,null,null,null,null,null,0,0,0,0,0,0,0,0,0,0,0,0,0,0,0,0,0,0,0,0,0,0,0,0,0,0,0,0,0]
[null,null,null,null,null,null,null,null,null,null,0,0,0,0,0,0,0,0,0,0,0,0,0,0,0,0,0,0,0,0,0,0,0,0,0,0,0,0,0]
[null,null,null,null,null,null,null,null,null,null,0,0,0,0,0,0,0,0,{"$f":"COUNTIF($F31,\"*\"&S$5&\"*\")","v":0},0,0,0,0,0,0,0,0,0,0,0,0,0,0,0,0,0,0,0,0]
[null,null,null,null,null,null,null,null,null,null,0,0,{"$f":"COUNTIF($F32,\"*\"&M$5&\"*\")","v":0},0,0,0,0,0,0,0,0,0,0,0,0,0,0,0,0,0,0,0,0,0,0,0,0,0,0]
[null,null,null,null,null,null,null,null,null,null,0,0,0,0,0,0,0,0,0,0,0,0,0,0,0,0,0,0,0,0,0,0,0,0,0,0,0,0,0]
[null,null,null,null,null,null,null,null,null,null,0,0,0,0,0,0,0,0,0,0,0,0,0,0,0,0,0,0,0,0,0,0,0,0,0,0,0,0,0]
[null,null,null,null,null,null,null,null,null,null,0,0,0,0,0,0,0,0,0,0,0,0,0,0,0,0,0,0,0,0,0,0,0,0,0,0,0,0,0]
[null,null,null,null,null,null,null,null,null,null,0,0,0,0,0,0,0,0,0,0,0,0,0,0,0,0,0,0,0,0,0,0,0,0,0,0,0,0,0]
[null,null,null,null,null,null,null,null,null,null,0,0,0,0,0,0,0,0,0,0,0,0,0,0,0,0,0,0,0,0,0,0,0,0,0,0,0,0,0]
[null,null,null,null,null,null,null,null,null,null,0,0,0,0,0,0,0,0,0,0,0,0,0,0,0,0,0,0,0,0,0,0,0,0,0,0,0,0,0]
[null,null,null,null,null,null,null,null,null,null,0,0,0,0,0,0,0,0,0,0,0,0,0,0,0,0,0,0,0,0,0,0,0,0,0,0,0,0,0]
[null,null,null,null,null,null,null,null,null,null,0,0,0,0,0,0,0,0,0,0,0,0,0,0,0,0,0,0,0,0,0,0,0,0,0,0,0,0,0]
[null,null,null,null,null,null,null,null,null,null,0,0,0,0,0,0,0,0,0,0,0,0,0,0,0,0,0,0,0,0,0,0,0,0,0,0,0,0,0]
[null,null,null,null,null,null,null,null,null,null,0,0,0,0,0,0,0,0,0,0,0,0,0,0,0,0,0,0,0,0,0,0,0,0,0,0,0,0,0]
["コンタミネーション","なし",null,null,null,null,null,null,null,null,{"$f":"IF(B43=\"なし\",0,IF(B43=\"\",0,LEN(B43)-LEN(SUBSTITUTE(B43, \"、\", \"\"))+1))","v":0},0,{"$f":"COUNTIF($B43,\"*\"&M$5&\"*\")","v":0},{"$f":"COUNTIF($B43,\"*\"&N$5&\"*\")","v":0},0,0,0,0,0,0,0,0,0,0,0,0,0,0,0,{"$f":"COUNTIF($B43,\"*\"&AD$5&\"*\")","v":0},0,0,0,0,0,0,0,0,0]
[null,null,null,null,null,null,null,null,null,null,{"$f":"IF(B44=\"なし\",0,IF(B44=\"\",0,LEN(B44)-LEN(SUBSTITUTE(B44, \"、\", \"\"))+1))","v":0},0,{"$f":"COUNTIF($B44,\"*\"&M$5&\"*\")","v":0},0,0,0,0,0,0,0,0,0,0,0,0,0,0,0,0,0,0,0,0,0,0,0,0,0,0]
[null,null,null,null,null,null,null,null,null,null,0,0,0,0,0,0,0,0,0,0,0,0,0,0,0,0,0,0,0,0,0,0,0,0,0,0,0,0,0]
["特記事項"]
[]
[]
[null,"●　商品の終売・リニューアルの場合は成分等が変更になる場合があります。ご了承ください。"]
["製造元","高瀬物産株式会社"]
[]
[{"$f":"一覧!A38","v":"オーエンス泉岳自然ふれあい館"}]

{"sheet":"油①","index":9,"n_rows":52,"n_cols":39,"rows_kept":52,"cut":false,"hidden":false,"merged":[[51,0,51,8],[45,0,48,0],[45,1,45,8],[46,1,46,8],[47,1,47,8],[48,1,48,8],[49,0,50,0],[49,1,50,8],[40,1,40,4],[40,5,40,8],[41,1,41,4],[41,5,41,8],[42,0,44,0],[42,1,42,8],[43,1,43,8],[44,1,44,8],[37,1,37,4],[37,5,37,8],[38,1,38,4],[38,5,38,8],[39,1,39,4],[39,5,39,8],[34,1,34,4],[34,5,34,8],[35,1,35,4],[35,5,35,8],[36,1,36,4],[36,5,36,8],[31,1,31,4],[31,5,31,8],[32,1,32,4],[32,5,32,8],[33,1,33,4],[33,5,33,8],[28,1,28,4],[28,5,28,8],[29,1,29,4],[29,5,29,8],[30,1,30,4],[30,5,30,8],[25,1,25,4],[25,5,25,8],[26,1,26,4],[26,5,26,8],[27,1,27,4],[27,5,27,8],[22,1,22,4],[22,5,22,8],[23,1,23,4],[23,5,23,8],[24,1,24,4],[24,5,24,8],[19,1,19,4],[19,5,19,8],[20,1,20,4],[20,5,20,8],[21,1,21,4],[21,5,21,8],[16,1,16,4],[16,5,16,8],[17,1,17,4],[17,5,17,8],[18,1,18,4],[18,5,18,8],[13,1,13,4],[13,5,13,8],[14,1,14,4],[14,5,14,8],[15,1,15,4],[15,5,15,8],[10,1,10,4],[10,5,10,8],[11,1,11,4],[11,5,11,8],[12,1,12,4],[12,5,12,8],[1,1,1,8],[2,1,2,7],[3,1,3,7],[4,0,41,0],[4,1,4,4],[4,5,4,8],[5,1,5,4],[5,5,5,8],[6,1,6,4],[6,5,6,8],[7,1,7,4],[7,5,7,8],[8,1,8,4],[8,5,8,8],[9,1,9,4],[9,5,9,8]]}
["一覧へ"]
["シート名",{"$f":"RIGHT(CELL(\"filename\",A1),LEN(CELL(\"filename\",A1))-FIND(\"]\",CELL(\"filename\",A1)))","v":"油①"}]
["商品名","ニッコーサラダ油",null,null,null,null,null,null,"作成日"]
["規格","1500ｇポリ×10本",null,null,null,null,null,null,{"$f":"一覧!D1","v":"2019-11-01"}]
["原材料","原材料名",null,null,null,"27品目アレルゲン",null,null,null,null,"個数①","計",{"$f":"[1]一覧!D5","v":"小麦"},{"$f":"[1]一覧!E5","v":"卵"},{"$f":"[1]一覧!F5","v":"乳"},{"$f":"[1]一覧!G5","v":"そば"},{"$f":"[1]一覧!H5","v":"落花生"},{"$f":"[1]一覧!I5","v":"えび"},{"$f":"[1]一覧!J5","v":"かに"},{"$f":"[1]一覧!K5","v":"ごま"},{"$f":"[1]一覧!L5","v":"くるみ"},{"$f":"[1]一覧!M5","v":"カシュ"},{"$f":"[1]一覧!N5","v":"キウイ"},{"$f":"[1]一覧!O5","v":"もも"},{"$f":"[1]一覧!P5","v":"リンゴ"},{"$f":"[1]一覧!Q5","v":"バナナ"},{"$f":"[1]一覧!R5","v":"オレンジ"},{"$f":"[1]一覧!S5","v":"いか"},{"$f":"[1]一覧!T5","v":"いくら"},{"$f":"[1]一覧!U5","v":"さけ"},{"$f":"[1]一覧!V5","v":"さば"},{"$f":"[1]一覧!W5","v":"大豆"},{"$f":"[1]一覧!X5","v":"鶏肉"},{"$f":"[1]一覧!Y5","v":"豚肉"},{"$f":"[1]一覧!Z5","v":"牛肉"},{"$f":"[1]一覧!AA5","v":"まつたけ"},{"$f":"[1]一覧!AB5","v":"やまいも"},{"$f":"[1]一覧!AC5","v":"ゼラチン"},{"$f":"[1]一覧!AD5","v":"あわび"}]
[null,"食用大豆油",null,null,null,"大豆",null,null,null,null,{"$f":"IF(F6=\"\",0,LEN(F6)-LEN(SUBSTITUTE(F6, \"、\", \"\"))+1)","v":1},{"$f":"SUM(M6:AM6)","v":1},{"$f":"COUNTIF($F6,\"*\"&M$5&\"*\")","v":0},{"$f":"COUNTIF($F6,\"*\"&N$5&\"*\")","v":0},0,0,0,0,0,0,0,0,0,0,0,0,0,0,0,0,0,1,0,0,0,0,0,0,0]
[null,"食用なたね油",null,null,null,null,null,null,null,null,{"$f":"IF(F7=\"\",0,LEN(F7)-LEN(SUBSTITUTE(F7, \"、\", \"\"))+1)","v":0},{"$f":"SUM(M7:AM7)","v":0},{"$f":"COUNTIF($F7,\"*\"&M$5&\"*\")","v":0},0,0,0,0,0,0,0,0,0,0,0,0,0,0,0,0,0,0,0,0,0,0,0,0,0,0]
[null,null,null,null,null,null,null,null,null,null,0,0,0,0,0,0,0,0,0,0,0,0,0,0,0,0,0,0,0,0,0,0,0,0,0,0,0,0,0]
[null,null,null,null,null,null,null,null,null,null,0,0,0,0,0,0,0,0,0,0,0,0,0,0,0,0,0,0,0,0,0,0,0,0,0,0,0,0,0]
[null,null,null,null,null,null,null,null,null,null,0,0,0,0,0,0,0,0,0,0,0,0,0,0,0,0,0,0,0,0,0,0,0,0,0,0,0,0,0]
[null,null,null,null,null,null,null,null,null,null,0,0,0,0,0,0,0,0,0,0,0,0,0,0,0,0,0,0,0,0,0,0,0,0,0,0,0,0,0]
[null,null,null,null,null,null,null,null,null,null,0,0,0,0,0,0,0,0,0,0,0,0,0,0,0,0,0,0,0,0,0,0,0,0,0,0,0,0,0]
[null,null,null,null,null,null,null,null,null,null,0,0,0,0,0,0,0,0,0,0,0,0,0,0,0,0,0,0,0,0,0,0,0,0,0,0,0,0,0]
[null,null,null,null,null,null,null,null,null,null,0,0,0,0,0,0,0,0,0,0,0,0,0,0,0,0,0,0,0,0,0,0,0,0,0,0,0,0,0]
[null,null,null,null,null,null,null,null,null,null,0,0,0,0,0,0,0,0,0,0,0,0,0,0,0,0,0,0,0,0,0,0,0,0,{"$f":"COUNTIF($F15,\"*\"&AI$5&\"*\")","v":0},0,0,0,0]
[null,null,null,null,null,null,null,null,null,null,0,0,0,0,0,0,0,0,0,0,0,0,0,0,0,0,0,0,{"$f":"COUNTIF($F16,\"*\"&AC$5&\"*\")","v":0},0,0,0,0,0,0,0,0,0,0]
[null,null,null,null,null,null,null,null,null,null,0,0,0,0,0,0,0,0,0,0,0,0,0,0,0,0,0,0,0,0,0,0,0,0,0,0,0,0,0]
[null,null,null,null,null,null,null,null,null,null,0,0,0,0,0,0,0,0,0,0,0,0,0,0,0,0,0,0,0,0,0,0,0,0,0,0,0,0,0]
[null,null,null,null,null,null,null,null,null,null,0,0,0,0,0,0,0,0,0,0,0,0,0,0,0,0,0,0,0,0,0,0,0,0,0,0,0,0,0]
[null,null,null,null,null,null,null,null,null,null,0,0,0,0,0,0,0,0,0,0,0,0,0,0,0,0,0,0,0,0,0,0,0,0,0,0,0,0,0]
[null,null,null,null,null,null,null,null,null,null,0,0,0,0,0,0,0,0,0,0,0,0,0,0,0,0,0,0,0,0,0,0,0,0,0,0,0,0,0]
[null,null,null,null,null,null,null,null,null,null,0,0,0,0,0,0,0,0,0,0,0,0,0,0,0,0,0,0,0,0,0,0,0,0,0,0,0,0,0]
[null,null,null,null,null,null,null,null,null,null,0,0,0,0,0,0,0,0,0,0,0,0,0,0,0,0,0,0,0,0,0,0,0,0,0,0,0,0,0]
[null,null,null,null,null,null,null,null,null,null,0,0,0,0,0,0,0,0,0,0,0,0,0,0,0,0,0,0,0,0,0,0,0,0,0,0,0,0,0]
[null,null,null,null,null,null,null,null,null,null,0,0,0,0,0,0,0,0,0,0,0,0,0,0,0,0,0,0,0,0,0,0,0,0,0,0,0,0,0]
[null,null,null,null,null,null,null,null,null,null,0,0,0,0,0,0,0,0,0,0,0,0,0,0,0,0,0,0,0,0,0,0,0,0,0,0,0,0,0]
[null,null,null,null,null,null,null,null,null,null,0,0,0,0,0,0,0,0,0,0,0,0,0,0,0,0,0,0,0,0,0,0,0,0,0,0,0,0,0]
[null,null,null,null,null,null,null,null,null,null,0,0,0,0,0,0,0,0,0,0,0,0,0,0,0,0,0,0,0,0,0,0,0,0,0,0,0,0,0]
[null,null,null,null,null,null,null,null,null,null,0,0,0,0,0,0,0,0,0,0,0,0,0,0,0,0,0,0,0,0,0,0,0,0,0,0,0,0,0]
[null,null,null,null,null,null,null,null,null,null,0,0,0,0,0,0,0,0,0,0,0,0,0,0,0,0,0,0,0,0,0,0,0,0,0,0,0,0,0]
[null,null,null,null,null,null,null,null,null,null,0,0,0,0,0,0,0,0,{"$f":"COUNTIF($F31,\"*\"&S$5&\"*\")","v":0},0,0,0,0,0,0,0,0,0,0,0,0,0,0,0,0,0,0,0,0]
[null,null,null,null,null,null,null,null,null,null,0,0,{"$f":"COUNTIF($F32,\"*\"&M$5&\"*\")","v":0},0,0,0,0,0,0,0,0,0,0,0,0,0,0,0,0,0,0,0,0,0,0,0,0,0,0]
[null,null,null,null,null,null,null,null,null,null,0,0,0,0,0,0,0,0,0,0,0,0,0,0,0,0,0,0,0,0,0,0,0,0,0,0,0,0,0]
[null,null,null,null,null,null,null,null,null,null,0,0,0,0,0,0,0,0,0,0,0,0,0,0,0,0,0,0,0,0,0,0,0,0,0,0,0,0,0]
[null,null,null,null,null,null,null,null,null,null,0,0,0,0,0,0,0,0,0,0,0,0,0,0,0,0,0,0,0,0,0,0,0,0,0,0,0,0,0]
[null,null,null,null,null,null,null,null,null,null,0,0,0,0,0,0,0,0,0,0,0,0,0,0,0,0,0,0,0,0,0,0,0,0,0,0,0,0,0]
[null,null,null,null,null,null,null,null,null,null,0,0,0,0,0,0,0,0,0,0,0,0,0,0,0,0,0,0,0,0,0,0,0,0,0,0,0,0,0]
[null,null,null,null,null,null,null,null,null,null,0,0,0,0,0,0,0,0,0,0,0,0,0,0,0,0,0,0,0,0,0,0,0,0,0,0,0,0,0]
[null,null,null,null,null,null,null,null,null,null,0,0,0,0,0,0,0,0,0,0,0,0,0,0,0,0,0,0,0,0,0,0,0,0,0,0,0,0,0]
[null,null,null,null,null,null,null,null,null,null,0,0,0,0,0,0,0,0,0,0,0,0,0,0,0,0,0,0,0,0,0,0,0,0,0,0,0,0,0]
[null,null,null,null,null,null,null,null,null,null,0,0,0,0,0,0,0,0,0,0,0,0,0,0,0,0,0,0,0,0,0,0,0,0,0,0,0,0,0]
[null,null,null,null,null,null,null,null,null,null,0,0,0,0,0,0,0,0,0,0,0,0,0,0,0,0,0,0,0,0,0,0,0,0,0,0,0,0,0]
["コンタミネーション",null,null,null,null,null,null,null,null,null,{"$f":"IF(B43=\"なし\",0,IF(B43=\"\",0,LEN(B43)-LEN(SUBSTITUTE(B43, \"、\", \"\"))+1))","v":0},0,{"$f":"COUNTIF($B43,\"*\"&M$5&\"*\")","v":0},{"$f":"COUNTIF($B43,\"*\"&N$5&\"*\")","v":0},0,0,0,0,0,0,0,0,0,0,0,0,0,0,0,{"$f":"COUNTIF($B43,\"*\"&AD$5&\"*\")","v":0},0,0,0,0,0,0,0,0,0]
[null,null,null,null,null,null,null,null,null,null,{"$f":"IF(B44=\"なし\",0,IF(B44=\"\",0,LEN(B44)-LEN(SUBSTITUTE(B44, \"、\", \"\"))+1))","v":0},0,{"$f":"COUNTIF($B44,\"*\"&M$5&\"*\")","v":0},0,0,0,0,0,0,0,0,0,0,0,0,0,0,0,0,0,0,0,0,0,0,0,0,0,0]
[null,null,null,null,null,null,null,null,null,null,0,0,0,0,0,0,0,0,0,0,0,0,0,0,0,0,0,0,0,0,0,0,0,0,0,0,0,0,0]
["特記事項","・仕入れ状況により油①または油②を使用します。"]
[]
[]
[null,"●　商品の終売・リニューアルの場合は成分等が変更になる場合があります。ご了承ください。"]
["製造元","日清オイリオグループ株式会社"]
[]
[{"$f":"一覧!A38","v":"オーエンス泉岳自然ふれあい館"}]

{"sheet":"油②","index":10,"n_rows":52,"n_cols":39,"rows_kept":52,"cut":false,"hidden":false,"merged":[[51,0,51,8],[45,0,48,0],[45,1,45,8],[46,1,46,8],[47,1,47,8],[48,1,48,8],[49,0,50,0],[49,1,50,8],[40,1,40,4],[40,5,40,8],[41,1,41,4],[41,5,41,8],[42,0,44,0],[42,1,42,8],[43,1,43,8],[44,1,44,8],[37,1,37,4],[37,5,37,8],[38,1,38,4],[38,5,38,8],[39,1,39,4],[39,5,39,8],[34,1,34,4],[34,5,34,8],[35,1,35,4],[35,5,35,8],[36,1,36,4],[36,5,36,8],[31,1,31,4],[31,5,31,8],[32,1,32,4],[32,5,32,8],[33,1,33,4],[33,5,33,8],[28,1,28,4],[28,5,28,8],[29,1,29,4],[29,5,29,8],[30,1,30,4],[30,5,30,8],[25,1,25,4],[25,5,25,8],[26,1,26,4],[26,5,26,8],[27,1,27,4],[27,5,27,8],[22,1,22,4],[22,5,22,8],[23,1,23,4],[23,5,23,8],[24,1,24,4],[24,5,24,8],[19,1,19,4],[19,5,19,8],[20,1,20,4],[20,5,20,8],[21,1,21,4],[21,5,21,8],[16,1,16,4],[16,5,16,8],[17,1,17,4],[17,5,17,8],[18,1,18,4],[18,5,18,8],[13,1,13,4],[13,5,13,8],[14,1,14,4],[14,5,14,8],[15,1,15,4],[15,5,15,8],[10,1,10,4],[10,5,10,8],[11,1,11,4],[11,5,11,8],[12,1,12,4],[12,5,12,8],[1,1,1,8],[2,1,2,7],[3,1,3,7],[4,0,41,0],[4,1,4,4],[4,5,4,8],[5,1,5,4],[5,5,5,8],[6,1,6,4],[6,5,6,8],[7,1,7,4],[7,5,7,8],[8,1,8,4],[8,5,8,8],[9,1,9,4],[9,5,9,8]]}
["一覧へ"]
["シート名",{"$f":"RIGHT(CELL(\"filename\",A1),LEN(CELL(\"filename\",A1))-FIND(\"]\",CELL(\"filename\",A1)))","v":"油②"}]
["商品名","ベストシェフ　キャノーラ油",null,null,null,null,null,null,"作成日"]
["規格","16.5㎏",null,null,null,null,null,null,{"$f":"一覧!D1","v":"2019-11-01"}]
["原材料","原材料名",null,null,null,"27品目アレルゲン",null,null,null,null,"個数①","計",{"$f":"[1]一覧!D5","v":"小麦"},{"$f":"[1]一覧!E5","v":"卵"},{"$f":"[1]一覧!F5","v":"乳"},{"$f":"[1]一覧!G5","v":"そば"},{"$f":"[1]一覧!H5","v":"落花生"},{"$f":"[1]一覧!I5","v":"えび"},{"$f":"[1]一覧!J5","v":"かに"},{"$f":"[1]一覧!K5","v":"ごま"},{"$f":"[1]一覧!L5","v":"くるみ"},{"$f":"[1]一覧!M5","v":"カシュ"},{"$f":"[1]一覧!N5","v":"キウイ"},{"$f":"[1]一覧!O5","v":"もも"},{"$f":"[1]一覧!P5","v":"リンゴ"},{"$f":"[1]一覧!Q5","v":"バナナ"},{"$f":"[1]一覧!R5","v":"オレンジ"},{"$f":"[1]一覧!S5","v":"いか"},{"$f":"[1]一覧!T5","v":"いくら"},{"$f":"[1]一覧!U5","v":"さけ"},{"$f":"[1]一覧!V5","v":"さば"},{"$f":"[1]一覧!W5","v":"大豆"},{"$f":"[1]一覧!X5","v":"鶏肉"},{"$f":"[1]一覧!Y5","v":"豚肉"},{"$f":"[1]一覧!Z5","v":"牛肉"},{"$f":"[1]一覧!AA5","v":"まつたけ"},{"$f":"[1]一覧!AB5","v":"やまいも"},{"$f":"[1]一覧!AC5","v":"ゼラチン"},{"$f":"[1]一覧!AD5","v":"あわび"}]
[null,"食用なたね油",null,null,null,null,null,null,null,null,{"$f":"IF(F6=\"\",0,LEN(F6)-LEN(SUBSTITUTE(F6, \"、\", \"\"))+1)","v":0},{"$f":"SUM(M6:AM6)","v":0},{"$f":"COUNTIF($F6,\"*\"&M$5&\"*\")","v":0},{"$f":"COUNTIF($F6,\"*\"&N$5&\"*\")","v":0},0,0,0,0,0,0,0,0,0,0,0,0,0,0,0,0,0,0,0,0,0,0,0,0,0]
[null,"シリコーン",null,null,null,null,null,null,null,null,{"$f":"IF(F7=\"\",0,LEN(F7)-LEN(SUBSTITUTE(F7, \"、\", \"\"))+1)","v":0},{"$f":"SUM(M7:AM7)","v":0},{"$f":"COUNTIF($F7,\"*\"&M$5&\"*\")","v":0},0,0,0,0,0,0,0,0,0,0,0,0,0,0,0,0,0,0,0,0,0,0,0,0,0,0]
[null,null,null,null,null,null,null,null,null,null,0,0,0,0,0,0,0,0,0,0,0,0,0,0,0,0,0,0,0,0,0,0,0,0,0,0,0,0,0]
[null,null,null,null,null,null,null,null,null,null,0,0,0,0,0,0,0,0,0,0,0,0,0,0,0,0,0,0,0,0,0,0,0,0,0,0,0,0,0]
[null,null,null,null,null,null,null,null,null,null,0,0,0,0,0,0,0,0,0,0,0,0,0,0,0,0,0,0,0,0,0,0,0,0,0,0,0,0,0]
[null,null,null,null,null,null,null,null,null,null,0,0,0,0,0,0,0,0,0,0,0,0,0,0,0,0,0,0,0,0,0,0,0,0,0,0,0,0,0]
[null,null,null,null,null,null,null,null,null,null,0,0,0,0,0,0,0,0,0,0,0,0,0,0,0,0,0,0,0,0,0,0,0,0,0,0,0,0,0]
[null,null,null,null,null,null,null,null,null,null,0,0,0,0,0,0,0,0,0,0,0,0,0,0,0,0,0,0,0,0,0,0,0,0,0,0,0,0,0]
[null,null,null,null,null,null,null,null,null,null,0,0,0,0,0,0,0,0,0,0,0,0,0,0,0,0,0,0,0,0,0,0,0,0,0,0,0,0,0]
[null,null,null,null,null,null,null,null,null,null,0,0,0,0,0,0,0,0,0,0,0,0,0,0,0,0,0,0,0,0,0,0,0,0,{"$f":"COUNTIF($F15,\"*\"&AI$5&\"*\")","v":0},0,0,0,0]
[null,null,null,null,null,null,null,null,null,null,0,0,0,0,0,0,0,0,0,0,0,0,0,0,0,0,0,0,{"$f":"COUNTIF($F16,\"*\"&AC$5&\"*\")","v":0},0,0,0,0,0,0,0,0,0,0]
[null,null,null,null,null,null,null,null,null,null,0,0,0,0,0,0,0,0,0,0,0,0,0,0,0,0,0,0,0,0,0,0,0,0,0,0,0,0,0]
[null,null,null,null,null,null,null,null,null,null,0,0,0,0,0,0,0,0,0,0,0,0,0,0,0,0,0,0,0,0,0,0,0,0,0,0,0,0,0]
[null,null,null,null,null,null,null,null,null,null,0,0,0,0,0,0,0,0,0,0,0,0,0,0,0,0,0,0,0,0,0,0,0,0,0,0,0,0,0]
[null,null,null,null,null,null,null,null,null,null,0,0,0,0,0,0,0,0,0,0,0,0,0,0,0,0,0,0,0,0,0,0,0,0,0,0,0,0,0]
[null,null,null,null,null,null,null,null,null,null,0,0,0,0,0,0,0,0,0,0,0,0,0,0,0,0,0,0,0,0,0,0,0,0,0,0,0,0,0]
[null,null,null,null,null,null,null,null,null,null,0,0,0,0,0,0,0,0,0,0,0,0,0,0,0,0,0,0,0,0,0,0,0,0,0,0,0,0,0]
[null,null,null,null,null,null,null,null,null,null,0,0,0,0,0,0,0,0,0,0,0,0,0,0,0,0,0,0,0,0,0,0,0,0,0,0,0,0,0]
[null,null,null,null,null,null,null,null,null,null,0,0,0,0,0,0,0,0,0,0,0,0,0,0,0,0,0,0,0,0,0,0,0,0,0,0,0,0,0]
[null,null,null,null,null,null,null,null,null,null,0,0,0,0,0,0,0,0,0,0,0,0,0,0,0,0,0,0,0,0,0,0,0,0,0,0,0,0,0]
[null,null,null,null,null,null,null,null,null,null,0,0,0,0,0,0,0,0,0,0,0,0,0,0,0,0,0,0,0,0,0,0,0,0,0,0,0,0,0]
[null,null,null,null,null,null,null,null,null,null,0,0,0,0,0,0,0,0,0,0,0,0,0,0,0,0,0,0,0,0,0,0,0,0,0,0,0,0,0]
[null,null,null,null,null,null,null,null,null,null,0,0,0,0,0,0,0,0,0,0,0,0,0,0,0,0,0,0,0,0,0,0,0,0,0,0,0,0,0]
[null,null,null,null,null,null,null,null,null,null,0,0,0,0,0,0,0,0,0,0,0,0,0,0,0,0,0,0,0,0,0,0,0,0,0,0,0,0,0]
[null,null,null,null,null,null,null,null,null,null,0,0,0,0,0,0,0,0,0,0,0,0,0,0,0,0,0,0,0,0,0,0,0,0,0,0,0,0,0]
[null,null,null,null,null,null,null,null,null,null,0,0,0,0,0,0,0,0,{"$f":"COUNTIF($F31,\"*\"&S$5&\"*\")","v":0},0,0,0,0,0,0,0,0,0,0,0,0,0,0,0,0,0,0,0,0]
[null,null,null,null,null,null,null,null,null,null,0,0,{"$f":"COUNTIF($F32,\"*\"&M$5&\"*\")","v":0},0,0,0,0,0,0,0,0,0,0,0,0,0,0,0,0,0,0,0,0,0,0,0,0,0,0]
[null,null,null,null,null,null,null,null,null,null,0,0,0,0,0,0,0,0,0,0,0,0,0,0,0,0,0,0,0,0,0,0,0,0,0,0,0,0,0]
[null,null,null,null,null,null,null,null,null,null,0,0,0,0,0,0,0,0,0,0,0,0,0,0,0,0,0,0,0,0,0,0,0,0,0,0,0,0,0]
[null,null,null,null,null,null,null,null,null,null,0,0,0,0,0,0,0,0,0,0,0,0,0,0,0,0,0,0,0,0,0,0,0,0,0,0,0,0,0]
[null,null,null,null,null,null,null,null,null,null,0,0,0,0,0,0,0,0,0,0,0,0,0,0,0,0,0,0,0,0,0,0,0,0,0,0,0,0,0]
[null,null,null,null,null,null,null,null,null,null,0,0,0,0,0,0,0,0,0,0,0,0,0,0,0,0,0,0,0,0,0,0,0,0,0,0,0,0,0]
[null,null,null,null,null,null,null,null,null,null,0,0,0,0,0,0,0,0,0,0,0,0,0,0,0,0,0,0,0,0,0,0,0,0,0,0,0,0,0]
[null,null,null,null,null,null,null,null,null,null,0,0,0,0,0,0,0,0,0,0,0,0,0,0,0,0,0,0,0,0,0,0,0,0,0,0,0,0,0]
[null,null,null,null,null,null,null,null,null,null,0,0,0,0,0,0,0,0,0,0,0,0,0,0,0,0,0,0,0,0,0,0,0,0,0,0,0,0,0]
[null,null,null,null,null,null,null,null,null,null,0,0,0,0,0,0,0,0,0,0,0,0,0,0,0,0,0,0,0,0,0,0,0,0,0,0,0,0,0]
[null,null,null,null,null,null,null,null,null,null,0,0,0,0,0,0,0,0,0,0,0,0,0,0,0,0,0,0,0,0,0,0,0,0,0,0,0,0,0]
["コンタミネーション","なし",null,null,null,null,null,null,null,null,{"$f":"IF(B43=\"なし\",0,IF(B43=\"\",0,LEN(B43)-LEN(SUBSTITUTE(B43, \"、\", \"\"))+1))","v":0},0,{"$f":"COUNTIF($B43,\"*\"&M$5&\"*\")","v":0},{"$f":"COUNTIF($B43,\"*\"&N$5&\"*\")","v":0},0,0,0,0,0,0,0,0,0,0,0,0,0,0,0,{"$f":"COUNTIF($B43,\"*\"&AD$5&\"*\")","v":0},0,0,0,0,0,0,0,0,0]
[null,null,null,null,null,null,null,null,null,null,{"$f":"IF(B44=\"なし\",0,IF(B44=\"\",0,LEN(B44)-LEN(SUBSTITUTE(B44, \"、\", \"\"))+1))","v":0},0,{"$f":"COUNTIF($B44,\"*\"&M$5&\"*\")","v":0},0,0,0,0,0,0,0,0,0,0,0,0,0,0,0,0,0,0,0,0,0,0,0,0,0,0]
[null,null,null,null,null,null,null,null,null,null,0,0,0,0,0,0,0,0,0,0,0,0,0,0,0,0,0,0,0,0,0,0,0,0,0,0,0,0,0]
["特記事項","・仕入れ状況により油①または油②を使用します。"]
[]
[]
[null,"●　商品の終売・リニューアルの場合は成分等が変更になる場合があります。ご了承ください。"]
["製造元","高瀬物産株式会社"]
[]
[{"$f":"一覧!A38","v":"オーエンス泉岳自然ふれあい館"}]

{"sheet":"ごま油","index":11,"n_rows":52,"n_cols":39,"rows_kept":52,"cut":false,"hidden":false,"merged":[[51,0,51,8],[45,0,48,0],[45,1,45,8],[46,1,46,8],[47,1,47,8],[48,1,48,8],[49,0,50,0],[49,1,50,8],[40,1,40,4],[40,5,40,8],[41,1,41,4],[41,5,41,8],[42,0,44,0],[42,1,42,8],[43,1,43,8],[44,1,44,8],[37,1,37,4],[37,5,37,8],[38,1,38,4],[38,5,38,8],[39,1,39,4],[39,5,39,8],[34,1,34,4],[34,5,34,8],[35,1,35,4],[35,5,35,8],[36,1,36,4],[36,5,36,8],[31,1,31,4],[31,5,31,8],[32,1,32,4],[32,5,32,8],[33,1,33,4],[33,5,33,8],[28,1,28,4],[28,5,28,8],[29,1,29,4],[29,5,29,8],[30,1,30,4],[30,5,30,8],[25,1,25,4],[25,5,25,8],[26,1,26,4],[26,5,26,8],[27,1,27,4],[27,5,27,8],[22,1,22,4],[22,5,22,8],[23,1,23,4],[23,5,23,8],[24,1,24,4],[24,5,24,8],[19,1,19,4],[19,5,19,8],[20,1,20,4],[20,5,20,8],[21,1,21,4],[21,5,21,8],[16,1,16,4],[16,5,16,8],[17,1,17,4],[17,5,17,8],[18,1,18,4],[18,5,18,8],[13,1,13,4],[13,5,13,8],[14,1,14,4],[14,5,14,8],[15,1,15,4],[15,5,15,8],[10,1,10,4],[10,5,10,8],[11,1,11,4],[11,5,11,8],[12,1,12,4],[12,5,12,8],[1,1,1,8],[2,1,2,7],[3,1,3,7],[4,0,41,0],[4,1,4,4],[4,5,4,8],[5,1,5,4],[5,5,5,8],[6,1,6,4],[6,5,6,8],[7,1,7,4],[7,5,7,8],[8,1,8,4],[8,5,8,8],[9,1,9,4],[9,5,9,8]]}
["一覧へ"]
["シート名",{"$f":"RIGHT(CELL(\"filename\",A1),LEN(CELL(\"filename\",A1))-FIND(\"]\",CELL(\"filename\",A1)))","v":"ごま油"}]
["商品名","ベストシェフ純正ごま油　ＨＰ",null,null,null,null,null,null,"作成日"]
["規格","1650ｇ×6",null,null,null,null,null,null,{"$f":"一覧!D1","v":"2019-11-01"}]
["原材料","原材料名",null,null,null,"27品目アレルゲン",null,null,null,null,"個数①","計",{"$f":"[1]一覧!D5","v":"小麦"},{"$f":"[1]一覧!E5","v":"卵"},{"$f":"[1]一覧!F5","v":"乳"},{"$f":"[1]一覧!G5","v":"そば"},{"$f":"[1]一覧!H5","v":"落花生"},{"$f":"[1]一覧!I5","v":"えび"},{"$f":"[1]一覧!J5","v":"かに"},{"$f":"[1]一覧!K5","v":"ごま"},{"$f":"[1]一覧!L5","v":"くるみ"},{"$f":"[1]一覧!M5","v":"カシュ"},{"$f":"[1]一覧!N5","v":"キウイ"},{"$f":"[1]一覧!O5","v":"もも"},{"$f":"[1]一覧!P5","v":"リンゴ"},{"$f":"[1]一覧!Q5","v":"バナナ"},{"$f":"[1]一覧!R5","v":"オレンジ"},{"$f":"[1]一覧!S5","v":"いか"},{"$f":"[1]一覧!T5","v":"いくら"},{"$f":"[1]一覧!U5","v":"さけ"},{"$f":"[1]一覧!V5","v":"さば"},{"$f":"[1]一覧!W5","v":"大豆"},{"$f":"[1]一覧!X5","v":"鶏肉"},{"$f":"[1]一覧!Y5","v":"豚肉"},{"$f":"[1]一覧!Z5","v":"牛肉"},{"$f":"[1]一覧!AA5","v":"まつたけ"},{"$f":"[1]一覧!AB5","v":"やまいも"},{"$f":"[1]一覧!AC5","v":"ゼラチン"},{"$f":"[1]一覧!AD5","v":"あわび"}]
[null,"ごま油（圧搾油）",null,null,null,"ごま",null,null,null,null,{"$f":"IF(F6=\"\",0,LEN(F6)-LEN(SUBSTITUTE(F6, \"、\", \"\"))+1)","v":1},{"$f":"SUM(M6:AM6)","v":1},{"$f":"COUNTIF($F6,\"*\"&M$5&\"*\")","v":0},{"$f":"COUNTIF($F6,\"*\"&N$5&\"*\")","v":0},0,0,0,0,0,1,0,0,0,0,0,0,0,0,0,0,0,0,0,0,0,0,0,0,0]
[null,null,null,null,null,null,null,null,null,null,{"$f":"IF(F7=\"\",0,LEN(F7)-LEN(SUBSTITUTE(F7, \"、\", \"\"))+1)","v":0},{"$f":"SUM(M7:AM7)","v":0},{"$f":"COUNTIF($F7,\"*\"&M$5&\"*\")","v":0},0,0,0,0,0,0,0,0,0,0,0,0,0,0,0,0,0,0,0,0,0,0,0,0,0,0]
[null,null,null,null,null,null,null,null,null,null,0,0,0,0,0,0,0,0,0,0,0,0,0,0,0,0,0,0,0,0,0,0,0,0,0,0,0,0,0]
[null,null,null,null,null,null,null,null,null,null,0,0,0,0,0,0,0,0,0,0,0,0,0,0,0,0,0,0,0,0,0,0,0,0,0,0,0,0,0]
[null,null,null,null,null,null,null,null,null,null,0,0,0,0,0,0,0,0,0,0,0,0,0,0,0,0,0,0,0,0,0,0,0,0,0,0,0,0,0]
[null,null,null,null,null,null,null,null,null,null,0,0,0,0,0,0,0,0,0,0,0,0,0,0,0,0,0,0,0,0,0,0,0,0,0,0,0,0,0]
[null,null,null,null,null,null,null,null,null,null,0,0,0,0,0,0,0,0,0,0,0,0,0,0,0,0,0,0,0,0,0,0,0,0,0,0,0,0,0]
[null,null,null,null,null,null,null,null,null,null,0,0,0,0,0,0,0,0,0,0,0,0,0,0,0,0,0,0,0,0,0,0,0,0,0,0,0,0,0]
[null,null,null,null,null,null,null,null,null,null,0,0,0,0,0,0,0,0,0,0,0,0,0,0,0,0,0,0,0,0,0,0,0,0,0,0,0,0,0]
[null,null,null,null,null,null,null,null,null,null,0,0,0,0,0,0,0,0,0,0,0,0,0,0,0,0,0,0,0,0,0,0,0,0,{"$f":"COUNTIF($F15,\"*\"&AI$5&\"*\")","v":0},0,0,0,0]
[null,null,null,null,null,null,null,null,null,null,0,0,0,0,0,0,0,0,0,0,0,0,0,0,0,0,0,0,{"$f":"COUNTIF($F16,\"*\"&AC$5&\"*\")","v":0},0,0,0,0,0,0,0,0,0,0]
[null,null,null,null,null,null,null,null,null,null,0,0,0,0,0,0,0,0,0,0,0,0,0,0,0,0,0,0,0,0,0,0,0,0,0,0,0,0,0]
[null,null,null,null,null,null,null,null,null,null,0,0,0,0,0,0,0,0,0,0,0,0,0,0,0,0,0,0,0,0,0,0,0,0,0,0,0,0,0]
[null,null,null,null,null,null,null,null,null,null,0,0,0,0,0,0,0,0,0,0,0,0,0,0,0,0,0,0,0,0,0,0,0,0,0,0,0,0,0]
[null,null,null,null,null,null,null,null,null,null,0,0,0,0,0,0,0,0,0,0,0,0,0,0,0,0,0,0,0,0,0,0,0,0,0,0,0,0,0]
[null,null,null,null,null,null,null,null,null,null,0,0,0,0,0,0,0,0,0,0,0,0,0,0,0,0,0,0,0,0,0,0,0,0,0,0,0,0,0]
[null,null,null,null,null,null,null,null,null,null,0,0,0,0,0,0,0,0,0,0,0,0,0,0,0,0,0,0,0,0,0,0,0,0,0,0,0,0,0]
[null,null,null,null,null,null,null,null,null,null,0,0,0,0,0,0,0,0,0,0,0,0,0,0,0,0,0,0,0,0,0,0,0,0,0,0,0,0,0]
[null,null,null,null,null,null,null,null,null,null,0,0,0,0,0,0,0,0,0,0,0,0,0,0,0,0,0,0,0,0,0,0,0,0,0,0,0,0,0]
[null,null,null,null,null,null,null,null,null,null,0,0,0,0,0,0,0,0,0,0,0,0,0,0,0,0,0,0,0,0,0,0,0,0,0,0,0,0,0]
[null,null,null,null,null,null,null,null,null,null,0,0,0,0,0,0,0,0,0,0,0,0,0,0,0,0,0,0,0,0,0,0,0,0,0,0,0,0,0]
[null,null,null,null,null,null,null,null,null,null,0,0,0,0,0,0,0,0,0,0,0,0,0,0,0,0,0,0,0,0,0,0,0,0,0,0,0,0,0]
[null,null,null,null,null,null,null,null,null,null,0,0,0,0,0,0,0,0,0,0,0,0,0,0,0,0,0,0,0,0,0,0,0,0,0,0,0,0,0]
[null,null,null,null,null,null,null,null,null,null,0,0,0,0,0,0,0,0,0,0,0,0,0,0,0,0,0,0,0,0,0,0,0,0,0,0,0,0,0]
[null,null,null,null,null,null,null,null,null,null,0,0,0,0,0,0,0,0,0,0,0,0,0,0,0,0,0,0,0,0,0,0,0,0,0,0,0,0,0]
[null,null,null,null,null,null,null,null,null,null,0,0,0,0,0,0,0,0,{"$f":"COUNTIF($F31,\"*\"&S$5&\"*\")","v":0},0,0,0,0,0,0,0,0,0,0,0,0,0,0,0,0,0,0,0,0]
[null,null,null,null,null,null,null,null,null,null,0,0,{"$f":"COUNTIF($F32,\"*\"&M$5&\"*\")","v":0},0,0,0,0,0,0,0,0,0,0,0,0,0,0,0,0,0,0,0,0,0,0,0,0,0,0]
[null,null,null,null,null,null,null,null,null,null,0,0,0,0,0,0,0,0,0,0,0,0,0,0,0,0,0,0,0,0,0,0,0,0,0,0,0,0,0]
[null,null,null,null,null,null,null,null,null,null,0,0,0,0,0,0,0,0,0,0,0,0,0,0,0,0,0,0,0,0,0,0,0,0,0,0,0,0,0]
[null,null,null,null,null,null,null,null,null,null,0,0,0,0,0,0,0,0,0,0,0,0,0,0,0,0,0,0,0,0,0,0,0,0,0,0,0,0,0]
[null,null,null,null,null,null,null,null,null,null,0,0,0,0,0,0,0,0,0,0,0,0,0,0,0,0,0,0,0,0,0,0,0,0,0,0,0,0,0]
[null,null,null,null,null,null,null,null,null,null,0,0,0,0,0,0,0,0,0,0,0,0,0,0,0,0,0,0,0,0,0,0,0,0,0,0,0,0,0]
[null,null,null,null,null,null,null,null,null,null,0,0,0,0,0,0,0,0,0,0,0,0,0,0,0,0,0,0,0,0,0,0,0,0,0,0,0,0,0]
[null,null,null,null,null,null,null,null,null,null,0,0,0,0,0,0,0,0,0,0,0,0,0,0,0,0,0,0,0,0,0,0,0,0,0,0,0,0,0]
[null,null,null,null,null,null,null,null,null,null,0,0,0,0,0,0,0,0,0,0,0,0,0,0,0,0,0,0,0,0,0,0,0,0,0,0,0,0,0]
[null,null,null,null,null,null,null,null,null,null,0,0,0,0,0,0,0,0,0,0,0,0,0,0,0,0,0,0,0,0,0,0,0,0,0,0,0,0,0]
[null,null,null,null,null,null,null,null,null,null,0,0,0,0,0,0,0,0,0,0,0,0,0,0,0,0,0,0,0,0,0,0,0,0,0,0,0,0,0]
["コンタミネーション","なし",null,null,null,null,null,null,null,null,{"$f":"IF(B43=\"なし\",0,IF(B43=\"\",0,LEN(B43)-LEN(SUBSTITUTE(B43, \"、\", \"\"))+1))","v":0},0,{"$f":"COUNTIF($B43,\"*\"&M$5&\"*\")","v":0},{"$f":"COUNTIF($B43,\"*\"&N$5&\"*\")","v":0},0,0,0,0,0,0,0,0,0,0,0,0,0,0,0,{"$f":"COUNTIF($B43,\"*\"&AD$5&\"*\")","v":0},0,0,0,0,0,0,0,0,0]
[null,null,null,null,null,null,null,null,null,null,{"$f":"IF(B44=\"なし\",0,IF(B44=\"\",0,LEN(B44)-LEN(SUBSTITUTE(B44, \"、\", \"\"))+1))","v":0},0,{"$f":"COUNTIF($B44,\"*\"&M$5&\"*\")","v":0},0,0,0,0,0,0,0,0,0,0,0,0,0,0,0,0,0,0,0,0,0,0,0,0,0,0]
[null,null,null,null,null,null,null,null,null,null,0,0,0,0,0,0,0,0,0,0,0,0,0,0,0,0,0,0,0,0,0,0,0,0,0,0,0,0,0]
["特記事項"]
[]
[]
[null,"●　商品の終売・リニューアルの場合は成分等が変更になる場合があります。ご了承ください。"]
["製造元","高瀬物産株式会社"]
[]
[{"$f":"一覧!A38","v":"オーエンス泉岳自然ふれあい館"}]

{"sheet":"中華味","index":12,"n_rows":52,"n_cols":39,"rows_kept":52,"cut":false,"hidden":false,"merged":[[51,0,51,8],[45,0,48,0],[45,1,45,8],[46,1,46,8],[47,1,47,8],[48,1,48,8],[49,0,50,0],[49,1,50,8],[40,1,40,4],[40,5,40,8],[41,1,41,4],[41,5,41,8],[42,0,44,0],[42,1,42,8],[43,1,43,8],[44,1,44,8],[37,1,37,4],[37,5,37,8],[38,1,38,4],[38,5,38,8],[39,1,39,4],[39,5,39,8],[34,1,34,4],[34,5,34,8],[35,1,35,4],[35,5,35,8],[36,1,36,4],[36,5,36,8],[31,1,31,4],[31,5,31,8],[32,1,32,4],[32,5,32,8],[33,1,33,4],[33,5,33,8],[28,1,28,4],[28,5,28,8],[29,1,29,4],[29,5,29,8],[30,1,30,4],[30,5,30,8],[25,1,25,4],[25,5,25,8],[26,1,26,4],[26,5,26,8],[27,1,27,4],[27,5,27,8],[22,1,22,4],[22,5,22,8],[23,1,23,4],[23,5,23,8],[24,1,24,4],[24,5,24,8],[19,1,19,4],[19,5,19,8],[20,1,20,4],[20,5,20,8],[21,1,21,4],[21,5,21,8],[16,1,16,4],[16,5,16,8],[17,1,17,4],[17,5,17,8],[18,1,18,4],[18,5,18,8],[13,1,13,4],[13,5,13,8],[14,1,14,4],[14,5,14,8],[15,1,15,4],[15,5,15,8],[10,1,10,4],[10,5,10,8],[11,1,11,4],[11,5,11,8],[12,1,12,4],[12,5,12,8],[1,1,1,8],[2,1,2,7],[3,1,3,7],[4,0,41,0],[4,1,4,4],[4,5,4,8],[5,1,5,4],[5,5,5,8],[6,1,6,4],[6,5,6,8],[7,1,7,4],[7,5,7,8],[8,1,8,4],[8,5,8,8],[9,1,9,4],[9,5,9,8]]}
["一覧へ"]
["シート名",{"$f":"RIGHT(CELL(\"filename\",A1),LEN(CELL(\"filename\",A1))-FIND(\"]\",CELL(\"filename\",A1)))","v":"中華味"}]
["商品名","業務用「中華味」顆粒　1㎏袋×12",null,null,null,null,null,null,"作成日"]
["規格","1㎏",null,null,null,null,null,null,{"$f":"一覧!D1","v":"2019-11-01"}]
["原材料","原材料名",null,null,null,"27品目アレルゲン",null,null,null,null,"個数①","計",{"$f":"[1]一覧!D5","v":"小麦"},{"$f":"[1]一覧!E5","v":"卵"},{"$f":"[1]一覧!F5","v":"乳"},{"$f":"[1]一覧!G5","v":"そば"},{"$f":"[1]一覧!H5","v":"落花生"},{"$f":"[1]一覧!I5","v":"えび"},{"$f":"[1]一覧!J5","v":"かに"},{"$f":"[1]一覧!K5","v":"ごま"},{"$f":"[1]一覧!L5","v":"くるみ"},{"$f":"[1]一覧!M5","v":"カシュ"},{"$f":"[1]一覧!N5","v":"キウイ"},{"$f":"[1]一覧!O5","v":"もも"},{"$f":"[1]一覧!P5","v":"リンゴ"},{"$f":"[1]一覧!Q5","v":"バナナ"},{"$f":"[1]一覧!R5","v":"オレンジ"},{"$f":"[1]一覧!S5","v":"いか"},{"$f":"[1]一覧!T5","v":"いくら"},{"$f":"[1]一覧!U5","v":"さけ"},{"$f":"[1]一覧!V5","v":"さば"},{"$f":"[1]一覧!W5","v":"大豆"},{"$f":"[1]一覧!X5","v":"鶏肉"},{"$f":"[1]一覧!Y5","v":"豚肉"},{"$f":"[1]一覧!Z5","v":"牛肉"},{"$f":"[1]一覧!AA5","v":"まつたけ"},{"$f":"[1]一覧!AB5","v":"やまいも"},{"$f":"[1]一覧!AC5","v":"ゼラチン"},{"$f":"[1]一覧!AD5","v":"あわび"}]
[null,"食塩",null,null,null,null,null,null,null,null,{"$f":"IF(F6=\"\",0,LEN(F6)-LEN(SUBSTITUTE(F6, \"、\", \"\"))+1)","v":0},{"$f":"SUM(M6:AM6)","v":0},{"$f":"COUNTIF($F6,\"*\"&M$5&\"*\")","v":0},{"$f":"COUNTIF($F6,\"*\"&N$5&\"*\")","v":0},0,0,0,0,0,0,0,0,0,0,0,0,0,0,0,0,0,0,0,0,0,0,0,0,0]
[null,"チキンエキス",null,null,null,"鶏肉",null,null,null,null,{"$f":"IF(F7=\"\",0,LEN(F7)-LEN(SUBSTITUTE(F7, \"、\", \"\"))+1)","v":1},{"$f":"SUM(M7:AM7)","v":1},{"$f":"COUNTIF($F7,\"*\"&M$5&\"*\")","v":0},0,0,0,0,0,0,0,0,0,0,0,0,0,0,0,0,0,0,0,1,0,0,0,0,0,0]
[null,"ポークエキス",null,null,null,"豚肉",null,null,null,null,1,1,0,0,0,0,0,0,0,0,0,0,0,0,0,0,0,0,0,0,0,0,0,1,0,0,0,0,0]
[null,"砂糖",null,null,null,null,null,null,null,null,0,0,0,0,0,0,0,0,0,0,0,0,0,0,0,0,0,0,0,0,0,0,0,0,0,0,0,0,0]
[null,"食用風味油",null,null,null,"牛肉、鶏肉、豚肉",null,null,null,null,3,3,0,0,0,0,0,0,0,0,0,0,0,0,0,0,0,0,0,0,0,0,1,1,1,0,0,0,0]
[null,"デキストリン",null,null,null,null,null,null,null,null,0,0,0,0,0,0,0,0,0,0,0,0,0,0,0,0,0,0,0,0,0,0,0,0,0,0,0,0,0]
[null,"香辛料",null,null,null,null,null,null,null,null,0,0,0,0,0,0,0,0,0,0,0,0,0,0,0,0,0,0,0,0,0,0,0,0,0,0,0,0,0]
[null,"酵母エキス調味料",null,null,null,null,null,null,null,null,0,0,0,0,0,0,0,0,0,0,0,0,0,0,0,0,0,0,0,0,0,0,0,0,0,0,0,0,0]
[null,"野菜エキス",null,null,null,null,null,null,null,null,0,0,0,0,0,0,0,0,0,0,0,0,0,0,0,0,0,0,0,0,0,0,0,0,0,0,0,0,0]
[null,"たん白加水分解物",null,null,null,"大豆",null,null,null,null,1,1,0,0,0,0,0,0,0,0,0,0,0,0,0,0,0,0,0,0,0,1,0,0,{"$f":"COUNTIF($F15,\"*\"&AI$5&\"*\")","v":0},0,0,0,0]
[null,"ゼラチン",null,null,null,"ゼラチン",null,null,null,null,1,1,0,0,0,0,0,0,0,0,0,0,0,0,0,0,0,0,{"$f":"COUNTIF($F16,\"*\"&AC$5&\"*\")","v":0},0,0,0,0,0,0,0,0,1,0]
[null,"酵母エキス",null,null,null,null,null,null,null,null,0,0,0,0,0,0,0,0,0,0,0,0,0,0,0,0,0,0,0,0,0,0,0,0,0,0,0,0,0]
[null,"調味料（アミノ酸等）",null,null,null,null,null,null,null,null,0,0,0,0,0,0,0,0,0,0,0,0,0,0,0,0,0,0,0,0,0,0,0,0,0,0,0,0,0]
[null,"ｐＨ調整剤",null,null,null,null,null,null,null,null,0,0,0,0,0,0,0,0,0,0,0,0,0,0,0,0,0,0,0,0,0,0,0,0,0,0,0,0,0]
[null,null,null,null,null,null,null,null,null,null,0,0,0,0,0,0,0,0,0,0,0,0,0,0,0,0,0,0,0,0,0,0,0,0,0,0,0,0,0]
[null,null,null,null,null,null,null,null,null,null,0,0,0,0,0,0,0,0,0,0,0,0,0,0,0,0,0,0,0,0,0,0,0,0,0,0,0,0,0]
[null,null,null,null,null,null,null,null,null,null,0,0,0,0,0,0,0,0,0,0,0,0,0,0,0,0,0,0,0,0,0,0,0,0,0,0,0,0,0]
[null,null,null,null,null,null,null,null,null,null,0,0,0,0,0,0,0,0,0,0,0,0,0,0,0,0,0,0,0,0,0,0,0,0,0,0,0,0,0]
[null,null,null,null,null,null,null,null,null,null,0,0,0,0,0,0,0,0,0,0,0,0,0,0,0,0,0,0,0,0,0,0,0,0,0,0,0,0,0]
[null,null,null,null,null,null,null,null,null,null,0,0,0,0,0,0,0,0,0,0,0,0,0,0,0,0,0,0,0,0,0,0,0,0,0,0,0,0,0]
[null,null,null,null,null,null,null,null,null,null,0,0,0,0,0,0,0,0,0,0,0,0,0,0,0,0,0,0,0,0,0,0,0,0,0,0,0,0,0]
[null,null,null,null,null,null,null,null,null,null,0,0,0,0,0,0,0,0,0,0,0,0,0,0,0,0,0,0,0,0,0,0,0,0,0,0,0,0,0]
[null,null,null,null,null,null,null,null,null,null,0,0,0,0,0,0,0,0,0,0,0,0,0,0,0,0,0,0,0,0,0,0,0,0,0,0,0,0,0]
[null,null,null,null,null,null,null,null,null,null,0,0,0,0,0,0,0,0,0,0,0,0,0,0,0,0,0,0,0,0,0,0,0,0,0,0,0,0,0]
[null,null,null,null,null,null,null,null,null,null,0,0,0,0,0,0,0,0,0,0,0,0,0,0,0,0,0,0,0,0,0,0,0,0,0,0,0,0,0]
[null,null,null,null,null,null,null,null,null,null,0,0,0,0,0,0,0,0,{"$f":"COUNTIF($F31,\"*\"&S$5&\"*\")","v":0},0,0,0,0,0,0,0,0,0,0,0,0,0,0,0,0,0,0,0,0]
[null,null,null,null,null,null,null,null,null,null,0,0,{"$f":"COUNTIF($F32,\"*\"&M$5&\"*\")","v":0},0,0,0,0,0,0,0,0,0,0,0,0,0,0,0,0,0,0,0,0,0,0,0,0,0,0]
[null,null,null,null,null,null,null,null,null,null,0,0,0,0,0,0,0,0,0,0,0,0,0,0,0,0,0,0,0,0,0,0,0,0,0,0,0,0,0]
[null,null,null,null,null,null,null,null,null,null,0,0,0,0,0,0,0,0,0,0,0,0,0,0,0,0,0,0,0,0,0,0,0,0,0,0,0,0,0]
[null,null,null,null,null,null,null,null,null,null,0,0,0,0,0,0,0,0,0,0,0,0,0,0,0,0,0,0,0,0,0,0,0,0,0,0,0,0,0]
[null,null,null,null,null,null,null,null,null,null,0,0,0,0,0,0,0,0,0,0,0,0,0,0,0,0,0,0,0,0,0,0,0,0,0,0,0,0,0]
[null,null,null,null,null,null,null,null,null,null,0,0,0,0,0,0,0,0,0,0,0,0,0,0,0,0,0,0,0,0,0,0,0,0,0,0,0,0,0]
[null,null,null,null,null,null,null,null,null,null,0,0,0,0,0,0,0,0,0,0,0,0,0,0,0,0,0,0,0,0,0,0,0,0,0,0,0,0,0]
[null,null,null,null,null,null,null,null,null,null,0,0,0,0,0,0,0,0,0,0,0,0,0,0,0,0,0,0,0,0,0,0,0,0,0,0,0,0,0]
[null,null,null,null,null,null,null,null,null,null,0,0,0,0,0,0,0,0,0,0,0,0,0,0,0,0,0,0,0,0,0,0,0,0,0,0,0,0,0]
[null,null,null,null,null,null,null,null,null,null,0,0,0,0,0,0,0,0,0,0,0,0,0,0,0,0,0,0,0,0,0,0,0,0,0,0,0,0,0]
[null,null,null,null,null,null,null,null,null,null,0,0,0,0,0,0,0,0,0,0,0,0,0,0,0,0,0,0,0,0,0,0,0,0,0,0,0,0,0]
["コンタミネーション",null,null,null,null,null,null,null,null,null,{"$f":"IF(B43=\"なし\",0,IF(B43=\"\",0,LEN(B43)-LEN(SUBSTITUTE(B43, \"、\", \"\"))+1))","v":0},0,{"$f":"COUNTIF($B43,\"*\"&M$5&\"*\")","v":0},{"$f":"COUNTIF($B43,\"*\"&N$5&\"*\")","v":0},0,0,0,0,0,0,0,0,0,0,0,0,0,0,0,{"$f":"COUNTIF($B43,\"*\"&AD$5&\"*\")","v":0},0,0,0,0,0,0,0,0,0]
[null,null,null,null,null,null,null,null,null,null,{"$f":"IF(B44=\"なし\",0,IF(B44=\"\",0,LEN(B44)-LEN(SUBSTITUTE(B44, \"、\", \"\"))+1))","v":0},0,{"$f":"COUNTIF($B44,\"*\"&M$5&\"*\")","v":0},0,0,0,0,0,0,0,0,0,0,0,0,0,0,0,0,0,0,0,0,0,0,0,0,0,0]
[null,null,null,null,null,null,null,null,null,null,0,0,0,0,0,0,0,0,0,0,0,0,0,0,0,0,0,0,0,0,0,0,0,0,0,0,0,0,0]
["特記事項"]
[]
[]
[null,"●　商品の終売・リニューアルの場合は成分等が変更になる場合があります。ご了承ください。"]
["製造元","味の素株式会社"]
[]
[{"$f":"一覧!A38","v":"オーエンス泉岳自然ふれあい館"}]

{"sheet":"濃口醤油","index":13,"n_rows":52,"n_cols":39,"rows_kept":52,"cut":false,"hidden":false,"merged":[[51,0,51,8],[45,0,48,0],[45,1,45,8],[46,1,46,8],[47,1,47,8],[48,1,48,8],[49,0,50,0],[49,1,50,8],[40,1,40,4],[40,5,40,8],[41,1,41,4],[41,5,41,8],[42,0,44,0],[42,1,42,8],[43,1,43,8],[44,1,44,8],[37,1,37,4],[37,5,37,8],[38,1,38,4],[38,5,38,8],[39,1,39,4],[39,5,39,8],[34,1,34,4],[34,5,34,8],[35,1,35,4],[35,5,35,8],[36,1,36,4],[36,5,36,8],[31,1,31,4],[31,5,31,8],[32,1,32,4],[32,5,32,8],[33,1,33,4],[33,5,33,8],[28,1,28,4],[28,5,28,8],[29,1,29,4],[29,5,29,8],[30,1,30,4],[30,5,30,8],[25,1,25,4],[25,5,25,8],[26,1,26,4],[26,5,26,8],[27,1,27,4],[27,5,27,8],[22,1,22,4],[22,5,22,8],[23,1,23,4],[23,5,23,8],[24,1,24,4],[24,5,24,8],[19,1,19,4],[19,5,19,8],[20,1,20,4],[20,5,20,8],[21,1,21,4],[21,5,21,8],[16,1,16,4],[16,5,16,8],[17,1,17,4],[17,5,17,8],[18,1,18,4],[18,5,18,8],[13,1,13,4],[13,5,13,8],[14,1,14,4],[14,5,14,8],[15,1,15,4],[15,5,15,8],[10,1,10,4],[10,5,10,8],[11,1,11,4],[11,5,11,8],[12,1,12,4],[12,5,12,8],[1,1,1,8],[2,1,2,7],[3,1,3,7],[4,0,41,0],[4,1,4,4],[4,5,4,8],[5,1,5,4],[5,5,5,8],[6,1,6,4],[6,5,6,8],[7,1,7,4],[7,5,7,8],[8,1,8,4],[8,5,8,8],[9,1,9,4],[9,5,9,8]]}
["一覧へ"]
["シート名",{"$f":"RIGHT(CELL(\"filename\",A1),LEN(CELL(\"filename\",A1))-FIND(\"]\",CELL(\"filename\",A1)))","v":"濃口醤油"}]
["商品名","ベストシェフ　濃口本醸造醤油",null,null,null,null,null,null,"作成日"]
["規格","1.8Ｌ　ＰＥＴ×6",null,null,null,null,null,null,{"$f":"一覧!D1","v":"2019-11-01"}]
["原材料","原材料名",null,null,null,"27品目アレルゲン",null,null,null,null,"個数①","計",{"$f":"[1]一覧!D5","v":"小麦"},{"$f":"[1]一覧!E5","v":"卵"},{"$f":"[1]一覧!F5","v":"乳"},{"$f":"[1]一覧!G5","v":"そば"},{"$f":"[1]一覧!H5","v":"落花生"},{"$f":"[1]一覧!I5","v":"えび"},{"$f":"[1]一覧!J5","v":"かに"},{"$f":"[1]一覧!K5","v":"ごま"},{"$f":"[1]一覧!L5","v":"くるみ"},{"$f":"[1]一覧!M5","v":"カシュ"},{"$f":"[1]一覧!N5","v":"キウイ"},{"$f":"[1]一覧!O5","v":"もも"},{"$f":"[1]一覧!P5","v":"リンゴ"},{"$f":"[1]一覧!Q5","v":"バナナ"},{"$f":"[1]一覧!R5","v":"オレンジ"},{"$f":"[1]一覧!S5","v":"いか"},{"$f":"[1]一覧!T5","v":"いくら"},{"$f":"[1]一覧!U5","v":"さけ"},{"$f":"[1]一覧!V5","v":"さば"},{"$f":"[1]一覧!W5","v":"大豆"},{"$f":"[1]一覧!X5","v":"鶏肉"},{"$f":"[1]一覧!Y5","v":"豚肉"},{"$f":"[1]一覧!Z5","v":"牛肉"},{"$f":"[1]一覧!AA5","v":"まつたけ"},{"$f":"[1]一覧!AB5","v":"やまいも"},{"$f":"[1]一覧!AC5","v":"ゼラチン"},{"$f":"[1]一覧!AD5","v":"あわび"}]
[null,"食塩",null,null,null,null,null,null,null,null,{"$f":"IF(F6=\"\",0,LEN(F6)-LEN(SUBSTITUTE(F6, \"、\", \"\"))+1)","v":0},{"$f":"SUM(M6:AM6)","v":0},{"$f":"COUNTIF($F6,\"*\"&M$5&\"*\")","v":0},{"$f":"COUNTIF($F6,\"*\"&N$5&\"*\")","v":0},0,0,0,0,0,0,0,0,0,0,0,0,0,0,0,0,0,0,0,0,0,0,0,0,0]
[null,"脱脂加工大豆",null,null,null,"大豆",null,null,null,null,{"$f":"IF(F7=\"\",0,LEN(F7)-LEN(SUBSTITUTE(F7, \"、\", \"\"))+1)","v":1},{"$f":"SUM(M7:AM7)","v":1},{"$f":"COUNTIF($F7,\"*\"&M$5&\"*\")","v":0},0,0,0,0,0,0,0,0,0,0,0,0,0,0,0,0,0,0,1,0,0,0,0,0,0,0]
[null,"小麦",null,null,null,"小麦",null,null,null,null,1,1,1,0,0,0,0,0,0,0,0,0,0,0,0,0,0,0,0,0,0,0,0,0,0,0,0,0,0]
[null,"大豆",null,null,null,"大豆",null,null,null,null,1,1,0,0,0,0,0,0,0,0,0,0,0,0,0,0,0,0,0,0,0,1,0,0,0,0,0,0,0]
[null,"アルコール",null,null,null,null,null,null,null,null,0,0,0,0,0,0,0,0,0,0,0,0,0,0,0,0,0,0,0,0,0,0,0,0,0,0,0,0,0]
[null,null,null,null,null,null,null,null,null,null,0,0,0,0,0,0,0,0,0,0,0,0,0,0,0,0,0,0,0,0,0,0,0,0,0,0,0,0,0]
[null,null,null,null,null,null,null,null,null,null,0,0,0,0,0,0,0,0,0,0,0,0,0,0,0,0,0,0,0,0,0,0,0,0,0,0,0,0,0]
[null,null,null,null,null,null,null,null,null,null,0,0,0,0,0,0,0,0,0,0,0,0,0,0,0,0,0,0,0,0,0,0,0,0,0,0,0,0,0]
[null,null,null,null,null,null,null,null,null,null,0,0,0,0,0,0,0,0,0,0,0,0,0,0,0,0,0,0,0,0,0,0,0,0,0,0,0,0,0]
[null,null,null,null,null,null,null,null,null,null,0,0,0,0,0,0,0,0,0,0,0,0,0,0,0,0,0,0,0,0,0,0,0,0,{"$f":"COUNTIF($F15,\"*\"&AI$5&\"*\")","v":0},0,0,0,0]
[null,null,null,null,null,null,null,null,null,null,0,0,0,0,0,0,0,0,0,0,0,0,0,0,0,0,0,0,{"$f":"COUNTIF($F16,\"*\"&AC$5&\"*\")","v":0},0,0,0,0,0,0,0,0,0,0]
[null,null,null,null,null,null,null,null,null,null,0,0,0,0,0,0,0,0,0,0,0,0,0,0,0,0,0,0,0,0,0,0,0,0,0,0,0,0,0]
[null,null,null,null,null,null,null,null,null,null,0,0,0,0,0,0,0,0,0,0,0,0,0,0,0,0,0,0,0,0,0,0,0,0,0,0,0,0,0]
[null,null,null,null,null,null,null,null,null,null,0,0,0,0,0,0,0,0,0,0,0,0,0,0,0,0,0,0,0,0,0,0,0,0,0,0,0,0,0]
[null,null,null,null,null,null,null,null,null,null,0,0,0,0,0,0,0,0,0,0,0,0,0,0,0,0,0,0,0,0,0,0,0,0,0,0,0,0,0]
[null,null,null,null,null,null,null,null,null,null,0,0,0,0,0,0,0,0,0,0,0,0,0,0,0,0,0,0,0,0,0,0,0,0,0,0,0,0,0]
[null,null,null,null,null,null,null,null,null,null,0,0,0,0,0,0,0,0,0,0,0,0,0,0,0,0,0,0,0,0,0,0,0,0,0,0,0,0,0]
[null,null,null,null,null,null,null,null,null,null,0,0,0,0,0,0,0,0,0,0,0,0,0,0,0,0,0,0,0,0,0,0,0,0,0,0,0,0,0]
[null,null,null,null,null,null,null,null,null,null,0,0,0,0,0,0,0,0,0,0,0,0,0,0,0,0,0,0,0,0,0,0,0,0,0,0,0,0,0]
[null,null,null,null,null,null,null,null,null,null,0,0,0,0,0,0,0,0,0,0,0,0,0,0,0,0,0,0,0,0,0,0,0,0,0,0,0,0,0]
[null,null,null,null,null,null,null,null,null,null,0,0,0,0,0,0,0,0,0,0,0,0,0,0,0,0,0,0,0,0,0,0,0,0,0,0,0,0,0]
[null,null,null,null,null,null,null,null,null,null,0,0,0,0,0,0,0,0,0,0,0,0,0,0,0,0,0,0,0,0,0,0,0,0,0,0,0,0,0]
[null,null,null,null,null,null,null,null,null,null,0,0,0,0,0,0,0,0,0,0,0,0,0,0,0,0,0,0,0,0,0,0,0,0,0,0,0,0,0]
[null,null,null,null,null,null,null,null,null,null,0,0,0,0,0,0,0,0,0,0,0,0,0,0,0,0,0,0,0,0,0,0,0,0,0,0,0,0,0]
[null,null,null,null,null,null,null,null,null,null,0,0,0,0,0,0,0,0,0,0,0,0,0,0,0,0,0,0,0,0,0,0,0,0,0,0,0,0,0]
[null,null,null,null,null,null,null,null,null,null,0,0,0,0,0,0,0,0,{"$f":"COUNTIF($F31,\"*\"&S$5&\"*\")","v":0},0,0,0,0,0,0,0,0,0,0,0,0,0,0,0,0,0,0,0,0]
[null,null,null,null,null,null,null,null,null,null,0,0,{"$f":"COUNTIF($F32,\"*\"&M$5&\"*\")","v":0},0,0,0,0,0,0,0,0,0,0,0,0,0,0,0,0,0,0,0,0,0,0,0,0,0,0]
[null,null,null,null,null,null,null,null,null,null,0,0,0,0,0,0,0,0,0,0,0,0,0,0,0,0,0,0,0,0,0,0,0,0,0,0,0,0,0]
[null,null,null,null,null,null,null,null,null,null,0,0,0,0,0,0,0,0,0,0,0,0,0,0,0,0,0,0,0,0,0,0,0,0,0,0,0,0,0]
[null,null,null,null,null,null,null,null,null,null,0,0,0,0,0,0,0,0,0,0,0,0,0,0,0,0,0,0,0,0,0,0,0,0,0,0,0,0,0]
[null,null,null,null,null,null,null,null,null,null,0,0,0,0,0,0,0,0,0,0,0,0,0,0,0,0,0,0,0,0,0,0,0,0,0,0,0,0,0]
[null,null,null,null,null,null,null,null,null,null,0,0,0,0,0,0,0,0,0,0,0,0,0,0,0,0,0,0,0,0,0,0,0,0,0,0,0,0,0]
[null,null,null,null,null,null,null,null,null,null,0,0,0,0,0,0,0,0,0,0,0,0,0,0,0,0,0,0,0,0,0,0,0,0,0,0,0,0,0]
[null,null,null,null,null,null,null,null,null,null,0,0,0,0,0,0,0,0,0,0,0,0,0,0,0,0,0,0,0,0,0,0,0,0,0,0,0,0,0]
[null,null,null,null,null,null,null,null,null,null,0,0,0,0,0,0,0,0,0,0,0,0,0,0,0,0,0,0,0,0,0,0,0,0,0,0,0,0,0]
[null,null,null,null,null,null,null,null,null,null,0,0,0,0,0,0,0,0,0,0,0,0,0,0,0,0,0,0,0,0,0,0,0,0,0,0,0,0,0]
[null,null,null,null,null,null,null,null,null,null,0,0,0,0,0,0,0,0,0,0,0,0,0,0,0,0,0,0,0,0,0,0,0,0,0,0,0,0,0]
["コンタミネーション","なし",null,null,null,null,null,null,null,null,{"$f":"IF(B43=\"なし\",0,IF(B43=\"\",0,LEN(B43)-LEN(SUBSTITUTE(B43, \"、\", \"\"))+1))","v":0},0,{"$f":"COUNTIF($B43,\"*\"&M$5&\"*\")","v":0},{"$f":"COUNTIF($B43,\"*\"&N$5&\"*\")","v":0},0,0,0,0,0,0,0,0,0,0,0,0,0,0,0,{"$f":"COUNTIF($B43,\"*\"&AD$5&\"*\")","v":0},0,0,0,0,0,0,0,0,0]
[null,null,null,null,null,null,null,null,null,null,{"$f":"IF(B44=\"なし\",0,IF(B44=\"\",0,LEN(B44)-LEN(SUBSTITUTE(B44, \"、\", \"\"))+1))","v":0},0,{"$f":"COUNTIF($B44,\"*\"&M$5&\"*\")","v":0},0,0,0,0,0,0,0,0,0,0,0,0,0,0,0,0,0,0,0,0,0,0,0,0,0,0]
[null,null,null,null,null,null,null,null,null,null,0,0,0,0,0,0,0,0,0,0,0,0,0,0,0,0,0,0,0,0,0,0,0,0,0,0,0,0,0]
["特記事項"]
[]
[]
[null,"●　商品の終売・リニューアルの場合は成分等が変更になる場合があります。ご了承ください。"]
["製造元","高瀬物産株式会社"]
[]
[{"$f":"一覧!A38","v":"オーエンス泉岳自然ふれあい館"}]

{"sheet":"食塩","index":14,"n_rows":52,"n_cols":39,"rows_kept":52,"cut":false,"hidden":false,"merged":[[51,0,51,8],[45,0,48,0],[45,1,45,8],[46,1,46,8],[47,1,47,8],[48,1,48,8],[49,0,50,0],[49,1,50,8],[40,1,40,4],[40,5,40,8],[41,1,41,4],[41,5,41,8],[42,0,44,0],[42,1,42,8],[43,1,43,8],[44,1,44,8],[37,1,37,4],[37,5,37,8],[38,1,38,4],[38,5,38,8],[39,1,39,4],[39,5,39,8],[34,1,34,4],[34,5,34,8],[35,1,35,4],[35,5,35,8],[36,1,36,4],[36,5,36,8],[31,1,31,4],[31,5,31,8],[32,1,32,4],[32,5,32,8],[33,1,33,4],[33,5,33,8],[28,1,28,4],[28,5,28,8],[29,1,29,4],[29,5,29,8],[30,1,30,4],[30,5,30,8],[25,1,25,4],[25,5,25,8],[26,1,26,4],[26,5,26,8],[27,1,27,4],[27,5,27,8],[22,1,22,4],[22,5,22,8],[23,1,23,4],[23,5,23,8],[24,1,24,4],[24,5,24,8],[19,1,19,4],[19,5,19,8],[20,1,20,4],[20,5,20,8],[21,1,21,4],[21,5,21,8],[16,1,16,4],[16,5,16,8],[17,1,17,4],[17,5,17,8],[18,1,18,4],[18,5,18,8],[13,1,13,4],[13,5,13,8],[14,1,14,4],[14,5,14,8],[15,1,15,4],[15,5,15,8],[10,1,10,4],[10,5,10,8],[11,1,11,4],[11,5,11,8],[12,1,12,4],[12,5,12,8],[1,1,1,8],[2,1,2,7],[3,1,3,7],[4,0,41,0],[4,1,4,4],[4,5,4,8],[5,1,5,4],[5,5,5,8],[6,1,6,4],[6,5,6,8],[7,1,7,4],[7,5,7,8],[8,1,8,4],[8,5,8,8],[9,1,9,4],[9,5,9,8]]}
["一覧へ"]
["シート名",{"$f":"RIGHT(CELL(\"filename\",A1),LEN(CELL(\"filename\",A1))-FIND(\"]\",CELL(\"filename\",A1)))","v":"食塩"}]
["商品名","ベストシェフ　特精塩",null,null,null,null,null,null,"作成日"]
["規格","1㎏×20",null,null,null,null,null,null,{"$f":"一覧!D1","v":"2019-11-01"}]
["原材料","原材料名",null,null,null,"27品目アレルゲン",null,null,null,null,"個数①","計",{"$f":"[1]一覧!D5","v":"小麦"},{"$f":"[1]一覧!E5","v":"卵"},{"$f":"[1]一覧!F5","v":"乳"},{"$f":"[1]一覧!G5","v":"そば"},{"$f":"[1]一覧!H5","v":"落花生"},{"$f":"[1]一覧!I5","v":"えび"},{"$f":"[1]一覧!J5","v":"かに"},{"$f":"[1]一覧!K5","v":"ごま"},{"$f":"[1]一覧!L5","v":"くるみ"},{"$f":"[1]一覧!M5","v":"カシュ"},{"$f":"[1]一覧!N5","v":"キウイ"},{"$f":"[1]一覧!O5","v":"もも"},{"$f":"[1]一覧!P5","v":"リンゴ"},{"$f":"[1]一覧!Q5","v":"バナナ"},{"$f":"[1]一覧!R5","v":"オレンジ"},{"$f":"[1]一覧!S5","v":"いか"},{"$f":"[1]一覧!T5","v":"いくら"},{"$f":"[1]一覧!U5","v":"さけ"},{"$f":"[1]一覧!V5","v":"さば"},{"$f":"[1]一覧!W5","v":"大豆"},{"$f":"[1]一覧!X5","v":"鶏肉"},{"$f":"[1]一覧!Y5","v":"豚肉"},{"$f":"[1]一覧!Z5","v":"牛肉"},{"$f":"[1]一覧!AA5","v":"まつたけ"},{"$f":"[1]一覧!AB5","v":"やまいも"},{"$f":"[1]一覧!AC5","v":"ゼラチン"},{"$f":"[1]一覧!AD5","v":"あわび"}]
[null,"天日塩",null,null,null,null,null,null,null,null,{"$f":"IF(F6=\"\",0,LEN(F6)-LEN(SUBSTITUTE(F6, \"、\", \"\"))+1)","v":0},{"$f":"SUM(M6:AM6)","v":0},{"$f":"COUNTIF($F6,\"*\"&M$5&\"*\")","v":0},{"$f":"COUNTIF($F6,\"*\"&N$5&\"*\")","v":0},0,0,0,0,0,0,0,0,0,0,0,0,0,0,0,0,0,0,0,0,0,0,0,0,0]
[null,"リン酸Ｃａ",null,null,null,null,null,null,null,null,{"$f":"IF(F7=\"\",0,LEN(F7)-LEN(SUBSTITUTE(F7, \"、\", \"\"))+1)","v":0},{"$f":"SUM(M7:AM7)","v":0},{"$f":"COUNTIF($F7,\"*\"&M$5&\"*\")","v":0},0,0,0,0,0,0,0,0,0,0,0,0,0,0,0,0,0,0,0,0,0,0,0,0,0,0]
[null,null,null,null,null,null,null,null,null,null,0,0,0,0,0,0,0,0,0,0,0,0,0,0,0,0,0,0,0,0,0,0,0,0,0,0,0,0,0]
[null,null,null,null,null,null,null,null,null,null,0,0,0,0,0,0,0,0,0,0,0,0,0,0,0,0,0,0,0,0,0,0,0,0,0,0,0,0,0]
[null,null,null,null,null,null,null,null,null,null,0,0,0,0,0,0,0,0,0,0,0,0,0,0,0,0,0,0,0,0,0,0,0,0,0,0,0,0,0]
[null,null,null,null,null,null,null,null,null,null,0,0,0,0,0,0,0,0,0,0,0,0,0,0,0,0,0,0,0,0,0,0,0,0,0,0,0,0,0]
[null,null,null,null,null,null,null,null,null,null,0,0,0,0,0,0,0,0,0,0,0,0,0,0,0,0,0,0,0,0,0,0,0,0,0,0,0,0,0]
[null,null,null,null,null,null,null,null,null,null,0,0,0,0,0,0,0,0,0,0,0,0,0,0,0,0,0,0,0,0,0,0,0,0,0,0,0,0,0]
[null,null,null,null,null,null,null,null,null,null,0,0,0,0,0,0,0,0,0,0,0,0,0,0,0,0,0,0,0,0,0,0,0,0,0,0,0,0,0]
[null,null,null,null,null,null,null,null,null,null,0,0,0,0,0,0,0,0,0,0,0,0,0,0,0,0,0,0,0,0,0,0,0,0,{"$f":"COUNTIF($F15,\"*\"&AI$5&\"*\")","v":0},0,0,0,0]
[null,null,null,null,null,null,null,null,null,null,0,0,0,0,0,0,0,0,0,0,0,0,0,0,0,0,0,0,{"$f":"COUNTIF($F16,\"*\"&AC$5&\"*\")","v":0},0,0,0,0,0,0,0,0,0,0]
[null,null,null,null,null,null,null,null,null,null,0,0,0,0,0,0,0,0,0,0,0,0,0,0,0,0,0,0,0,0,0,0,0,0,0,0,0,0,0]
[null,null,null,null,null,null,null,null,null,null,0,0,0,0,0,0,0,0,0,0,0,0,0,0,0,0,0,0,0,0,0,0,0,0,0,0,0,0,0]
[null,null,null,null,null,null,null,null,null,null,0,0,0,0,0,0,0,0,0,0,0,0,0,0,0,0,0,0,0,0,0,0,0,0,0,0,0,0,0]
[null,null,null,null,null,null,null,null,null,null,0,0,0,0,0,0,0,0,0,0,0,0,0,0,0,0,0,0,0,0,0,0,0,0,0,0,0,0,0]
[null,null,null,null,null,null,null,null,null,null,0,0,0,0,0,0,0,0,0,0,0,0,0,0,0,0,0,0,0,0,0,0,0,0,0,0,0,0,0]
[null,null,null,null,null,null,null,null,null,null,0,0,0,0,0,0,0,0,0,0,0,0,0,0,0,0,0,0,0,0,0,0,0,0,0,0,0,0,0]
[null,null,null,null,null,null,null,null,null,null,0,0,0,0,0,0,0,0,0,0,0,0,0,0,0,0,0,0,0,0,0,0,0,0,0,0,0,0,0]
[null,null,null,null,null,null,null,null,null,null,0,0,0,0,0,0,0,0,0,0,0,0,0,0,0,0,0,0,0,0,0,0,0,0,0,0,0,0,0]
[null,null,null,null,null,null,null,null,null,null,0,0,0,0,0,0,0,0,0,0,0,0,0,0,0,0,0,0,0,0,0,0,0,0,0,0,0,0,0]
[null,null,null,null,null,null,null,null,null,null,0,0,0,0,0,0,0,0,0,0,0,0,0,0,0,0,0,0,0,0,0,0,0,0,0,0,0,0,0]
[null,null,null,null,null,null,null,null,null,null,0,0,0,0,0,0,0,0,0,0,0,0,0,0,0,0,0,0,0,0,0,0,0,0,0,0,0,0,0]
[null,null,null,null,null,null,null,null,null,null,0,0,0,0,0,0,0,0,0,0,0,0,0,0,0,0,0,0,0,0,0,0,0,0,0,0,0,0,0]
[null,null,null,null,null,null,null,null,null,null,0,0,0,0,0,0,0,0,0,0,0,0,0,0,0,0,0,0,0,0,0,0,0,0,0,0,0,0,0]
[null,null,null,null,null,null,null,null,null,null,0,0,0,0,0,0,0,0,0,0,0,0,0,0,0,0,0,0,0,0,0,0,0,0,0,0,0,0,0]
[null,null,null,null,null,null,null,null,null,null,0,0,0,0,0,0,0,0,{"$f":"COUNTIF($F31,\"*\"&S$5&\"*\")","v":0},0,0,0,0,0,0,0,0,0,0,0,0,0,0,0,0,0,0,0,0]
[null,null,null,null,null,null,null,null,null,null,0,0,{"$f":"COUNTIF($F32,\"*\"&M$5&\"*\")","v":0},0,0,0,0,0,0,0,0,0,0,0,0,0,0,0,0,0,0,0,0,0,0,0,0,0,0]
[null,null,null,null,null,null,null,null,null,null,0,0,0,0,0,0,0,0,0,0,0,0,0,0,0,0,0,0,0,0,0,0,0,0,0,0,0,0,0]
[null,null,null,null,null,null,null,null,null,null,0,0,0,0,0,0,0,0,0,0,0,0,0,0,0,0,0,0,0,0,0,0,0,0,0,0,0,0,0]
[null,null,null,null,null,null,null,null,null,null,0,0,0,0,0,0,0,0,0,0,0,0,0,0,0,0,0,0,0,0,0,0,0,0,0,0,0,0,0]
[null,null,null,null,null,null,null,null,null,null,0,0,0,0,0,0,0,0,0,0,0,0,0,0,0,0,0,0,0,0,0,0,0,0,0,0,0,0,0]
[null,null,null,null,null,null,null,null,null,null,0,0,0,0,0,0,0,0,0,0,0,0,0,0,0,0,0,0,0,0,0,0,0,0,0,0,0,0,0]
[null,null,null,null,null,null,null,null,null,null,0,0,0,0,0,0,0,0,0,0,0,0,0,0,0,0,0,0,0,0,0,0,0,0,0,0,0,0,0]
[null,null,null,null,null,null,null,null,null,null,0,0,0,0,0,0,0,0,0,0,0,0,0,0,0,0,0,0,0,0,0,0,0,0,0,0,0,0,0]
[null,null,null,null,null,null,null,null,null,null,0,0,0,0,0,0,0,0,0,0,0,0,0,0,0,0,0,0,0,0,0,0,0,0,0,0,0,0,0]
[null,null,null,null,null,null,null,null,null,null,0,0,0,0,0,0,0,0,0,0,0,0,0,0,0,0,0,0,0,0,0,0,0,0,0,0,0,0,0]
[null,null,null,null,null,null,null,null,null,null,0,0,0,0,0,0,0,0,0,0,0,0,0,0,0,0,0,0,0,0,0,0,0,0,0,0,0,0,0]
["コンタミネーション","なし",null,null,null,null,null,null,null,null,{"$f":"IF(B43=\"なし\",0,IF(B43=\"\",0,LEN(B43)-LEN(SUBSTITUTE(B43, \"、\", \"\"))+1))","v":0},0,{"$f":"COUNTIF($B43,\"*\"&M$5&\"*\")","v":0},{"$f":"COUNTIF($B43,\"*\"&N$5&\"*\")","v":0},0,0,0,0,0,0,0,0,0,0,0,0,0,0,0,{"$f":"COUNTIF($B43,\"*\"&AD$5&\"*\")","v":0},0,0,0,0,0,0,0,0,0]
[null,null,null,null,null,null,null,null,null,null,{"$f":"IF(B44=\"なし\",0,IF(B44=\"\",0,LEN(B44)-LEN(SUBSTITUTE(B44, \"、\", \"\"))+1))","v":0},0,{"$f":"COUNTIF($B44,\"*\"&M$5&\"*\")","v":0},0,0,0,0,0,0,0,0,0,0,0,0,0,0,0,0,0,0,0,0,0,0,0,0,0,0]
[null,null,null,null,null,null,null,null,null,null,0,0,0,0,0,0,0,0,0,0,0,0,0,0,0,0,0,0,0,0,0,0,0,0,0,0,0,0,0]
["特記事項"]
[]
[]
[null,"●　商品の終売・リニューアルの場合は成分等が変更になる場合があります。ご了承ください。"]
["製造元","高瀬物産株式会社"]
[]
[{"$f":"一覧!A38","v":"オーエンス泉岳自然ふれあい館"}]

{"sheet":"こしょう","index":15,"n_rows":52,"n_cols":39,"rows_kept":52,"cut":false,"hidden":false,"merged":[[51,0,51,8],[45,0,48,0],[45,1,45,8],[46,1,46,8],[47,1,47,8],[48,1,48,8],[49,0,50,0],[49,1,50,8],[40,1,40,4],[40,5,40,8],[41,1,41,4],[41,5,41,8],[42,0,44,0],[42,1,42,8],[43,1,43,8],[44,1,44,8],[37,1,37,4],[37,5,37,8],[38,1,38,4],[38,5,38,8],[39,1,39,4],[39,5,39,8],[34,1,34,4],[34,5,34,8],[35,1,35,4],[35,5,35,8],[36,1,36,4],[36,5,36,8],[31,1,31,4],[31,5,31,8],[32,1,32,4],[32,5,32,8],[33,1,33,4],[33,5,33,8],[28,1,28,4],[28,5,28,8],[29,1,29,4],[29,5,29,8],[30,1,30,4],[30,5,30,8],[25,1,25,4],[25,5,25,8],[26,1,26,4],[26,5,26,8],[27,1,27,4],[27,5,27,8],[22,1,22,4],[22,5,22,8],[23,1,23,4],[23,5,23,8],[24,1,24,4],[24,5,24,8],[19,1,19,4],[19,5,19,8],[20,1,20,4],[20,5,20,8],[21,1,21,4],[21,5,21,8],[16,1,16,4],[16,5,16,8],[17,1,17,4],[17,5,17,8],[18,1,18,4],[18,5,18,8],[13,1,13,4],[13,5,13,8],[14,1,14,4],[14,5,14,8],[15,1,15,4],[15,5,15,8],[10,1,10,4],[10,5,10,8],[11,1,11,4],[11,5,11,8],[12,1,12,4],[12,5,12,8],[1,1,1,8],[2,1,2,7],[3,1,3,7],[4,0,41,0],[4,1,4,4],[4,5,4,8],[5,1,5,4],[5,5,5,8],[6,1,6,4],[6,5,6,8],[7,1,7,4],[7,5,7,8],[8,1,8,4],[8,5,8,8],[9,1,9,4],[9,5,9,8]]}
["一覧へ"]
["シート名",{"$f":"RIGHT(CELL(\"filename\",A1),LEN(CELL(\"filename\",A1))-FIND(\"]\",CELL(\"filename\",A1)))","v":"こしょう"}]
["商品名","Ｃｈｅｆｅｅｌ　ブラックペッパーグラウンド　420ｇＬ缶",null,null,null,null,null,null,"作成日"]
["規格","420ｇ×12",null,null,null,null,null,null,{"$f":"一覧!D1","v":"2019-11-01"}]
["原材料","原材料名",null,null,null,"27品目アレルゲン",null,null,null,null,"個数①","計",{"$f":"[1]一覧!D5","v":"小麦"},{"$f":"[1]一覧!E5","v":"卵"},{"$f":"[1]一覧!F5","v":"乳"},{"$f":"[1]一覧!G5","v":"そば"},{"$f":"[1]一覧!H5","v":"落花生"},{"$f":"[1]一覧!I5","v":"えび"},{"$f":"[1]一覧!J5","v":"かに"},{"$f":"[1]一覧!K5","v":"ごま"},{"$f":"[1]一覧!L5","v":"くるみ"},{"$f":"[1]一覧!M5","v":"カシュ"},{"$f":"[1]一覧!N5","v":"キウイ"},{"$f":"[1]一覧!O5","v":"もも"},{"$f":"[1]一覧!P5","v":"リンゴ"},{"$f":"[1]一覧!Q5","v":"バナナ"},{"$f":"[1]一覧!R5","v":"オレンジ"},{"$f":"[1]一覧!S5","v":"いか"},{"$f":"[1]一覧!T5","v":"いくら"},{"$f":"[1]一覧!U5","v":"さけ"},{"$f":"[1]一覧!V5","v":"さば"},{"$f":"[1]一覧!W5","v":"大豆"},{"$f":"[1]一覧!X5","v":"鶏肉"},{"$f":"[1]一覧!Y5","v":"豚肉"},{"$f":"[1]一覧!Z5","v":"牛肉"},{"$f":"[1]一覧!AA5","v":"まつたけ"},{"$f":"[1]一覧!AB5","v":"やまいも"},{"$f":"[1]一覧!AC5","v":"ゼラチン"},{"$f":"[1]一覧!AD5","v":"あわび"}]
[null,"ブラックペッパー",null,null,null,null,null,null,null,null,{"$f":"IF(F6=\"\",0,LEN(F6)-LEN(SUBSTITUTE(F6, \"、\", \"\"))+1)","v":0},{"$f":"SUM(M6:AM6)","v":0},{"$f":"COUNTIF($F6,\"*\"&M$5&\"*\")","v":0},{"$f":"COUNTIF($F6,\"*\"&N$5&\"*\")","v":0},0,0,0,0,0,0,0,0,0,0,0,0,0,0,0,0,0,0,0,0,0,0,0,0,0]
[null,null,null,null,null,null,null,null,null,null,{"$f":"IF(F7=\"\",0,LEN(F7)-LEN(SUBSTITUTE(F7, \"、\", \"\"))+1)","v":0},{"$f":"SUM(M7:AM7)","v":0},{"$f":"COUNTIF($F7,\"*\"&M$5&\"*\")","v":0},0,0,0,0,0,0,0,0,0,0,0,0,0,0,0,0,0,0,0,0,0,0,0,0,0,0]
[null,null,null,null,null,null,null,null,null,null,0,0,0,0,0,0,0,0,0,0,0,0,0,0,0,0,0,0,0,0,0,0,0,0,0,0,0,0,0]
[null,null,null,null,null,null,null,null,null,null,0,0,0,0,0,0,0,0,0,0,0,0,0,0,0,0,0,0,0,0,0,0,0,0,0,0,0,0,0]
[null,null,null,null,null,null,null,null,null,null,0,0,0,0,0,0,0,0,0,0,0,0,0,0,0,0,0,0,0,0,0,0,0,0,0,0,0,0,0]
[null,null,null,null,null,null,null,null,null,null,0,0,0,0,0,0,0,0,0,0,0,0,0,0,0,0,0,0,0,0,0,0,0,0,0,0,0,0,0]
[null,null,null,null,null,null,null,null,null,null,0,0,0,0,0,0,0,0,0,0,0,0,0,0,0,0,0,0,0,0,0,0,0,0,0,0,0,0,0]
[null,null,null,null,null,null,null,null,null,null,0,0,0,0,0,0,0,0,0,0,0,0,0,0,0,0,0,0,0,0,0,0,0,0,0,0,0,0,0]
[null,null,null,null,null,null,null,null,null,null,0,0,0,0,0,0,0,0,0,0,0,0,0,0,0,0,0,0,0,0,0,0,0,0,0,0,0,0,0]
[null,null,null,null,null,null,null,null,null,null,0,0,0,0,0,0,0,0,0,0,0,0,0,0,0,0,0,0,0,0,0,0,0,0,{"$f":"COUNTIF($F15,\"*\"&AI$5&\"*\")","v":0},0,0,0,0]
[null,null,null,null,null,null,null,null,null,null,0,0,0,0,0,0,0,0,0,0,0,0,0,0,0,0,0,0,{"$f":"COUNTIF($F16,\"*\"&AC$5&\"*\")","v":0},0,0,0,0,0,0,0,0,0,0]
[null,null,null,null,null,null,null,null,null,null,0,0,0,0,0,0,0,0,0,0,0,0,0,0,0,0,0,0,0,0,0,0,0,0,0,0,0,0,0]
[null,null,null,null,null,null,null,null,null,null,0,0,0,0,0,0,0,0,0,0,0,0,0,0,0,0,0,0,0,0,0,0,0,0,0,0,0,0,0]
[null,null,null,null,null,null,null,null,null,null,0,0,0,0,0,0,0,0,0,0,0,0,0,0,0,0,0,0,0,0,0,0,0,0,0,0,0,0,0]
[null,null,null,null,null,null,null,null,null,null,0,0,0,0,0,0,0,0,0,0,0,0,0,0,0,0,0,0,0,0,0,0,0,0,0,0,0,0,0]
[null,null,null,null,null,null,null,null,null,null,0,0,0,0,0,0,0,0,0,0,0,0,0,0,0,0,0,0,0,0,0,0,0,0,0,0,0,0,0]
[null,null,null,null,null,null,null,null,null,null,0,0,0,0,0,0,0,0,0,0,0,0,0,0,0,0,0,0,0,0,0,0,0,0,0,0,0,0,0]
[null,null,null,null,null,null,null,null,null,null,0,0,0,0,0,0,0,0,0,0,0,0,0,0,0,0,0,0,0,0,0,0,0,0,0,0,0,0,0]
[null,null,null,null,null,null,null,null,null,null,0,0,0,0,0,0,0,0,0,0,0,0,0,0,0,0,0,0,0,0,0,0,0,0,0,0,0,0,0]
[null,null,null,null,null,null,null,null,null,null,0,0,0,0,0,0,0,0,0,0,0,0,0,0,0,0,0,0,0,0,0,0,0,0,0,0,0,0,0]
[null,null,null,null,null,null,null,null,null,null,0,0,0,0,0,0,0,0,0,0,0,0,0,0,0,0,0,0,0,0,0,0,0,0,0,0,0,0,0]
[null,null,null,null,null,null,null,null,null,null,0,0,0,0,0,0,0,0,0,0,0,0,0,0,0,0,0,0,0,0,0,0,0,0,0,0,0,0,0]
[null,null,null,null,null,null,null,null,null,null,0,0,0,0,0,0,0,0,0,0,0,0,0,0,0,0,0,0,0,0,0,0,0,0,0,0,0,0,0]
[null,null,null,null,null,null,null,null,null,null,0,0,0,0,0,0,0,0,0,0,0,0,0,0,0,0,0,0,0,0,0,0,0,0,0,0,0,0,0]
[null,null,null,null,null,null,null,null,null,null,0,0,0,0,0,0,0,0,0,0,0,0,0,0,0,0,0,0,0,0,0,0,0,0,0,0,0,0,0]
[null,null,null,null,null,null,null,null,null,null,0,0,0,0,0,0,0,0,{"$f":"COUNTIF($F31,\"*\"&S$5&\"*\")","v":0},0,0,0,0,0,0,0,0,0,0,0,0,0,0,0,0,0,0,0,0]
[null,null,null,null,null,null,null,null,null,null,0,0,{"$f":"COUNTIF($F32,\"*\"&M$5&\"*\")","v":0},0,0,0,0,0,0,0,0,0,0,0,0,0,0,0,0,0,0,0,0,0,0,0,0,0,0]
[null,null,null,null,null,null,null,null,null,null,0,0,0,0,0,0,0,0,0,0,0,0,0,0,0,0,0,0,0,0,0,0,0,0,0,0,0,0,0]
[null,null,null,null,null,null,null,null,null,null,0,0,0,0,0,0,0,0,0,0,0,0,0,0,0,0,0,0,0,0,0,0,0,0,0,0,0,0,0]
[null,null,null,null,null,null,null,null,null,null,0,0,0,0,0,0,0,0,0,0,0,0,0,0,0,0,0,0,0,0,0,0,0,0,0,0,0,0,0]
[null,null,null,null,null,null,null,null,null,null,0,0,0,0,0,0,0,0,0,0,0,0,0,0,0,0,0,0,0,0,0,0,0,0,0,0,0,0,0]
[null,null,null,null,null,null,null,null,null,null,0,0,0,0,0,0,0,0,0,0,0,0,0,0,0,0,0,0,0,0,0,0,0,0,0,0,0,0,0]
[null,null,null,null,null,null,null,null,null,null,0,0,0,0,0,0,0,0,0,0,0,0,0,0,0,0,0,0,0,0,0,0,0,0,0,0,0,0,0]
[null,null,null,null,null,null,null,null,null,null,0,0,0,0,0,0,0,0,0,0,0,0,0,0,0,0,0,0,0,0,0,0,0,0,0,0,0,0,0]
[null,null,null,null,null,null,null,null,null,null,0,0,0,0,0,0,0,0,0,0,0,0,0,0,0,0,0,0,0,0,0,0,0,0,0,0,0,0,0]
[null,null,null,null,null,null,null,null,null,null,0,0,0,0,0,0,0,0,0,0,0,0,0,0,0,0,0,0,0,0,0,0,0,0,0,0,0,0,0]
[null,null,null,null,null,null,null,null,null,null,0,0,0,0,0,0,0,0,0,0,0,0,0,0,0,0,0,0,0,0,0,0,0,0,0,0,0,0,0]
["コンタミネーション","なし",null,null,null,null,null,null,null,null,{"$f":"IF(B43=\"なし\",0,IF(B43=\"\",0,LEN(B43)-LEN(SUBSTITUTE(B43, \"、\", \"\"))+1))","v":0},0,{"$f":"COUNTIF($B43,\"*\"&M$5&\"*\")","v":0},{"$f":"COUNTIF($B43,\"*\"&N$5&\"*\")","v":0},0,0,0,0,0,0,0,0,0,0,0,0,0,0,0,{"$f":"COUNTIF($B43,\"*\"&AD$5&\"*\")","v":0},0,0,0,0,0,0,0,0,0]
[null,null,null,null,null,null,null,null,null,null,{"$f":"IF(B44=\"なし\",0,IF(B44=\"\",0,LEN(B44)-LEN(SUBSTITUTE(B44, \"、\", \"\"))+1))","v":0},0,{"$f":"COUNTIF($B44,\"*\"&M$5&\"*\")","v":0},0,0,0,0,0,0,0,0,0,0,0,0,0,0,0,0,0,0,0,0,0,0,0,0,0,0]
[null,null,null,null,null,null,null,null,null,null,0,0,0,0,0,0,0,0,0,0,0,0,0,0,0,0,0,0,0,0,0,0,0,0,0,0,0,0,0]
["特記事項"]
[]
[]
[null,"●　商品の終売・リニューアルの場合は成分等が変更になる場合があります。ご了承ください。"]
["製造元","高瀬物産株式会社"]
[]
[{"$f":"一覧!A38","v":"オーエンス泉岳自然ふれあい館"}]

{"sheet":"片栗粉","index":16,"n_rows":52,"n_cols":39,"rows_kept":52,"cut":false,"hidden":false,"merged":[[51,0,51,8],[45,0,48,0],[45,1,45,8],[46,1,46,8],[47,1,47,8],[48,1,48,8],[49,0,50,0],[49,1,50,8],[40,1,40,4],[40,5,40,8],[41,1,41,4],[41,5,41,8],[42,0,44,0],[42,1,42,8],[43,1,43,8],[44,1,44,8],[37,1,37,4],[37,5,37,8],[38,1,38,4],[38,5,38,8],[39,1,39,4],[39,5,39,8],[34,1,34,4],[34,5,34,8],[35,1,35,4],[35,5,35,8],[36,1,36,4],[36,5,36,8],[31,1,31,4],[31,5,31,8],[32,1,32,4],[32,5,32,8],[33,1,33,4],[33,5,33,8],[28,1,28,4],[28,5,28,8],[29,1,29,4],[29,5,29,8],[30,1,30,4],[30,5,30,8],[25,1,25,4],[25,5,25,8],[26,1,26,4],[26,5,26,8],[27,1,27,4],[27,5,27,8],[22,1,22,4],[22,5,22,8],[23,1,23,4],[23,5,23,8],[24,1,24,4],[24,5,24,8],[19,1,19,4],[19,5,19,8],[20,1,20,4],[20,5,20,8],[21,1,21,4],[21,5,21,8],[16,1,16,4],[16,5,16,8],[17,1,17,4],[17,5,17,8],[18,1,18,4],[18,5,18,8],[13,1,13,4],[13,5,13,8],[14,1,14,4],[14,5,14,8],[15,1,15,4],[15,5,15,8],[10,1,10,4],[10,5,10,8],[11,1,11,4],[11,5,11,8],[12,1,12,4],[12,5,12,8],[1,1,1,8],[2,1,2,7],[3,1,3,7],[4,0,41,0],[4,1,4,4],[4,5,4,8],[5,1,5,4],[5,5,5,8],[6,1,6,4],[6,5,6,8],[7,1,7,4],[7,5,7,8],[8,1,8,4],[8,5,8,8],[9,1,9,4],[9,5,9,8]]}
["一覧へ"]
["シート名",{"$f":"RIGHT(CELL(\"filename\",A1),LEN(CELL(\"filename\",A1))-FIND(\"]\",CELL(\"filename\",A1)))","v":"片栗粉"}]
["商品名","ベストシェフ　片栗粉（北海道産）",null,null,null,null,null,null,"作成日"]
["規格","1㎏×10",null,null,null,null,null,null,{"$f":"一覧!D1","v":"2019-11-01"}]
["原材料","原材料名",null,null,null,"27品目アレルゲン",null,null,null,null,"個数①","計",{"$f":"[1]一覧!D5","v":"小麦"},{"$f":"[1]一覧!E5","v":"卵"},{"$f":"[1]一覧!F5","v":"乳"},{"$f":"[1]一覧!G5","v":"そば"},{"$f":"[1]一覧!H5","v":"落花生"},{"$f":"[1]一覧!I5","v":"えび"},{"$f":"[1]一覧!J5","v":"かに"},{"$f":"[1]一覧!K5","v":"ごま"},{"$f":"[1]一覧!L5","v":"くるみ"},{"$f":"[1]一覧!M5","v":"カシュ"},{"$f":"[1]一覧!N5","v":"キウイ"},{"$f":"[1]一覧!O5","v":"もも"},{"$f":"[1]一覧!P5","v":"リンゴ"},{"$f":"[1]一覧!Q5","v":"バナナ"},{"$f":"[1]一覧!R5","v":"オレンジ"},{"$f":"[1]一覧!S5","v":"いか"},{"$f":"[1]一覧!T5","v":"いくら"},{"$f":"[1]一覧!U5","v":"さけ"},{"$f":"[1]一覧!V5","v":"さば"},{"$f":"[1]一覧!W5","v":"大豆"},{"$f":"[1]一覧!X5","v":"鶏肉"},{"$f":"[1]一覧!Y5","v":"豚肉"},{"$f":"[1]一覧!Z5","v":"牛肉"},{"$f":"[1]一覧!AA5","v":"まつたけ"},{"$f":"[1]一覧!AB5","v":"やまいも"},{"$f":"[1]一覧!AC5","v":"ゼラチン"},{"$f":"[1]一覧!AD5","v":"あわび"}]
[null,"馬鈴しょでん粉",null,null,null,null,null,null,null,null,{"$f":"IF(F6=\"\",0,LEN(F6)-LEN(SUBSTITUTE(F6, \"、\", \"\"))+1)","v":0},{"$f":"SUM(M6:AM6)","v":0},{"$f":"COUNTIF($F6,\"*\"&M$5&\"*\")","v":0},{"$f":"COUNTIF($F6,\"*\"&N$5&\"*\")","v":0},0,0,0,0,0,0,0,0,0,0,0,0,0,0,0,0,0,0,0,0,0,0,0,0,0]
[null,null,null,null,null,null,null,null,null,null,{"$f":"IF(F7=\"\",0,LEN(F7)-LEN(SUBSTITUTE(F7, \"、\", \"\"))+1)","v":0},{"$f":"SUM(M7:AM7)","v":0},{"$f":"COUNTIF($F7,\"*\"&M$5&\"*\")","v":0},0,0,0,0,0,0,0,0,0,0,0,0,0,0,0,0,0,0,0,0,0,0,0,0,0,0]
[null,null,null,null,null,null,null,null,null,null,0,0,0,0,0,0,0,0,0,0,0,0,0,0,0,0,0,0,0,0,0,0,0,0,0,0,0,0,0]
[null,null,null,null,null,null,null,null,null,null,0,0,0,0,0,0,0,0,0,0,0,0,0,0,0,0,0,0,0,0,0,0,0,0,0,0,0,0,0]
[null,null,null,null,null,null,null,null,null,null,0,0,0,0,0,0,0,0,0,0,0,0,0,0,0,0,0,0,0,0,0,0,0,0,0,0,0,0,0]
[null,null,null,null,null,null,null,null,null,null,0,0,0,0,0,0,0,0,0,0,0,0,0,0,0,0,0,0,0,0,0,0,0,0,0,0,0,0,0]
[null,null,null,null,null,null,null,null,null,null,0,0,0,0,0,0,0,0,0,0,0,0,0,0,0,0,0,0,0,0,0,0,0,0,0,0,0,0,0]
[null,null,null,null,null,null,null,null,null,null,0,0,0,0,0,0,0,0,0,0,0,0,0,0,0,0,0,0,0,0,0,0,0,0,0,0,0,0,0]
[null,null,null,null,null,null,null,null,null,null,0,0,0,0,0,0,0,0,0,0,0,0,0,0,0,0,0,0,0,0,0,0,0,0,0,0,0,0,0]
[null,null,null,null,null,null,null,null,null,null,0,0,0,0,0,0,0,0,0,0,0,0,0,0,0,0,0,0,0,0,0,0,0,0,{"$f":"COUNTIF($F15,\"*\"&AI$5&\"*\")","v":0},0,0,0,0]
[null,null,null,null,null,null,null,null,null,null,0,0,0,0,0,0,0,0,0,0,0,0,0,0,0,0,0,0,{"$f":"COUNTIF($F16,\"*\"&AC$5&\"*\")","v":0},0,0,0,0,0,0,0,0,0,0]
[null,null,null,null,null,null,null,null,null,null,0,0,0,0,0,0,0,0,0,0,0,0,0,0,0,0,0,0,0,0,0,0,0,0,0,0,0,0,0]
[null,null,null,null,null,null,null,null,null,null,0,0,0,0,0,0,0,0,0,0,0,0,0,0,0,0,0,0,0,0,0,0,0,0,0,0,0,0,0]
[null,null,null,null,null,null,null,null,null,null,0,0,0,0,0,0,0,0,0,0,0,0,0,0,0,0,0,0,0,0,0,0,0,0,0,0,0,0,0]
[null,null,null,null,null,null,null,null,null,null,0,0,0,0,0,0,0,0,0,0,0,0,0,0,0,0,0,0,0,0,0,0,0,0,0,0,0,0,0]
[null,null,null,null,null,null,null,null,null,null,0,0,0,0,0,0,0,0,0,0,0,0,0,0,0,0,0,0,0,0,0,0,0,0,0,0,0,0,0]
[null,null,null,null,null,null,null,null,null,null,0,0,0,0,0,0,0,0,0,0,0,0,0,0,0,0,0,0,0,0,0,0,0,0,0,0,0,0,0]
[null,null,null,null,null,null,null,null,null,null,0,0,0,0,0,0,0,0,0,0,0,0,0,0,0,0,0,0,0,0,0,0,0,0,0,0,0,0,0]
[null,null,null,null,null,null,null,null,null,null,0,0,0,0,0,0,0,0,0,0,0,0,0,0,0,0,0,0,0,0,0,0,0,0,0,0,0,0,0]
[null,null,null,null,null,null,null,null,null,null,0,0,0,0,0,0,0,0,0,0,0,0,0,0,0,0,0,0,0,0,0,0,0,0,0,0,0,0,0]
[null,null,null,null,null,null,null,null,null,null,0,0,0,0,0,0,0,0,0,0,0,0,0,0,0,0,0,0,0,0,0,0,0,0,0,0,0,0,0]
[null,null,null,null,null,null,null,null,null,null,0,0,0,0,0,0,0,0,0,0,0,0,0,0,0,0,0,0,0,0,0,0,0,0,0,0,0,0,0]
[null,null,null,null,null,null,null,null,null,null,0,0,0,0,0,0,0,0,0,0,0,0,0,0,0,0,0,0,0,0,0,0,0,0,0,0,0,0,0]
[null,null,null,null,null,null,null,null,null,null,0,0,0,0,0,0,0,0,0,0,0,0,0,0,0,0,0,0,0,0,0,0,0,0,0,0,0,0,0]
[null,null,null,null,null,null,null,null,null,null,0,0,0,0,0,0,0,0,0,0,0,0,0,0,0,0,0,0,0,0,0,0,0,0,0,0,0,0,0]
[null,null,null,null,null,null,null,null,null,null,0,0,0,0,0,0,0,0,{"$f":"COUNTIF($F31,\"*\"&S$5&\"*\")","v":0},0,0,0,0,0,0,0,0,0,0,0,0,0,0,0,0,0,0,0,0]
[null,null,null,null,null,null,null,null,null,null,0,0,{"$f":"COUNTIF($F32,\"*\"&M$5&\"*\")","v":0},0,0,0,0,0,0,0,0,0,0,0,0,0,0,0,0,0,0,0,0,0,0,0,0,0,0]
[null,null,null,null,null,null,null,null,null,null,0,0,0,0,0,0,0,0,0,0,0,0,0,0,0,0,0,0,0,0,0,0,0,0,0,0,0,0,0]
[null,null,null,null,null,null,null,null,null,null,0,0,0,0,0,0,0,0,0,0,0,0,0,0,0,0,0,0,0,0,0,0,0,0,0,0,0,0,0]
[null,null,null,null,null,null,null,null,null,null,0,0,0,0,0,0,0,0,0,0,0,0,0,0,0,0,0,0,0,0,0,0,0,0,0,0,0,0,0]
[null,null,null,null,null,null,null,null,null,null,0,0,0,0,0,0,0,0,0,0,0,0,0,0,0,0,0,0,0,0,0,0,0,0,0,0,0,0,0]
[null,null,null,null,null,null,null,null,null,null,0,0,0,0,0,0,0,0,0,0,0,0,0,0,0,0,0,0,0,0,0,0,0,0,0,0,0,0,0]
[null,null,null,null,null,null,null,null,null,null,0,0,0,0,0,0,0,0,0,0,0,0,0,0,0,0,0,0,0,0,0,0,0,0,0,0,0,0,0]
[null,null,null,null,null,null,null,null,null,null,0,0,0,0,0,0,0,0,0,0,0,0,0,0,0,0,0,0,0,0,0,0,0,0,0,0,0,0,0]
[null,null,null,null,null,null,null,null,null,null,0,0,0,0,0,0,0,0,0,0,0,0,0,0,0,0,0,0,0,0,0,0,0,0,0,0,0,0,0]
[null,null,null,null,null,null,null,null,null,null,0,0,0,0,0,0,0,0,0,0,0,0,0,0,0,0,0,0,0,0,0,0,0,0,0,0,0,0,0]
[null,null,null,null,null,null,null,null,null,null,0,0,0,0,0,0,0,0,0,0,0,0,0,0,0,0,0,0,0,0,0,0,0,0,0,0,0,0,0]
["コンタミネーション","なし",null,null,null,null,null,null,null,null,{"$f":"IF(B43=\"なし\",0,IF(B43=\"\",0,LEN(B43)-LEN(SUBSTITUTE(B43, \"、\", \"\"))+1))","v":0},0,{"$f":"COUNTIF($B43,\"*\"&M$5&\"*\")","v":0},{"$f":"COUNTIF($B43,\"*\"&N$5&\"*\")","v":0},0,0,0,0,0,0,0,0,0,0,0,0,0,0,0,{"$f":"COUNTIF($B43,\"*\"&AD$5&\"*\")","v":0},0,0,0,0,0,0,0,0,0]
[null,null,null,null,null,null,null,null,null,null,{"$f":"IF(B44=\"なし\",0,IF(B44=\"\",0,LEN(B44)-LEN(SUBSTITUTE(B44, \"、\", \"\"))+1))","v":0},0,{"$f":"COUNTIF($B44,\"*\"&M$5&\"*\")","v":0},0,0,0,0,0,0,0,0,0,0,0,0,0,0,0,0,0,0,0,0,0,0,0,0,0,0]
[null,null,null,null,null,null,null,null,null,null,0,0,0,0,0,0,0,0,0,0,0,0,0,0,0,0,0,0,0,0,0,0,0,0,0,0,0,0,0]
["特記事項"]
[]
[]
[null,"●　商品の終売・リニューアルの場合は成分等が変更になる場合があります。ご了承ください。"]
["製造元","高瀬物産株式会社"]
[]
[{"$f":"一覧!A38","v":"オーエンス泉岳自然ふれあい館"}]

{"sheet":"チキンコンソメ","index":17,"n_rows":52,"n_cols":39,"rows_kept":52,"cut":false,"hidden":false,"merged":[[51,0,51,8],[45,0,48,0],[45,1,45,8],[46,1,46,8],[47,1,47,8],[48,1,48,8],[49,0,50,0],[49,1,50,8],[40,1,40,4],[40,5,40,8],[41,1,41,4],[41,5,41,8],[42,0,44,0],[42,1,42,8],[43,1,43,8],[44,1,44,8],[37,1,37,4],[37,5,37,8],[38,1,38,4],[38,5,38,8],[39,1,39,4],[39,5,39,8],[34,1,34,4],[34,5,34,8],[35,1,35,4],[35,5,35,8],[36,1,36,4],[36,5,36,8],[31,1,31,4],[31,5,31,8],[32,1,32,4],[32,5,32,8],[33,1,33,4],[33,5,33,8],[28,1,28,4],[28,5,28,8],[29,1,29,4],[29,5,29,8],[30,1,30,4],[30,5,30,8],[25,1,25,4],[25,5,25,8],[26,1,26,4],[26,5,26,8],[27,1,27,4],[27,5,27,8],[22,1,22,4],[22,5,22,8],[23,1,23,4],[23,5,23,8],[24,1,24,4],[24,5,24,8],[19,1,19,4],[19,5,19,8],[20,1,20,4],[20,5,20,8],[21,1,21,4],[21,5,21,8],[16,1,16,4],[16,5,16,8],[17,1,17,4],[17,5,17,8],[18,1,18,4],[18,5,18,8],[13,1,13,4],[13,5,13,8],[14,1,14,4],[14,5,14,8],[15,1,15,4],[15,5,15,8],[10,1,10,4],[10,5,10,8],[11,1,11,4],[11,5,11,8],[12,1,12,4],[12,5,12,8],[1,1,1,8],[2,1,2,7],[3,1,3,7],[4,0,41,0],[4,1,4,4],[4,5,4,8],[5,1,5,4],[5,5,5,8],[6,1,6,4],[6,5,6,8],[7,1,7,4],[7,5,7,8],[8,1,8,4],[8,5,8,8],[9,1,9,4],[9,5,9,8]]}
["一覧へ"]
["シート名",{"$f":"RIGHT(CELL(\"filename\",A1),LEN(CELL(\"filename\",A1))-FIND(\"]\",CELL(\"filename\",A1)))","v":"チキンコンソメ"}]
["商品名","チキンコンソメ",null,null,null,null,null,null,"作成日"]
["規格","1㎏×10袋",null,null,null,null,null,null,{"$f":"一覧!D1","v":"2019-11-01"}]
["原材料","原材料名",null,null,null,"27品目アレルゲン",null,null,null,null,"個数①","計",{"$f":"[1]一覧!D5","v":"小麦"},{"$f":"[1]一覧!E5","v":"卵"},{"$f":"[1]一覧!F5","v":"乳"},{"$f":"[1]一覧!G5","v":"そば"},{"$f":"[1]一覧!H5","v":"落花生"},{"$f":"[1]一覧!I5","v":"えび"},{"$f":"[1]一覧!J5","v":"かに"},{"$f":"[1]一覧!K5","v":"ごま"},{"$f":"[1]一覧!L5","v":"くるみ"},{"$f":"[1]一覧!M5","v":"カシュ"},{"$f":"[1]一覧!N5","v":"キウイ"},{"$f":"[1]一覧!O5","v":"もも"},{"$f":"[1]一覧!P5","v":"リンゴ"},{"$f":"[1]一覧!Q5","v":"バナナ"},{"$f":"[1]一覧!R5","v":"オレンジ"},{"$f":"[1]一覧!S5","v":"いか"},{"$f":"[1]一覧!T5","v":"いくら"},{"$f":"[1]一覧!U5","v":"さけ"},{"$f":"[1]一覧!V5","v":"さば"},{"$f":"[1]一覧!W5","v":"大豆"},{"$f":"[1]一覧!X5","v":"鶏肉"},{"$f":"[1]一覧!Y5","v":"豚肉"},{"$f":"[1]一覧!Z5","v":"牛肉"},{"$f":"[1]一覧!AA5","v":"まつたけ"},{"$f":"[1]一覧!AB5","v":"やまいも"},{"$f":"[1]一覧!AC5","v":"ゼラチン"},{"$f":"[1]一覧!AD5","v":"あわび"}]
[null,"食塩",null,null,null,null,null,null,null,null,{"$f":"IF(F6=\"\",0,LEN(F6)-LEN(SUBSTITUTE(F6, \"、\", \"\"))+1)","v":0},{"$f":"SUM(M6:AM6)","v":0},{"$f":"COUNTIF($F6,\"*\"&M$5&\"*\")","v":0},{"$f":"COUNTIF($F6,\"*\"&N$5&\"*\")","v":0},0,0,0,0,0,0,0,0,0,0,0,0,0,0,0,0,0,0,0,0,0,0,0,0,0]
[null,"デキストリン1",null,null,null,null,null,null,null,null,{"$f":"IF(F7=\"\",0,LEN(F7)-LEN(SUBSTITUTE(F7, \"、\", \"\"))+1)","v":0},{"$f":"SUM(M7:AM7)","v":0},{"$f":"COUNTIF($F7,\"*\"&M$5&\"*\")","v":0},0,0,0,0,0,0,0,0,0,0,0,0,0,0,0,0,0,0,0,0,0,0,0,0,0,0]
[null,"アセチル化アジピン酸架橋澱粉",null,null,null,null,null,null,null,null,0,0,0,0,0,0,0,0,0,0,0,0,0,0,0,0,0,0,0,0,0,0,0,0,0,0,0,0,0]
[null,"デキストリン2",null,null,null,null,null,null,null,null,0,0,0,0,0,0,0,0,0,0,0,0,0,0,0,0,0,0,0,0,0,0,0,0,0,0,0,0,0]
[null,"砂糖",null,null,null,null,null,null,null,null,0,0,0,0,0,0,0,0,0,0,0,0,0,0,0,0,0,0,0,0,0,0,0,0,0,0,0,0,0]
[null,"チキンエキス",null,null,null,"鶏肉",null,null,null,null,1,1,0,0,0,0,0,0,0,0,0,0,0,0,0,0,0,0,0,0,0,0,1,0,0,0,0,0,0]
[null,"酵母エキス",null,null,null,null,null,null,null,null,0,0,0,0,0,0,0,0,0,0,0,0,0,0,0,0,0,0,0,0,0,0,0,0,0,0,0,0,0]
[null,"動物油脂",null,null,null,"鶏肉",null,null,null,null,1,1,0,0,0,0,0,0,0,0,0,0,0,0,0,0,0,0,0,0,0,0,1,0,0,0,0,0,0]
[null,"粉末醤油",null,null,null,"大豆、小麦",null,null,null,null,2,2,1,0,0,0,0,0,0,0,0,0,0,0,0,0,0,0,0,0,0,1,0,0,0,0,0,0,0]
[null,"オニオンパウダー",null,null,null,"小麦",null,null,null,null,1,1,1,0,0,0,0,0,0,0,0,0,0,0,0,0,0,0,0,0,0,0,0,0,{"$f":"COUNTIF($F15,\"*\"&AI$5&\"*\")","v":0},0,0,0,0]
[null,"調味料（アミノ酸）",null,null,null,null,null,null,null,null,0,0,0,0,0,0,0,0,0,0,0,0,0,0,0,0,0,0,{"$f":"COUNTIF($F16,\"*\"&AC$5&\"*\")","v":0},0,0,0,0,0,0,0,0,0,0]
[null,"調味料（核酸）",null,null,null,null,null,null,null,null,0,0,0,0,0,0,0,0,0,0,0,0,0,0,0,0,0,0,0,0,0,0,0,0,0,0,0,0,0]
[null,"クチナシ色素1",null,null,null,null,null,null,null,null,0,0,0,0,0,0,0,0,0,0,0,0,0,0,0,0,0,0,0,0,0,0,0,0,0,0,0,0,0]
[null,"香辛料",null,null,null,null,null,null,null,null,0,0,0,0,0,0,0,0,0,0,0,0,0,0,0,0,0,0,0,0,0,0,0,0,0,0,0,0,0]
[null,"ローレル末",null,null,null,null,null,null,null,null,0,0,0,0,0,0,0,0,0,0,0,0,0,0,0,0,0,0,0,0,0,0,0,0,0,0,0,0,0]
[null,"セロリー末",null,null,null,null,null,null,null,null,0,0,0,0,0,0,0,0,0,0,0,0,0,0,0,0,0,0,0,0,0,0,0,0,0,0,0,0,0]
[null,"酸味料",null,null,null,null,null,null,null,null,0,0,0,0,0,0,0,0,0,0,0,0,0,0,0,0,0,0,0,0,0,0,0,0,0,0,0,0,0]
[null,"クチナシ色素2",null,null,null,null,null,null,null,null,0,0,0,0,0,0,0,0,0,0,0,0,0,0,0,0,0,0,0,0,0,0,0,0,0,0,0,0,0]
[null,null,null,null,null,null,null,null,null,null,0,0,0,0,0,0,0,0,0,0,0,0,0,0,0,0,0,0,0,0,0,0,0,0,0,0,0,0,0]
[null,null,null,null,null,null,null,null,null,null,0,0,0,0,0,0,0,0,0,0,0,0,0,0,0,0,0,0,0,0,0,0,0,0,0,0,0,0,0]
[null,null,null,null,null,null,null,null,null,null,0,0,0,0,0,0,0,0,0,0,0,0,0,0,0,0,0,0,0,0,0,0,0,0,0,0,0,0,0]
[null,null,null,null,null,null,null,null,null,null,0,0,0,0,0,0,0,0,0,0,0,0,0,0,0,0,0,0,0,0,0,0,0,0,0,0,0,0,0]
[null,null,null,null,null,null,null,null,null,null,0,0,0,0,0,0,0,0,0,0,0,0,0,0,0,0,0,0,0,0,0,0,0,0,0,0,0,0,0]
[null,null,null,null,null,null,null,null,null,null,0,0,0,0,0,0,0,0,0,0,0,0,0,0,0,0,0,0,0,0,0,0,0,0,0,0,0,0,0]
[null,null,null,null,null,null,null,null,null,null,0,0,0,0,0,0,0,0,0,0,0,0,0,0,0,0,0,0,0,0,0,0,0,0,0,0,0,0,0]
[null,null,null,null,null,null,null,null,null,null,0,0,0,0,0,0,0,0,{"$f":"COUNTIF($F31,\"*\"&S$5&\"*\")","v":0},0,0,0,0,0,0,0,0,0,0,0,0,0,0,0,0,0,0,0,0]
[null,null,null,null,null,null,null,null,null,null,0,0,{"$f":"COUNTIF($F32,\"*\"&M$5&\"*\")","v":0},0,0,0,0,0,0,0,0,0,0,0,0,0,0,0,0,0,0,0,0,0,0,0,0,0,0]
[null,null,null,null,null,null,null,null,null,null,0,0,0,0,0,0,0,0,0,0,0,0,0,0,0,0,0,0,0,0,0,0,0,0,0,0,0,0,0]
[null,null,null,null,null,null,null,null,null,null,0,0,0,0,0,0,0,0,0,0,0,0,0,0,0,0,0,0,0,0,0,0,0,0,0,0,0,0,0]
[null,null,null,null,null,null,null,null,null,null,0,0,0,0,0,0,0,0,0,0,0,0,0,0,0,0,0,0,0,0,0,0,0,0,0,0,0,0,0]
[null,null,null,null,null,null,null,null,null,null,0,0,0,0,0,0,0,0,0,0,0,0,0,0,0,0,0,0,0,0,0,0,0,0,0,0,0,0,0]
[null,null,null,null,null,null,null,null,null,null,0,0,0,0,0,0,0,0,0,0,0,0,0,0,0,0,0,0,0,0,0,0,0,0,0,0,0,0,0]
[null,null,null,null,null,null,null,null,null,null,0,0,0,0,0,0,0,0,0,0,0,0,0,0,0,0,0,0,0,0,0,0,0,0,0,0,0,0,0]
[null,null,null,null,null,null,null,null,null,null,0,0,0,0,0,0,0,0,0,0,0,0,0,0,0,0,0,0,0,0,0,0,0,0,0,0,0,0,0]
[null,null,null,null,null,null,null,null,null,null,0,0,0,0,0,0,0,0,0,0,0,0,0,0,0,0,0,0,0,0,0,0,0,0,0,0,0,0,0]
[null,null,null,null,null,null,null,null,null,null,0,0,0,0,0,0,0,0,0,0,0,0,0,0,0,0,0,0,0,0,0,0,0,0,0,0,0,0,0]
[null,null,null,null,null,null,null,null,null,null,0,0,0,0,0,0,0,0,0,0,0,0,0,0,0,0,0,0,0,0,0,0,0,0,0,0,0,0,0]
["コンタミネーション","なし",null,null,null,null,null,null,null,null,{"$f":"IF(B43=\"なし\",0,IF(B43=\"\",0,LEN(B43)-LEN(SUBSTITUTE(B43, \"、\", \"\"))+1))","v":0},0,{"$f":"COUNTIF($B43,\"*\"&M$5&\"*\")","v":0},{"$f":"COUNTIF($B43,\"*\"&N$5&\"*\")","v":0},0,0,0,0,0,0,0,0,0,0,0,0,0,0,0,{"$f":"COUNTIF($B43,\"*\"&AD$5&\"*\")","v":0},0,0,0,0,0,0,0,0,0]
[null,null,null,null,null,null,null,null,null,null,{"$f":"IF(B44=\"なし\",0,IF(B44=\"\",0,LEN(B44)-LEN(SUBSTITUTE(B44, \"、\", \"\"))+1))","v":0},0,{"$f":"COUNTIF($B44,\"*\"&M$5&\"*\")","v":0},0,0,0,0,0,0,0,0,0,0,0,0,0,0,0,0,0,0,0,0,0,0,0,0,0,0]
[null,null,null,null,null,null,null,null,null,null,0,0,0,0,0,0,0,0,0,0,0,0,0,0,0,0,0,0,0,0,0,0,0,0,0,0,0,0,0]
["特記事項"]
[]
[]
[null,"●　商品の終売・リニューアルの場合は成分等が変更になる場合があります。ご了承ください。"]
["製造元","ＵＮＩＴＥＤ　ＦＯＯＤＳ　ＩＮＴＥＲＮＡＴＩＯＮＡＬ株式会社"]
[]
[{"$f":"一覧!A38","v":"オーエンス泉岳自然ふれあい館"}]

{"sheet":"冷凍コーン①","index":18,"n_rows":52,"n_cols":39,"rows_kept":52,"cut":false,"hidden":false,"merged":[[51,0,51,8],[45,0,48,0],[45,1,45,8],[46,1,46,8],[47,1,47,8],[48,1,48,8],[49,0,50,0],[49,1,50,8],[40,1,40,4],[40,5,40,8],[41,1,41,4],[41,5,41,8],[42,0,44,0],[42,1,42,8],[43,1,43,8],[44,1,44,8],[37,1,37,4],[37,5,37,8],[38,1,38,4],[38,5,38,8],[39,1,39,4],[39,5,39,8],[34,1,34,4],[34,5,34,8],[35,1,35,4],[35,5,35,8],[36,1,36,4],[36,5,36,8],[31,1,31,4],[31,5,31,8],[32,1,32,4],[32,5,32,8],[33,1,33,4],[33,5,33,8],[28,1,28,4],[28,5,28,8],[29,1,29,4],[29,5,29,8],[30,1,30,4],[30,5,30,8],[25,1,25,4],[25,5,25,8],[26,1,26,4],[26,5,26,8],[27,1,27,4],[27,5,27,8],[22,1,22,4],[22,5,22,8],[23,1,23,4],[23,5,23,8],[24,1,24,4],[24,5,24,8],[19,1,19,4],[19,5,19,8],[20,1,20,4],[20,5,20,8],[21,1,21,4],[21,5,21,8],[16,1,16,4],[16,5,16,8],[17,1,17,4],[17,5,17,8],[18,1,18,4],[18,5,18,8],[13,1,13,4],[13,5,13,8],[14,1,14,4],[14,5,14,8],[15,1,15,4],[15,5,15,8],[10,1,10,4],[10,5,10,8],[11,1,11,4],[11,5,11,8],[12,1,12,4],[12,5,12,8],[1,1,1,8],[2,1,2,7],[3,1,3,7],[4,0,41,0],[4,1,4,4],[4,5,4,8],[5,1,5,4],[5,5,5,8],[6,1,6,4],[6,5,6,8],[7,1,7,4],[7,5,7,8],[8,1,8,4],[8,5,8,8],[9,1,9,4],[9,5,9,8]]}
["一覧へ"]
["シート名",{"$f":"RIGHT(CELL(\"filename\",A1),LEN(CELL(\"filename\",A1))-FIND(\"]\",CELL(\"filename\",A1)))","v":"冷凍コーン①"}]
["商品名","コーンカーネルスーパースイート",null,null,null,null,null,null,"作成日"]
["規格","1㎏×12袋",null,null,null,null,null,null,{"$f":"[1]一覧!D1","v":"2019-11-01"}]
["原材料","原材料名",null,null,null,"27品目アレルゲン",null,null,null,null,"個数①","計",{"$f":"[1]一覧!D5","v":"小麦"},{"$f":"[1]一覧!E5","v":"卵"},{"$f":"[1]一覧!F5","v":"乳"},{"$f":"[1]一覧!G5","v":"そば"},{"$f":"[1]一覧!H5","v":"落花生"},{"$f":"[1]一覧!I5","v":"えび"},{"$f":"[1]一覧!J5","v":"かに"},{"$f":"[1]一覧!K5","v":"ごま"},{"$f":"[1]一覧!L5","v":"くるみ"},{"$f":"[1]一覧!M5","v":"カシュ"},{"$f":"[1]一覧!N5","v":"キウイ"},{"$f":"[1]一覧!O5","v":"もも"},{"$f":"[1]一覧!P5","v":"リンゴ"},{"$f":"[1]一覧!Q5","v":"バナナ"},{"$f":"[1]一覧!R5","v":"オレンジ"},{"$f":"[1]一覧!S5","v":"いか"},{"$f":"[1]一覧!T5","v":"いくら"},{"$f":"[1]一覧!U5","v":"さけ"},{"$f":"[1]一覧!V5","v":"さば"},{"$f":"[1]一覧!W5","v":"大豆"},{"$f":"[1]一覧!X5","v":"鶏肉"},{"$f":"[1]一覧!Y5","v":"豚肉"},{"$f":"[1]一覧!Z5","v":"牛肉"},{"$f":"[1]一覧!AA5","v":"まつたけ"},{"$f":"[1]一覧!AB5","v":"やまいも"},{"$f":"[1]一覧!AC5","v":"ゼラチン"},{"$f":"[1]一覧!AD5","v":"あわび"}]
[null,"とうもろこし",null,null,null,null,null,null,null,null,{"$f":"IF(F6=\"\",0,LEN(F6)-LEN(SUBSTITUTE(F6, \"、\", \"\"))+1)","v":0},{"$f":"SUM(M6:AM6)","v":0},{"$f":"COUNTIF($F6,\"*\"&M$5&\"*\")","v":0},{"$f":"COUNTIF($F6,\"*\"&N$5&\"*\")","v":0},0,0,0,0,0,0,0,0,0,0,0,0,0,0,0,0,0,0,0,0,0,0,0,0,0]
[null,null,null,null,null,null,null,null,null,null,{"$f":"IF(F7=\"\",0,LEN(F7)-LEN(SUBSTITUTE(F7, \"、\", \"\"))+1)","v":0},{"$f":"SUM(M7:AM7)","v":0},{"$f":"COUNTIF($F7,\"*\"&M$5&\"*\")","v":0},0,0,0,0,0,0,0,0,0,0,0,0,0,0,0,0,0,0,0,0,0,0,0,0,0,0]
[null,null,null,null,null,null,null,null,null,null,0,0,0,0,0,0,0,0,0,0,0,0,0,0,0,0,0,0,0,0,0,0,0,0,0,0,0,0,0]
[null,null,null,null,null,null,null,null,null,null,0,0,0,0,0,0,0,0,0,0,0,0,0,0,0,0,0,0,0,0,0,0,0,0,0,0,0,0,0]
[null,null,null,null,null,null,null,null,null,null,0,0,0,0,0,0,0,0,0,0,0,0,0,0,0,0,0,0,0,0,0,0,0,0,0,0,0,0,0]
[null,null,null,null,null,null,null,null,null,null,0,0,0,0,0,0,0,0,0,0,0,0,0,0,0,0,0,0,0,0,0,0,0,0,0,0,0,0,0]
[null,null,null,null,null,null,null,null,null,null,0,0,0,0,0,0,0,0,0,0,0,0,0,0,0,0,0,0,0,0,0,0,0,0,0,0,0,0,0]
[null,null,null,null,null,null,null,null,null,null,0,0,0,0,0,0,0,0,0,0,0,0,0,0,0,0,0,0,0,0,0,0,0,0,0,0,0,0,0]
[null,null,null,null,null,null,null,null,null,null,0,0,0,0,0,0,0,0,0,0,0,0,0,0,0,0,0,0,0,0,0,0,0,0,0,0,0,0,0]
[null,null,null,null,null,null,null,null,null,null,0,0,0,0,0,0,0,0,0,0,0,0,0,0,0,0,0,0,0,0,0,0,0,0,{"$f":"COUNTIF($F15,\"*\"&AI$5&\"*\")","v":0},0,0,0,0]
[null,null,null,null,null,null,null,null,null,null,0,0,0,0,0,0,0,0,0,0,0,0,0,0,0,0,0,0,{"$f":"COUNTIF($F16,\"*\"&AC$5&\"*\")","v":0},0,0,0,0,0,0,0,0,0,0]
[null,null,null,null,null,null,null,null,null,null,0,0,0,0,0,0,0,0,0,0,0,0,0,0,0,0,0,0,0,0,0,0,0,0,0,0,0,0,0]
[null,null,null,null,null,null,null,null,null,null,0,0,0,0,0,0,0,0,0,0,0,0,0,0,0,0,0,0,0,0,0,0,0,0,0,0,0,0,0]
[null,null,null,null,null,null,null,null,null,null,0,0,0,0,0,0,0,0,0,0,0,0,0,0,0,0,0,0,0,0,0,0,0,0,0,0,0,0,0]
[null,null,null,null,null,null,null,null,null,null,0,0,0,0,0,0,0,0,0,0,0,0,0,0,0,0,0,0,0,0,0,0,0,0,0,0,0,0,0]
[null,null,null,null,null,null,null,null,null,null,0,0,0,0,0,0,0,0,0,0,0,0,0,0,0,0,0,0,0,0,0,0,0,0,0,0,0,0,0]
[null,null,null,null,null,null,null,null,null,null,0,0,0,0,0,0,0,0,0,0,0,0,0,0,0,0,0,0,0,0,0,0,0,0,0,0,0,0,0]
[null,null,null,null,null,null,null,null,null,null,0,0,0,0,0,0,0,0,0,0,0,0,0,0,0,0,0,0,0,0,0,0,0,0,0,0,0,0,0]
[null,null,null,null,null,null,null,null,null,null,0,0,0,0,0,0,0,0,0,0,0,0,0,0,0,0,0,0,0,0,0,0,0,0,0,0,0,0,0]
[null,null,null,null,null,null,null,null,null,null,0,0,0,0,0,0,0,0,0,0,0,0,0,0,0,0,0,0,0,0,0,0,0,0,0,0,0,0,0]
[null,null,null,null,null,null,null,null,null,null,0,0,0,0,0,0,0,0,0,0,0,0,0,0,0,0,0,0,0,0,0,0,0,0,0,0,0,0,0]
[null,null,null,null,null,null,null,null,null,null,0,0,0,0,0,0,0,0,0,0,0,0,0,0,0,0,0,0,0,0,0,0,0,0,0,0,0,0,0]
[null,null,null,null,null,null,null,null,null,null,0,0,0,0,0,0,0,0,0,0,0,0,0,0,0,0,0,0,0,0,0,0,0,0,0,0,0,0,0]
[null,null,null,null,null,null,null,null,null,null,0,0,0,0,0,0,0,0,0,0,0,0,0,0,0,0,0,0,0,0,0,0,0,0,0,0,0,0,0]
[null,null,null,null,null,null,null,null,null,null,0,0,0,0,0,0,0,0,0,0,0,0,0,0,0,0,0,0,0,0,0,0,0,0,0,0,0,0,0]
[null,null,null,null,null,null,null,null,null,null,0,0,0,0,0,0,0,0,{"$f":"COUNTIF($F31,\"*\"&S$5&\"*\")","v":0},0,0,0,0,0,0,0,0,0,0,0,0,0,0,0,0,0,0,0,0]
[null,null,null,null,null,null,null,null,null,null,0,0,{"$f":"COUNTIF($F32,\"*\"&M$5&\"*\")","v":0},0,0,0,0,0,0,0,0,0,0,0,0,0,0,0,0,0,0,0,0,0,0,0,0,0,0]
[null,null,null,null,null,null,null,null,null,null,0,0,0,0,0,0,0,0,0,0,0,0,0,0,0,0,0,0,0,0,0,0,0,0,0,0,0,0,0]
[null,null,null,null,null,null,null,null,null,null,0,0,0,0,0,0,0,0,0,0,0,0,0,0,0,0,0,0,0,0,0,0,0,0,0,0,0,0,0]
[null,null,null,null,null,null,null,null,null,null,0,0,0,0,0,0,0,0,0,0,0,0,0,0,0,0,0,0,0,0,0,0,0,0,0,0,0,0,0]
[null,null,null,null,null,null,null,null,null,null,0,0,0,0,0,0,0,0,0,0,0,0,0,0,0,0,0,0,0,0,0,0,0,0,0,0,0,0,0]
[null,null,null,null,null,null,null,null,null,null,0,0,0,0,0,0,0,0,0,0,0,0,0,0,0,0,0,0,0,0,0,0,0,0,0,0,0,0,0]
[null,null,null,null,null,null,null,null,null,null,0,0,0,0,0,0,0,0,0,0,0,0,0,0,0,0,0,0,0,0,0,0,0,0,0,0,0,0,0]
[null,null,null,null,null,null,null,null,null,null,0,0,0,0,0,0,0,0,0,0,0,0,0,0,0,0,0,0,0,0,0,0,0,0,0,0,0,0,0]
[null,null,null,null,null,null,null,null,null,null,0,0,0,0,0,0,0,0,0,0,0,0,0,0,0,0,0,0,0,0,0,0,0,0,0,0,0,0,0]
[null,null,null,null,null,null,null,null,null,null,0,0,0,0,0,0,0,0,0,0,0,0,0,0,0,0,0,0,0,0,0,0,0,0,0,0,0,0,0]
[null,null,null,null,null,null,null,null,null,null,0,0,0,0,0,0,0,0,0,0,0,0,0,0,0,0,0,0,0,0,0,0,0,0,0,0,0,0,0]
["コンタミネーション","なし",null,null,null,null,null,null,null,null,{"$f":"IF(B43=\"なし\",0,IF(B43=\"\",0,LEN(B43)-LEN(SUBSTITUTE(B43, \"、\", \"\"))+1))","v":0},0,{"$f":"COUNTIF($B43,\"*\"&M$5&\"*\")","v":0},{"$f":"COUNTIF($B43,\"*\"&N$5&\"*\")","v":0},0,0,0,0,0,0,0,0,0,0,0,0,0,0,0,{"$f":"COUNTIF($B43,\"*\"&AD$5&\"*\")","v":0},0,0,0,0,0,0,0,0,0]
[null,null,null,null,null,null,null,null,null,null,{"$f":"IF(B44=\"なし\",0,IF(B44=\"\",0,LEN(B44)-LEN(SUBSTITUTE(B44, \"、\", \"\"))+1))","v":0},0,{"$f":"COUNTIF($B44,\"*\"&M$5&\"*\")","v":0},0,0,0,0,0,0,0,0,0,0,0,0,0,0,0,0,0,0,0,0,0,0,0,0,0,0]
[null,null,null,null,null,null,null,null,null,null,0,0,0,0,0,0,0,0,0,0,0,0,0,0,0,0,0,0,0,0,0,0,0,0,0,0,0,0,0]
["特記事項","・仕入れ状況により冷凍コーン①または冷凍コーン②を使用します。"]
[]
[]
[null,"●　商品の終売・リニューアルの場合は成分等が変更になる場合があります。ご了承ください。"]
["製造元","株式会社ニチレイフーズ"]
[]
[{"$f":"[1]一覧!A38","v":"オーエンス泉岳自然ふれあい館"}]

{"sheet":"冷凍コーン②","index":19,"n_rows":52,"n_cols":39,"rows_kept":52,"cut":false,"hidden":false,"merged":[[1,1,1,8],[2,1,2,7],[3,1,3,7],[4,0,41,0],[4,1,4,4],[4,5,4,8],[5,1,5,4],[5,5,5,8],[6,1,6,4],[6,5,6,8],[7,1,7,4],[7,5,7,8],[8,1,8,4],[8,5,8,8],[9,1,9,4],[9,5,9,8],[10,1,10,4],[10,5,10,8],[11,1,11,4],[11,5,11,8],[12,1,12,4],[12,5,12,8],[13,1,13,4],[13,5,13,8],[14,1,14,4],[14,5,14,8],[15,1,15,4],[15,5,15,8],[16,1,16,4],[16,5,16,8],[17,1,17,4],[17,5,17,8],[18,1,18,4],[18,5,18,8],[19,1,19,4],[19,5,19,8],[20,1,20,4],[20,5,20,8],[21,1,21,4],[21,5,21,8],[22,1,22,4],[22,5,22,8],[23,1,23,4],[23,5,23,8],[24,1,24,4],[24,5,24,8],[25,1,25,4],[25,5,25,8],[26,1,26,4],[26,5,26,8],[27,1,27,4],[27,5,27,8],[28,1,28,4],[28,5,28,8],[29,1,29,4],[29,5,29,8],[30,1,30,4],[30,5,30,8],[31,1,31,4],[31,5,31,8],[32,1,32,4],[32,5,32,8],[33,1,33,4],[33,5,33,8],[34,1,34,4],[34,5,34,8],[35,1,35,4],[35,5,35,8],[36,1,36,4],[36,5,36,8],[37,1,37,4],[37,5,37,8],[38,1,38,4],[38,5,38,8],[39,1,39,4],[39,5,39,8],[40,1,40,4],[40,5,40,8],[41,1,41,4],[41,5,41,8],[42,0,44,0],[42,1,42,8],[43,1,43,8],[44,1,44,8],[51,0,51,8],[45,0,48,0],[45,1,45,8],[46,1,46,8],[47,1,47,8],[48,1,48,8],[49,0,50,0],[49,1,50,8]]}
["一覧へ"]
["シート名",{"$f":"RIGHT(CELL(\"filename\",A1),LEN(CELL(\"filename\",A1))-FIND(\"]\",CELL(\"filename\",A1)))","v":"冷凍コーン②"}]
["商品名","コーンカーネルスーパースイート",null,null,null,null,null,null,"作成日"]
["規格","1㎏×12袋",null,null,null,null,null,null,{"$f":"[1]一覧!D1","v":"2019-11-01"}]
["原材料","原材料名",null,null,null,"27品目アレルゲン",null,null,null,null,"個数①","計",{"$f":"[1]一覧!D5","v":"小麦"},{"$f":"[1]一覧!E5","v":"卵"},{"$f":"[1]一覧!F5","v":"乳"},{"$f":"[1]一覧!G5","v":"そば"},{"$f":"[1]一覧!H5","v":"落花生"},{"$f":"[1]一覧!I5","v":"えび"},{"$f":"[1]一覧!J5","v":"かに"},{"$f":"[1]一覧!K5","v":"ごま"},{"$f":"[1]一覧!L5","v":"くるみ"},{"$f":"[1]一覧!M5","v":"カシュ"},{"$f":"[1]一覧!N5","v":"キウイ"},{"$f":"[1]一覧!O5","v":"もも"},{"$f":"[1]一覧!P5","v":"リンゴ"},{"$f":"[1]一覧!Q5","v":"バナナ"},{"$f":"[1]一覧!R5","v":"オレンジ"},{"$f":"[1]一覧!S5","v":"いか"},{"$f":"[1]一覧!T5","v":"いくら"},{"$f":"[1]一覧!U5","v":"さけ"},{"$f":"[1]一覧!V5","v":"さば"},{"$f":"[1]一覧!W5","v":"大豆"},{"$f":"[1]一覧!X5","v":"鶏肉"},{"$f":"[1]一覧!Y5","v":"豚肉"},{"$f":"[1]一覧!Z5","v":"牛肉"},{"$f":"[1]一覧!AA5","v":"まつたけ"},{"$f":"[1]一覧!AB5","v":"やまいも"},{"$f":"[1]一覧!AC5","v":"ゼラチン"},{"$f":"[1]一覧!AD5","v":"あわび"}]
[null,"とうもろこし",null,null,null,null,null,null,null,null,{"$f":"IF(F6=\"\",0,LEN(F6)-LEN(SUBSTITUTE(F6, \"、\", \"\"))+1)","v":0},{"$f":"SUM(M6:AM6)","v":0},{"$f":"COUNTIF($F6,\"*\"&M$5&\"*\")","v":0},{"$f":"COUNTIF($F6,\"*\"&N$5&\"*\")","v":0},0,0,0,0,0,0,0,0,0,0,0,0,0,0,0,0,0,0,0,0,0,0,0,0,0]
[null,null,null,null,null,null,null,null,null,null,{"$f":"IF(F7=\"\",0,LEN(F7)-LEN(SUBSTITUTE(F7, \"、\", \"\"))+1)","v":0},{"$f":"SUM(M7:AM7)","v":0},{"$f":"COUNTIF($F7,\"*\"&M$5&\"*\")","v":0},0,0,0,0,0,0,0,0,0,0,0,0,0,0,0,0,0,0,0,0,0,0,0,0,0,0]
[null,null,null,null,null,null,null,null,null,null,0,0,0,0,0,0,0,0,0,0,0,0,0,0,0,0,0,0,0,0,0,0,0,0,0,0,0,0,0]
[null,null,null,null,null,null,null,null,null,null,0,0,0,0,0,0,0,0,0,0,0,0,0,0,0,0,0,0,0,0,0,0,0,0,0,0,0,0,0]
[null,null,null,null,null,null,null,null,null,null,0,0,0,0,0,0,0,0,0,0,0,0,0,0,0,0,0,0,0,0,0,0,0,0,0,0,0,0,0]
[null,null,null,null,null,null,null,null,null,null,0,0,0,0,0,0,0,0,0,0,0,0,0,0,0,0,0,0,0,0,0,0,0,0,0,0,0,0,0]
[null,null,null,null,null,null,null,null,null,null,0,0,0,0,0,0,0,0,0,0,0,0,0,0,0,0,0,0,0,0,0,0,0,0,0,0,0,0,0]
[null,null,null,null,null,null,null,null,null,null,0,0,0,0,0,0,0,0,0,0,0,0,0,0,0,0,0,0,0,0,0,0,0,0,0,0,0,0,0]
[null,null,null,null,null,null,null,null,null,null,0,0,0,0,0,0,0,0,0,0,0,0,0,0,0,0,0,0,0,0,0,0,0,0,0,0,0,0,0]
[null,null,null,null,null,null,null,null,null,null,0,0,0,0,0,0,0,0,0,0,0,0,0,0,0,0,0,0,0,0,0,0,0,0,{"$f":"COUNTIF($F15,\"*\"&AI$5&\"*\")","v":0},0,0,0,0]
[null,null,null,null,null,null,null,null,null,null,0,0,0,0,0,0,0,0,0,0,0,0,0,0,0,0,0,0,{"$f":"COUNTIF($F16,\"*\"&AC$5&\"*\")","v":0},0,0,0,0,0,0,0,0,0,0]
[null,null,null,null,null,null,null,null,null,null,0,0,0,0,0,0,0,0,0,0,0,0,0,0,0,0,0,0,0,0,0,0,0,0,0,0,0,0,0]
[null,null,null,null,null,null,null,null,null,null,0,0,0,0,0,0,0,0,0,0,0,0,0,0,0,0,0,0,0,0,0,0,0,0,0,0,0,0,0]
[null,null,null,null,null,null,null,null,null,null,0,0,0,0,0,0,0,0,0,0,0,0,0,0,0,0,0,0,0,0,0,0,0,0,0,0,0,0,0]
[null,null,null,null,null,null,null,null,null,null,0,0,0,0,0,0,0,0,0,0,0,0,0,0,0,0,0,0,0,0,0,0,0,0,0,0,0,0,0]
[null,null,null,null,null,null,null,null,null,null,0,0,0,0,0,0,0,0,0,0,0,0,0,0,0,0,0,0,0,0,0,0,0,0,0,0,0,0,0]
[null,null,null,null,null,null,null,null,null,null,0,0,0,0,0,0,0,0,0,0,0,0,0,0,0,0,0,0,0,0,0,0,0,0,0,0,0,0,0]
[null,null,null,null,null,null,null,null,null,null,0,0,0,0,0,0,0,0,0,0,0,0,0,0,0,0,0,0,0,0,0,0,0,0,0,0,0,0,0]
[null,null,null,null,null,null,null,null,null,null,0,0,0,0,0,0,0,0,0,0,0,0,0,0,0,0,0,0,0,0,0,0,0,0,0,0,0,0,0]
[null,null,null,null,null,null,null,null,null,null,0,0,0,0,0,0,0,0,0,0,0,0,0,0,0,0,0,0,0,0,0,0,0,0,0,0,0,0,0]
[null,null,null,null,null,null,null,null,null,null,0,0,0,0,0,0,0,0,0,0,0,0,0,0,0,0,0,0,0,0,0,0,0,0,0,0,0,0,0]
[null,null,null,null,null,null,null,null,null,null,0,0,0,0,0,0,0,0,0,0,0,0,0,0,0,0,0,0,0,0,0,0,0,0,0,0,0,0,0]
[null,null,null,null,null,null,null,null,null,null,0,0,0,0,0,0,0,0,0,0,0,0,0,0,0,0,0,0,0,0,0,0,0,0,0,0,0,0,0]
[null,null,null,null,null,null,null,null,null,null,0,0,0,0,0,0,0,0,0,0,0,0,0,0,0,0,0,0,0,0,0,0,0,0,0,0,0,0,0]
[null,null,null,null,null,null,null,null,null,null,0,0,0,0,0,0,0,0,0,0,0,0,0,0,0,0,0,0,0,0,0,0,0,0,0,0,0,0,0]
[null,null,null,null,null,null,null,null,null,null,0,0,0,0,0,0,0,0,{"$f":"COUNTIF($F31,\"*\"&S$5&\"*\")","v":0},0,0,0,0,0,0,0,0,0,0,0,0,0,0,0,0,0,0,0,0]
[null,null,null,null,null,null,null,null,null,null,0,0,{"$f":"COUNTIF($F32,\"*\"&M$5&\"*\")","v":0},0,0,0,0,0,0,0,0,0,0,0,0,0,0,0,0,0,0,0,0,0,0,0,0,0,0]
[null,null,null,null,null,null,null,null,null,null,0,0,0,0,0,0,0,0,0,0,0,0,0,0,0,0,0,0,0,0,0,0,0,0,0,0,0,0,0]
[null,null,null,null,null,null,null,null,null,null,0,0,0,0,0,0,0,0,0,0,0,0,0,0,0,0,0,0,0,0,0,0,0,0,0,0,0,0,0]
[null,null,null,null,null,null,null,null,null,null,0,0,0,0,0,0,0,0,0,0,0,0,0,0,0,0,0,0,0,0,0,0,0,0,0,0,0,0,0]
[null,null,null,null,null,null,null,null,null,null,0,0,0,0,0,0,0,0,0,0,0,0,0,0,0,0,0,0,0,0,0,0,0,0,0,0,0,0,0]
[null,null,null,null,null,null,null,null,null,null,0,0,0,0,0,0,0,0,0,0,0,0,0,0,0,0,0,0,0,0,0,0,0,0,0,0,0,0,0]
[null,null,null,null,null,null,null,null,null,null,0,0,0,0,0,0,0,0,0,0,0,0,0,0,0,0,0,0,0,0,0,0,0,0,0,0,0,0,0]
[null,null,null,null,null,null,null,null,null,null,0,0,0,0,0,0,0,0,0,0,0,0,0,0,0,0,0,0,0,0,0,0,0,0,0,0,0,0,0]
[null,null,null,null,null,null,null,null,null,null,0,0,0,0,0,0,0,0,0,0,0,0,0,0,0,0,0,0,0,0,0,0,0,0,0,0,0,0,0]
[null,null,null,null,null,null,null,null,null,null,0,0,0,0,0,0,0,0,0,0,0,0,0,0,0,0,0,0,0,0,0,0,0,0,0,0,0,0,0]
[null,null,null,null,null,null,null,null,null,null,0,0,0,0,0,0,0,0,0,0,0,0,0,0,0,0,0,0,0,0,0,0,0,0,0,0,0,0,0]
["コンタミネーション","なし",null,null,null,null,null,null,null,null,{"$f":"IF(B43=\"なし\",0,IF(B43=\"\",0,LEN(B43)-LEN(SUBSTITUTE(B43, \"、\", \"\"))+1))","v":0},0,{"$f":"COUNTIF($B43,\"*\"&M$5&\"*\")","v":0},{"$f":"COUNTIF($B43,\"*\"&N$5&\"*\")","v":0},0,0,0,0,0,0,0,0,0,0,0,0,0,0,0,{"$f":"COUNTIF($B43,\"*\"&AD$5&\"*\")","v":0},0,0,0,0,0,0,0,0,0]
[null,null,null,null,null,null,null,null,null,null,{"$f":"IF(B44=\"なし\",0,IF(B44=\"\",0,LEN(B44)-LEN(SUBSTITUTE(B44, \"、\", \"\"))+1))","v":0},0,{"$f":"COUNTIF($B44,\"*\"&M$5&\"*\")","v":0},0,0,0,0,0,0,0,0,0,0,0,0,0,0,0,0,0,0,0,0,0,0,0,0,0,0]
[null,null,null,null,null,null,null,null,null,null,0,0,0,0,0,0,0,0,0,0,0,0,0,0,0,0,0,0,0,0,0,0,0,0,0,0,0,0,0]
["特記事項","・仕入れ状況により冷凍コーン①または冷凍コーン②を使用します。"]
[]
[]
[null,"●　商品の終売・リニューアルの場合は成分等が変更になる場合があります。ご了承ください。"]
["製造元","株式会社ニチレイフーズ"]
[]
[{"$f":"[1]一覧!A38","v":"オーエンス泉岳自然ふれあい館"}]

{"sheet":"ポテトサラダ","index":20,"n_rows":52,"n_cols":39,"rows_kept":52,"cut":false,"hidden":false,"merged":[[51,0,51,8],[45,0,48,0],[45,1,45,8],[46,1,46,8],[47,1,47,8],[48,1,48,8],[49,0,50,0],[49,1,50,8],[40,1,40,4],[40,5,40,8],[41,1,41,4],[41,5,41,8],[42,0,44,0],[42,1,42,8],[43,1,43,8],[44,1,44,8],[37,1,37,4],[37,5,37,8],[38,1,38,4],[38,5,38,8],[39,1,39,4],[39,5,39,8],[34,1,34,4],[34,5,34,8],[35,1,35,4],[35,5,35,8],[36,1,36,4],[36,5,36,8],[31,1,31,4],[31,5,31,8],[32,1,32,4],[32,5,32,8],[33,1,33,4],[33,5,33,8],[28,1,28,4],[28,5,28,8],[29,1,29,4],[29,5,29,8],[30,1,30,4],[30,5,30,8],[25,1,25,4],[25,5,25,8],[26,1,26,4],[26,5,26,8],[27,1,27,4],[27,5,27,8],[22,1,22,4],[22,5,22,8],[23,1,23,4],[23,5,23,8],[24,1,24,4],[24,5,24,8],[19,1,19,4],[19,5,19,8],[20,1,20,4],[20,5,20,8],[21,1,21,4],[21,5,21,8],[16,1,16,4],[16,5,16,8],[17,1,17,4],[17,5,17,8],[18,1,18,4],[18,5,18,8],[13,1,13,4],[13,5,13,8],[14,1,14,4],[14,5,14,8],[15,1,15,4],[15,5,15,8],[10,1,10,4],[10,5,10,8],[11,1,11,4],[11,5,11,8],[12,1,12,4],[12,5,12,8],[1,1,1,8],[2,1,2,7],[3,1,3,7],[4,0,41,0],[4,1,4,4],[4,5,4,8],[5,1,5,4],[5,5,5,8],[6,1,6,4],[6,5,6,8],[7,1,7,4],[7,5,7,8],[8,1,8,4],[8,5,8,8],[9,1,9,4],[9,5,9,8]]}
["一覧へ"]
["シート名",{"$f":"RIGHT(CELL(\"filename\",A1),LEN(CELL(\"filename\",A1))-FIND(\"]\",CELL(\"filename\",A1)))","v":"ポテトサラダ"}]
["商品名","ベストシェフ　ポテトサラダかくぎりタイプ",null,null,null,null,null,null,"作成日"]
["規格","1㎏×6",null,null,null,null,null,null,{"$f":"一覧!D1","v":"2019-11-01"}]
["原材料","原材料名",null,null,null,"27品目アレルゲン",null,null,null,null,"個数①","計",{"$f":"[1]一覧!D5","v":"小麦"},{"$f":"[1]一覧!E5","v":"卵"},{"$f":"[1]一覧!F5","v":"乳"},{"$f":"[1]一覧!G5","v":"そば"},{"$f":"[1]一覧!H5","v":"落花生"},{"$f":"[1]一覧!I5","v":"えび"},{"$f":"[1]一覧!J5","v":"かに"},{"$f":"[1]一覧!K5","v":"ごま"},{"$f":"[1]一覧!L5","v":"くるみ"},{"$f":"[1]一覧!M5","v":"カシュ"},{"$f":"[1]一覧!N5","v":"キウイ"},{"$f":"[1]一覧!O5","v":"もも"},{"$f":"[1]一覧!P5","v":"リンゴ"},{"$f":"[1]一覧!Q5","v":"バナナ"},{"$f":"[1]一覧!R5","v":"オレンジ"},{"$f":"[1]一覧!S5","v":"いか"},{"$f":"[1]一覧!T5","v":"いくら"},{"$f":"[1]一覧!U5","v":"さけ"},{"$f":"[1]一覧!V5","v":"さば"},{"$f":"[1]一覧!W5","v":"大豆"},{"$f":"[1]一覧!X5","v":"鶏肉"},{"$f":"[1]一覧!Y5","v":"豚肉"},{"$f":"[1]一覧!Z5","v":"牛肉"},{"$f":"[1]一覧!AA5","v":"まつたけ"},{"$f":"[1]一覧!AB5","v":"やまいも"},{"$f":"[1]一覧!AC5","v":"ゼラチン"},{"$f":"[1]一覧!AD5","v":"あわび"}]
[null,"馬鈴薯",null,null,null,null,null,null,null,null,{"$f":"IF(F6=\"\",0,LEN(F6)-LEN(SUBSTITUTE(F6, \"、\", \"\"))+1)","v":0},{"$f":"SUM(M6:AM6)","v":0},{"$f":"COUNTIF($F6,\"*\"&M$5&\"*\")","v":0},{"$f":"COUNTIF($F6,\"*\"&N$5&\"*\")","v":0},0,0,0,0,0,0,0,0,0,0,0,0,0,0,0,0,0,0,0,0,0,0,0,0,0]
[null,"半固体状ドレッシング",null,null,null,"小麦、卵、乳、ゼラチン、大豆、鶏肉",null,null,null,null,{"$f":"IF(F7=\"\",0,LEN(F7)-LEN(SUBSTITUTE(F7, \"、\", \"\"))+1)","v":6},{"$f":"SUM(M7:AM7)","v":6},{"$f":"COUNTIF($F7,\"*\"&M$5&\"*\")","v":1},1,1,0,0,0,0,0,0,0,0,0,0,0,0,0,0,0,0,1,1,0,0,0,0,1,0]
[null,"にんじん",null,null,null,null,null,null,null,null,0,0,0,0,0,0,0,0,0,0,0,0,0,0,0,0,0,0,0,0,0,0,0,0,0,0,0,0,0]
[null,"たまねぎ",null,null,null,null,null,null,null,null,0,0,0,0,0,0,0,0,0,0,0,0,0,0,0,0,0,0,0,0,0,0,0,0,0,0,0,0,0]
[null,"香辛料",null,null,null,null,null,null,null,null,0,0,0,0,0,0,0,0,0,0,0,0,0,0,0,0,0,0,0,0,0,0,0,0,0,0,0,0,0]
[null,"調味料（アミノ酸）",null,null,null,null,null,null,null,null,0,0,0,0,0,0,0,0,0,0,0,0,0,0,0,0,0,0,0,0,0,0,0,0,0,0,0,0,0]
[null,"増粘多糖類",null,null,null,null,null,null,null,null,0,0,0,0,0,0,0,0,0,0,0,0,0,0,0,0,0,0,0,0,0,0,0,0,0,0,0,0,0]
[null,"酵素",null,null,null,"大豆",null,null,null,null,1,1,0,0,0,0,0,0,0,0,0,0,0,0,0,0,0,0,0,0,0,1,0,0,0,0,0,0,0]
[null,"（水）",null,null,null,null,null,null,null,null,0,0,0,0,0,0,0,0,0,0,0,0,0,0,0,0,0,0,0,0,0,0,0,0,0,0,0,0,0]
[null,null,null,null,null,null,null,null,null,null,0,0,0,0,0,0,0,0,0,0,0,0,0,0,0,0,0,0,0,0,0,0,0,0,{"$f":"COUNTIF($F15,\"*\"&AI$5&\"*\")","v":0},0,0,0,0]
[null,null,null,null,null,null,null,null,null,null,0,0,0,0,0,0,0,0,0,0,0,0,0,0,0,0,0,0,{"$f":"COUNTIF($F16,\"*\"&AC$5&\"*\")","v":0},0,0,0,0,0,0,0,0,0,0]
[null,null,null,null,null,null,null,null,null,null,0,0,0,0,0,0,0,0,0,0,0,0,0,0,0,0,0,0,0,0,0,0,0,0,0,0,0,0,0]
[null,null,null,null,null,null,null,null,null,null,0,0,0,0,0,0,0,0,0,0,0,0,0,0,0,0,0,0,0,0,0,0,0,0,0,0,0,0,0]
[null,null,null,null,null,null,null,null,null,null,0,0,0,0,0,0,0,0,0,0,0,0,0,0,0,0,0,0,0,0,0,0,0,0,0,0,0,0,0]
[null,null,null,null,null,null,null,null,null,null,0,0,0,0,0,0,0,0,0,0,0,0,0,0,0,0,0,0,0,0,0,0,0,0,0,0,0,0,0]
[null,null,null,null,null,null,null,null,null,null,0,0,0,0,0,0,0,0,0,0,0,0,0,0,0,0,0,0,0,0,0,0,0,0,0,0,0,0,0]
[null,null,null,null,null,null,null,null,null,null,0,0,0,0,0,0,0,0,0,0,0,0,0,0,0,0,0,0,0,0,0,0,0,0,0,0,0,0,0]
[null,null,null,null,null,null,null,null,null,null,0,0,0,0,0,0,0,0,0,0,0,0,0,0,0,0,0,0,0,0,0,0,0,0,0,0,0,0,0]
[null,null,null,null,null,null,null,null,null,null,0,0,0,0,0,0,0,0,0,0,0,0,0,0,0,0,0,0,0,0,0,0,0,0,0,0,0,0,0]
[null,null,null,null,null,null,null,null,null,null,0,0,0,0,0,0,0,0,0,0,0,0,0,0,0,0,0,0,0,0,0,0,0,0,0,0,0,0,0]
[null,null,null,null,null,null,null,null,null,null,0,0,0,0,0,0,0,0,0,0,0,0,0,0,0,0,0,0,0,0,0,0,0,0,0,0,0,0,0]
[null,null,null,null,null,null,null,null,null,null,0,0,0,0,0,0,0,0,0,0,0,0,0,0,0,0,0,0,0,0,0,0,0,0,0,0,0,0,0]
[null,null,null,null,null,null,null,null,null,null,0,0,0,0,0,0,0,0,0,0,0,0,0,0,0,0,0,0,0,0,0,0,0,0,0,0,0,0,0]
[null,null,null,null,null,null,null,null,null,null,0,0,0,0,0,0,0,0,0,0,0,0,0,0,0,0,0,0,0,0,0,0,0,0,0,0,0,0,0]
[null,null,null,null,null,null,null,null,null,null,0,0,0,0,0,0,0,0,0,0,0,0,0,0,0,0,0,0,0,0,0,0,0,0,0,0,0,0,0]
[null,null,null,null,null,null,null,null,null,null,0,0,0,0,0,0,0,0,{"$f":"COUNTIF($F31,\"*\"&S$5&\"*\")","v":0},0,0,0,0,0,0,0,0,0,0,0,0,0,0,0,0,0,0,0,0]
[null,null,null,null,null,null,null,null,null,null,0,0,{"$f":"COUNTIF($F32,\"*\"&M$5&\"*\")","v":0},0,0,0,0,0,0,0,0,0,0,0,0,0,0,0,0,0,0,0,0,0,0,0,0,0,0]
[null,null,null,null,null,null,null,null,null,null,0,0,0,0,0,0,0,0,0,0,0,0,0,0,0,0,0,0,0,0,0,0,0,0,0,0,0,0,0]
[null,null,null,null,null,null,null,null,null,null,0,0,0,0,0,0,0,0,0,0,0,0,0,0,0,0,0,0,0,0,0,0,0,0,0,0,0,0,0]
[null,null,null,null,null,null,null,null,null,null,0,0,0,0,0,0,0,0,0,0,0,0,0,0,0,0,0,0,0,0,0,0,0,0,0,0,0,0,0]
[null,null,null,null,null,null,null,null,null,null,0,0,0,0,0,0,0,0,0,0,0,0,0,0,0,0,0,0,0,0,0,0,0,0,0,0,0,0,0]
[null,null,null,null,null,null,null,null,null,null,0,0,0,0,0,0,0,0,0,0,0,0,0,0,0,0,0,0,0,0,0,0,0,0,0,0,0,0,0]
[null,null,null,null,null,null,null,null,null,null,0,0,0,0,0,0,0,0,0,0,0,0,0,0,0,0,0,0,0,0,0,0,0,0,0,0,0,0,0]
[null,null,null,null,null,null,null,null,null,null,0,0,0,0,0,0,0,0,0,0,0,0,0,0,0,0,0,0,0,0,0,0,0,0,0,0,0,0,0]
[null,null,null,null,null,null,null,null,null,null,0,0,0,0,0,0,0,0,0,0,0,0,0,0,0,0,0,0,0,0,0,0,0,0,0,0,0,0,0]
[null,null,null,null,null,null,null,null,null,null,0,0,0,0,0,0,0,0,0,0,0,0,0,0,0,0,0,0,0,0,0,0,0,0,0,0,0,0,0]
[null,null,null,null,null,null,null,null,null,null,0,0,0,0,0,0,0,0,0,0,0,0,0,0,0,0,0,0,0,0,0,0,0,0,0,0,0,0,0]
["コンタミネーション","なし",null,null,null,null,null,null,null,null,{"$f":"IF(B43=\"なし\",0,IF(B43=\"\",0,LEN(B43)-LEN(SUBSTITUTE(B43, \"、\", \"\"))+1))","v":0},0,{"$f":"COUNTIF($B43,\"*\"&M$5&\"*\")","v":0},{"$f":"COUNTIF($B43,\"*\"&N$5&\"*\")","v":0},0,0,0,0,0,0,0,0,0,0,0,0,0,0,0,{"$f":"COUNTIF($B43,\"*\"&AD$5&\"*\")","v":0},0,0,0,0,0,0,0,0,0]
[null,null,null,null,null,null,null,null,null,null,{"$f":"IF(B44=\"なし\",0,IF(B44=\"\",0,LEN(B44)-LEN(SUBSTITUTE(B44, \"、\", \"\"))+1))","v":0},0,{"$f":"COUNTIF($B44,\"*\"&M$5&\"*\")","v":0},0,0,0,0,0,0,0,0,0,0,0,0,0,0,0,0,0,0,0,0,0,0,0,0,0,0]
[null,null,null,null,null,null,null,null,null,null,0,0,0,0,0,0,0,0,0,0,0,0,0,0,0,0,0,0,0,0,0,0,0,0,0,0,0,0,0]
["特記事項"]
[]
[]
[null,"●　商品の終売・リニューアルの場合は成分等が変更になる場合があります。ご了承ください。"]
["製造元","高瀬物産株式会社"]
[]
[{"$f":"一覧!A38","v":"オーエンス泉岳自然ふれあい館"}]

{"sheet":"ぶどうゼリー","index":21,"n_rows":52,"n_cols":39,"rows_kept":52,"cut":false,"hidden":false,"merged":[[51,0,51,8],[45,0,48,0],[45,1,45,8],[46,1,46,8],[47,1,47,8],[48,1,48,8],[49,0,50,0],[49,1,50,8],[40,1,40,4],[40,5,40,8],[41,1,41,4],[41,5,41,8],[42,0,44,0],[42,1,42,8],[43,1,43,8],[44,1,44,8],[37,1,37,4],[37,5,37,8],[38,1,38,4],[38,5,38,8],[39,1,39,4],[39,5,39,8],[34,1,34,4],[34,5,34,8],[35,1,35,4],[35,5,35,8],[36,1,36,4],[36,5,36,8],[31,1,31,4],[31,5,31,8],[32,1,32,4],[32,5,32,8],[33,1,33,4],[33,5,33,8],[28,1,28,4],[28,5,28,8],[29,1,29,4],[29,5,29,8],[30,1,30,4],[30,5,30,8],[25,1,25,4],[25,5,25,8],[26,1,26,4],[26,5,26,8],[27,1,27,4],[27,5,27,8],[22,1,22,4],[22,5,22,8],[23,1,23,4],[23,5,23,8],[24,1,24,4],[24,5,24,8],[19,1,19,4],[19,5,19,8],[20,1,20,4],[20,5,20,8],[21,1,21,4],[21,5,21,8],[16,1,16,4],[16,5,16,8],[17,1,17,4],[17,5,17,8],[18,1,18,4],[18,5,18,8],[13,1,13,4],[13,5,13,8],[14,1,14,4],[14,5,14,8],[15,1,15,4],[15,5,15,8],[10,1,10,4],[10,5,10,8],[11,1,11,4],[11,5,11,8],[12,1,12,4],[12,5,12,8],[1,1,1,8],[2,1,2,7],[3,1,3,7],[4,0,41,0],[4,1,4,4],[4,5,4,8],[5,1,5,4],[5,5,5,8],[6,1,6,4],[6,5,6,8],[7,1,7,4],[7,5,7,8],[8,1,8,4],[8,5,8,8],[9,1,9,4],[9,5,9,8]]}
["一覧へ"]
["シート名",{"$f":"RIGHT(CELL(\"filename\",A1),LEN(CELL(\"filename\",A1))-FIND(\"]\",CELL(\"filename\",A1)))","v":"ぶどうゼリー"}]
["商品名","ぶどうゼリーＲ",null,null,null,null,null,null,"作成日"]
["規格","30ｇ×40個×2合",null,null,null,null,null,null,{"$f":"一覧!D1","v":"2019-11-01"}]
["原材料","原材料名",null,null,null,"27品目アレルゲン",null,null,null,null,"個数①","計",{"$f":"[1]一覧!D5","v":"小麦"},{"$f":"[1]一覧!E5","v":"卵"},{"$f":"[1]一覧!F5","v":"乳"},{"$f":"[1]一覧!G5","v":"そば"},{"$f":"[1]一覧!H5","v":"落花生"},{"$f":"[1]一覧!I5","v":"えび"},{"$f":"[1]一覧!J5","v":"かに"},{"$f":"[1]一覧!K5","v":"ごま"},{"$f":"[1]一覧!L5","v":"くるみ"},{"$f":"[1]一覧!M5","v":"カシュ"},{"$f":"[1]一覧!N5","v":"キウイ"},{"$f":"[1]一覧!O5","v":"もも"},{"$f":"[1]一覧!P5","v":"リンゴ"},{"$f":"[1]一覧!Q5","v":"バナナ"},{"$f":"[1]一覧!R5","v":"オレンジ"},{"$f":"[1]一覧!S5","v":"いか"},{"$f":"[1]一覧!T5","v":"いくら"},{"$f":"[1]一覧!U5","v":"さけ"},{"$f":"[1]一覧!V5","v":"さば"},{"$f":"[1]一覧!W5","v":"大豆"},{"$f":"[1]一覧!X5","v":"鶏肉"},{"$f":"[1]一覧!Y5","v":"豚肉"},{"$f":"[1]一覧!Z5","v":"牛肉"},{"$f":"[1]一覧!AA5","v":"まつたけ"},{"$f":"[1]一覧!AB5","v":"やまいも"},{"$f":"[1]一覧!AC5","v":"ゼラチン"},{"$f":"[1]一覧!AD5","v":"あわび"}]
[null,"ぶどう果汁（還元）",null,null,null,null,null,null,null,null,{"$f":"IF(F6=\"\",0,LEN(F6)-LEN(SUBSTITUTE(F6, \"、\", \"\"))+1)","v":0},{"$f":"SUM(M6:AM6)","v":0},{"$f":"COUNTIF($F6,\"*\"&M$5&\"*\")","v":0},{"$f":"COUNTIF($F6,\"*\"&N$5&\"*\")","v":0},0,0,0,0,0,0,0,0,0,0,0,0,0,0,0,0,0,0,0,0,0,0,0,0,0]
[null,"水あめ",null,null,null,null,null,null,null,null,{"$f":"IF(F7=\"\",0,LEN(F7)-LEN(SUBSTITUTE(F7, \"、\", \"\"))+1)","v":0},{"$f":"SUM(M7:AM7)","v":0},{"$f":"COUNTIF($F7,\"*\"&M$5&\"*\")","v":0},0,0,0,0,0,0,0,0,0,0,0,0,0,0,0,0,0,0,0,0,0,0,0,0,0,0]
[null,"果糖",null,null,null,null,null,null,null,null,0,0,0,0,0,0,0,0,0,0,0,0,0,0,0,0,0,0,0,0,0,0,0,0,0,0,0,0,0]
[null,"難消化性デキストリン",null,null,null,null,null,null,null,null,0,0,0,0,0,0,0,0,0,0,0,0,0,0,0,0,0,0,0,0,0,0,0,0,0,0,0,0,0]
[null,"グラニュー糖",null,null,null,null,null,null,null,null,0,0,0,0,0,0,0,0,0,0,0,0,0,0,0,0,0,0,0,0,0,0,0,0,0,0,0,0,0]
[null,"洋酒",null,null,null,null,null,null,null,null,0,0,0,0,0,0,0,0,0,0,0,0,0,0,0,0,0,0,0,0,0,0,0,0,0,0,0,0,0]
[null,"食塩",null,null,null,null,null,null,null,null,0,0,0,0,0,0,0,0,0,0,0,0,0,0,0,0,0,0,0,0,0,0,0,0,0,0,0,0,0]
[null,"水",null,null,null,null,null,null,null,null,0,0,0,0,0,0,0,0,0,0,0,0,0,0,0,0,0,0,0,0,0,0,0,0,0,0,0,0,0]
[null,"ゲル化剤",null,null,null,null,null,null,null,null,0,0,0,0,0,0,0,0,0,0,0,0,0,0,0,0,0,0,0,0,0,0,0,0,0,0,0,0,0]
[null,"酸味料",null,null,null,null,null,null,null,null,0,0,0,0,0,0,0,0,0,0,0,0,0,0,0,0,0,0,0,0,0,0,0,0,{"$f":"COUNTIF($F15,\"*\"&AI$5&\"*\")","v":0},0,0,0,0]
[null,"香料",null,null,null,null,null,null,null,null,0,0,0,0,0,0,0,0,0,0,0,0,0,0,0,0,0,0,{"$f":"COUNTIF($F16,\"*\"&AC$5&\"*\")","v":0},0,0,0,0,0,0,0,0,0,0]
[null,"強化剤",null,null,null,null,null,null,null,null,0,0,0,0,0,0,0,0,0,0,0,0,0,0,0,0,0,0,0,0,0,0,0,0,0,0,0,0,0]
[null,null,null,null,null,null,null,null,null,null,0,0,0,0,0,0,0,0,0,0,0,0,0,0,0,0,0,0,0,0,0,0,0,0,0,0,0,0,0]
[null,null,null,null,null,null,null,null,null,null,0,0,0,0,0,0,0,0,0,0,0,0,0,0,0,0,0,0,0,0,0,0,0,0,0,0,0,0,0]
[null,null,null,null,null,null,null,null,null,null,0,0,0,0,0,0,0,0,0,0,0,0,0,0,0,0,0,0,0,0,0,0,0,0,0,0,0,0,0]
[null,null,null,null,null,null,null,null,null,null,0,0,0,0,0,0,0,0,0,0,0,0,0,0,0,0,0,0,0,0,0,0,0,0,0,0,0,0,0]
[null,null,null,null,null,null,null,null,null,null,0,0,0,0,0,0,0,0,0,0,0,0,0,0,0,0,0,0,0,0,0,0,0,0,0,0,0,0,0]
[null,null,null,null,null,null,null,null,null,null,0,0,0,0,0,0,0,0,0,0,0,0,0,0,0,0,0,0,0,0,0,0,0,0,0,0,0,0,0]
[null,null,null,null,null,null,null,null,null,null,0,0,0,0,0,0,0,0,0,0,0,0,0,0,0,0,0,0,0,0,0,0,0,0,0,0,0,0,0]
[null,null,null,null,null,null,null,null,null,null,0,0,0,0,0,0,0,0,0,0,0,0,0,0,0,0,0,0,0,0,0,0,0,0,0,0,0,0,0]
[null,null,null,null,null,null,null,null,null,null,0,0,0,0,0,0,0,0,0,0,0,0,0,0,0,0,0,0,0,0,0,0,0,0,0,0,0,0,0]
[null,null,null,null,null,null,null,null,null,null,0,0,0,0,0,0,0,0,0,0,0,0,0,0,0,0,0,0,0,0,0,0,0,0,0,0,0,0,0]
[null,null,null,null,null,null,null,null,null,null,0,0,0,0,0,0,0,0,0,0,0,0,0,0,0,0,0,0,0,0,0,0,0,0,0,0,0,0,0]
[null,null,null,null,null,null,null,null,null,null,0,0,0,0,0,0,0,0,0,0,0,0,0,0,0,0,0,0,0,0,0,0,0,0,0,0,0,0,0]
[null,null,null,null,null,null,null,null,null,null,0,0,0,0,0,0,0,0,0,0,0,0,0,0,0,0,0,0,0,0,0,0,0,0,0,0,0,0,0]
[null,null,null,null,null,null,null,null,null,null,0,0,0,0,0,0,0,0,{"$f":"COUNTIF($F31,\"*\"&S$5&\"*\")","v":0},0,0,0,0,0,0,0,0,0,0,0,0,0,0,0,0,0,0,0,0]
[null,null,null,null,null,null,null,null,null,null,0,0,{"$f":"COUNTIF($F32,\"*\"&M$5&\"*\")","v":0},0,0,0,0,0,0,0,0,0,0,0,0,0,0,0,0,0,0,0,0,0,0,0,0,0,0]
[null,null,null,null,null,null,null,null,null,null,0,0,0,0,0,0,0,0,0,0,0,0,0,0,0,0,0,0,0,0,0,0,0,0,0,0,0,0,0]
[null,null,null,null,null,null,null,null,null,null,0,0,0,0,0,0,0,0,0,0,0,0,0,0,0,0,0,0,0,0,0,0,0,0,0,0,0,0,0]
[null,null,null,null,null,null,null,null,null,null,0,0,0,0,0,0,0,0,0,0,0,0,0,0,0,0,0,0,0,0,0,0,0,0,0,0,0,0,0]
[null,null,null,null,null,null,null,null,null,null,0,0,0,0,0,0,0,0,0,0,0,0,0,0,0,0,0,0,0,0,0,0,0,0,0,0,0,0,0]
[null,null,null,null,null,null,null,null,null,null,0,0,0,0,0,0,0,0,0,0,0,0,0,0,0,0,0,0,0,0,0,0,0,0,0,0,0,0,0]
[null,null,null,null,null,null,null,null,null,null,0,0,0,0,0,0,0,0,0,0,0,0,0,0,0,0,0,0,0,0,0,0,0,0,0,0,0,0,0]
[null,null,null,null,null,null,null,null,null,null,0,0,0,0,0,0,0,0,0,0,0,0,0,0,0,0,0,0,0,0,0,0,0,0,0,0,0,0,0]
[null,null,null,null,null,null,null,null,null,null,0,0,0,0,0,0,0,0,0,0,0,0,0,0,0,0,0,0,0,0,0,0,0,0,0,0,0,0,0]
[null,null,null,null,null,null,null,null,null,null,0,0,0,0,0,0,0,0,0,0,0,0,0,0,0,0,0,0,0,0,0,0,0,0,0,0,0,0,0]
[null,null,null,null,null,null,null,null,null,null,0,0,0,0,0,0,0,0,0,0,0,0,0,0,0,0,0,0,0,0,0,0,0,0,0,0,0,0,0]
["コンタミネーション","小麦、卵、乳",null,null,null,null,null,null,null,null,{"$f":"IF(B43=\"なし\",0,IF(B43=\"\",0,LEN(B43)-LEN(SUBSTITUTE(B43, \"、\", \"\"))+1))","v":3},3,{"$f":"COUNTIF($B43,\"*\"&M$5&\"*\")","v":1},{"$f":"COUNTIF($B43,\"*\"&N$5&\"*\")","v":1},1,0,0,0,0,0,0,0,0,0,0,0,0,0,0,{"$f":"COUNTIF($B43,\"*\"&AD$5&\"*\")","v":0},0,0,0,0,0,0,0,0,0]
[null,null,null,null,null,null,null,null,null,null,{"$f":"IF(B44=\"なし\",0,IF(B44=\"\",0,LEN(B44)-LEN(SUBSTITUTE(B44, \"、\", \"\"))+1))","v":0},0,{"$f":"COUNTIF($B44,\"*\"&M$5&\"*\")","v":0},0,0,0,0,0,0,0,0,0,0,0,0,0,0,0,0,0,0,0,0,0,0,0,0,0,0]
[null,null,null,null,null,null,null,null,null,null,0,0,0,0,0,0,0,0,0,0,0,0,0,0,0,0,0,0,0,0,0,0,0,0,0,0,0,0,0]
["特記事項"]
[]
[]
[null,"●　商品の終売・リニューアルの場合は成分等が変更になる場合があります。ご了承ください。"]
["製造元","株式会社ヤヨイサンフーズ"]
[]
[{"$f":"一覧!A38","v":"オーエンス泉岳自然ふれあい館"}]